{"text_format":"1","workbook":"xlsx","n_sheets":16,"sheets":["Info","MLBH","MLBS","MLBR","NBA","NHLS","NHLG","NFLQ","NFLB","NFLR","NFLD","NFLK","NFLTO","NFLTD","PGA","NASCAR"],"not_rendered":{"charts":0,"images":0,"macros":1,"external_links":0,"defined_names":25,"comments":0,"pivot_tables":0},"unopened":[],"bounds":{"document_bytes":16777216,"sheet_cells":100000,"rows_first":2000,"rows_last":500,"rows_between":2000,"halvings":0,"cell_chars":16384,"cell_head_chars":4096},"cells_cut":0,"cells_raw":0,"read":"whole","date_system":"1900"}

{"sheet":"Info","index":0,"n_rows":127,"n_cols":4,"rows_kept":127,"cut":false,"hidden":false,"merged":[]}
["Arizona Diamondbacks","ARI",null,"This spread should also allow you to always have the same team in your spread as we have onsite."]
["Atlanta Braves","ATL",null,"Team name is automatically converted to the same 3 letter code we use onsite"]
["Baltimore Orioles","BAL"]
["Boston Red Sox","BOS",null,"Make sure you're logged into Jockstocks in Internet Explorer (Excel expects IE even if that's not your usual browser)"]
["Chicago Cubs","CHC",null,"before attempting to update projections here."]
["Chicago White Sox","CHW",null,"If you happen to hit Update/Sort and you're not logged in, you'll get error messages all over…don't sweat it, simply close/reopen the file"]
["Cincinnati Reds","CIN"]
["Cleveland Indians","CLE",null,"To log in, go to cell AO1 of any position sheet, right click, and choose Edit Query; this will open another small window"]
["Colorado Rockies","COL",null,"If you see the JS login page, type in your login information then hit cancel and come back here to hit the update button."]
["Detroit Tigers","DET",null,"If you see projections, you're already logged in and you can also hit cancel and come back here."]
["Miami Marlins","MIA"]
["Houston Astros","HOU",null,"Once logged in, hit the Update/Sort All button to update projections for all sports"]
["Kansas City Royals","KAN",null,"If you've added daily stats and want them cleared, hit the Clear all daily stats button"]
["Kansas City Monarchs","KCM"]
["Los Angeles Angels","LAA",null,"There are buttons on each tab to update and clear just one position if you so choose."]
["Los Angeles Dodgers","LAD"]
["Milwaukee Brewers","MIL"]
["Minnesota Twins","MIN"]
["New York Mets","NYM"]
["New York Yankees","NYY",null," "]
["Oakland Athletics","OAK"]
["Philadelphia Phillies","PHI"]
["Pittsburgh Pirates","PIT"]
["San Diego Padres","SDP"]
["Seattle Mariners","SEA"]
["San Francisco Giants","SFG"]
["St. Louis Cardinals","STL"]
["Tampa Bay Rays","TAM"]
["Texas Rangers","TEX"]
["Toronto Blue Jays","TOR"]
["Washington Nationals","WAS"]
["Atlanta Hawks","ATL"]
["Boston Celtics","BOS"]
["Charlotte Hornets","CHA"]
["Chicago Bulls","CHI"]
["Cleveland Cavaliers","CLE"]
["Dallas Mavericks","DAL"]
["Denver Nuggets","DEN"]
["Detroit Pistons","DET"]
["Golden State Warriors","GOL"]
["Houston Rockets","HOU"]
["Indiana Pacers","IND"]
["Los Angeles Clippers","LAC"]
["Los Angeles Lakers","LAL"]
["Memphis Grizzlies","MEM"]
["Miami Heat","MIA"]
["Milwaukee Bucks","MIL"]
["Minnesota Timberwolves","MIN"]
["Brooklyn Nets","BRO"]
["New Orleans Pelicans","NOP"]
["New York Knicks","NYK"]
["Oklahoma City Thunder","OKC"]
["Orlando Magic","ORL"]
["Philadelphia 76ers","PHI"]
["Phoenix Suns","PHO"]
["Portland Trail Blazers","POR"]
["Sacramento Kings","SAC"]
["San Antonio Spurs","SAN"]
["Toronto Raptors","TOR"]
["Utah Jazz","UTA"]
["Washington Wizards","WAS"]
["Anaheim Ducks","ANA"]
["Winnipeg Jets","WIN"]
["Boston Bruins","BOS"]
["Buffalo Sabres","BUF"]
["Calgary Flames","CAL"]
["Carolina Hurricanes","CAR"]
["Columbus Blue Jackets","CBJ"]
["Chicago Blackhawks","CHI"]
["Colorado Avalanche","COL"]
["Dallas Stars","DAL"]
["Detroit Red Wings","DET"]
["Edmonton Oilers","EDM"]
["Florida Panthers","FLA"]
["Los Angeles Kings","LAK"]
["Minnesota Wild","MIN"]
["Montreal Canadiens","MON"]
["Nashville Predators","NAS"]
["New Jersey Devils","NJD"]
["New York Islanders","NYI"]
["New York Rangers","NYR"]
["Ottawa Senators","OTT"]
["Philadelphia Flyers","PHI"]
["Arizona Coyotes","ARI"]
["Pittsburgh Penguins","PIT"]
["San Jose Sharks","SJS"]
["St. Louis Blues","STL"]
["Tampa Bay Lightning","TAM"]
["Toronto Maple Leafs","TOR"]
["Vancouver Canucks","VAN"]
["Washington Capitals","WAS"]
["Arizona Cardinals","ARI"]
["Atlanta Falcons","ATL"]
["Baltimore Ravens","BAL"]
["Buffalo Bills","BUF"]
["Carolina Panthers","CAR"]
["Chicago Bears","CHI"]
["Cincinnati Bengals","CIN"]
["Cleveland Browns","CLE"]
["Dallas Cowboys","DAL"]
["Denver Broncos","DEN"]
["Detroit Lions","DET"]
["Green Bay Packers","GRB"]
["Houston Texans","HOU"]
["Indianapolis Colts","IND"]
["Jacksonville Jaguars","JAC"]
["Kansas City Chiefs","KAN"]
["Miami Dolphins","MIA"]
["Minnesota Vikings","MIN"]
["New England Patriots","NEW"]
["New Orleans Saints","NOS"]
["New York Giants","NYG"]
["New York Jets","NYJ"]
["Oakland Raiders","OAK"]
["Philadelphia Eagles","PHI"]
["Pittsburgh Steelers","PIT"]
["Los Angeles Chargers","LAC"]
["Seattle Seahawks","SEA"]
["San Francisco 49ers","SFO"]
["Los Angeles Rams","LAR"]
["Tampa Bay Buccaneers","TAM"]
["Tennessee Titans","TEN"]
["Washington Redskins","WAS"]
["FA/RET/DEC/HON","XXX"]
["Hall of Fame","XXX"]
["Playing Overseas","XXX"]
["Vegas Golden Knights","VGK"]

{"sheet":"MLBH","index":1,"n_rows":400,"n_cols":55,"rows_kept":400,"cut":false,"hidden":false,"merged":[]}
["plid","Name","Team",null,"HR","RBIs","Runs","SBs","2B","3B","Hits","CS","E","Ks","HR","RBIs","Runs","SBs","2B","3B","Hits","CS","E","Ks",null,{"$f":"IF(AO1<>0,AO1,\"\")","v":"ID"},{"$f":"IF(AP1<>0,AP1,\"\")","v":"Name"},{"$f":"IF(AQ1<>0,AQ1,\"\")","v":"Team"},{"$f":"IF(AR1<>0,AR1,\"\")","v":"Symbol"},{"$f":"IF(AT1<>0,AT1,\"\")","v":"HRs"},{"$f":"IF(AU1<>0,AU1,\"\")","v":"RBIs"},"Runs Scored","Stolen Bases","Doubles","Triples","Hits","Caught Stealing","Errors","Ks",null,"ID","Name","Team","Symbol","Games","HRs","RBIs","Runs Scored","Stolen Bases","Doubles","Triples","Hits","Caught Stealing","Errors","Ks"]
[{"$f":"IF(Z2<>0,Z2,\"\")","v":3792},{"$f":"IF(A2<>0,VLOOKUP(A2,Z:AA,2,FALSE),\"\")","v":"AJ Pollock"},{"$f":"IF(A2<>0,VLOOKUP(A2,Z:AB,3,FALSE))","v":"ARI"},{"$f":"HYPERLINK(\"http://www.jockstocks.com/buysell.php?action=buymax&plid=\"&A2,\"Buy\")","v":"Buy"},null,null,null,null,null,null,null,null,null,null,{"$f":"VLOOKUP($A2,$A:$N,5,FALSE)/VLOOKUP($A2,$Z:$AM,5,FALSE)","v":0},{"$f":"VLOOKUP($A2,$A:$N,6,FALSE)/VLOOKUP($A2,$Z:$AM,6,FALSE)","v":0},{"$f":"VLOOKUP($A2,$A:$N,7,FALSE)/VLOOKUP($A2,$Z:$AM,7,FALSE)","v":0},{"$f":"VLOOKUP($A2,$A:$N,8,FALSE)/VLOOKUP($A2,$Z:$AM,8,FALSE)","v":0},{"$f":"VLOOKUP($A2,$A:$N,9,FALSE)/VLOOKUP($A2,$Z:$AM,9,FALSE)","v":0},{"$f":"VLOOKUP($A2,$A:$N,10,FALSE)/VLOOKUP($A2,$Z:$AM,10,FALSE)","v":0},{"$f":"VLOOKUP($A2,$A:$N,11,FALSE)/VLOOKUP($A2,$Z:$AM,11,FALSE)","v":0},{"$f":"VLOOKUP($A2,$A:$N,12,FALSE)/VLOOKUP($A2,$Z:$AM,12,FALSE)","v":0},{"$f":"VLOOKUP($A2,$A:$N,13,FALSE)/VLOOKUP($A2,$Z:$AM,13,FALSE)","v":0},{"$f":"VLOOKUP($A2,$A:$N,14,FALSE)/VLOOKUP($A2,$Z:$AM,14,FALSE)","v":0}," ",{"$f":"IF(AO2<>0,AO2,\"\")","v":3792},{"$f":"IF(AP2<>0,VLOOKUP(Z2,AO:AP,2,FALSE),\"\")","v":"AJ Pollock"},{"$f":"IF(AQ2<>0,VLOOKUP(AQ2,Info!A:B,2,FALSE),\"\")","v":"ARI"},{"$f":"IF(AO2<>0,VLOOKUP(Z2,AO:AR,4,FALSE),\"\")","v":"polaj"},{"$f":"IF($AO2<>0,AT2/$AS2,\"\")","v":0.12962962962962962},0.45061728395061729,0.66049382716049387,0.1728395061728395,0.29629629629629628,5.5555555555555552E-2,1,5.5555555555555552E-2,3.0864197530864196E-2,0.64814814814814814,null,3792,"AJ Pollock","Arizona Diamondbacks","polaj",162,21,73,107,28,48,9,162,9,5,105]
[{"$f":"IF(Z3<>0,Z3,\"\")","v":2453},{"$f":"IF(A3<>0,VLOOKUP(A3,Z:AA,2,FALSE),\"\")","v":"Chris Iannetta"},{"$f":"IF(A3<>0,VLOOKUP(A3,Z:AB,3,FALSE))","v":"ARI"},{"$f":"HYPERLINK(\"http://www.jockstocks.com/buysell.php?action=buymax&plid=\"&A3,\"Buy\")","v":"Buy"},null,null,null,null,null,null,null,null,null,null,{"$f":"VLOOKUP($A3,$A:$N,5,FALSE)/VLOOKUP($A3,$Z:$AM,5,FALSE)","v":0},{"$f":"VLOOKUP($A3,$A:$N,6,FALSE)/VLOOKUP($A3,$Z:$AM,6,FALSE)","v":0},{"$f":"VLOOKUP($A3,$A:$N,7,FALSE)/VLOOKUP($A3,$Z:$AM,7,FALSE)","v":0},{"$f":"VLOOKUP($A3,$A:$N,8,FALSE)/VLOOKUP($A3,$Z:$AM,8,FALSE)","v":0},{"$f":"VLOOKUP($A3,$A:$N,9,FALSE)/VLOOKUP($A3,$Z:$AM,9,FALSE)","v":0},{"$f":"VLOOKUP($A3,$A:$N,10,FALSE)/VLOOKUP($A3,$Z:$AM,10,FALSE)","v":0},{"$f":"VLOOKUP($A3,$A:$N,11,FALSE)/VLOOKUP($A3,$Z:$AM,11,FALSE)","v":0},{"$f":"VLOOKUP($A3,$A:$N,12,FALSE)/VLOOKUP($A3,$Z:$AM,12,FALSE)","v":0},{"$f":"VLOOKUP($A3,$A:$N,13,FALSE)/VLOOKUP($A3,$Z:$AM,13,FALSE)","v":0},{"$f":"VLOOKUP($A3,$A:$N,14,FALSE)/VLOOKUP($A3,$Z:$AM,14,FALSE)","v":0}," ",{"$f":"IF(AO3<>0,AO3,\"\")","v":2453},{"$f":"IF(AP3<>0,VLOOKUP(Z3,AO:AP,2,FALSE),\"\")","v":"Chris Iannetta"},{"$f":"IF(AQ3<>0,VLOOKUP(AQ3,Info!A:B,2,FALSE),\"\")","v":"ARI"},{"$f":"IF(AO3<>0,VLOOKUP(Z3,AO:AR,4,FALSE),\"\")","v":"ianch"},{"$f":"IF($AO3<>0,AT3/$AS3,\"\")","v":0.18518518518518517},{"$f":"IF($AO3<>0,AU3/$AS3,\"\")","v":0.46913580246913578},{"$f":"IF($AO3<>0,AV3/$AS3,\"\")","v":0.41358024691358025},{"$f":"IF($AO3<>0,AW3/$AS3,\"\")","v":6.1728395061728392E-3},{"$f":"IF($AO3<>0,AX3/$AS3,\"\")","v":0.20987654320987653},{"$f":"IF($AO3<>0,AY3/$AS3,\"\")","v":6.1728395061728392E-3},{"$f":"IF($AO3<>0,AZ3/$AS3,\"\")","v":0.76543209876543206},{"$f":"IF($AO3<>0,BA3/$AS3,\"\")","v":1.2345679012345678E-2},{"$f":"IF($AO3<>0,BB3/$AS3,\"\")","v":6.7901234567901231E-2},{"$f":"IF($AO3<>0,BC3/$AS3,\"\")","v":1},null,2453,"Chris Iannetta","Arizona Diamondbacks","ianch",162,30,76,67,1,34,1,124,2,11,162]
[3537,"Chris Owings","ARI","Buy",null,null,null,null,null,null,null,null,null,null,0,0,0,0,0,0,0,0,0,0," ",3537,"Chris Owings",{"$f":"IF(AQ4<>0,VLOOKUP(AQ4,Info!A:B,2,FALSE),\"\")","v":"ARI"},"owich",0.12345679012345678,0.52469135802469136,0.43209876543209874,0.12345679012345678,0.26543209876543211,1.2345679012345678E-2,1.0123456790123457,2.4691358024691357E-2,0.13580246913580246,0.90123456790123457,null,3537,"Chris Owings","Arizona Diamondbacks","owich",162,20,85,70,20,43,2,164,4,22,146]
[3855,"David Peralta","ARI","Buy",null,null,null,null,null,null,null,null,null,null,0,0,0,0,0,0,0,0,0,0," ",3855,"David Peralta",{"$f":"IF(AQ5<>0,VLOOKUP(AQ5,Info!A:B,2,FALSE),\"\")","v":"ARI"},"perad",9.8765432098765427E-2,0.39506172839506171,0.58024691358024694,5.5555555555555552E-2,0.21604938271604937,2.4691358024691357E-2,1.0925925925925926,3.0864197530864196E-2,3.0864197530864196E-2,0.66666666666666663,null,3855,"David Peralta","Arizona Diamondbacks","perad",162,16,64,94,9,35,4,177,5,5,108]
[3863,"Gregor Blanco","ARI","Buy",null,null,null,null,null,null,null,null,null,null,0,0,0,0,0,0,0,0,0,0," ",3863,"Gregor Blanco",{"$f":"IF(AQ6<>0,VLOOKUP(AQ6,Info!A:B,2,FALSE),\"\")","v":"ARI"},"blagr",6.1728395061728392E-2,0.30864197530864196,0.46296296296296297,0.16666666666666666,0.12345679012345678,3.7037037037037035E-2,0.61728395061728392,1.2345679012345678E-2,3.7037037037037035E-2,0.66049382716049387,null,3863,"Gregor Blanco","Arizona Diamondbacks","blagr",162,10,50,75,27,20,6,100,2,6,107]
[4008,"Jake Lamb","ARI","Buy",null,null,null,null,null,null,null,null,null,null,0,0,0,0,0,0,0,0,0,0," ",4008,"Jake Lamb",{"$f":"IF(AQ7<>0,VLOOKUP(AQ7,Info!A:B,2,FALSE),\"\")","v":"ARI"},"lamja",0.19753086419753085,0.68518518518518523,0.61111111111111116,4.3209876543209874E-2,0.19753086419753085,3.0864197530864196E-2,0.9135802469135802,3.0864197530864196E-2,8.0246913580246909E-2,1.0123456790123457,null,4008,"Jake Lamb","Arizona Diamondbacks","lamja",162,32,111,99,7,32,5,148,5,13,164]
[3582,"JD Martinez","ARI","Buy",null,null,null,null,null,null,null,null,null,null,0,0,0,0,0,0,0,0,0,0," ",3582,"JD Martinez",{"$f":"IF(AQ8<>0,VLOOKUP(AQ8,Info!A:B,2,FALSE),\"\")","v":"ARI"},"marjd",0.30864197530864196,0.7407407407407407,0.72222222222222221,3.7037037037037035E-2,0.20987654320987653,2.4691358024691357E-2,1.0925925925925926,1.2345679012345678E-2,3.0864197530864196E-2,1.0987654320987654,null,3582,"JD Martinez","Arizona Diamondbacks","marjd",162,50,120,117,6,34,4,177,2,5,178]
[3276,"Oswaldo Arcia","ARI","Buy",null,null,null,null,null,null,null,null,null,null,0,0,0,0,0,0,0,0,0,0," ",3276,"Oswaldo Arcia",{"$f":"IF(AQ9<>0,VLOOKUP(AQ9,Info!A:B,2,FALSE),\"\")","v":"ARI"},"arcos",0.11728395061728394,0.33333333333333331,0.30864197530864196,1.8518518518518517E-2,0.12345679012345678,1.8518518518518517E-2,0.61728395061728392,1.8518518518518517E-2,3.0864197530864196E-2,1.1604938271604939,null,3276,"Oswaldo Arcia","Arizona Diamondbacks","arcos",162,19,54,50,3,20,3,100,3,5,188]
[2953,"Paul Goldschmidt","ARI","Buy",null,null,null,null,null,null,null,null,null,null,0,0,0,0,0,0,0,0,0,0," ",2953,"Paul Goldschmidt",{"$f":"IF(AQ10<>0,VLOOKUP(AQ10,Info!A:B,2,FALSE),\"\")","v":"ARI"},"golpa",0.24074074074074073,0.7407407407407407,0.7407407407407407,0.11728395061728394,0.21604938271604937,2.4691358024691357E-2,1.0617283950617284,3.7037037037037035E-2,3.0864197530864196E-2,0.94444444444444442,null,2953,"Paul Goldschmidt","Arizona Diamondbacks","golpa",162,39,120,120,19,35,4,172,6,5,153]
[3536,"Danny Santana","ATL","Buy",null,null,null,null,null,null,null,null,null,null,0,0,0,0,0,0,0,0,0,0," ",3536,"Danny Santana",{"$f":"IF(AQ11<>0,VLOOKUP(AQ11,Info!A:B,2,FALSE),\"\")","v":"ATL"},"sanda",6.1728395061728392E-2,0.30864197530864196,0.30864197530864196,8.6419753086419748E-2,0.12345679012345678,2.4691358024691357E-2,0.61728395061728392,1.2345679012345678E-2,3.0864197530864196E-2,0.5,null,3536,"Danny Santana","Atlanta Braves","sanda",162,10,50,50,14,20,4,100,2,5,81]
[2397,"Emilio Bonifacio","ATL","Buy",null,null,null,null,null,null,null,null,null,null,0,0,0,0,0,0,0,0,0,0," ",2397,"Emilio Bonifacio",{"$f":"IF(AQ12<>0,VLOOKUP(AQ12,Info!A:B,2,FALSE),\"\")","v":"ATL"},"bonem",6.1728395061728392E-2,0.30864197530864196,0.30864197530864196,6.1728395061728392E-3,0.12345679012345678,3.0864197530864196E-2,0.61728395061728392,1.2345679012345678E-2,3.0864197530864196E-2,0.46296296296296297,null,2397,"Emilio Bonifacio","Atlanta Braves","bonem",162,10,50,50,1,20,5,100,2,5,75]
[3827,"Ender Inciarte","ATL","Buy",null,null,null,null,null,null,null,null,null,null,0,0,0,0,0,0,0,0,0,0," ",3827,"Ender Inciarte",{"$f":"IF(AQ13<>0,VLOOKUP(AQ13,Info!A:B,2,FALSE),\"\")","v":"ATL"},"incen",7.407407407407407E-2,0.35802469135802467,0.5864197530864198,0.1419753086419753,0.1728395061728395,3.7037037037037035E-2,1.2654320987654322,6.1728395061728392E-2,3.0864197530864196E-2,0.60493827160493829,null,3827,"Ender Inciarte","Atlanta Braves","incen",162,12,58,95,23,28,6,205,10,5,98]
[2862,"Freddie Freeman","ATL","Buy",null,null,null,null,null,null,null,null,null,null,0,0,0,0,0,0,0,0,0,0," ",2862,"Freddie Freeman",{"$f":"IF(AQ14<>0,VLOOKUP(AQ14,Info!A:B,2,FALSE),\"\")","v":"ATL"},"frefr",0.24074074074074073,0.61111111111111116,0.72222222222222221,7.407407407407407E-2,0.30246913580246915,1.8518518518518517E-2,1.154320987654321,4.3209876543209874E-2,3.0864197530864196E-2,0.81481481481481477,null,2862,"Freddie Freeman","Atlanta Braves","frefr",162,39,99,117,12,49,3,187,7,5,132]
[3862,"Jace Peterson","ATL","Buy",null,null,null,null,null,null,null,null,null,null,0,0,0,0,0,0,0,0,0,0," ",3862,"Jace Peterson",{"$f":"IF(AQ15<>0,VLOOKUP(AQ15,Info!A:B,2,FALSE),\"\")","v":"ATL"},"petja",6.1728395061728392E-2,0.30864197530864196,0.30864197530864196,3.7037037037037035E-2,0.12345679012345678,2.4691358024691357E-2,0.61728395061728392,1.2345679012345678E-2,6.7901234567901231E-2,0.54320987654320985,null,3862,"Jace Peterson","Atlanta Braves","petja",162,10,50,50,6,20,4,100,2,11,88]
[2173,"Kurt Suzuki","ATL","Buy",null,null,null,null,null,null,null,null,null,null,0,0,0,0,0,0,0,0,0,0," ",2173,"Kurt Suzuki",{"$f":"IF(AQ16<>0,VLOOKUP(AQ16,Info!A:B,2,FALSE),\"\")","v":"ATL"},"suzku",0.23456790123456789,0.61111111111111116,0.46913580246913578,6.1728395061728392E-3,0.16049382716049382,6.1728395061728392E-3,0.95679012345679015,1.2345679012345678E-2,3.7037037037037035E-2,0.48148148148148145,null,2173,"Kurt Suzuki","Atlanta Braves","suzku",162,38,99,76,1,26,1,155,2,6,78]
[3374,"Matt Adams","ATL","Buy",null,null,null,null,null,null,null,null,null,null,0,0,0,0,0,0,0,0,0,0," ",3374,"Matt Adams",{"$f":"IF(AQ17<>0,VLOOKUP(AQ17,Info!A:B,2,FALSE),\"\")","v":"ATL"},"adama",0.15432098765432098,0.49382716049382713,0.35802469135802467,6.1728395061728392E-3,0.16666666666666666,1.2345679012345678E-2,0.70987654320987659,1.2345679012345678E-2,3.0864197530864196E-2,0.66666666666666663,null,3374,"Matt Adams","Atlanta Braves","adama",162,25,80,58,1,27,2,115,2,5,108]
[2168,"Matt Kemp","ATL","Buy",null,null,null,null,null,null,null,null,null,null,0,0,0,0,0,0,0,0,0,0," ",2168,"Matt Kemp",{"$f":"IF(AQ18<>0,VLOOKUP(AQ18,Info!A:B,2,FALSE),\"\")","v":"ATL"},"kemma",0.16666666666666666,0.54938271604938271,0.41358024691358025,6.1728395061728392E-3,0.19753086419753085,1.2345679012345678E-2,1.037037037037037,1.8518518518518517E-2,3.0864197530864196E-2,0.85802469135802473,null,2168,"Matt Kemp","Atlanta Braves","kemma",162,27,89,67,1,32,2,168,3,5,139]
[1815,"Nick Markakis","ATL","Buy",null,null,null,null,null,null,null,null,null,null,0,0,0,0,0,0,0,0,0,0," ",1815,"Nick Markakis",{"$f":"IF(AQ19<>0,VLOOKUP(AQ19,Info!A:B,2,FALSE),\"\")","v":"ATL"},"marni",6.1728395061728392E-2,0.46913580246913578,0.48148148148148145,6.1728395061728392E-3,0.24074074074074073,6.1728395061728392E-3,1.0061728395061729,1.2345679012345678E-2,3.0864197530864196E-2,0.69135802469135799,null,1815,"Nick Markakis","Atlanta Braves","marni",162,10,76,78,1,39,1,163,2,5,112]
[1588,"Ryan Howard","ATL","Buy",null,null,null,null,null,null,null,null,null,null,0,0,0,0,0,0,0,0,0,0," ",1588,"Ryan Howard",{"$f":"IF(AQ20<>0,VLOOKUP(AQ20,Info!A:B,2,FALSE),\"\")","v":"ATL"},"howry",0.22222222222222221,0.52469135802469136,0.31481481481481483,6.1728395061728392E-3,0.12345679012345678,6.1728395061728392E-3,0.61728395061728392,1.2345679012345678E-2,3.7037037037037035E-2,1.0308641975308641,null,1588,"Ryan Howard","Atlanta Braves","howry",162,36,85,51,1,20,1,100,2,6,167]
[3545,"Tyler Flowers","ATL","Buy",null,null,null,null,null,null,null,null,null,null,0,0,0,0,0,0,0,0,0,0," ",3545,"Tyler Flowers",{"$f":"IF(AQ21<>0,VLOOKUP(AQ21,Info!A:B,2,FALSE),\"\")","v":"ATL"},"floty",0.12345679012345678,0.48148148148148145,0.41358024691358025,6.1728395061728392E-3,0.16049382716049382,6.1728395061728392E-3,0.88271604938271608,1.2345679012345678E-2,4.3209876543209874E-2,0.82098765432098764,null,3545,"Tyler Flowers","Atlanta Braves","floty",162,20,78,67,1,26,1,143,2,7,133]
[2170,"Adam Jones","BAL","Buy",null,null,null,null,null,null,null,null,null,null,0,0,0,0,0,0,0,0,0,0," ",2170,"Adam Jones",{"$f":"IF(AQ22<>0,VLOOKUP(AQ22,Info!A:B,2,FALSE),\"\")","v":"BAL"},"jonad",0.17901234567901234,0.49382716049382713,0.55555555555555558,1.8518518518518517E-2,0.19135802469135801,1.2345679012345678E-2,1.154320987654321,1.2345679012345678E-2,4.3209876543209874E-2,0.76543209876543206,null,2170,"Adam Jones","Baltimore Orioles","jonad",162,29,80,90,3,31,2,187,2,7,124]
[2455,"Chris Davis","BAL","Buy",null,null,null,null,null,null,null,null,null,null,0,0,0,0,0,0,0,0,0,0," ",2455,"Chris Davis",{"$f":"IF(AQ23<>0,VLOOKUP(AQ23,Info!A:B,2,FALSE),\"\")","v":"BAL"},"davch",0.20987654320987653,0.48148148148148145,0.51234567901234573,1.2345679012345678E-2,0.12345679012345678,1.2345679012345678E-2,0.77160493827160492,1.2345679012345678E-2,3.0864197530864196E-2,1.5246913580246915,null,2455,"Chris Davis","Baltimore Orioles","davch",162,34,78,83,2,20,2,125,2,5,247]
[2708,"Chris Johnson","BAL","Buy",null,null,null,null,null,null,null,null,null,null,0,0,0,0,0,0,0,0,0,0," ",2708,"Chris Johnson",{"$f":"IF(AQ24<>0,VLOOKUP(AQ24,Info!A:B,2,FALSE),\"\")","v":"BAL"},"jochr",6.1728395061728392E-2,0.30864197530864196,0.30864197530864196,6.1728395061728392E-3,0.12345679012345678,6.1728395061728392E-3,0.61728395061728392,1.2345679012345678E-2,3.0864197530864196E-2,0.69135802469135799,null,2708,"Chris Johnson","Baltimore Orioles","jochr",162,10,50,50,1,20,1,100,2,5,112]
[1972,"J.J. Hardy","BAL","Buy",null,null,null,null,null,null,null,null,null,null,0,0,0,0,0,0,0,0,0,0," ",1972,"J.J. Hardy",{"$f":"IF(AQ25<>0,VLOOKUP(AQ25,Info!A:B,2,FALSE),\"\")","v":"BAL"},"harjj",6.1728395061728392E-2,0.3271604938271605,0.3271604938271605,6.1728395061728392E-3,0.17901234567901234,1.8518518518518517E-2,0.74691358024691357,1.8518518518518517E-2,6.7901234567901231E-2,0.66666666666666663,null,1972,"J.J. Hardy","Baltimore Orioles","harjj",162,10,53,53,1,29,3,121,3,11,108]
[3041,"Jesus Montero","BAL","Buy",null,null,null,null,null,null,null,null,null,null,0,0,0,0,0,0,0,0,0,0," ",3041,"Jesus Montero",{"$f":"IF(AQ26<>0,VLOOKUP(AQ26,Info!A:B,2,FALSE),\"\")","v":"BAL"},"monje",0.13580246913580246,0.5,0.30864197530864196,6.1728395061728392E-3,0.16049382716049382,6.1728395061728392E-3,0.66049382716049387,1.2345679012345678E-2,3.0864197530864196E-2,0.84567901234567899,null,3041,"Jesus Montero","Baltimore Orioles","monje",162,22,81,50,1,26,1,107,2,5,137]
[3860,"Jonathan Schoop","BAL","Buy",null,null,null,null,null,null,null,null,null,null,0,0,0,0,0,0,0,0,0,0," ",3860,"Jonathan Schoop",{"$f":"IF(AQ27<>0,VLOOKUP(AQ27,Info!A:B,2,FALSE),\"\")","v":"BAL"},"schoj",0.20370370370370369,0.65432098765432101,0.58024691358024694,1.2345679012345678E-2,0.22222222222222221,6.1728395061728392E-3,1.1358024691358024,1.2345679012345678E-2,8.0246913580246909E-2,0.88888888888888884,null,3860,"Jonathan Schoop","Baltimore Orioles","schoj",162,33,106,94,2,36,1,184,2,13,144]
[3141,"Manny Machado","BAL","Buy",null,null,null,null,null,null,null,null,null,null,0,0,0,0,0,0,0,0,0,0," ",3141,"Manny Machado",{"$f":"IF(AQ28<>0,VLOOKUP(AQ28,Info!A:B,2,FALSE),\"\")","v":"BAL"},"macma",0.21604938271604937,0.61111111111111116,0.52469135802469136,6.1728395061728392E-2,0.21604938271604937,1.2345679012345678E-2,1.0493827160493827,3.0864197530864196E-2,9.8765432098765427E-2,0.7407407407407407,null,3141,"Manny Machado","Baltimore Orioles","macma",162,35,99,85,10,35,2,170,5,16,120]
[2878,"Mark Trumbo","BAL","Buy",null,null,null,null,null,null,null,null,null,null,0,0,0,0,0,0,0,0,0,0," ",2878,"Mark Trumbo",{"$f":"IF(AQ29<>0,VLOOKUP(AQ29,Info!A:B,2,FALSE),\"\")","v":"BAL"},"trumm",0.16049382716049382,0.44444444444444442,0.54320987654320985,1.2345679012345678E-2,0.15432098765432098,6.1728395061728392E-3,0.89506172839506171,1.2345679012345678E-2,3.0864197530864196E-2,1.0246913580246915,null,2878,"Mark Trumbo","Baltimore Orioles","trumm",162,26,72,88,2,25,1,145,2,5,166]
[3078,"Pedro Alvarez","BAL","Buy",null,null,null,null,null,null,null,null,null,null,0,0,0,0,0,0,0,0,0,0," ",3078,"Pedro Alvarez",{"$f":"IF(AQ30<>0,VLOOKUP(AQ30,Info!A:B,2,FALSE),\"\")","v":"BAL"},"alvpe",0.20987654320987653,0.45061728395061729,0.40740740740740738,1.2345679012345678E-2,0.18518518518518517,6.1728395061728392E-3,0.79629629629629628,1.2345679012345678E-2,3.0864197530864196E-2,0.87654320987654322,null,3078,"Pedro Alvarez","Baltimore Orioles","alvpe",162,34,73,66,2,30,1,129,2,5,142]
[2857,"Seth Smith","BAL","Buy",null,null,null,null,null,null,null,null,null,null,0,0,0,0,0,0,0,0,0,0," ",2857,"Seth Smith",{"$f":"IF(AQ31<>0,VLOOKUP(AQ31,Info!A:B,2,FALSE),\"\")","v":"BAL"},"smise",0.11728395061728394,0.30864197530864196,0.45061728395061729,1.8518518518518517E-2,0.1728395061728395,6.1728395061728392E-3,0.75308641975308643,1.2345679012345678E-2,3.0864197530864196E-2,0.72839506172839508,null,2857,"Seth Smith","Baltimore Orioles","smise",162,19,50,73,3,28,1,122,2,5,118]
[4192,"Trey Mancini","BAL","Buy",null,null,null,null,null,null,null,null,null,null,0,0,0,0,0,0,0,0,0,0," ",4192,"Trey Mancini",{"$f":"IF(AQ32<>0,VLOOKUP(AQ32,Info!A:B,2,FALSE),\"\")","v":"BAL"},"mantr",0.16666666666666666,0.53086419753086422,0.44444444444444442,1.2345679012345678E-2,0.17901234567901234,3.0864197530864196E-2,1.0864197530864197,1.2345679012345678E-2,3.0864197530864196E-2,0.95061728395061729,null,4192,"Trey Mancini","Baltimore Orioles","mantr",162,27,86,72,2,29,5,176,2,5,154]
[3523,"Welington Castillo","BAL","Buy",null,null,null,null,null,null,null,null,null,null,0,0,0,0,0,0,0,0,0,0," ",3523,"Welington Castillo",{"$f":"IF(AQ33<>0,VLOOKUP(AQ33,Info!A:B,2,FALSE),\"\")","v":"BAL"},"caswe",0.20987654320987653,0.54938271604938271,0.4567901234567901,6.1728395061728392E-3,0.12345679012345678,6.1728395061728392E-3,0.99382716049382713,1.2345679012345678E-2,4.3209876543209874E-2,1.0246913580246915,null,3523,"Welington Castillo","Baltimore Orioles","caswe",162,34,89,74,1,20,1,161,2,7,166]
[3079,"Allen Craig","BOS","Buy",null,null,null,null,null,null,null,null,null,null,0,0,0,0,0,0,0,0,0,0," ",3079,"Allen Craig",{"$f":"IF(AQ34<>0,VLOOKUP(AQ34,Info!A:B,2,FALSE),\"\")","v":"BOS"},"craal",6.1728395061728392E-2,0.30864197530864196,0.30864197530864196,6.1728395061728392E-3,0.12345679012345678,6.1728395061728392E-3,0.61728395061728392,1.2345679012345678E-2,3.0864197530864196E-2,0.72222222222222221,null,3079,"Allen Craig","Boston Red Sox","craal",162,10,50,50,1,20,1,100,2,5,117]
[4160,"Andrew Benintendi","BOS","Buy",null,null,null,null,null,null,null,null,null,null,0,0,0,0,0,0,0,0,0,0," ",4160,"Andrew Benintendi",{"$f":"IF(AQ35<>0,VLOOKUP(AQ35,Info!A:B,2,FALSE),\"\")","v":"BOS"},"benan",0.13580246913580246,0.61111111111111116,0.56172839506172845,0.12962962962962962,0.16666666666666666,1.2345679012345678E-2,1.0246913580246915,3.7037037037037035E-2,3.0864197530864196E-2,0.74691358024691357,null,4160,"Andrew Benintendi","Boston Red Sox","benan",162,22,99,91,21,27,2,166,6,5,121]
[3583,"Brock Holt","BOS","Buy",null,null,null,null,null,null,null,null,null,null,0,0,0,0,0,0,0,0,0,0," ",3583,"Brock Holt",{"$f":"IF(AQ36<>0,VLOOKUP(AQ36,Info!A:B,2,FALSE),\"\")","v":"BOS"},"holtb",6.1728395061728392E-2,0.30864197530864196,0.30864197530864196,3.0864197530864196E-2,0.12345679012345678,6.1728395061728392E-3,0.61728395061728392,1.8518518518518517E-2,3.0864197530864196E-2,0.52469135802469136,null,3583,"Brock Holt","Boston Red Sox","holtb",162,10,50,50,5,20,1,100,3,5,85]
[1990,"Chris B. Young","BOS","Buy",null,null,null,null,null,null,null,null,null,null,0,0,0,0,0,0,0,0,0,0," ",1990,"Chris B. Young",{"$f":"IF(AQ37<>0,VLOOKUP(AQ37,Info!A:B,2,FALSE),\"\")","v":"BOS"},"younc",8.0246913580246909E-2,0.30864197530864196,0.34567901234567899,4.9382716049382713E-2,0.14814814814814814,2.4691358024691357E-2,0.64197530864197527,2.4691358024691357E-2,3.0864197530864196E-2,0.60493827160493829,null,1990,"Chris B. Young","Boston Red Sox","younc",162,13,50,56,8,24,4,104,4,5,98]
[2005,"Dustin Pedroia","BOS","Buy",null,null,null,null,null,null,null,null,null,null,0,0,0,0,0,0,0,0,0,0," ",2005,"Dustin Pedroia",{"$f":"IF(AQ38<>0,VLOOKUP(AQ38,Info!A:B,2,FALSE),\"\")","v":"BOS"},"peddu",6.7901234567901231E-2,0.57407407407407407,0.45061728395061729,3.7037037037037035E-2,0.1728395061728395,6.1728395061728392E-3,1.1234567901234569,3.0864197530864196E-2,3.0864197530864196E-2,0.46296296296296297,null,2005,"Dustin Pedroia","Boston Red Sox","peddu",162,11,93,73,6,28,1,182,5,5,75]
[4015,"Eduardo Nunez","BOS","Buy",null,null,null,null,null,null,null,null,null,null,0,0,0,0,0,0,0,0,0,0," ",4015,"Eduardo Nunez",{"$f":"IF(AQ39<>0,VLOOKUP(AQ39,Info!A:B,2,FALSE),\"\")","v":"BOS"},"nuned",0.10493827160493827,0.5,0.53086419753086422,0.20987654320987653,0.29012345679012347,6.1728395061728392E-3,1.2592592592592593,6.1728395061728392E-2,5.5555555555555552E-2,0.46913580246913578,null,4015,"Eduardo Nunez","Boston Red Sox","nuned",162,17,81,86,34,47,1,204,10,9,76]
[1745,"Hanley Ramirez","BOS","Buy",null,null,null,null,null,null,null,null,null,null,0,0,0,0,0,0,0,0,0,0," ",1745,"Hanley Ramirez",{"$f":"IF(AQ40<>0,VLOOKUP(AQ40,Info!A:B,2,FALSE),\"\")","v":"BOS"},"ramha",0.16666666666666666,0.47530864197530864,0.43827160493827161,1.2345679012345678E-2,0.19135802469135801,6.1728395061728392E-3,0.93827160493827155,2.4691358024691357E-2,3.0864197530864196E-2,0.86419753086419748,null,1745,"Hanley Ramirez","Boston Red Sox","ramha",162,27,77,71,2,31,1,152,4,5,140]
[4013,"Jackie Bradley Jr","BOS","Buy",null,null,null,null,null,null,null,null,null,null,0,0,0,0,0,0,0,0,0,0," ",4013,"Jackie Bradley Jr",{"$f":"IF(AQ41<>0,VLOOKUP(AQ41,Info!A:B,2,FALSE),\"\")","v":"BOS"},"braja",0.13580246913580246,0.5,0.43209876543209874,6.1728395061728392E-2,0.1419753086419753,2.4691358024691357E-2,0.87037037037037035,2.4691358024691357E-2,3.0864197530864196E-2,0.95061728395061729,null,4013,"Jackie Bradley Jr","Boston Red Sox","braja",162,22,81,70,10,23,4,141,4,5,154]
[3524,"Junior Lake","BOS","Buy",null,null,null,null,null,null,null,null,null,null,0,0,0,0,0,0,0,0,0,0," ",3524,"Junior Lake",{"$f":"IF(AQ42<>0,VLOOKUP(AQ42,Info!A:B,2,FALSE),\"\")","v":"BOS"},"lakju",6.1728395061728392E-2,0.30864197530864196,0.30864197530864196,0.1419753086419753,0.24691358024691357,6.1728395061728392E-3,0.61728395061728392,1.2345679012345678E-2,0.10493827160493827,1,null,3524,"Junior Lake","Boston Red Sox","lakju",162,10,50,50,23,40,1,100,2,17,162]
[3285,"Matt Dominguez","BOS","Buy",null,null,null,null,null,null,null,null,null,null,0,0,0,0,0,0,0,0,0,0," ",3285,"Matt Dominguez",{"$f":"IF(AQ43<>0,VLOOKUP(AQ43,Info!A:B,2,FALSE),\"\")","v":"BOS"},"domma",0.10493827160493827,0.36419753086419754,0.3271604938271605,6.1728395061728392E-3,0.12345679012345678,6.1728395061728392E-3,0.76543209876543206,1.2345679012345678E-2,5.5555555555555552E-2,0.79629629629629628,null,3285,"Matt Dominguez","Boston Red Sox","domma",162,17,59,53,1,20,1,124,2,9,129]
[2897,"Mitch Moreland","BOS","Buy",null,null,null,null,null,null,null,null,null,null,0,0,0,0,0,0,0,0,0,0," ",2897,"Mitch Moreland",{"$f":"IF(AQ44<>0,VLOOKUP(AQ44,Info!A:B,2,FALSE),\"\")","v":"BOS"},"morem",0.14814814814814814,0.53703703703703709,0.51851851851851849,6.1728395061728392E-3,0.24074074074074073,6.1728395061728392E-3,0.85802469135802473,1.2345679012345678E-2,3.7037037037037035E-2,0.80246913580246915,null,2897,"Mitch Moreland","Boston Red Sox","morem",162,24,87,84,1,39,1,139,2,6,130]
[3788,"Mookie Betts","BOS","Buy",null,null,null,null,null,null,null,null,null,null,0,0,0,0,0,0,0,0,0,0," ",3788,"Mookie Betts",{"$f":"IF(AQ45<>0,VLOOKUP(AQ45,Info!A:B,2,FALSE),\"\")","v":"BOS"},"betmo",0.15432098765432098,0.64814814814814814,0.66049382716049387,0.1728395061728395,0.30246913580246915,1.8518518518518517E-2,1.0864197530864197,2.4691358024691357E-2,4.3209876543209874E-2,0.53086419753086422,null,3788,"Mookie Betts","Boston Red Sox","betmo",162,25,105,107,28,49,3,176,4,7,86]
[4199,"Rafael Devers","BOS","Buy",null,null,null,null,null,null,null,null,null,null,0,0,0,0,0,0,0,0,0,0," ",4199,"Rafael Devers",{"$f":"IF(AQ46<>0,VLOOKUP(AQ46,Info!A:B,2,FALSE),\"\")","v":"BOS"},"devra",0.19753086419753085,0.5679012345679012,0.59876543209876543,4.9382716049382713E-2,0.24691358024691357,6.1728395061728392E-3,1.0864197530864197,1.8518518518518517E-2,0.22839506172839505,0.98765432098765427,null,4199,"Rafael Devers","Boston Red Sox","devra",162,32,92,97,8,40,1,176,3,37,160]
[2635,"Rajai Davis","BOS","Buy",null,null,null,null,null,null,null,null,null,null,0,0,0,0,0,0,0,0,0,0," ",2635,"Rajai Davis",{"$f":"IF(AQ47<>0,VLOOKUP(AQ47,Info!A:B,2,FALSE),\"\")","v":"BOS"},"davra",6.1728395061728392E-2,0.30864197530864196,0.47530864197530864,0.25308641975308643,0.16049382716049382,1.8518518518518517E-2,0.66666666666666663,6.1728395061728392E-2,3.0864197530864196E-2,0.70987654320987659,null,2635,"Rajai Davis","Boston Red Sox","davra",162,10,50,77,41,26,3,108,10,5,115]
[3789,"Rusney Castillo","BOS","Buy",null,null,null,null,null,null,null,null,null,null,0,0,0,0,0,0,0,0,0,0," ",3789,"Rusney Castillo",{"$f":"IF(AQ48<>0,VLOOKUP(AQ48,Info!A:B,2,FALSE),\"\")","v":"BOS"},"casru",6.7901234567901231E-2,0.36419753086419754,0.43827160493827161,5.5555555555555552E-2,0.12962962962962962,3.0864197530864196E-2,0.86419753086419748,6.7901234567901231E-2,6.7901234567901231E-2,0.67901234567901236,null,3789,"Rusney Castillo","Boston Red Sox","casru",162,11,59,71,9,21,5,140,11,11,110]
[3507,"Xander Bogaerts","BOS","Buy",null,null,null,null,null,null,null,null,null,null,0,0,0,0,0,0,0,0,0,0," ",3507,"Xander Bogaerts",{"$f":"IF(AQ49<>0,VLOOKUP(AQ49,Info!A:B,2,FALSE),\"\")","v":"BOS"},"bogxa",7.407407407407407E-2,0.41975308641975306,0.64197530864197527,9.8765432098765427E-2,0.22222222222222221,4.3209876543209874E-2,1.0493827160493827,1.2345679012345678E-2,0.10493827160493827,0.79629629629629628,null,3507,"Xander Bogaerts","Boston Red Sox","bogxa",162,12,68,104,16,36,7,170,2,17,129]
[3820,"Addison Russell","CHC","Buy",null,null,null,null,null,null,null,null,null,null,0,0,0,0,0,0,0,0,0,0," ",3820,"Addison Russell",{"$f":"IF(AQ50<>0,VLOOKUP(AQ50,Info!A:B,2,FALSE),\"\")","v":"CHC"},"rusad",0.1111111111111111,0.40740740740740738,0.46296296296296297,3.0864197530864196E-2,0.19753086419753085,3.0864197530864196E-2,0.7592592592592593,1.2345679012345678E-2,0.1111111111111111,0.87037037037037035,null,3820,"Addison Russell","Chicago Cubs","rusad",162,18,66,75,5,32,5,123,2,18,141]
[2859,"Alex Avila","CHC","Buy",null,null,null,null,null,null,null,null,null,null,0,0,0,0,0,0,0,0,0,0," ",2859,"Alex Avila",{"$f":"IF(AQ51<>0,VLOOKUP(AQ51,Info!A:B,2,FALSE),\"\")","v":"CHC"},"avial",0.12962962962962962,0.43827160493827161,0.37037037037037035,6.1728395061728392E-3,0.12345679012345678,1.2345679012345678E-2,0.72839506172839508,1.2345679012345678E-2,3.0864197530864196E-2,1.0740740740740742,null,2859,"Alex Avila","Chicago Cubs","avial",162,21,71,60,1,20,2,118,2,5,174]
[3143,"Anthony Rizzo","CHC","Buy",null,null,null,null,null,null,null,null,null,null,0,0,0,0,0,0,0,0,0,0," ",3143,"Anthony Rizzo",{"$f":"IF(AQ52<>0,VLOOKUP(AQ52,Info!A:B,2,FALSE),\"\")","v":"CHC"},"rizan",0.20370370370370369,0.69753086419753085,0.61111111111111116,6.1728395061728392E-2,0.20370370370370369,1.8518518518518517E-2,0.98148148148148151,2.4691358024691357E-2,3.0864197530864196E-2,0.61728395061728392,null,3143,"Anthony Rizzo","Chicago Cubs","rizan",162,33,113,99,10,33,3,159,4,5,100]
[2452,"Ben Zobrist","CHC","Buy",null,null,null,null,null,null,null,null,null,null,0,0,0,0,0,0,0,0,0,0," ",2452,"Ben Zobrist",{"$f":"IF(AQ53<>0,VLOOKUP(AQ53,Info!A:B,2,FALSE),\"\")","v":"CHC"},"zobbe",9.2592592592592587E-2,0.37037037037037035,0.45061728395061729,1.8518518518518517E-2,0.16666666666666666,2.4691358024691357E-2,0.77777777777777779,1.8518518518518517E-2,3.0864197530864196E-2,0.55555555555555558,null,2452,"Ben Zobrist","Chicago Cubs","zobbe",162,15,60,73,3,27,4,126,3,5,90]
[2616,"Jason Heyward","CHC","Buy",null,null,null,null,null,null,null,null,null,null,0,0,0,0,0,0,0,0,0,0," ",2616,"Jason Heyward",{"$f":"IF(AQ54<>0,VLOOKUP(AQ54,Info!A:B,2,FALSE),\"\")","v":"CHC"},"heyja",8.6419753086419748E-2,0.44444444444444442,0.46296296296296297,3.0864197530864196E-2,0.12345679012345678,3.0864197530864196E-2,0.87037037037037035,3.0864197530864196E-2,3.0864197530864196E-2,0.53703703703703709,null,2616,"Jason Heyward","Chicago Cubs","heyja",162,14,72,75,5,20,5,141,5,5,87]
[3791,"Javier Baez","CHC","Buy",null,null,null,null,null,null,null,null,null,null,0,0,0,0,0,0,0,0,0,0," ",3791,"Javier Baez",{"$f":"IF(AQ55<>0,VLOOKUP(AQ55,Info!A:B,2,FALSE),\"\")","v":"CHC"},"baeja",0.15432098765432098,0.5,0.5,8.0246913580246909E-2,0.16049382716049382,1.8518518518518517E-2,0.83950617283950613,2.4691358024691357E-2,6.7901234567901231E-2,1,null,3791,"Javier Baez","Chicago Cubs","baeja",162,25,81,81,13,26,3,136,4,11,162]
[3283,"Jon Jay","CHC","Buy",null,null,null,null,null,null,null,null,null,null,0,0,0,0,0,0,0,0,0,0," ",3283,"Jon Jay",{"$f":"IF(AQ56<>0,VLOOKUP(AQ56,Info!A:B,2,FALSE),\"\")","v":"CHC"},"jayjo",6.1728395061728392E-2,0.30864197530864196,0.45061728395061729,4.3209876543209874E-2,0.13580246913580246,2.4691358024691357E-2,0.78395061728395066,1.8518518518518517E-2,3.0864197530864196E-2,0.56172839506172845,null,3283,"Jon Jay","Chicago Cubs","jayjo",162,10,50,73,7,22,4,127,3,5,91]
[3819,"Kris Bryant","CHC","Buy",null,null,null,null,null,null,null,null,null,null,0,0,0,0,0,0,0,0,0,0," ",3819,"Kris Bryant",{"$f":"IF(AQ57<>0,VLOOKUP(AQ57,Info!A:B,2,FALSE),\"\")","v":"CHC"},"brykr",0.18518518518518517,0.47530864197530864,0.72222222222222221,4.9382716049382713E-2,0.25308641975308643,3.0864197530864196E-2,1.0617283950617284,3.7037037037037035E-2,0.10493827160493827,0.88888888888888884,null,3819,"Kris Bryant","Chicago Cubs","brykr",162,30,77,117,8,41,5,172,6,17,144]
[3856,"Kyle Schwarber","CHC","Buy",null,null,null,null,null,null,null,null,null,null,0,0,0,0,0,0,0,0,0,0," ",3856,"Kyle Schwarber",{"$f":"IF(AQ58<>0,VLOOKUP(AQ58,Info!A:B,2,FALSE),\"\")","v":"CHC"},"schky",0.22839506172839505,0.45061728395061729,0.51234567901234573,1.2345679012345678E-2,0.12345679012345678,1.2345679012345678E-2,0.68518518518518523,1.2345679012345678E-2,4.9382716049382713E-2,1.1604938271604939,null,3856,"Kyle Schwarber","Chicago Cubs","schky",162,37,73,83,2,20,2,111,2,8,188]
[3302,"Leonys Martin","CHC","Buy",null,null,null,null,null,null,null,null,null,null,0,0,0,0,0,0,0,0,0,0," ",3302,"Leonys Martin",{"$f":"IF(AQ59<>0,VLOOKUP(AQ59,Info!A:B,2,FALSE),\"\")","v":"CHC"},"marle",6.1728395061728392E-2,0.30864197530864196,0.30864197530864196,0.13580246913580246,0.12345679012345678,2.4691358024691357E-2,0.61728395061728392,8.0246913580246909E-2,3.0864197530864196E-2,0.65432098765432101,null,3302,"Leonys Martin","Chicago Cubs","marle",162,10,50,50,22,20,4,100,13,5,106]
[4161,"Willson Contreras","CHC","Buy",null,null,null,null,null,null,null,null,null,null,0,0,0,0,0,0,0,0,0,0," ",4161,"Willson Contreras",{"$f":"IF(AQ60<>0,VLOOKUP(AQ60,Info!A:B,2,FALSE),\"\")","v":"CHC"},"conwi",0.17901234567901234,0.61111111111111116,0.43209876543209874,4.3209876543209874E-2,0.1728395061728395,6.1728395061728392E-3,0.87654320987654322,3.7037037037037035E-2,9.8765432098765427E-2,0.86419753086419748,null,4161,"Willson Contreras","Chicago Cubs","conwi",162,29,99,70,7,28,1,142,6,16,140]
[3795,"Avisail Garcia","CHW","Buy",null,null,null,null,null,null,null,null,null,null,0,0,0,0,0,0,0,0,0,0," ",3795,"Avisail Garcia",{"$f":"IF(AQ61<>0,VLOOKUP(AQ61,Info!A:B,2,FALSE),\"\")","v":"CHW"},"garav",0.13580246913580246,0.5864197530864198,0.55555555555555558,3.7037037037037035E-2,0.19753086419753085,3.7037037037037035E-2,1.2654320987654322,2.4691358024691357E-2,6.7901234567901231E-2,0.82098765432098764,null,3795,"Avisail Garcia","Chicago White Sox","garav",162,22,95,90,6,32,6,205,4,11,133]
[3563,"Cody Asche","CHW","Buy",null,null,null,null,null,null,null,null,null,null,0,0,0,0,0,0,0,0,0,0," ",3563,"Cody Asche",{"$f":"IF(AQ62<>0,VLOOKUP(AQ62,Info!A:B,2,FALSE),\"\")","v":"CHW"},"ascco",6.1728395061728392E-2,0.30864197530864196,0.30864197530864196,4.3209876543209874E-2,0.20987654320987653,6.1728395061728392E-3,0.61728395061728392,1.8518518518518517E-2,3.0864197530864196E-2,0.7592592592592593,null,3563,"Cody Asche","Chicago White Sox","ascco",162,10,50,50,7,34,1,100,3,5,123]
[2169,"Geovany Soto","CHW","Buy",null,null,null,null,null,null,null,null,null,null,0,0,0,0,0,0,0,0,0,0," ",2169,"Geovany Soto",{"$f":"IF(AQ63<>0,VLOOKUP(AQ63,Info!A:B,2,FALSE),\"\")","v":"CHW"},"sotge",0.15432098765432098,0.35185185185185186,0.42592592592592593,6.1728395061728392E-3,0.19753086419753085,6.1728395061728392E-3,0.80864197530864201,1.2345679012345678E-2,3.0864197530864196E-2,0.80864197530864201,null,2169,"Geovany Soto","Chicago White Sox","sotge",162,25,57,69,1,32,1,131,2,5,131]
[3508,"Jose Abreu","CHW","Buy",null,null,null,null,null,null,null,null,null,null,0,0,0,0,0,0,0,0,0,0," ",3508,"Jose Abreu",{"$f":"IF(AQ64<>0,VLOOKUP(AQ64,Info!A:B,2,FALSE),\"\")","v":"CHW"},"abrej",0.21604938271604937,0.66049382716049387,0.61728395061728392,2.4691358024691357E-2,0.2839506172839506,4.3209876543209874E-2,1.228395061728395,1.2345679012345678E-2,3.7037037037037035E-2,0.7592592592592593,null,3508,"Jose Abreu","Chicago White Sox","abrej",162,35,107,100,4,46,7,199,2,6,123]
[4012,"Adam Duvall","CIN","Buy",null,null,null,null,null,null,null,null,null,null,0,0,0,0,0,0,0,0,0,0," ",4012,"Adam Duvall",{"$f":"IF(AQ65<>0,VLOOKUP(AQ65,Info!A:B,2,FALSE),\"\")","v":"CIN"},"duvad",0.19753086419753085,0.62962962962962965,0.49382716049382713,3.7037037037037035E-2,0.23456790123456789,2.4691358024691357E-2,0.92592592592592593,2.4691358024691357E-2,3.0864197530864196E-2,1.0802469135802468,null,4012,"Adam Duvall","Cincinnati Reds","duvad",162,32,102,80,6,38,4,150,4,5,175]
[3516,"Billy Hamilton","CIN","Buy",null,null,null,null,null,null,null,null,null,null,0,0,0,0,0,0,0,0,0,0," ",3516,"Billy Hamilton",{"$f":"IF(AQ66<>0,VLOOKUP(AQ66,Info!A:B,2,FALSE),\"\")","v":"CIN"},"hambi",6.1728395061728392E-2,0.30864197530864196,0.61728395061728392,0.30864197530864196,0.12345679012345678,5.5555555555555552E-2,1.0308641975308641,9.8765432098765427E-2,3.0864197530864196E-2,0.96296296296296291,null,3516,"Billy Hamilton","Cincinnati Reds","hambi",162,10,50,100,50,20,9,167,16,5,156]
[{"$f":"IF(Z67<>0,Z67,\"\")","v":3544},{"$f":"IF(A67<>0,VLOOKUP(A67,Z:AA,2,FALSE),\"\")","v":"Devin Mesoraco"},{"$f":"IF(A67<>0,VLOOKUP(A67,Z:AB,3,FALSE))","v":"CIN"},{"$f":"HYPERLINK(\"http://www.jockstocks.com/buysell.php?action=buymax&plid=\"&A67,\"Buy\")","v":"Buy"},null,null,null,null,null,null,null,null,null,null,{"$f":"VLOOKUP($A67,$A:$N,5,FALSE)/VLOOKUP($A67,$Z:$AM,5,FALSE)","v":0},{"$f":"VLOOKUP($A67,$A:$N,6,FALSE)/VLOOKUP($A67,$Z:$AM,6,FALSE)","v":0},{"$f":"VLOOKUP($A67,$A:$N,7,FALSE)/VLOOKUP($A67,$Z:$AM,7,FALSE)","v":0},{"$f":"VLOOKUP($A67,$A:$N,8,FALSE)/VLOOKUP($A67,$Z:$AM,8,FALSE)","v":0},{"$f":"VLOOKUP($A67,$A:$N,9,FALSE)/VLOOKUP($A67,$Z:$AM,9,FALSE)","v":0},{"$f":"VLOOKUP($A67,$A:$N,10,FALSE)/VLOOKUP($A67,$Z:$AM,10,FALSE)","v":0},{"$f":"VLOOKUP($A67,$A:$N,11,FALSE)/VLOOKUP($A67,$Z:$AM,11,FALSE)","v":0},{"$f":"VLOOKUP($A67,$A:$N,12,FALSE)/VLOOKUP($A67,$Z:$AM,12,FALSE)","v":0},{"$f":"VLOOKUP($A67,$A:$N,13,FALSE)/VLOOKUP($A67,$Z:$AM,13,FALSE)","v":0},{"$f":"VLOOKUP($A67,$A:$N,14,FALSE)/VLOOKUP($A67,$Z:$AM,14,FALSE)","v":0}," ",{"$f":"IF(AO67<>0,AO67,\"\")","v":3544},{"$f":"IF(AP67<>0,VLOOKUP(Z67,AO:AP,2,FALSE),\"\")","v":"Devin Mesoraco"},{"$f":"IF(AQ67<>0,VLOOKUP(AQ67,Info!A:B,2,FALSE),\"\")","v":"CIN"},{"$f":"IF(AO67<>0,VLOOKUP(Z67,AO:AR,4,FALSE),\"\")","v":"mesde"},{"$f":"IF($AO67<>0,AT67/$AS67,\"\")","v":0.12345679012345678},{"$f":"IF($AO67<>0,AU67/$AS67,\"\")","v":0.30864197530864196},{"$f":"IF($AO67<>0,AV67/$AS67,\"\")","v":0.32098765432098764},{"$f":"IF($AO67<>0,AW67/$AS67,\"\")","v":1.8518518518518517E-2},{"$f":"IF($AO67<>0,AX67/$AS67,\"\")","v":0.12345679012345678},{"$f":"IF($AO67<>0,AY67/$AS67,\"\")","v":1.8518518518518517E-2},{"$f":"IF($AO67<>0,AZ67/$AS67,\"\")","v":0.61728395061728392},{"$f":"IF($AO67<>0,BA67/$AS67,\"\")","v":1.2345679012345678E-2},{"$f":"IF($AO67<>0,BB67/$AS67,\"\")","v":3.7037037037037035E-2},{"$f":"IF($AO67<>0,BC67/$AS67,\"\")","v":0.68518518518518523},null,3544,"Devin Mesoraco","Cincinnati Reds","mesde",162,20,50,52,3,20,3,100,2,6,111]
[3861,"Eugenio Suarez","CIN","Buy",null,null,null,null,null,null,null,null,null,null,0,0,0,0,0,0,0,0,0,0," ",3861,"Eugenio Suarez",{"$f":"IF(AQ68<>0,VLOOKUP(AQ68,Info!A:B,2,FALSE),\"\")","v":"CIN"},"suaeu",0.16666666666666666,0.52469135802469136,0.56172839506172845,3.0864197530864196E-2,0.16049382716049382,1.8518518518518517E-2,0.90123456790123457,3.7037037037037035E-2,6.1728395061728392E-2,0.93827160493827155,null,3861,"Eugenio Suarez","Cincinnati Reds","suaeu",162,27,85,91,5,26,3,146,6,10,152]
[2171,"Joey Votto","CIN","Buy",null,null,null,null,null,null,null,null,null,null,0,0,0,0,0,0,0,0,0,0," ",2171,"Joey Votto",{"$f":"IF(AQ69<>0,VLOOKUP(AQ69,Info!A:B,2,FALSE),\"\")","v":"CIN"},"votjo",0.22222222222222221,0.61728395061728392,0.65432098765432101,3.0864197530864196E-2,0.20987654320987653,6.1728395061728392E-3,1.117283950617284,1.2345679012345678E-2,3.0864197530864196E-2,0.51851851851851849,null,2171,"Joey Votto","Cincinnati Reds","votjo",162,36,100,106,5,34,1,181,2,5,84]
[3543,"Scooter Gennett","CIN","Buy",null,null,null,null,null,null,null,null,null,null,0,0,0,0,0,0,0,0,0,0," ",3543,"Scooter Gennett",{"$f":"IF(AQ70<>0,VLOOKUP(AQ70,Info!A:B,2,FALSE),\"\")","v":"CIN"},"gensc",0.19135802469135801,0.68518518518518523,0.57407407407407407,2.4691358024691357E-2,0.16666666666666666,2.4691358024691357E-2,0.96913580246913578,1.8518518518518517E-2,3.7037037037037035E-2,0.81481481481481477,null,3543,"Scooter Gennett","Cincinnati Reds","gensc",162,31,111,93,4,27,4,157,3,6,132]
[4182,"Scott Schebler","CIN","Buy",null,null,null,null,null,null,null,null,null,null,0,0,0,0,0,0,0,0,0,0," ",4182,"Scott Schebler",{"$f":"IF(AQ71<>0,VLOOKUP(AQ71,Info!A:B,2,FALSE),\"\")","v":"CIN"},"schsc",0.21604938271604937,0.47530864197530864,0.45061728395061729,3.7037037037037035E-2,0.17901234567901234,1.8518518518518517E-2,0.78395061728395066,2.4691358024691357E-2,3.0864197530864196E-2,0.88888888888888884,null,4182,"Scott Schebler","Cincinnati Reds","schsc",162,35,77,73,6,29,3,127,4,5,144]
[3077,"Zack Cozart","CIN","Buy",null,null,null,null,null,null,null,null,null,null,0,0,0,0,0,0,0,0,0,0," ",3077,"Zack Cozart",{"$f":"IF(AQ72<>0,VLOOKUP(AQ72,Info!A:B,2,FALSE),\"\")","v":"CIN"},"cozza",0.19753086419753085,0.51234567901234573,0.66666666666666663,2.4691358024691357E-2,0.19753086419753085,5.5555555555555552E-2,1.0617283950617284,1.2345679012345678E-2,9.2592592592592587E-2,0.64814814814814814,null,3077,"Zack Cozart","Cincinnati Reds","cozza",162,32,83,108,4,32,9,172,2,15,105]
[2631,"Austin Jackson","CLE","Buy",null,null,null,null,null,null,null,null,null,null,0,0,0,0,0,0,0,0,0,0," ",2631,"Austin Jackson",{"$f":"IF(AQ73<>0,VLOOKUP(AQ73,Info!A:B,2,FALSE),\"\")","v":"CLE"},"jacau",8.0246913580246909E-2,0.3888888888888889,0.54320987654320985,4.9382716049382713E-2,0.20987654320987653,3.7037037037037035E-2,1.0123456790123457,1.2345679012345678E-2,3.7037037037037035E-2,0.78395061728395066,null,2631,"Austin Jackson","Cleveland Indians","jacau",162,13,63,88,8,34,6,164,2,6,127]
[2671,"Carlos Santana","CLE","Buy",null,null,null,null,null,null,null,null,null,null,0,0,0,0,0,0,0,0,0,0," ",2671,"Carlos Santana",{"$f":"IF(AQ74<>0,VLOOKUP(AQ74,Info!A:B,2,FALSE),\"\")","v":"CLE"},"sanca",0.16049382716049382,0.53086419753086422,0.5864197530864198,3.7037037037037035E-2,0.23456790123456789,2.4691358024691357E-2,0.95679012345679015,1.2345679012345678E-2,3.0864197530864196E-2,0.62962962962962965,null,2671,"Carlos Santana","Cleveland Indians","sanca",162,26,86,95,6,38,4,155,2,5,102]
[1767,"Edwin Encarnacion","CLE","Buy",null,null,null,null,null,null,null,null,null,null,0,0,0,0,0,0,0,0,0,0," ",1767,"Edwin Encarnacion",{"$f":"IF(AQ75<>0,VLOOKUP(AQ75,Info!A:B,2,FALSE),\"\")","v":"CLE"},"enced",0.24691358024691357,0.67901234567901236,0.61111111111111116,1.8518518518518517E-2,0.13580246913580246,1.2345679012345678E-2,0.90123456790123457,1.2345679012345678E-2,3.0864197530864196E-2,0.85185185185185186,null,1767,"Edwin Encarnacion","Cleveland Indians","enced",162,40,110,99,3,22,2,146,2,5,138]
[4002,"Francisco Lindor","CLE","Buy",null,null,null,null,null,null,null,null,null,null,0,0,0,0,0,0,0,0,0,0," ",4002,"Francisco Lindor",{"$f":"IF(AQ76<>0,VLOOKUP(AQ76,Info!A:B,2,FALSE),\"\")","v":"CLE"},"linfr",0.20987654320987653,0.5679012345679012,0.62345679012345678,9.2592592592592587E-2,0.27160493827160492,2.4691358024691357E-2,1.0925925925925926,1.8518518518518517E-2,5.5555555555555552E-2,0.60493827160493829,null,4002,"Francisco Lindor","Cleveland Indians","linfr",162,34,92,101,15,44,4,177,3,9,98]
[3060,"Jason Kipnis","CLE","Buy",null,null,null,null,null,null,null,null,null,null,0,0,0,0,0,0,0,0,0,0," ",3060,"Jason Kipnis",{"$f":"IF(AQ77<>0,VLOOKUP(AQ77,Info!A:B,2,FALSE),\"\")","v":"CLE"},"kipja",0.12962962962962962,0.37654320987654322,0.45061728395061729,6.7901234567901231E-2,0.26543209876543211,1.2345679012345678E-2,0.85802469135802473,2.4691358024691357E-2,8.6419753086419748E-2,0.83333333333333337,null,3060,"Jason Kipnis","Cleveland Indians","kipja",162,21,61,73,11,43,2,139,4,14,135]
[2203,"Jay Bruce","CLE","Buy",null,null,null,null,null,null,null,null,null,null,0,0,0,0,0,0,0,0,0,0," ",2203,"Jay Bruce",{"$f":"IF(AQ78<>0,VLOOKUP(AQ78,Info!A:B,2,FALSE),\"\")","v":"CLE"},"bruja",0.25925925925925924,0.71604938271604934,0.5864197530864198,1.2345679012345678E-2,0.19753086419753085,1.8518518518518517E-2,0.97530864197530864,1.2345679012345678E-2,3.7037037037037035E-2,0.96913580246913578,null,2203,"Jay Bruce","Cleveland Indians","bruja",162,42,116,95,2,32,3,158,2,6,157]
[4159,"Jose Ramirez","CLE","Buy",null,null,null,null,null,null,null,null,null,null,0,0,0,0,0,0,0,0,0,0," ",4159,"Jose Ramirez",{"$f":"IF(AQ79<>0,VLOOKUP(AQ79,Info!A:B,2,FALSE),\"\")","v":"CLE"},"ramjo",0.18518518518518517,0.53086419753086422,0.69135802469135799,0.1111111111111111,0.30864197530864196,4.3209876543209874E-2,1.191358024691358,3.7037037037037035E-2,6.1728395061728392E-2,0.48148148148148145,null,4159,"Jose Ramirez","Cleveland Indians","ramjo",162,30,86,112,18,50,7,193,6,10,78]
[3584,"Lonnie Chisenhall","CLE","Buy",null,null,null,null,null,null,null,null,null,null,0,0,0,0,0,0,0,0,0,0," ",3584,"Lonnie Chisenhall",{"$f":"IF(AQ80<>0,VLOOKUP(AQ80,Info!A:B,2,FALSE),\"\")","v":"CLE"},"chilo",0.1419753086419753,0.61111111111111116,0.40740740740740738,2.4691358024691357E-2,0.19753086419753085,1.2345679012345678E-2,0.78395061728395066,2.4691358024691357E-2,3.0864197530864196E-2,0.67901234567901236,null,3584,"Lonnie Chisenhall","Cleveland Indians","chilo",162,23,99,66,4,32,2,127,4,5,110]
[2864,"Michael Brantley","CLE","Buy",null,null,null,null,null,null,null,null,null,null,0,0,0,0,0,0,0,0,0,0," ",2864,"Michael Brantley",{"$f":"IF(AQ81<>0,VLOOKUP(AQ81,Info!A:B,2,FALSE),\"\")","v":"CLE"},"branm",9.8765432098765427E-2,0.55555555555555558,0.51234567901234573,0.11728395061728394,0.22839506172839505,1.2345679012345678E-2,1.0987654320987654,1.2345679012345678E-2,3.0864197530864196E-2,0.5864197530864198,null,2864,"Michael Brantley","Cleveland Indians","branm",162,16,90,83,19,37,2,178,2,5,95]
[4030,"Tyler Naquin","CLE","Buy",null,null,null,null,null,null,null,null,null,null,0,0,0,0,0,0,0,0,0,0," ",4030,"Tyler Naquin",{"$f":"IF(AQ82<>0,VLOOKUP(AQ82,Info!A:B,2,FALSE),\"\")","v":"CLE"},"naqty",6.1728395061728392E-2,0.30864197530864196,0.33333333333333331,6.7901234567901231E-2,0.12962962962962962,6.1728395061728392E-3,0.62962962962962965,4.3209876543209874E-2,3.0864197530864196E-2,1.0679012345679013,null,4030,"Tyler Naquin","Cleveland Indians","naqty",162,10,50,54,11,21,1,102,7,5,173]
[3539,"Yan Gomes","CLE","Buy",null,null,null,null,null,null,null,null,null,null,0,0,0,0,0,0,0,0,0,0," ",3539,"Yan Gomes",{"$f":"IF(AQ83<>0,VLOOKUP(AQ83,Info!A:B,2,FALSE),\"\")","v":"CLE"},"gomya",0.12962962962962962,0.52469135802469136,0.40740740740740738,6.1728395061728392E-3,0.14814814814814814,6.1728395061728392E-3,0.73456790123456794,1.2345679012345678E-2,8.6419753086419748E-2,0.95061728395061729,null,3539,"Yan Gomes","Cleveland Indians","gomya",162,21,85,66,1,24,1,119,2,14,154]
[2612,"Carlos Gonzalez","COL","Buy",null,null,null,null,null,null,null,null,null,null,0,0,0,0,0,0,0,0,0,0," ",2612,"Carlos Gonzalez",{"$f":"IF(AQ84<>0,VLOOKUP(AQ84,Info!A:B,2,FALSE),\"\")","v":"COL"},"gonca",0.10493827160493827,0.42592592592592593,0.52469135802469136,2.4691358024691357E-2,0.24074074074074073,6.1728395061728392E-3,0.90123456790123457,1.2345679012345678E-2,3.0864197530864196E-2,0.87037037037037035,null,2612,"Carlos Gonzalez","Colorado Rockies","gonca",162,17,69,85,4,39,1,146,2,5,141]
[3542,"Charlie Blackmon","COL","Buy",null,null,null,null,null,null,null,null,null,null,0,0,0,0,0,0,0,0,0,0," ",3542,"Charlie Blackmon",{"$f":"IF(AQ85<>0,VLOOKUP(AQ85,Info!A:B,2,FALSE),\"\")","v":"COL"},"blach",0.24074074074074073,0.66049382716049387,0.7407407407407407,9.2592592592592587E-2,0.22839506172839505,5.5555555555555552E-2,1.3518518518518519,6.7901234567901231E-2,3.7037037037037035E-2,0.85802469135802473,null,3542,"Charlie Blackmon","Colorado Rockies","blach",162,39,107,120,15,37,9,219,11,6,139]
[3845,"DJ LeMahieu","COL","Buy",null,null,null,null,null,null,null,null,null,null,0,0,0,0,0,0,0,0,0,0," ",3845,"DJ LeMahieu",{"$f":"IF(AQ86<>0,VLOOKUP(AQ86,Info!A:B,2,FALSE),\"\")","v":"COL"},"lemdj",6.1728395061728392E-2,0.41975308641975306,0.62962962962962965,4.3209876543209874E-2,0.18518518518518517,3.0864197530864196E-2,1.2222222222222223,3.7037037037037035E-2,4.9382716049382713E-2,0.59259259259259256,null,3845,"DJ LeMahieu","Colorado Rockies","lemdj",162,10,68,102,7,30,5,198,6,8,96]
[2952,"Gerardo Parra","COL","Buy",null,null,null,null,null,null,null,null,null,null,0,0,0,0,0,0,0,0,0,0," ",2952,"Gerardo Parra",{"$f":"IF(AQ87<>0,VLOOKUP(AQ87,Info!A:B,2,FALSE),\"\")","v":"COL"},"parge",8.6419753086419748E-2,0.62962962962962965,0.49382716049382713,1.8518518518518517E-2,0.20987654320987653,1.2345679012345678E-2,1.0740740740740742,4.3209876543209874E-2,3.0864197530864196E-2,0.58024691358024694,null,2952,"Gerardo Parra","Colorado Rockies","parge",162,14,102,80,3,34,2,174,7,5,94]
[3040,"Ian Desmond","COL","Buy",null,null,null,null,null,null,null,null,null,null,0,0,0,0,0,0,0,0,0,0," ",3040,"Ian Desmond",{"$f":"IF(AQ88<>0,VLOOKUP(AQ88,Info!A:B,2,FALSE),\"\")","v":"COL"},"desia",7.407407407407407E-2,0.42592592592592593,0.5,0.16049382716049382,0.12345679012345678,1.2345679012345678E-2,0.98148148148148151,4.3209876543209874E-2,3.0864197530864196E-2,0.90740740740740744,null,3040,"Ian Desmond","Colorado Rockies","desia",162,12,69,81,26,20,2,159,7,5,147]
[2898,"Jonathan Lucroy","COL","Buy",null,null,null,null,null,null,null,null,null,null,0,0,0,0,0,0,0,0,0,0," ",2898,"Jonathan Lucroy",{"$f":"IF(AQ89<>0,VLOOKUP(AQ89,Info!A:B,2,FALSE),\"\")","v":"COL"},"lucjo",6.1728395061728392E-2,0.33333333333333331,0.37654320987654322,1.2345679012345678E-2,0.18518518518518517,2.4691358024691357E-2,0.9135802469135802,1.2345679012345678E-2,3.7037037037037035E-2,0.46296296296296297,null,2898,"Jonathan Lucroy","Colorado Rockies","lucjo",162,10,54,61,2,30,4,148,2,6,75]
[2166,"Mark Reynolds","COL","Buy",null,null,null,null,null,null,null,null,null,null,0,0,0,0,0,0,0,0,0,0," ",2166,"Mark Reynolds",{"$f":"IF(AQ90<>0,VLOOKUP(AQ90,Info!A:B,2,FALSE),\"\")","v":"COL"},"reyma",0.20987654320987653,0.66666666666666663,0.56172839506172845,1.8518518518518517E-2,0.15432098765432098,1.2345679012345678E-2,0.95679012345679015,1.2345679012345678E-2,3.7037037037037035E-2,1.1790123456790123,null,2166,"Mark Reynolds","Colorado Rockies","reyma",162,34,108,91,3,25,2,155,2,6,191]
[3517,"Nolan Arenado","COL","Buy",null,null,null,null,null,null,null,null,null,null,0,0,0,0,0,0,0,0,0,0," ",3517,"Nolan Arenado",{"$f":"IF(AQ91<>0,VLOOKUP(AQ91,Info!A:B,2,FALSE),\"\")","v":"COL"},"areno",0.24074074074074073,0.7407407407407407,0.64197530864197527,2.4691358024691357E-2,0.27777777777777779,4.9382716049382713E-2,1.1790123456790123,1.8518518518518517E-2,6.7901234567901231E-2,0.6728395061728395,null,3517,"Nolan Arenado","Colorado Rockies","areno",162,39,120,104,4,45,8,191,3,11,109]
[4005,"Trevor Story","COL","Buy",null,null,null,null,null,null,null,null,null,null,0,0,0,0,0,0,0,0,0,0," ",4005,"Trevor Story",{"$f":"IF(AQ92<>0,VLOOKUP(AQ92,Info!A:B,2,FALSE),\"\")","v":"COL"},"stotr",0.1728395061728395,0.57407407407407407,0.48148148148148145,4.9382716049382713E-2,0.22222222222222221,2.4691358024691357E-2,0.83333333333333337,1.8518518518518517E-2,8.0246913580246909E-2,1.308641975308642,null,4005,"Trevor Story","Colorado Rockies","stotr",162,28,93,78,8,36,4,135,3,13,212]
[1991,"Ian Kinsler","DET","Buy",null,null,null,null,null,null,null,null,null,null,0,0,0,0,0,0,0,0,0,0," ",1991,"Ian Kinsler",{"$f":"IF(AQ93<>0,VLOOKUP(AQ93,Info!A:B,2,FALSE),\"\")","v":"DET"},"kinia",0.16049382716049382,0.37654320987654322,0.66049382716049387,0.10493827160493827,0.17901234567901234,2.4691358024691357E-2,0.94444444444444442,3.7037037037037035E-2,7.407407407407407E-2,0.61728395061728392,null,1991,"Ian Kinsler","Detroit Tigers","kinia",162,26,61,107,17,29,4,153,6,12,100]
[3375,"Jose Iglesias","DET","Buy",null,null,null,null,null,null,null,null,null,null,0,0,0,0,0,0,0,0,0,0," ",3375,"Jose Iglesias",{"$f":"IF(AQ94<>0,VLOOKUP(AQ94,Info!A:B,2,FALSE),\"\")","v":"DET"},"igljo",6.1728395061728392E-2,0.41358024691358025,0.43827160493827161,5.5555555555555552E-2,0.26543209876543211,1.2345679012345678E-2,0.91975308641975306,3.0864197530864196E-2,4.9382716049382713E-2,0.5,null,3375,"Jose Iglesias","Detroit Tigers","igljo",162,10,67,71,9,43,2,149,5,8,81]
[1098,"Miguel Cabrera","DET","Buy",null,null,null,null,null,null,null,null,null,null,0,0,0,0,0,0,0,0,0,0," ",1098,"Miguel Cabrera",{"$f":"IF(AQ95<>0,VLOOKUP(AQ95,Info!A:B,2,FALSE),\"\")","v":"DET"},"cabmi",0.12345679012345678,0.47530864197530864,0.39506172839506171,6.1728395061728392E-3,0.1728395061728395,6.1728395061728392E-3,0.9135802469135802,1.2345679012345678E-2,3.0864197530864196E-2,0.86419753086419748,null,1098,"Miguel Cabrera","Detroit Tigers","cabmi",162,20,77,64,1,28,1,148,2,5,140]
[3569,"Nick Castellanos","DET","Buy",null,null,null,null,null,null,null,null,null,null,0,0,0,0,0,0,0,0,0,0," ",3569,"Nick Castellanos",{"$f":"IF(AQ96<>0,VLOOKUP(AQ96,Info!A:B,2,FALSE),\"\")","v":"DET"},"casni",0.22839506172839505,0.7407407407407407,0.4567901234567901,3.0864197530864196E-2,0.25925925925925924,5.5555555555555552E-2,1.228395061728395,4.3209876543209874E-2,7.407407407407407E-2,0.72222222222222221,null,3569,"Nick Castellanos","Detroit Tigers","casni",162,37,120,74,5,42,9,199,7,12,117]
[2706,"Omar Infante","DET","Buy",null,null,null,null,null,null,null,null,null,null,0,0,0,0,0,0,0,0,0,0," ",2706,"Omar Infante",{"$f":"IF(AQ97<>0,VLOOKUP(AQ97,Info!A:B,2,FALSE),\"\")","v":"DET"},"infom",6.1728395061728392E-2,0.30864197530864196,0.41358024691358025,6.1728395061728392E-3,0.23456790123456789,3.0864197530864196E-2,0.82098765432098764,1.2345679012345678E-2,8.0246913580246909E-2,0.59259259259259256,null,2706,"Omar Infante","Detroit Tigers","infom",162,10,50,67,1,38,5,133,2,13,96]
[1148,"Victor Martinez","DET","Buy",null,null,null,null,null,null,null,null,null,null,0,0,0,0,0,0,0,0,0,0," ",1148,"Victor Martinez",{"$f":"IF(AQ98<>0,VLOOKUP(AQ98,Info!A:B,2,FALSE),\"\")","v":"DET"},"marvi",9.2592592592592587E-2,0.43827160493827161,0.35185185185185186,6.1728395061728392E-3,0.14814814814814814,6.1728395061728392E-3,0.93827160493827155,1.2345679012345678E-2,3.0864197530864196E-2,0.60493827160493829,null,1148,"Victor Martinez","Detroit Tigers","marvi",162,15,71,57,1,24,1,152,2,5,98]
[177,"A.J. Pierzynski","XXX","Buy",null,null,null,null,null,null,null,null,null,null,0,0,0,0,0,0,0,0,0,0," ",177,"A.J. Pierzynski",{"$f":"IF(AQ99<>0,VLOOKUP(AQ99,Info!A:B,2,FALSE),\"\")","v":"XXX"},"pieaj",6.1728395061728392E-2,0.30864197530864196,0.30864197530864196,1.2345679012345678E-2,0.19753086419753085,6.1728395061728392E-3,0.64814814814814814,1.2345679012345678E-2,4.9382716049382713E-2,0.46296296296296297,null,177,"A.J. Pierzynski","FA/RET/DEC/HON","pieaj",162,10,50,50,2,32,1,105,2,8,75]
[697,"Alex Rodriguez","XXX","Buy",null,null,null,null,null,null,null,null,null,null,0,0,0,0,0,0,0,0,0,0," ",697,"Alex Rodriguez",{"$f":"IF(AQ100<>0,VLOOKUP(AQ100,Info!A:B,2,FALSE),\"\")","v":"XXX"},"rodal",0.1419753086419753,0.48148148148148145,0.30864197530864196,4.9382716049382713E-2,0.12345679012345678,6.1728395061728392E-3,0.69753086419753085,1.2345679012345678E-2,3.0864197530864196E-2,1.0308641975308641,null,697,"Alex Rodriguez","FA/RET/DEC/HON","rodal",162,23,78,50,8,20,1,113,2,5,167]
[2227,"Alexei Ramirez","XXX","Buy",null,null,null,null,null,null,null,null,null,null,0,0,0,0,0,0,0,0,0,0," ",2227,"Alexei Ramirez",{"$f":"IF(AQ101<>0,VLOOKUP(AQ101,Info!A:B,2,FALSE),\"\")","v":"XXX"},"ramal",6.1728395061728392E-2,0.33333333333333331,0.30864197530864196,5.5555555555555552E-2,0.14814814814814814,1.8518518518518517E-2,0.79012345679012341,6.1728395061728392E-2,4.9382716049382713E-2,0.46296296296296297,null,2227,"Alexei Ramirez","FA/RET/DEC/HON","ramal",162,10,54,50,9,24,3,128,10,8,75]
[2226,"Alexi Casilla","XXX","Buy",null,null,null,null,null,null,null,null,null,null,0,0,0,0,0,0,0,0,0,0," ",2226,"Alexi Casilla",{"$f":"IF(AQ102<>0,VLOOKUP(AQ102,Info!A:B,2,FALSE),\"\")","v":"XXX"},"casal",6.1728395061728392E-2,0.30864197530864196,0.30864197530864196,0.14814814814814814,0.12345679012345678,1.8518518518518517E-2,0.61728395061728392,3.7037037037037035E-2,3.0864197530864196E-2,0.46296296296296297,null,2226,"Alexi Casilla","FA/RET/DEC/HON","casal",162,10,50,50,24,20,3,100,6,5,75]
[2675,"Angel Pagan","XXX","Buy",null,null,null,null,null,null,null,null,null,null,0,0,0,0,0,0,0,0,0,0," ",2675,"Angel Pagan",{"$f":"IF(AQ103<>0,VLOOKUP(AQ103,Info!A:B,2,FALSE),\"\")","v":"XXX"},"pagan",9.2592592592592587E-2,0.41358024691358025,0.53086419753086422,0.11728395061728394,0.19135802469135801,4.3209876543209874E-2,1.0555555555555556,4.3209876543209874E-2,3.0864197530864196E-2,0.53086419753086422,null,2675,"Angel Pagan","FA/RET/DEC/HON","pagan",162,15,67,86,19,31,7,171,7,5,86]
[2172,"Billy Butler","XXX","Buy",null,null,null,null,null,null,null,null,null,null,0,0,0,0,0,0,0,0,0,0," ",2172,"Billy Butler",{"$f":"IF(AQ104<>0,VLOOKUP(AQ104,Info!A:B,2,FALSE),\"\")","v":"XXX"},"butbi",6.1728395061728392E-2,0.35802469135802467,0.30864197530864196,6.1728395061728392E-3,0.18518518518518517,6.1728395061728392E-3,0.7407407407407407,1.2345679012345678E-2,3.0864197530864196E-2,0.46296296296296297,null,2172,"Billy Butler","FA/RET/DEC/HON","butbi",162,10,58,50,1,30,1,120,2,5,75]
[2646,"Brennan Boesch","XXX","Buy",null,null,null,null,null,null,null,null,null,null,0,0,0,0,0,0,0,0,0,0," ",2646,"Brennan Boesch",{"$f":"IF(AQ105<>0,VLOOKUP(AQ105,Info!A:B,2,FALSE),\"\")","v":"XXX"},"boebr",6.1728395061728392E-2,0.30864197530864196,0.30864197530864196,2.4691358024691357E-2,0.12345679012345678,6.1728395061728392E-3,0.61728395061728392,1.2345679012345678E-2,3.0864197530864196E-2,0.59259259259259256,null,2646,"Brennan Boesch","FA/RET/DEC/HON","boebr",162,10,50,50,4,20,1,100,2,5,96]
[3042,"Brett Lawrie","XXX","Buy",null,null,null,null,null,null,null,null,null,null,0,0,0,0,0,0,0,0,0,0," ",3042,"Brett Lawrie",{"$f":"IF(AQ106<>0,VLOOKUP(AQ106,Info!A:B,2,FALSE),\"\")","v":"XXX"},"lawrb",0.12962962962962962,0.3888888888888889,0.37654320987654322,8.0246913580246909E-2,0.23456790123456789,6.1728395061728392E-3,0.92592592592592593,3.7037037037037035E-2,4.3209876543209874E-2,1.1604938271604939,null,3042,"Brett Lawrie","FA/RET/DEC/HON","lawrb",162,21,63,61,13,38,1,150,6,7,188]
[757,"Carl Crawford","XXX","Buy",null,null,null,null,null,null,null,null,null,null,0,0,0,0,0,0,0,0,0,0," ",757,"Carl Crawford",{"$f":"IF(AQ107<>0,VLOOKUP(AQ107,Info!A:B,2,FALSE),\"\")","v":"XXX"},"craca",6.1728395061728392E-2,0.30864197530864196,0.30864197530864196,6.1728395061728392E-3,0.12345679012345678,3.7037037037037035E-2,0.61728395061728392,3.7037037037037035E-2,3.0864197530864196E-2,0.46296296296296297,null,757,"Carl Crawford","FA/RET/DEC/HON","craca",162,10,50,50,1,20,6,100,6,5,75]
[1485,"Clint Barmes","XXX","Buy",null,null,null,null,null,null,null,null,null,null,0,0,0,0,0,0,0,0,0,0," ",1485,"Clint Barmes",{"$f":"IF(AQ108<>0,VLOOKUP(AQ108,Info!A:B,2,FALSE),\"\")","v":"XXX"},"barcl",6.1728395061728392E-2,0.30864197530864196,0.30864197530864196,6.1728395061728392E-3,0.14814814814814814,1.2345679012345678E-2,0.61728395061728392,1.2345679012345678E-2,8.6419753086419748E-2,0.56172839506172845,null,1485,"Clint Barmes","FA/RET/DEC/HON","barcl",162,10,50,50,1,24,2,100,2,14,91]
[1459,"Coco Crisp","XXX","Buy",null,null,null,null,null,null,null,null,null,null,0,0,0,0,0,0,0,0,0,0," ",1459,"Coco Crisp",{"$f":"IF(AQ109<>0,VLOOKUP(AQ109,Info!A:B,2,FALSE),\"\")","v":"XXX"},"crico",0.1111111111111111,0.46296296296296297,0.43827160493827161,8.0246913580246909E-2,0.22222222222222221,3.7037037037037035E-2,0.83333333333333337,4.3209876543209874E-2,3.0864197530864196E-2,0.64814814814814814,null,1459,"Coco Crisp","FA/RET/DEC/HON","crico",162,18,75,71,13,36,6,135,7,5,105]
[931,"David Ortiz","XXX","Buy",null,null,null,null,null,null,null,null,null,null,0,0,0,0,0,0,0,0,0,0," ",931,"David Ortiz",{"$f":"IF(AQ110<>0,VLOOKUP(AQ110,Info!A:B,2,FALSE),\"\")","v":"XXX"},"ortda",0.24691358024691357,0.7407407407407407,0.51234567901234573,1.8518518518518517E-2,0.30864197530864196,1.2345679012345678E-2,1.117283950617284,1.2345679012345678E-2,3.0864197530864196E-2,0.57407407407407407,null,931,"David Ortiz","FA/RET/DEC/HON","ortda",162,40,120,83,3,50,2,181,2,5,93]
[1816,"David Ross","XXX","Buy",null,null,null,null,null,null,null,null,null,null,0,0,0,0,0,0,0,0,0,0," ",1816,"David Ross",{"$f":"IF(AQ111<>0,VLOOKUP(AQ111,Info!A:B,2,FALSE),\"\")","v":"XXX"},"rosda",0.1728395061728395,0.5,0.37654320987654322,6.1728395061728392E-3,0.12345679012345678,6.1728395061728392E-3,0.61728395061728392,1.8518518518518517E-2,6.1728395061728392E-2,0.81481481481481477,null,1816,"David Ross","FA/RET/DEC/HON","rosda",162,28,81,61,1,20,1,100,3,10,132]
[2217,"Dioner Navarro","XXX","Buy",null,null,null,null,null,null,null,null,null,null,0,0,0,0,0,0,0,0,0,0," ",2217,"Dioner Navarro",{"$f":"IF(AQ112<>0,VLOOKUP(AQ112,Info!A:B,2,FALSE),\"\")","v":"XXX"},"navdi",6.1728395061728392E-2,0.35185185185185186,0.30864197530864196,1.2345679012345678E-2,0.12962962962962962,2.4691358024691357E-2,0.62962962962962965,2.4691358024691357E-2,3.0864197530864196E-2,0.70370370370370372,null,2217,"Dioner Navarro","FA/RET/DEC/HON","navdi",162,10,57,50,2,21,4,102,4,5,114]
[3278,"Domonic Brown","XXX","Buy",null,null,null,null,null,null,null,null,null,null,0,0,0,0,0,0,0,0,0,0," ",3278,"Domonic Brown",{"$f":"IF(AQ113<>0,VLOOKUP(AQ113,Info!A:B,2,FALSE),\"\")","v":"XXX"},"browd",8.0246913580246909E-2,0.40123456790123457,0.30864197530864196,4.9382716049382713E-2,0.12345679012345678,1.8518518518518517E-2,0.68518518518518523,1.8518518518518517E-2,3.0864197530864196E-2,0.57407407407407407,null,3278,"Domonic Brown","FA/RET/DEC/HON","browd",162,13,65,50,8,20,3,111,3,5,93]
[2876,"J.P. Arencibia","XXX","Buy",null,null,null,null,null,null,null,null,null,null,0,0,0,0,0,0,0,0,0,0," ",2876,"J.P. Arencibia",{"$f":"IF(AQ114<>0,VLOOKUP(AQ114,Info!A:B,2,FALSE),\"\")","v":"XXX"},"arejp",0.16666666666666666,0.5679012345679012,0.3271604938271605,6.1728395061728392E-3,0.14814814814814814,6.1728395061728392E-3,0.61728395061728392,1.2345679012345678E-2,6.7901234567901231E-2,1,null,2876,"J.P. Arencibia","FA/RET/DEC/HON","arejp",162,27,92,53,1,24,1,100,2,11,162]
[2147,"James Loney","XXX","Buy",null,null,null,null,null,null,null,null,null,null,0,0,0,0,0,0,0,0,0,0," ",2147,"James Loney",{"$f":"IF(AQ115<>0,VLOOKUP(AQ115,Info!A:B,2,FALSE),\"\")","v":"XXX"},"lonja",9.2592592592592587E-2,0.33333333333333331,0.31481481481481483,6.1728395061728392E-3,0.16049382716049382,1.2345679012345678E-2,0.90740740740740744,1.2345679012345678E-2,3.0864197530864196E-2,0.46296296296296297,null,2147,"James Loney","FA/RET/DEC/HON","lonja",162,15,54,51,1,26,2,147,2,5,75]
[1554,"Jeff Francoeur","XXX","Buy",null,null,null,null,null,null,null,null,null,null,0,0,0,0,0,0,0,0,0,0," ",1554,"Jeff Francoeur",{"$f":"IF(AQ116<>0,VLOOKUP(AQ116,Info!A:B,2,FALSE),\"\")","v":"XXX"},"franj",6.1728395061728392E-2,0.30864197530864196,0.30864197530864196,1.8518518518518517E-2,0.12345679012345678,1.2345679012345678E-2,0.62962962962962965,1.8518518518518517E-2,3.0864197530864196E-2,0.71604938271604934,null,1554,"Jeff Francoeur","FA/RET/DEC/HON","franj",162,10,50,50,3,20,2,102,3,5,116]
[3846,"Jimmy Paredes","XXX","Buy",null,null,null,null,null,null,null,null,null,null,0,0,0,0,0,0,0,0,0,0," ",3846,"Jimmy Paredes",{"$f":"IF(AQ117<>0,VLOOKUP(AQ117,Info!A:B,2,FALSE),\"\")","v":"XXX"},"parji",6.1728395061728392E-2,0.30864197530864196,0.30864197530864196,6.1728395061728392E-3,0.12345679012345678,6.1728395061728392E-3,0.61728395061728392,1.2345679012345678E-2,3.0864197530864196E-2,0.59876543209876543,null,3846,"Jimmy Paredes","FA/RET/DEC/HON","parji",162,10,50,50,1,20,1,100,2,5,97]
[821,"Jimmy Rollins","XXX","Buy",null,null,null,null,null,null,null,null,null,null,0,0,0,0,0,0,0,0,0,0," ",821,"Jimmy Rollins",{"$f":"IF(AQ118<>0,VLOOKUP(AQ118,Info!A:B,2,FALSE),\"\")","v":"XXX"},"rolji",6.1728395061728392E-2,0.30864197530864196,0.61111111111111116,0.12345679012345678,0.19753086419753085,2.4691358024691357E-2,0.80864197530864201,4.9382716049382713E-2,4.9382716049382713E-2,0.80864197530864201,null,821,"Jimmy Rollins","FA/RET/DEC/HON","rolji",162,10,50,99,20,32,4,131,8,8,131]
[2613,"Julio Borbon","XXX","Buy",null,null,null,null,null,null,null,null,null,null,0,0,0,0,0,0,0,0,0,0," ",2613,"Julio Borbon",{"$f":"IF(AQ119<>0,VLOOKUP(AQ119,Info!A:B,2,FALSE),\"\")","v":"XXX"},"borju",6.1728395061728392E-2,0.30864197530864196,0.30864197530864196,9.2592592592592587E-2,0.12345679012345678,1.8518518518518517E-2,0.61728395061728392,1.2345679012345678E-2,3.0864197530864196E-2,0.46296296296296297,null,2613,"Julio Borbon","FA/RET/DEC/HON","borju",162,10,50,50,15,20,3,100,2,5,75]
[3821,"Justin Maxwell","XXX","Buy",null,null,null,null,null,null,null,null,null,null,0,0,0,0,0,0,0,0,0,0," ",3821,"Justin Maxwell",{"$f":"IF(AQ120<>0,VLOOKUP(AQ120,Info!A:B,2,FALSE),\"\")","v":"XXX"},"maxju",7.407407407407407E-2,0.30864197530864196,0.30864197530864196,2.4691358024691357E-2,0.12345679012345678,2.4691358024691357E-2,0.61728395061728392,1.2345679012345678E-2,3.0864197530864196E-2,0.75308641975308643,null,3821,"Justin Maxwell","FA/RET/DEC/HON","maxju",162,12,50,50,4,20,4,100,2,5,122]
[1186,"Justin Morneau","XXX","Buy",null,null,null,null,null,null,null,null,null,null,0,0,0,0,0,0,0,0,0,0," ",1186,"Justin Morneau",{"$f":"IF(AQ121<>0,VLOOKUP(AQ121,Info!A:B,2,FALSE),\"\")","v":"XXX"},"morju",0.10493827160493827,0.43827160493827161,0.30864197530864196,6.1728395061728392E-3,0.27160493827160492,1.8518518518518517E-2,0.91975308641975306,1.2345679012345678E-2,3.0864197530864196E-2,0.88888888888888884,null,1186,"Justin Morneau","FA/RET/DEC/HON","morju",162,17,71,50,1,44,3,149,2,5,144]
[1970,"Kelly Johnson","XXX","Buy",null,null,null,null,null,null,null,null,null,null,0,0,0,0,0,0,0,0,0,0," ",1970,"Kelly Johnson",{"$f":"IF(AQ122<>0,VLOOKUP(AQ122,Info!A:B,2,FALSE),\"\")","v":"XXX"},"jokel",8.6419753086419748E-2,0.30864197530864196,0.30864197530864196,3.0864197530864196E-2,0.12345679012345678,6.1728395061728392E-3,0.61728395061728392,1.2345679012345678E-2,4.9382716049382713E-2,0.49382716049382713,null,1970,"Kelly Johnson","FA/RET/DEC/HON","jokel",162,14,50,50,5,20,1,100,2,8,80]
[1097,"Mark Teixeira","XXX","Buy",null,null,null,null,null,null,null,null,null,null,0,0,0,0,0,0,0,0,0,0," ",1097,"Mark Teixeira",{"$f":"IF(AQ123<>0,VLOOKUP(AQ123,Info!A:B,2,FALSE),\"\")","v":"XXX"},"teima",0.12962962962962962,0.37654320987654322,0.37037037037037035,1.8518518518518517E-2,0.14814814814814814,6.1728395061728392E-3,0.69753086419753085,1.2345679012345678E-2,3.0864197530864196E-2,0.90740740740740744,null,1097,"Mark Teixeira","FA/RET/DEC/HON","teima",162,21,61,60,3,24,1,113,2,5,147]
[2640,"Marlon Byrd","XXX","Buy",null,null,null,null,null,null,null,null,null,null,0,0,0,0,0,0,0,0,0,0," ",2640,"Marlon Byrd",{"$f":"IF(AQ124<>0,VLOOKUP(AQ124,Info!A:B,2,FALSE),\"\")","v":"XXX"},"byrma",0.14814814814814814,0.56172839506172845,0.3271604938271605,6.1728395061728392E-3,0.17901234567901234,6.1728395061728392E-3,0.9135802469135802,1.2345679012345678E-2,3.0864197530864196E-2,1.1234567901234569,null,2640,"Marlon Byrd","FA/RET/DEC/HON","byrma",162,24,91,53,1,29,1,148,2,5,182]
[2144,"Michael Bourn","XXX","Buy",null,null,null,null,null,null,null,null,null,null,0,0,0,0,0,0,0,0,0,0," ",2144,"Michael Bourn",{"$f":"IF(AQ125<>0,VLOOKUP(AQ125,Info!A:B,2,FALSE),\"\")","v":"XXX"},"bourm",6.1728395061728392E-2,0.33333333333333331,0.41975308641975306,0.1419753086419753,0.12345679012345678,5.5555555555555552E-2,0.87037037037037035,4.9382716049382713E-2,3.0864197530864196E-2,0.82098765432098764,null,2144,"Michael Bourn","FA/RET/DEC/HON","bourm",162,10,54,68,23,20,9,141,8,5,133]
[3065,"Mike Aviles","XXX","Buy",null,null,null,null,null,null,null,null,null,null,0,0,0,0,0,0,0,0,0,0," ",3065,"Mike Aviles",{"$f":"IF(AQ126<>0,VLOOKUP(AQ126,Info!A:B,2,FALSE),\"\")","v":"XXX"},"avimi",6.1728395061728392E-2,0.30864197530864196,0.30864197530864196,6.1728395061728392E-3,0.12345679012345678,6.1728395061728392E-3,0.61728395061728392,1.2345679012345678E-2,3.0864197530864196E-2,0.46296296296296297,null,3065,"Mike Aviles","FA/RET/DEC/HON","avimi",162,10,50,50,1,20,1,100,2,5,75]
[2461,"Nate Schierholtz","XXX","Buy",null,null,null,null,null,null,null,null,null,null,0,0,0,0,0,0,0,0,0,0," ",2461,"Nate Schierholtz",{"$f":"IF(AQ127<>0,VLOOKUP(AQ127,Info!A:B,2,FALSE),\"\")","v":"XXX"},"schna",6.1728395061728392E-2,0.30864197530864196,0.30864197530864196,3.7037037037037035E-2,0.12345679012345678,3.7037037037037035E-2,0.61728395061728392,4.3209876543209874E-2,3.0864197530864196E-2,0.66049382716049387,null,2461,"Nate Schierholtz","FA/RET/DEC/HON","schna",162,10,50,50,6,20,6,100,7,5,107]
[1587,"Nick Swisher","XXX","Buy",null,null,null,null,null,null,null,null,null,null,0,0,0,0,0,0,0,0,0,0," ",1587,"Nick Swisher",{"$f":"IF(AQ128<>0,VLOOKUP(AQ128,Info!A:B,2,FALSE),\"\")","v":"XXX"},"swini",8.0246913580246909E-2,0.33333333333333331,0.30864197530864196,6.1728395061728392E-3,0.12345679012345678,6.1728395061728392E-3,0.61728395061728392,1.2345679012345678E-2,3.0864197530864196E-2,0.71604938271604934,null,1587,"Nick Swisher","FA/RET/DEC/HON","swini",162,13,54,50,1,20,1,100,2,5,116]
[2460,"Nolan Reimold","XXX","Buy",null,null,null,null,null,null,null,null,null,null,0,0,0,0,0,0,0,0,0,0," ",2460,"Nolan Reimold",{"$f":"IF(AQ129<>0,VLOOKUP(AQ129,Info!A:B,2,FALSE),\"\")","v":"XXX"},"reino",6.1728395061728392E-2,0.30864197530864196,0.30864197530864196,1.2345679012345678E-2,0.12345679012345678,1.2345679012345678E-2,0.61728395061728392,2.4691358024691357E-2,3.0864197530864196E-2,0.60493827160493829,null,2460,"Nolan Reimold","FA/RET/DEC/HON","reino",162,10,50,50,2,20,2,100,4,5,98]
[2853,"Sam Fuld","XXX","Buy",null,null,null,null,null,null,null,null,null,null,0,0,0,0,0,0,0,0,0,0," ",2853,"Sam Fuld",{"$f":"IF(AQ130<>0,VLOOKUP(AQ130,Info!A:B,2,FALSE),\"\")","v":"XXX"},"fulsa",6.1728395061728392E-2,0.30864197530864196,0.30864197530864196,8.0246913580246909E-2,0.13580246913580246,3.0864197530864196E-2,0.61728395061728392,3.0864197530864196E-2,3.7037037037037035E-2,0.46296296296296297,null,2853,"Sam Fuld","FA/RET/DEC/HON","fulsa",162,10,50,50,13,22,5,100,5,6,75]
[{"$f":"IF(Z131<>0,Z131,\"\")","v":1988},{"$f":"IF(A131<>0,VLOOKUP(A131,Z:AA,2,FALSE),\"\")","v":"Shane Victorino"},{"$f":"IF(A131<>0,VLOOKUP(A131,Z:AB,3,FALSE))","v":"XXX"},{"$f":"HYPERLINK(\"http://www.jockstocks.com/buysell.php?action=buymax&plid=\"&A131,\"Buy\")","v":"Buy"},null,null,null,null,null,null,null,null,null,null,{"$f":"VLOOKUP($A131,$A:$N,5,FALSE)/VLOOKUP($A131,$Z:$AM,5,FALSE)","v":0},{"$f":"VLOOKUP($A131,$A:$N,6,FALSE)/VLOOKUP($A131,$Z:$AM,6,FALSE)","v":0},{"$f":"VLOOKUP($A131,$A:$N,7,FALSE)/VLOOKUP($A131,$Z:$AM,7,FALSE)","v":0},{"$f":"VLOOKUP($A131,$A:$N,8,FALSE)/VLOOKUP($A131,$Z:$AM,8,FALSE)","v":0},{"$f":"VLOOKUP($A131,$A:$N,9,FALSE)/VLOOKUP($A131,$Z:$AM,9,FALSE)","v":0},{"$f":"VLOOKUP($A131,$A:$N,10,FALSE)/VLOOKUP($A131,$Z:$AM,10,FALSE)","v":0},{"$f":"VLOOKUP($A131,$A:$N,11,FALSE)/VLOOKUP($A131,$Z:$AM,11,FALSE)","v":0},{"$f":"VLOOKUP($A131,$A:$N,12,FALSE)/VLOOKUP($A131,$Z:$AM,12,FALSE)","v":0},{"$f":"VLOOKUP($A131,$A:$N,13,FALSE)/VLOOKUP($A131,$Z:$AM,13,FALSE)","v":0},{"$f":"VLOOKUP($A131,$A:$N,14,FALSE)/VLOOKUP($A131,$Z:$AM,14,FALSE)","v":0}," ",{"$f":"IF(AO131<>0,AO131,\"\")","v":1988},{"$f":"IF(AP131<>0,VLOOKUP(Z131,AO:AP,2,FALSE),\"\")","v":"Shane Victorino"},{"$f":"IF(AQ131<>0,VLOOKUP(AQ131,Info!A:B,2,FALSE),\"\")","v":"XXX"},{"$f":"IF(AO131<>0,VLOOKUP(Z131,AO:AR,4,FALSE),\"\")","v":"vicsh"},{"$f":"IF($AO131<>0,AT131/$AS131,\"\")","v":6.1728395061728392E-2},{"$f":"IF($AO131<>0,AU131/$AS131,\"\")","v":0.30864197530864196},{"$f":"IF($AO131<>0,AV131/$AS131,\"\")","v":0.30864197530864196},{"$f":"IF($AO131<>0,AW131/$AS131,\"\")","v":9.8765432098765427E-2},{"$f":"IF($AO131<>0,AX131/$AS131,\"\")","v":0.12345679012345678},{"$f":"IF($AO131<>0,AY131/$AS131,\"\")","v":3.0864197530864196E-2},{"$f":"IF($AO131<>0,AZ131/$AS131,\"\")","v":0.61728395061728392},{"$f":"IF($AO131<>0,BA131/$AS131,\"\")","v":1.2345679012345678E-2},{"$f":"IF($AO131<>0,BB131/$AS131,\"\")","v":3.0864197530864196E-2},{"$f":"IF($AO131<>0,BC131/$AS131,\"\")","v":0.46296296296296297},null,1988,"Shane Victorino","FA/RET/DEC/HON","vicsh",162,10,50,50,16,20,5,100,2,5,75]
[3280,"Will Venable","XXX","Buy",null,null,null,null,null,null,null,null,null,null,0,0,0,0,0,0,0,0,0,0," ",3280,"Will Venable",{"$f":"IF(AQ132<>0,VLOOKUP(AQ132,Info!A:B,2,FALSE),\"\")","v":"XXX"},"venwi",6.1728395061728392E-2,0.30864197530864196,0.30864197530864196,0.12345679012345678,0.12345679012345678,2.4691358024691357E-2,0.62962962962962965,1.2345679012345678E-2,3.0864197530864196E-2,0.69753086419753085,null,3280,"Will Venable","FA/RET/DEC/HON","venwi",162,10,50,50,20,20,4,102,2,5,113]
[4157,"Alex Bregman","HOU","Buy",null,null,null,null,null,null,null,null,null,null,0,0,0,0,0,0,0,0,0,0," ",4157,"Alex Bregman",{"$f":"IF(AQ133<>0,VLOOKUP(AQ133,Info!A:B,2,FALSE),\"\")","v":"HOU"},"breal",0.12962962962962962,0.4567901234567901,0.56172839506172845,0.10493827160493827,0.24691358024691357,3.0864197530864196E-2,1.0061728395061729,3.0864197530864196E-2,4.9382716049382713E-2,0.62345679012345678,null,4157,"Alex Bregman","Houston Astros","breal",162,21,74,91,17,40,5,163,5,8,101]
[1775,"Brian McCann","HOU","Buy",null,null,null,null,null,null,null,null,null,null,0,0,0,0,0,0,0,0,0,0," ",1775,"Brian McCann",{"$f":"IF(AQ134<>0,VLOOKUP(AQ134,Info!A:B,2,FALSE),\"\")","v":"HOU"},"mccab",0.18518518518518517,0.62962962962962965,0.47530864197530864,1.2345679012345678E-2,0.12345679012345678,1.2345679012345678E-2,0.83950617283950613,1.2345679012345678E-2,4.9382716049382713E-2,0.61728395061728392,null,1775,"Brian McCann","Houston Astros","mccab",162,30,102,77,2,20,2,136,2,8,100]
[2916,"Cameron Maybin","HOU","Buy",null,null,null,null,null,null,null,null,null,null,0,0,0,0,0,0,0,0,0,0," ",2916,"Cameron Maybin",{"$f":"IF(AQ135<>0,VLOOKUP(AQ135,Info!A:B,2,FALSE),\"\")","v":"HOU"},"mayca",8.6419753086419748E-2,0.30864197530864196,0.54320987654320985,0.2839506172839506,0.1728395061728395,1.8518518518518517E-2,0.77160493827160492,6.7901234567901231E-2,3.0864197530864196E-2,0.80246913580246915,null,2916,"Cameron Maybin","Houston Astros","mayca",162,14,50,88,46,28,3,125,11,5,130]
[701,"Carlos Beltran","HOU","Buy",null,null,null,null,null,null,null,null,null,null,0,0,0,0,0,0,0,0,0,0," ",701,"Carlos Beltran",{"$f":"IF(AQ136<>0,VLOOKUP(AQ136,Info!A:B,2,FALSE),\"\")","v":"HOU"},"belca",0.10493827160493827,0.3888888888888889,0.44444444444444442,6.1728395061728392E-3,0.23456790123456789,6.1728395061728392E-3,0.8271604938271605,1.2345679012345678E-2,3.0864197530864196E-2,0.76543209876543206,null,701,"Carlos Beltran","Houston Astros","belca",162,17,63,72,1,38,1,134,2,5,124]
[3844,"Carlos Correa","HOU","Buy",null,null,null,null,null,null,null,null,null,null,0,0,0,0,0,0,0,0,0,0," ",3844,"Carlos Correa",{"$f":"IF(AQ137<>0,VLOOKUP(AQ137,Info!A:B,2,FALSE),\"\")","v":"HOU"},"corca",0.23456790123456789,0.7407407407407407,0.7407407407407407,1.8518518518518517E-2,0.23456790123456789,1.2345679012345678E-2,1.2098765432098766,1.2345679012345678E-2,7.407407407407407E-2,0.85185185185185186,null,3844,"Carlos Correa","Houston Astros","corca",162,38,120,120,3,38,2,196,2,12,138]
[3506,"Evan Gattis","HOU","Buy",null,null,null,null,null,null,null,null,null,null,0,0,0,0,0,0,0,0,0,0," ",3506,"Evan Gattis",{"$f":"IF(AQ138<>0,VLOOKUP(AQ138,Info!A:B,2,FALSE),\"\")","v":"HOU"},"gatev",0.1419753086419753,0.64197530864197527,0.5,6.1728395061728392E-3,0.27777777777777779,6.1728395061728392E-3,0.94444444444444442,1.2345679012345678E-2,9.2592592592592587E-2,0.60493827160493829,null,3506,"Evan Gattis","Houston Astros","gatev",162,23,104,81,1,45,1,153,2,15,98]
[3538,"George Springer","HOU","Buy",null,null,null,null,null,null,null,null,null,null,0,0,0,0,0,0,0,0,0,0," ",3538,"George Springer",{"$f":"IF(AQ139<>0,VLOOKUP(AQ139,Info!A:B,2,FALSE),\"\")","v":"HOU"},"sprge",0.24074074074074073,0.59259259259259256,0.7407407407407407,3.7037037037037035E-2,0.20987654320987653,6.1728395061728392E-3,1.117283950617284,4.9382716049382713E-2,3.0864197530864196E-2,0.80864197530864201,null,3538,"George Springer","Houston Astros","sprge",162,39,96,120,6,34,1,181,8,5,131]
[3081,"Jose Altuve","HOU","Buy",null,null,null,null,null,null,null,null,null,null,0,0,0,0,0,0,0,0,0,0," ",3081,"Jose Altuve",{"$f":"IF(AQ140<>0,VLOOKUP(AQ140,Info!A:B,2,FALSE),\"\")","v":"HOU"},"altjo",0.1728395061728395,0.53086419753086422,0.7407407407407407,0.20987654320987653,0.24691358024691357,3.0864197530864196E-2,1.3641975308641976,4.3209876543209874E-2,7.407407407407407E-2,0.54938271604938271,null,3081,"Jose Altuve","Houston Astros","altjo",162,28,86,120,34,40,5,221,7,12,89]
[2912,"Josh Reddick","HOU","Buy",null,null,null,null,null,null,null,null,null,null,0,0,0,0,0,0,0,0,0,0," ",2912,"Josh Reddick",{"$f":"IF(AQ141<>0,VLOOKUP(AQ141,Info!A:B,2,FALSE),\"\")","v":"HOU"},"redjo",9.2592592592592587E-2,0.59259259259259256,0.57407407407407407,4.9382716049382713E-2,0.24691358024691357,3.0864197530864196E-2,1.1111111111111112,2.4691358024691357E-2,3.0864197530864196E-2,0.54320987654320985,null,2912,"Josh Reddick","Houston Astros","redjo",162,15,96,93,8,40,5,180,4,5,88]
[4194,"Marwin Gonzalez","HOU","Buy",null,null,null,null,null,null,null,null,null,null,0,0,0,0,0,0,0,0,0,0," ",4194,"Marwin Gonzalez",{"$f":"IF(AQ142<>0,VLOOKUP(AQ142,Info!A:B,2,FALSE),\"\")","v":"HOU"},"gonma",0.16666666666666666,0.65432098765432101,0.5,6.1728395061728392E-2,0.25308641975308643,6.1728395061728392E-3,1,2.4691358024691357E-2,6.1728395061728392E-2,0.7592592592592593,null,4194,"Marwin Gonzalez","Houston Astros","gonma",162,27,106,81,10,41,1,162,4,10,123]
[4009,"Tyler White","HOU","Buy",null,null,null,null,null,null,null,null,null,null,0,0,0,0,0,0,0,0,0,0," ",4009,"Tyler White",{"$f":"IF(AQ143<>0,VLOOKUP(AQ143,Info!A:B,2,FALSE),\"\")","v":"HOU"},"whity",6.7901234567901231E-2,0.30864197530864196,0.30864197530864196,1.8518518518518517E-2,0.19135802469135801,6.1728395061728392E-3,0.61728395061728392,1.2345679012345678E-2,3.0864197530864196E-2,0.73456790123456794,null,4009,"Tyler White","Houston Astros","whity",162,11,50,50,3,31,1,100,2,5,119]
[4190,"Yuli Gurriel","HOU","Buy",null,null,null,null,null,null,null,null,null,null,0,0,0,0,0,0,0,0,0,0," ",4190,"Yuli Gurriel",{"$f":"IF(AQ144<>0,VLOOKUP(AQ144,Info!A:B,2,FALSE),\"\")","v":"HOU"},"guryu",0.12345679012345678,0.51851851851851849,0.48148148148148145,2.4691358024691357E-2,0.30864197530864196,1.8518518518518517E-2,1.154320987654321,1.8518518518518517E-2,4.9382716049382713E-2,0.46296296296296297,null,4190,"Yuli Gurriel","Houston Astros","guryu",162,20,84,78,4,50,3,187,3,8,75]
[2637,"Alcides Escobar","KAN","Buy",null,null,null,null,null,null,null,null,null,null,0,0,0,0,0,0,0,0,0,0," ",2637,"Alcides Escobar",{"$f":"IF(AQ145<>0,VLOOKUP(AQ145,Info!A:B,2,FALSE),\"\")","v":"KAN"},"escal",6.1728395061728392E-2,0.33950617283950618,0.45061728395061729,2.4691358024691357E-2,0.22222222222222221,3.0864197530864196E-2,0.93827160493827155,4.3209876543209874E-2,9.2592592592592587E-2,0.64197530864197527,null,2637,"Alcides Escobar","Kansas City Royals","escal",162,10,55,73,4,36,5,152,7,15,104]
[2145,"Alex Gordon","KAN","Buy",null,null,null,null,null,null,null,null,null,null,0,0,0,0,0,0,0,0,0,0," ",2145,"Alex Gordon",{"$f":"IF(AQ146<>0,VLOOKUP(AQ146,Info!A:B,2,FALSE),\"\")","v":"KAN"},"goral",6.1728395061728392E-2,0.30864197530864196,0.37037037037037035,4.9382716049382713E-2,0.1419753086419753,1.8518518518518517E-2,0.68518518518518523,3.0864197530864196E-2,3.0864197530864196E-2,0.86419753086419748,null,2145,"Alex Gordon","Kansas City Royals","goral",162,10,50,60,8,23,3,111,5,5,140]
[3830,"Billy Burns","KAN","Buy",null,null,null,null,null,null,null,null,null,null,0,0,0,0,0,0,0,0,0,0," ",3830,"Billy Burns",{"$f":"IF(AQ147<>0,VLOOKUP(AQ147,Info!A:B,2,FALSE),\"\")","v":"KAN"},"burbi",6.1728395061728392E-2,0.30864197530864196,0.40740740740740738,0.1728395061728395,0.12345679012345678,4.3209876543209874E-2,0.75308641975308643,5.5555555555555552E-2,3.0864197530864196E-2,0.46296296296296297,null,3830,"Billy Burns","Kansas City Royals","burbi",162,10,50,66,28,20,7,122,9,5,75]
[3153,"Brandon Moss","KAN","Buy",null,null,null,null,null,null,null,null,null,null,0,0,0,0,0,0,0,0,0,0," ",3153,"Brandon Moss",{"$f":"IF(AQ148<>0,VLOOKUP(AQ148,Info!A:B,2,FALSE),\"\")","v":"KAN"},"mosbr",0.18518518518518517,0.42592592592592593,0.34567901234567899,1.8518518518518517E-2,0.12345679012345678,6.1728395061728392E-3,0.63580246913580252,1.2345679012345678E-2,3.0864197530864196E-2,1.0802469135802468,null,3153,"Brandon Moss","Kansas City Royals","mosbr",162,30,69,56,3,20,1,103,2,5,175]
[2867,"Eric Hosmer","KAN","Buy",null,null,null,null,null,null,null,null,null,null,0,0,0,0,0,0,0,0,0,0," ",2867,"Eric Hosmer",{"$f":"IF(AQ149<>0,VLOOKUP(AQ149,Info!A:B,2,FALSE),\"\")","v":"KAN"},"hoser",0.16049382716049382,0.59259259259259256,0.61111111111111116,3.7037037037037035E-2,0.19135802469135801,6.1728395061728392E-3,1.191358024691358,1.2345679012345678E-2,3.0864197530864196E-2,0.64814814814814814,null,2867,"Eric Hosmer","Kansas City Royals","hoser",162,26,96,99,6,31,1,193,2,5,105]
[3790,"Jorge Soler","KAN","Buy",null,null,null,null,null,null,null,null,null,null,0,0,0,0,0,0,0,0,0,0," ",3790,"Jorge Soler",{"$f":"IF(AQ150<>0,VLOOKUP(AQ150,Info!A:B,2,FALSE),\"\")","v":"KAN"},"soljo",6.1728395061728392E-2,0.30864197530864196,0.30864197530864196,6.1728395061728392E-3,0.14814814814814814,6.1728395061728392E-3,0.61728395061728392,1.2345679012345678E-2,3.0864197530864196E-2,1.0308641975308641,null,3790,"Jorge Soler","Kansas City Royals","soljo",162,10,50,50,1,24,1,100,2,5,167]
[3255,"Lorenzo Cain","KAN","Buy",null,null,null,null,null,null,null,null,null,null,0,0,0,0,0,0,0,0,0,0," ",3255,"Lorenzo Cain",{"$f":"IF(AQ151<>0,VLOOKUP(AQ151,Info!A:B,2,FALSE),\"\")","v":"KAN"},"cailo",0.1111111111111111,0.35802469135802467,0.57407407407407407,0.16666666666666666,0.17901234567901234,3.7037037037037035E-2,1.154320987654321,1.8518518518518517E-2,4.9382716049382713E-2,0.64197530864197527,null,3255,"Lorenzo Cain","Kansas City Royals","cailo",162,18,58,93,27,29,6,187,3,8,104]
[2164,"Melky Cabrera","KAN","Buy",null,null,null,null,null,null,null,null,null,null,0,0,0,0,0,0,0,0,0,0," ",2164,"Melky Cabrera",{"$f":"IF(AQ152<>0,VLOOKUP(AQ152,Info!A:B,2,FALSE),\"\")","v":"KAN"},"cabme",0.1111111111111111,0.55555555555555558,0.5,1.2345679012345678E-2,0.19753086419753085,1.8518518518518517E-2,1.154320987654321,1.8518518518518517E-2,3.0864197530864196E-2,0.47530864197530864,null,2164,"Melky Cabrera","Kansas City Royals","cabme",162,18,90,81,2,32,3,187,3,5,77]
[3061,"Mike Moustakas","KAN","Buy",null,null,null,null,null,null,null,null,null,null,0,0,0,0,0,0,0,0,0,0," ",3061,"Mike Moustakas",{"$f":"IF(AQ153<>0,VLOOKUP(AQ153,Info!A:B,2,FALSE),\"\")","v":"KAN"},"moumi",0.25925925925925924,0.57407407407407407,0.51234567901234573,6.1728395061728392E-3,0.1728395061728395,6.1728395061728392E-3,1.0246913580246915,1.2345679012345678E-2,8.6419753086419748E-2,0.64197530864197527,null,3061,"Mike Moustakas","Kansas City Royals","moumi",162,42,93,83,1,28,1,166,2,14,104]
[3254,"Salvador Perez","KAN","Buy",null,null,null,null,null,null,null,null,null,null,0,0,0,0,0,0,0,0,0,0," ",3254,"Salvador Perez",{"$f":"IF(AQ154<>0,VLOOKUP(AQ154,Info!A:B,2,FALSE),\"\")","v":"KAN"},"persa",0.21604938271604937,0.62345679012345678,0.45061728395061729,1.2345679012345678E-2,0.18518518518518517,1.2345679012345678E-2,0.98148148148148151,1.2345679012345678E-2,4.3209876543209874E-2,0.73456790123456794,null,3254,"Salvador Perez","Kansas City Royals","persa",162,35,101,73,2,30,2,159,2,7,119]
[4195,"Whit Merrifield","KAN","Buy",null,null,null,null,null,null,null,null,null,null,0,0,0,0,0,0,0,0,0,0," ",4195,"Whit Merrifield",{"$f":"IF(AQ155<>0,VLOOKUP(AQ155,Info!A:B,2,FALSE),\"\")","v":"KAN"},"merrw",0.13580246913580246,0.54320987654320985,0.55555555555555558,0.23456790123456789,0.22222222222222221,4.3209876543209874E-2,1.1666666666666667,5.5555555555555552E-2,8.6419753086419748E-2,0.61111111111111116,null,4195,"Whit Merrifield","Kansas City Royals","merrw",162,22,88,90,38,36,7,189,9,14,99]
[135,"Albert Pujols","LAA","Buy",null,null,null,null,null,null,null,null,null,null,0,0,0,0,0,0,0,0,0,0," ",135,"Albert Pujols",{"$f":"IF(AQ156<>0,VLOOKUP(AQ156,Info!A:B,2,FALSE),\"\")","v":"LAA"},"pujal",0.15432098765432098,0.67901234567901236,0.35802469135802467,2.4691358024691357E-2,0.12345679012345678,6.1728395061728392E-3,0.96296296296296291,1.2345679012345678E-2,3.0864197530864196E-2,0.62345679012345678,null,135,"Albert Pujols","Los Angeles Angels","pujal",162,25,110,58,4,20,1,156,2,5,101]
[3256,"Andrelton Simmons","LAA","Buy",null,null,null,null,null,null,null,null,null,null,0,0,0,0,0,0,0,0,0,0," ",3256,"Andrelton Simmons",{"$f":"IF(AQ157<>0,VLOOKUP(AQ157,Info!A:B,2,FALSE),\"\")","v":"LAA"},"siman",9.2592592592592587E-2,0.44444444444444442,0.5,0.12345679012345678,0.24074074074074073,1.8518518518518517E-2,1.037037037037037,4.3209876543209874E-2,9.2592592592592587E-2,0.46296296296296297,null,3256,"Andrelton Simmons","Los Angeles Angels","siman",162,15,72,81,20,39,3,168,7,15,75]
[2896,"Ben Revere","LAA","Buy",null,null,null,null,null,null,null,null,null,null,0,0,0,0,0,0,0,0,0,0," ",2896,"Ben Revere",{"$f":"IF(AQ158<>0,VLOOKUP(AQ158,Info!A:B,2,FALSE),\"\")","v":"LAA"},"revbe",6.1728395061728392E-2,0.30864197530864196,0.34567901234567899,0.20370370370370369,0.12345679012345678,1.8518518518518517E-2,0.72839506172839508,5.5555555555555552E-2,3.0864197530864196E-2,0.46296296296296297,null,2896,"Ben Revere","Los Angeles Angels","revbe",162,10,50,56,33,20,3,118,9,5,75]
[1766,"Brandon Phillips","LAA","Buy",null,null,null,null,null,null,null,null,null,null,0,0,0,0,0,0,0,0,0,0," ",1766,"Brandon Phillips",{"$f":"IF(AQ159<>0,VLOOKUP(AQ159,Info!A:B,2,FALSE),\"\")","v":"LAA"},"phibr",9.8765432098765427E-2,0.41975308641975306,0.56172839506172845,8.0246913580246909E-2,0.24074074074074073,1.2345679012345678E-2,1.1419753086419753,5.5555555555555552E-2,4.3209876543209874E-2,0.51234567901234573,null,1766,"Brandon Phillips","Los Angeles Angels","phibr",162,16,68,91,13,39,2,185,9,7,83]
[3568,"CJ Cron","LAA","Buy",null,null,null,null,null,null,null,null,null,null,0,0,0,0,0,0,0,0,0,0," ",3568,"CJ Cron",{"$f":"IF(AQ160<>0,VLOOKUP(AQ160,Info!A:B,2,FALSE),\"\")","v":"LAA"},"crocj",0.16049382716049382,0.55555555555555558,0.3888888888888889,3.0864197530864196E-2,0.1419753086419753,1.2345679012345678E-2,0.83333333333333337,2.4691358024691357E-2,4.3209876543209874E-2,0.98148148148148151,null,3568,"CJ Cron","Los Angeles Angels","crocj",162,26,90,63,5,23,2,135,4,7,159]
[2676,"Cliff Pennington","LAA","Buy",null,null,null,null,null,null,null,null,null,null,0,0,0,0,0,0,0,0,0,0," ",2676,"Cliff Pennington",{"$f":"IF(AQ161<>0,VLOOKUP(AQ161,Info!A:B,2,FALSE),\"\")","v":"LAA"},"pencl",6.1728395061728392E-2,0.30864197530864196,0.30864197530864196,3.7037037037037035E-2,0.12345679012345678,6.1728395061728392E-3,0.61728395061728392,1.2345679012345678E-2,6.1728395061728392E-2,0.6728395061728395,null,2676,"Cliff Pennington","Los Angeles Angels","pencl",162,10,50,50,6,20,1,100,2,10,109]
[4197,"Don Baylor","LAA","Buy",null,null,null,null,null,null,null,null,null,null,0,0,0,0,0,0,0,0,0,0," ",4197,"Don Baylor",{"$f":"IF(AQ162<>0,VLOOKUP(AQ162,Info!A:B,2,FALSE),\"\")","v":"LAA"},"baydo",1,1,1,1,1,1,1,1,1,1,null,4197,"Don Baylor","Los Angeles Angels","baydo",1,1,1,1,1,1,1,1,1,1,1]
[3063,"Dustin Ackley","LAA","Buy",null,null,null,null,null,null,null,null,null,null,0,0,0,0,0,0,0,0,0,0," ",3063,"Dustin Ackley",{"$f":"IF(AQ163<>0,VLOOKUP(AQ163,Info!A:B,2,FALSE),\"\")","v":"LAA"},"ackdu",6.1728395061728392E-2,0.30864197530864196,0.30864197530864196,6.1728395061728392E-3,0.12345679012345678,6.1728395061728392E-3,0.61728395061728392,1.2345679012345678E-2,3.0864197530864196E-2,0.46296296296296297,null,3063,"Dustin Ackley","Los Angeles Angels","ackdu",162,10,50,50,1,20,1,100,2,5,75]
[3565,"Eric Young Jr.","LAA","Buy",null,null,null,null,null,null,null,null,null,null,0,0,0,0,0,0,0,0,0,0," ",3565,"Eric Young Jr.",{"$f":"IF(AQ164<>0,VLOOKUP(AQ164,Info!A:B,2,FALSE),\"\")","v":"LAA"},"youer",8.6419753086419748E-2,0.33333333333333331,0.5,0.25308641975308643,0.12345679012345678,6.1728395061728392E-3,0.61728395061728392,6.7901234567901231E-2,3.0864197530864196E-2,0.69135802469135799,null,3565,"Eric Young Jr.","Los Angeles Angels","youer",162,14,54,81,41,20,1,100,11,5,112]
[2040,"Justin Upton","LAA","Buy",null,null,null,null,null,null,null,null,null,null,0,0,0,0,0,0,0,0,0,0," ",2040,"Justin Upton",{"$f":"IF(AQ165<>0,VLOOKUP(AQ165,Info!A:B,2,FALSE),\"\")","v":"LAA"},"uptju",0.23456790123456789,0.71604938271604934,0.66049382716049387,9.2592592592592587E-2,0.29629629629629628,6.1728395061728392E-3,1,3.7037037037037035E-2,5.5555555555555552E-2,1.1851851851851851,null,2040,"Justin Upton","Los Angeles Angels","uptju",162,38,116,107,15,48,1,162,6,9,192]
[3567,"Kole Calhoun","LAA","Buy",null,null,null,null,null,null,null,null,null,null,0,0,0,0,0,0,0,0,0,0," ",3567,"Kole Calhoun",{"$f":"IF(AQ166<>0,VLOOKUP(AQ166,Info!A:B,2,FALSE),\"\")","v":"LAA"},"calko",0.12345679012345678,0.4567901234567901,0.49382716049382713,3.7037037037037035E-2,0.14814814814814814,1.8518518518518517E-2,0.89506172839506171,1.2345679012345678E-2,3.0864197530864196E-2,0.87654320987654322,null,3567,"Kole Calhoun","Los Angeles Angels","calko",162,20,74,80,6,24,3,145,2,5,142]
[3825,"Luis Valbuena","LAA","Buy",null,null,null,null,null,null,null,null,null,null,0,0,0,0,0,0,0,0,0,0," ",3825,"Luis Valbuena",{"$f":"IF(AQ167<>0,VLOOKUP(AQ167,Info!A:B,2,FALSE),\"\")","v":"LAA"},"vallu",0.19135802469135801,0.55555555555555558,0.35802469135802467,6.1728395061728392E-3,0.12962962962962962,6.1728395061728392E-3,0.61728395061728392,1.8518518518518517E-2,6.1728395061728392E-2,0.90123456790123457,null,3825,"Luis Valbuena","Los Angeles Angels","vallu",162,31,90,58,1,21,1,100,3,10,146]
[3062,"Mike Trout","LAA","Buy",null,null,null,null,null,null,null,null,null,null,0,0,0,0,0,0,0,0,0,0," ",3062,"Mike Trout",{"$f":"IF(AQ168<>0,VLOOKUP(AQ168,Info!A:B,2,FALSE),\"\")","v":"LAA"},"tromi",0.29012345679012347,0.63580246913580252,0.7407407407407407,0.19753086419753085,0.22222222222222221,3.0864197530864196E-2,1.0802469135802468,3.7037037037037035E-2,3.0864197530864196E-2,0.79012345679012341,null,3062,"Mike Trout","Los Angeles Angels","tromi",162,47,103,120,32,36,5,175,6,5,128]
[2142,"Yunel Escobar","LAA","Buy",null,null,null,null,null,null,null,null,null,null,0,0,0,0,0,0,0,0,0,0," ",2142,"Yunel Escobar",{"$f":"IF(AQ169<>0,VLOOKUP(AQ169,Info!A:B,2,FALSE),\"\")","v":"LAA"},"escyu",8.0246913580246909E-2,0.34567901234567899,0.48148148148148145,1.2345679012345678E-2,0.22222222222222221,1.2345679012345678E-2,1.0802469135802468,4.9382716049382713E-2,0.13580246913580246,0.58024691358024694,null,2142,"Yunel Escobar","Los Angeles Angels","escyu",162,13,56,78,2,36,2,175,8,22,94]
[1780,"Adrian Gonzalez","LAD","Buy",null,null,null,null,null,null,null,null,null,null,0,0,0,0,0,0,0,0,0,0," ",1780,"Adrian Gonzalez",{"$f":"IF(AQ170<>0,VLOOKUP(AQ170,Info!A:B,2,FALSE),\"\")","v":"LAD"},"gonad",6.1728395061728392E-2,0.43209876543209874,0.30864197530864196,6.1728395061728392E-3,0.24074074074074073,6.1728395061728392E-3,0.77777777777777779,1.8518518518518517E-2,3.0864197530864196E-2,0.59876543209876543,null,1780,"Adrian Gonzalez","Los Angeles Dodgers","gonad",162,10,70,50,1,39,1,126,3,5,97]
[1814,"Andre Ethier","LAD","Buy",null,null,null,null,null,null,null,null,null,null,0,0,0,0,0,0,0,0,0,0," ",1814,"Andre Ethier",{"$f":"IF(AQ171<>0,VLOOKUP(AQ171,Info!A:B,2,FALSE),\"\")","v":"LAD"},"ethan",9.8765432098765427E-2,0.37654320987654322,0.38271604938271603,1.8518518518518517E-2,0.1419753086419753,4.9382716049382713E-2,0.82098765432098764,2.4691358024691357E-2,3.0864197530864196E-2,0.53086419753086422,null,1814,"Andre Ethier","Los Angeles Dodgers","ethan",162,16,61,62,3,23,8,133,4,5,86]
[1518,"Chase Utley","LAD","Buy",null,null,null,null,null,null,null,null,null,null,0,0,0,0,0,0,0,0,0,0," ",1518,"Chase Utley",{"$f":"IF(AQ172<>0,VLOOKUP(AQ172,Info!A:B,2,FALSE),\"\")","v":"LAD"},"utlch",6.1728395061728392E-2,0.30864197530864196,0.33950617283950618,4.9382716049382713E-2,0.1728395061728395,3.0864197530864196E-2,0.61728395061728392,1.2345679012345678E-2,4.3209876543209874E-2,0.46296296296296297,null,1518,"Chase Utley","Los Angeles Dodgers","utlch",162,10,50,55,8,28,5,100,2,7,75]
[4196,"Chris Taylor","LAD","Buy",null,null,null,null,null,null,null,null,null,null,0,0,0,0,0,0,0,0,0,0," ",4196,"Chris Taylor",{"$f":"IF(AQ173<>0,VLOOKUP(AQ173,Info!A:B,2,FALSE),\"\")","v":"LAD"},"taych",0.15432098765432098,0.51234567901234573,0.62345679012345678,0.11728395061728394,0.24691358024691357,3.7037037037037035E-2,1.0555555555555556,3.0864197530864196E-2,6.7901234567901231E-2,1,null,4196,"Chris Taylor","Los Angeles Dodgers","taych",162,25,83,101,19,40,6,171,5,11,162]
[4181,"Cody Bellinger","LAD","Buy",null,null,null,null,null,null,null,null,null,null,0,0,0,0,0,0,0,0,0,0," ",4181,"Cody Bellinger",{"$f":"IF(AQ174<>0,VLOOKUP(AQ174,Info!A:B,2,FALSE),\"\")","v":"LAD"},"belco",0.29629629629629628,0.72839506172839508,0.66666666666666663,8.6419753086419748E-2,0.19753086419753085,3.0864197530864196E-2,0.98148148148148151,2.4691358024691357E-2,3.0864197530864196E-2,1.1296296296296295,null,4181,"Cody Bellinger","Los Angeles Dodgers","belco",162,48,118,108,14,32,5,159,4,5,183]
[4001,"Corey Seager","LAD","Buy",null,null,null,null,null,null,null,null,null,null,0,0,0,0,0,0,0,0,0,0," ",4001,"Corey Seager",{"$f":"IF(AQ175<>0,VLOOKUP(AQ175,Info!A:B,2,FALSE),\"\")","v":"LAD"},"seaco",0.14814814814814814,0.54938271604938271,0.59876543209876543,3.7037037037037035E-2,0.24074074074074073,1.2345679012345678E-2,1.1049382716049383,1.8518518518518517E-2,9.2592592592592587E-2,0.90123456790123457,null,4001,"Corey Seager","Los Angeles Dodgers","seaco",162,24,89,97,6,39,2,179,3,15,146]
[1769,"Curtis Granderson","LAD","Buy",null,null,null,null,null,null,null,null,null,null,0,0,0,0,0,0,0,0,0,0," ",1769,"Curtis Granderson",{"$f":"IF(AQ176<>0,VLOOKUP(AQ176,Info!A:B,2,FALSE),\"\")","v":"LAD"},"gracu",0.1728395061728395,0.41975308641975306,0.5,4.3209876543209874E-2,0.16049382716049382,2.4691358024691357E-2,0.62962962962962965,1.8518518518518517E-2,3.0864197530864196E-2,0.85185185185185186,null,1769,"Curtis Granderson","Los Angeles Dodgers","gracu",162,28,68,81,7,26,4,102,3,5,138]
[2395,"Franklin Gutierrez","LAD","Buy",null,null,null,null,null,null,null,null,null,null,0,0,0,0,0,0,0,0,0,0," ",2395,"Franklin Gutierrez",{"$f":"IF(AQ177<>0,VLOOKUP(AQ177,Info!A:B,2,FALSE),\"\")","v":"LAD"},"gutfr",6.1728395061728392E-2,0.30864197530864196,0.30864197530864196,6.1728395061728392E-3,0.12345679012345678,6.1728395061728392E-3,0.61728395061728392,3.0864197530864196E-2,3.0864197530864196E-2,0.47530864197530864,null,2395,"Franklin Gutierrez","Los Angeles Dodgers","gutfr",162,10,50,50,1,20,1,100,5,5,77]
[2648,"Ike Davis","LAD","Buy",null,null,null,null,null,null,null,null,null,null,0,0,0,0,0,0,0,0,0,0," ",2648,"Ike Davis",{"$f":"IF(AQ178<>0,VLOOKUP(AQ178,Info!A:B,2,FALSE),\"\")","v":"LAD"},"davik",6.1728395061728392E-2,0.30864197530864196,0.30864197530864196,6.1728395061728392E-3,0.24074074074074073,6.1728395061728392E-3,0.69753086419753085,1.2345679012345678E-2,5.5555555555555552E-2,0.61728395061728392,null,2648,"Ike Davis","Los Angeles Dodgers","davik",162,10,50,50,1,39,1,113,2,9,100]
[3824,"Joc Pederson","LAD","Buy",null,null,null,null,null,null,null,null,null,null,0,0,0,0,0,0,0,0,0,0," ",3824,"Joc Pederson",{"$f":"IF(AQ179<>0,VLOOKUP(AQ179,Info!A:B,2,FALSE),\"\")","v":"LAD"},"pedjo",0.1111111111111111,0.33950617283950618,0.4567901234567901,4.3209876543209874E-2,0.19753086419753085,6.1728395061728392E-3,0.61728395061728392,4.3209876543209874E-2,3.0864197530864196E-2,0.65432098765432101,null,3824,"Joc Pederson","Los Angeles Dodgers","pedjo",162,18,55,74,7,32,1,100,7,5,106]
[3847,"Justin Turner","LAD","Buy",null,null,null,null,null,null,null,null,null,null,0,0,0,0,0,0,0,0,0,0," ",3847,"Justin Turner",{"$f":"IF(AQ180<>0,VLOOKUP(AQ180,Info!A:B,2,FALSE),\"\")","v":"LAD"},"turju",0.1728395061728395,0.59876543209876543,0.54938271604938271,6.1728395061728392E-2,0.24074074074074073,6.1728395061728392E-3,1.1604938271604939,1.2345679012345678E-2,6.7901234567901231E-2,0.46296296296296297,null,3847,"Justin Turner","Los Angeles Dodgers","turju",162,28,97,89,10,39,1,188,2,11,75]
[3853,"Logan Forsythe","LAD","Buy",null,null,null,null,null,null,null,null,null,null,0,0,0,0,0,0,0,0,0,0," ",3853,"Logan Forsythe",{"$f":"IF(AQ181<>0,VLOOKUP(AQ181,Info!A:B,2,FALSE),\"\")","v":"LAD"},"forla",6.1728395061728392E-2,0.30864197530864196,0.5,3.7037037037037035E-2,0.16049382716049382,6.1728395061728392E-3,0.70987654320987659,1.8518518518518517E-2,3.0864197530864196E-2,0.90740740740740744,null,3853,"Logan Forsythe","Los Angeles Dodgers","forla",162,10,50,81,6,26,1,115,3,5,147]
[3295,"Yasiel Puig","LAD","Buy",null,null,null,null,null,null,null,null,null,null,0,0,0,0,0,0,0,0,0,0," ",3295,"Yasiel Puig",{"$f":"IF(AQ182<>0,VLOOKUP(AQ182,Info!A:B,2,FALSE),\"\")","v":"LAD"},"puiya",0.18518518518518517,0.51851851851851849,0.48765432098765432,9.8765432098765427E-2,0.17901234567901234,1.8518518518518517E-2,0.88888888888888884,5.5555555555555552E-2,3.0864197530864196E-2,0.64814814814814814,null,3295,"Yasiel Puig","Los Angeles Dodgers","puiya",162,30,84,79,16,29,3,144,9,5,105]
[3794,"Yasmani Grandal","LAD","Buy",null,null,null,null,null,null,null,null,null,null,0,0,0,0,0,0,0,0,0,0," ",3794,"Yasmani Grandal",{"$f":"IF(AQ183<>0,VLOOKUP(AQ183,Info!A:B,2,FALSE),\"\")","v":"LAD"},"graya",0.1728395061728395,0.44444444444444442,0.38271604938271603,6.1728395061728392E-3,0.20987654320987653,6.1728395061728392E-3,0.8271604938271605,1.2345679012345678E-2,5.5555555555555552E-2,1.0123456790123457,null,3794,"Yasmani Grandal","Los Angeles Dodgers","graya",162,28,72,62,1,34,1,134,2,9,164]
[3518,"Christian Yelich","MIA","Buy",null,null,null,null,null,null,null,null,null,null,0,0,0,0,0,0,0,0,0,0," ",3518,"Christian Yelich",{"$f":"IF(AQ184<>0,VLOOKUP(AQ184,Info!A:B,2,FALSE),\"\")","v":"MIA"},"yelch",0.11728395061728394,0.51851851851851849,0.64814814814814814,0.10493827160493827,0.23456790123456789,1.8518518518518517E-2,1.0925925925925926,1.8518518518518517E-2,3.0864197530864196E-2,0.89506172839506171,null,3518,"Christian Yelich","Miami Marlins","yelch",162,19,84,105,17,38,3,177,3,5,145]
[3275,"Dee Gordon","MIA","Buy",null,null,null,null,null,null,null,null,null,null,0,0,0,0,0,0,0,0,0,0," ",3275,"Dee Gordon",{"$f":"IF(AQ185<>0,VLOOKUP(AQ185,Info!A:B,2,FALSE),\"\")","v":"MIA"},"gorde",6.1728395061728392E-2,0.30864197530864196,0.72222222222222221,0.30864197530864196,0.12962962962962962,5.5555555555555552E-2,1.2592592592592593,0.10493827160493827,7.407407407407407E-2,0.59876543209876543,null,3275,"Dee Gordon","Miami Marlins","gorde",162,10,50,117,50,21,9,204,17,12,97]
[2877,"Giancarlo Stanton","MIA","Buy",null,null,null,null,null,null,null,null,null,null,0,0,0,0,0,0,0,0,0,0," ",2877,"Giancarlo Stanton",{"$f":"IF(AQ186<>0,VLOOKUP(AQ186,Info!A:B,2,FALSE),\"\")","v":"MIA"},"stagi",0.30864197530864196,0.7407407407407407,0.7407407407407407,1.8518518518518517E-2,0.20370370370370369,6.1728395061728392E-3,1.0555555555555556,1.8518518518518517E-2,3.0864197530864196E-2,1.0246913580246915,null,2877,"Giancarlo Stanton","Miami Marlins","stagi",162,50,120,120,3,33,1,171,3,5,166]
[707,"Ichiro Suzuki","MIA","Buy",null,null,null,null,null,null,null,null,null,null,0,0,0,0,0,0,0,0,0,0," ",707,"Ichiro Suzuki",{"$f":"IF(AQ187<>0,VLOOKUP(AQ187,Info!A:B,2,FALSE),\"\")","v":"MIA"},"suzic",6.1728395061728392E-2,0.30864197530864196,0.30864197530864196,1.2345679012345678E-2,0.12345679012345678,6.1728395061728392E-3,0.61728395061728392,1.8518518518518517E-2,3.0864197530864196E-2,0.46296296296296297,null,707,"Ichiro Suzuki","Miami Marlins","suzic",162,10,50,50,2,20,1,100,3,5,75]
[4162,"JT Realmuto","MIA","Buy",null,null,null,null,null,null,null,null,null,null,0,0,0,0,0,0,0,0,0,0," ",4162,"JT Realmuto",{"$f":"IF(AQ188<>0,VLOOKUP(AQ188,Info!A:B,2,FALSE),\"\")","v":"MIA"},"reajt",0.12962962962962962,0.48148148148148145,0.49382716049382713,6.1728395061728392E-2,0.23456790123456789,3.7037037037037035E-2,1.0679012345679013,1.8518518518518517E-2,4.3209876543209874E-2,0.74691358024691357,null,4162,"JT Realmuto","Miami Marlins","reajt",162,21,78,80,10,38,6,173,3,7,121]
[3850,"Justin Bour","MIA","Buy",null,null,null,null,null,null,null,null,null,null,0,0,0,0,0,0,0,0,0,0," ",3850,"Justin Bour",{"$f":"IF(AQ189<>0,VLOOKUP(AQ189,Info!A:B,2,FALSE),\"\")","v":"MIA"},"bouju",0.23456790123456789,0.7407407407407407,0.48148148148148145,1.2345679012345678E-2,0.16666666666666666,6.1728395061728392E-3,1.0123456790123457,1.2345679012345678E-2,3.0864197530864196E-2,0.88271604938271608,null,3850,"Justin Bour","Miami Marlins","bouju",162,38,120,78,2,27,1,164,2,5,143]
[3298,"Marcell Ozuna","MIA","Buy",null,null,null,null,null,null,null,null,null,null,0,0,0,0,0,0,0,0,0,0," ",3298,"Marcell Ozuna",{"$f":"IF(AQ190<>0,VLOOKUP(AQ190,Info!A:B,2,FALSE),\"\")","v":"MIA"},"ozuma",0.23456790123456789,0.7407407407407407,0.59876543209876543,1.2345679012345678E-2,0.20370370370370369,1.8518518518518517E-2,1.1975308641975309,2.4691358024691357E-2,3.0864197530864196E-2,0.90740740740740744,null,3298,"Marcell Ozuna","Miami Marlins","ozuma",162,38,120,97,2,33,3,194,4,5,147]
[2633,"Martin Prado","MIA","Buy",null,null,null,null,null,null,null,null,null,null,0,0,0,0,0,0,0,0,0,0," ",2633,"Martin Prado",{"$f":"IF(AQ191<>0,VLOOKUP(AQ191,Info!A:B,2,FALSE),\"\")","v":"MIA"},"pradm",6.1728395061728392E-2,0.3271604938271605,0.35185185185185186,6.1728395061728392E-3,0.24691358024691357,6.1728395061728392E-3,0.95061728395061729,1.2345679012345678E-2,3.0864197530864196E-2,0.59876543209876543,null,2633,"Martin Prado","Miami Marlins","pradm",162,10,53,57,1,40,1,154,2,5,97]
[4193,"Domingo Santana","MIL","Buy",null,null,null,null,null,null,null,null,null,null,0,0,0,0,0,0,0,0,0,0," ",4193,"Domingo Santana",{"$f":"IF(AQ192<>0,VLOOKUP(AQ192,Info!A:B,2,FALSE),\"\")","v":"MIL"},"sando",0.20370370370370369,0.5679012345679012,0.5864197530864198,0.10493827160493827,0.19753086419753085,6.1728395061728392E-3,0.96913580246913578,3.0864197530864196E-2,3.7037037037037035E-2,1.1728395061728396,null,4193,"Domingo Santana","Milwaukee Brewers","sando",162,33,92,95,17,32,1,157,5,6,190]
[4168,"Eric Thames","MIL","Buy",null,null,null,null,null,null,null,null,null,null,0,0,0,0,0,0,0,0,0,0," ",4168,"Eric Thames",{"$f":"IF(AQ193<>0,VLOOKUP(AQ193,Info!A:B,2,FALSE),\"\")","v":"MIL"},"thaer",0.22839506172839505,0.4567901234567901,0.59876543209876543,3.0864197530864196E-2,0.19135802469135801,3.0864197530864196E-2,0.83950617283950613,1.8518518518518517E-2,3.7037037037037035E-2,1.1851851851851851,null,4168,"Eric Thames","Milwaukee Brewers","thaer",162,37,74,97,5,31,5,136,3,6,192]
[4029,"Hernan Perez","MIL","Buy",null,null,null,null,null,null,null,null,null,null,0,0,0,0,0,0,0,0,0,0," ",4029,"Hernan Perez",{"$f":"IF(AQ194<>0,VLOOKUP(AQ194,Info!A:B,2,FALSE),\"\")","v":"MIL"},"perhe",0.1111111111111111,0.3888888888888889,0.35185185185185186,9.8765432098765427E-2,0.1419753086419753,2.4691358024691357E-2,0.8271604938271605,3.0864197530864196E-2,3.0864197530864196E-2,0.58024691358024694,null,4029,"Hernan Perez","Milwaukee Brewers","perhe",162,18,63,57,16,23,4,134,5,5,94]
[{"$f":"IF(Z195<>0,Z195,\"\")","v":3519},{"$f":"IF(A195<>0,VLOOKUP(A195,Z:AA,2,FALSE),\"\")","v":"Jonathan Villar"},{"$f":"IF(A195<>0,VLOOKUP(A195,Z:AB,3,FALSE))","v":"MIL"},{"$f":"HYPERLINK(\"http://www.jockstocks.com/buysell.php?action=buymax&plid=\"&A195,\"Buy\")","v":"Buy"},null,null,null,null,null,null,null,null,null,null,{"$f":"VLOOKUP($A195,$A:$N,5,FALSE)/VLOOKUP($A195,$Z:$AM,5,FALSE)","v":0},{"$f":"VLOOKUP($A195,$A:$N,6,FALSE)/VLOOKUP($A195,$Z:$AM,6,FALSE)","v":0},{"$f":"VLOOKUP($A195,$A:$N,7,FALSE)/VLOOKUP($A195,$Z:$AM,7,FALSE)","v":0},{"$f":"VLOOKUP($A195,$A:$N,8,FALSE)/VLOOKUP($A195,$Z:$AM,8,FALSE)","v":0},{"$f":"VLOOKUP($A195,$A:$N,9,FALSE)/VLOOKUP($A195,$Z:$AM,9,FALSE)","v":0},{"$f":"VLOOKUP($A195,$A:$N,10,FALSE)/VLOOKUP($A195,$Z:$AM,10,FALSE)","v":0},{"$f":"VLOOKUP($A195,$A:$N,11,FALSE)/VLOOKUP($A195,$Z:$AM,11,FALSE)","v":0},{"$f":"VLOOKUP($A195,$A:$N,12,FALSE)/VLOOKUP($A195,$Z:$AM,12,FALSE)","v":0},{"$f":"VLOOKUP($A195,$A:$N,13,FALSE)/VLOOKUP($A195,$Z:$AM,13,FALSE)","v":0},{"$f":"VLOOKUP($A195,$A:$N,14,FALSE)/VLOOKUP($A195,$Z:$AM,14,FALSE)","v":0}," ",{"$f":"IF(AO195<>0,AO195,\"\")","v":3519},{"$f":"IF(AP195<>0,VLOOKUP(Z195,AO:AP,2,FALSE),\"\")","v":"Jonathan Villar"},{"$f":"IF(AQ195<>0,VLOOKUP(AQ195,Info!A:B,2,FALSE),\"\")","v":"MIL"},{"$f":"IF(AO195<>0,VLOOKUP(Z195,AO:AR,4,FALSE),\"\")","v":"villj"},{"$f":"IF($AO195<>0,AT195/$AS195,\"\")","v":9.2592592592592587E-2},{"$f":"IF($AO195<>0,AU195/$AS195,\"\")","v":0.33333333333333331},{"$f":"IF($AO195<>0,AV195/$AS195,\"\")","v":0.40740740740740738},{"$f":"IF($AO195<>0,AW195/$AS195,\"\")","v":0.19135802469135801},{"$f":"IF($AO195<>0,AX195/$AS195,\"\")","v":0.14814814814814814},{"$f":"IF($AO195<>0,AY195/$AS195,\"\")","v":1.2345679012345678E-2},{"$f":"IF($AO195<>0,AZ195/$AS195,\"\")","v":0.79629629629629628},{"$f":"IF($AO195<>0,BA195/$AS195,\"\")","v":6.7901234567901231E-2},{"$f":"IF($AO195<>0,BB195/$AS195,\"\")","v":0.11728395061728394},{"$f":"IF($AO195<>0,BC195/$AS195,\"\")","v":1.0864197530864197},null,3519,"Jonathan Villar","Milwaukee Brewers","villj",162,15,54,66,31,24,2,129,11,19,176]
[2678,"Neil Walker","MIL","Buy",null,null,null,null,null,null,null,null,null,null,0,0,0,0,0,0,0,0,0,0," ",2678,"Neil Walker",{"$f":"IF(AQ196<>0,VLOOKUP(AQ196,Info!A:B,2,FALSE),\"\")","v":"MIL"},"walne",0.12962962962962962,0.43827160493827161,0.54320987654320985,6.1728395061728392E-3,0.19135802469135801,1.8518518518518517E-2,0.92592592592592593,1.8518518518518517E-2,4.9382716049382713E-2,0.68518518518518523,null,2678,"Neil Walker","Milwaukee Brewers","walne",162,21,71,88,1,31,3,150,3,8,111]
[4189,"Orlando Arcia","MIL","Buy",null,null,null,null,null,null,null,null,null,null,0,0,0,0,0,0,0,0,0,0," ",4189,"Orlando Arcia",{"$f":"IF(AQ197<>0,VLOOKUP(AQ197,Info!A:B,2,FALSE),\"\")","v":"MIL"},"arcor",9.8765432098765427E-2,0.35185185185185186,0.37037037037037035,9.2592592592592587E-2,0.12345679012345678,1.8518518518518517E-2,0.92592592592592593,4.9382716049382713E-2,0.12962962962962962,0.66049382716049387,null,4189,"Orlando Arcia","Milwaukee Brewers","arcor",162,16,57,60,15,20,3,150,8,21,107]
[2000,"Ryan Braun","MIL","Buy",null,null,null,null,null,null,null,null,null,null,0,0,0,0,0,0,0,0,0,0," ",2000,"Ryan Braun",{"$f":"IF(AQ198<>0,VLOOKUP(AQ198,Info!A:B,2,FALSE),\"\")","v":"MIL"},"brary",0.16666666666666666,0.5,0.56172839506172845,0.11728395061728394,0.26543209876543211,2.4691358024691357E-2,0.98148148148148151,4.3209876543209874E-2,3.0864197530864196E-2,0.73456790123456794,null,2000,"Ryan Braun","Milwaukee Brewers","brary",162,27,81,91,19,43,4,159,7,5,119]
[3585,"Stephen Vogt","MIL","Buy",null,null,null,null,null,null,null,null,null,null,0,0,0,0,0,0,0,0,0,0," ",3585,"Stephen Vogt",{"$f":"IF(AQ199<>0,VLOOKUP(AQ199,Info!A:B,2,FALSE),\"\")","v":"MIL"},"vogst",0.12345679012345678,0.40740740740740738,0.30864197530864196,6.1728395061728392E-3,0.15432098765432098,1.2345679012345678E-2,0.64197530864197527,1.2345679012345678E-2,6.1728395061728392E-2,0.5679012345679012,null,3585,"Stephen Vogt","Milwaukee Brewers","vogst",162,20,66,50,1,25,2,104,2,10,92]
[4014,"Travis Shaw","MIL","Buy",null,null,null,null,null,null,null,null,null,null,0,0,0,0,0,0,0,0,0,0," ",4014,"Travis Shaw",{"$f":"IF(AQ200<>0,VLOOKUP(AQ200,Info!A:B,2,FALSE),\"\")","v":"MIL"},"shatr",0.21604938271604937,0.70370370370370372,0.5864197530864198,7.407407407407407E-2,0.24074074074074073,1.2345679012345678E-2,1.0246913580246915,1.2345679012345678E-2,4.9382716049382713E-2,0.96296296296296291,null,4014,"Travis Shaw","Milwaukee Brewers","shatr",162,35,114,95,12,39,2,166,2,8,156]
[3297,"Brian Dozier","MIN","Buy",null,null,null,null,null,null,null,null,null,null,0,0,0,0,0,0,0,0,0,0," ",3297,"Brian Dozier",{"$f":"IF(AQ201<>0,VLOOKUP(AQ201,Info!A:B,2,FALSE),\"\")","v":"MIN"},"dozbr",0.23456790123456789,0.62345679012345678,0.70370370370370372,0.10493827160493827,0.19753086419753085,3.0864197530864196E-2,1.0987654320987654,4.9382716049382713E-2,3.7037037037037035E-2,0.94444444444444442,null,3297,"Brian Dozier","Minnesota Twins","dozbr",162,38,101,114,17,32,5,178,8,6,153]
[4163,"Byron Buxton","MIN","Buy",null,null,null,null,null,null,null,null,null,null,0,0,0,0,0,0,0,0,0,0," ",4163,"Byron Buxton",{"$f":"IF(AQ202<>0,VLOOKUP(AQ202,Info!A:B,2,FALSE),\"\")","v":"MIN"},"buxby",0.11728395061728394,0.37037037037037035,0.49382716049382713,0.21604938271604937,0.12345679012345678,4.3209876543209874E-2,0.8271604938271605,1.2345679012345678E-2,3.7037037037037035E-2,1.0740740740740742,null,4163,"Byron Buxton","Minnesota Twins","buxby",162,19,60,80,35,20,7,134,2,6,174]
[4003,"Byung Ho Park","MIN","Buy",null,null,null,null,null,null,null,null,null,null,0,0,0,0,0,0,0,0,0,0," ",4003,"Byung Ho Park",{"$f":"IF(AQ203<>0,VLOOKUP(AQ203,Info!A:B,2,FALSE),\"\")","v":"MIN"},"parby",0.19135802469135801,0.40123456790123457,0.47530864197530864,2.4691358024691357E-2,0.13580246913580246,2.4691358024691357E-2,0.66049382716049387,1.2345679012345678E-2,3.0864197530864196E-2,1.2469135802469136,null,4003,"Byung Ho Park","Minnesota Twins","parby",162,31,65,77,4,22,4,107,2,5,202]
[3829,"Eddie Rosario","MIN","Buy",null,null,null,null,null,null,null,null,null,null,0,0,0,0,0,0,0,0,0,0," ",3829,"Eddie Rosario",{"$f":"IF(AQ204<>0,VLOOKUP(AQ204,Info!A:B,2,FALSE),\"\")","v":"MIN"},"rosed",0.18518518518518517,0.53086419753086422,0.53086419753086422,6.1728395061728392E-2,0.22222222222222221,1.8518518518518517E-2,1.0432098765432098,5.5555555555555552E-2,3.0864197530864196E-2,0.72222222222222221,null,3829,"Eddie Rosario","Minnesota Twins","rosed",162,30,86,86,10,36,3,169,9,5,117]
[3566,"Eduardo Escobar","MIN","Buy",null,null,null,null,null,null,null,null,null,null,0,0,0,0,0,0,0,0,0,0," ",3566,"Eduardo Escobar",{"$f":"IF(AQ205<>0,VLOOKUP(AQ205,Info!A:B,2,FALSE),\"\")","v":"MIN"},"esced",0.16666666666666666,0.55555555555555558,0.48148148148148145,4.3209876543209874E-2,0.12345679012345678,4.3209876543209874E-2,0.89506172839506171,1.2345679012345678E-2,4.3209876543209874E-2,0.7592592592592593,null,3566,"Eduardo Escobar","Minnesota Twins","esced",162,27,90,78,7,20,7,145,2,7,123]
[3273,"Jason Castro","MIN","Buy",null,null,null,null,null,null,null,null,null,null,0,0,0,0,0,0,0,0,0,0," ",3273,"Jason Castro",{"$f":"IF(AQ206<>0,VLOOKUP(AQ206,Info!A:B,2,FALSE),\"\")","v":"MIN"},"casja",9.2592592592592587E-2,0.42592592592592593,0.44444444444444442,6.1728395061728392E-3,0.20370370370370369,6.1728395061728392E-3,0.77777777777777779,1.2345679012345678E-2,3.0864197530864196E-2,1,null,3273,"Jason Castro","Minnesota Twins","casja",162,15,69,72,1,33,1,126,2,5,162]
[1161,"Joe Mauer","MIN","Buy",null,null,null,null,null,null,null,null,null,null,0,0,0,0,0,0,0,0,0,0," ",1161,"Joe Mauer",{"$f":"IF(AQ207<>0,VLOOKUP(AQ207,Info!A:B,2,FALSE),\"\")","v":"MIN"},"maujo",6.1728395061728392E-2,0.5,0.48765432098765432,1.8518518518518517E-2,0.25308641975308643,1.2345679012345678E-2,1.1296296296296295,1.2345679012345678E-2,3.0864197530864196E-2,0.5864197530864198,null,1161,"Joe Mauer","Minnesota Twins","maujo",162,10,81,79,3,41,2,183,2,5,95]
[3586,"Kennys Vargas","MIN","Buy",null,null,null,null,null,null,null,null,null,null,0,0,0,0,0,0,0,0,0,0," ",3586,"Kennys Vargas",{"$f":"IF(AQ208<>0,VLOOKUP(AQ208,Info!A:B,2,FALSE),\"\")","v":"MIN"},"varke",0.15432098765432098,0.53703703703703709,0.44444444444444442,6.1728395061728392E-3,0.16666666666666666,6.1728395061728392E-3,0.79012345679012341,1.2345679012345678E-2,3.0864197530864196E-2,0.98765432098765427,null,3586,"Kennys Vargas","Minnesota Twins","varke",162,25,87,72,1,27,1,128,2,5,160]
[4028,"Max Kepler","MIN","Buy",null,null,null,null,null,null,null,null,null,null,0,0,0,0,0,0,0,0,0,0," ",4028,"Max Kepler",{"$f":"IF(AQ209<>0,VLOOKUP(AQ209,Info!A:B,2,FALSE),\"\")","v":"MIN"},"kepma",0.12962962962962962,0.46913580246913578,0.45061728395061729,4.3209876543209874E-2,0.22222222222222221,1.8518518518518517E-2,0.83950617283950613,1.2345679012345678E-2,3.0864197530864196E-2,0.76543209876543206,null,4028,"Max Kepler","Minnesota Twins","kepma",162,21,76,73,7,36,3,136,2,5,124]
[3848,"Miguel Sano","MIN","Buy",null,null,null,null,null,null,null,null,null,null,0,0,0,0,0,0,0,0,0,0," ",3848,"Miguel Sano",{"$f":"IF(AQ210<>0,VLOOKUP(AQ210,Info!A:B,2,FALSE),\"\")","v":"MIN"},"sanom",0.24691358024691357,0.6728395061728395,0.66666666666666663,6.1728395061728392E-3,0.13580246913580246,1.8518518518518517E-2,0.97530864197530864,1.2345679012345678E-2,8.0246913580246909E-2,1.5061728395061729,null,3848,"Miguel Sano","Minnesota Twins","sanom",162,40,109,108,1,22,3,158,2,13,244]
[2445,"Asdrubal Cabrera","NYM","Buy",null,null,null,null,null,null,null,null,null,null,0,0,0,0,0,0,0,0,0,0," ",2445,"Asdrubal Cabrera",{"$f":"IF(AQ211<>0,VLOOKUP(AQ211,Info!A:B,2,FALSE),\"\")","v":"NYM"},"cabas",0.10493827160493827,0.43827160493827161,0.48765432098765432,2.4691358024691357E-2,0.24074074074074073,6.1728395061728392E-3,0.99382716049382713,1.8518518518518517E-2,8.6419753086419748E-2,0.61111111111111116,null,2445,"Asdrubal Cabrera","New York Mets","cabas",162,17,71,79,4,39,1,161,3,14,99]
[1455,"David Wright","NYM","Buy",null,null,null,null,null,null,null,null,null,null,0,0,0,0,0,0,0,0,0,0," ",1455,"David Wright",{"$f":"IF(AQ212<>0,VLOOKUP(AQ212,Info!A:B,2,FALSE),\"\")","v":"NYM"},"wrida",0.19135802469135801,0.38271604938271603,0.48765432098765432,8.6419753086419748E-2,0.22222222222222221,6.1728395061728392E-3,0.83950617283950613,5.5555555555555552E-2,0.1111111111111111,1.4876543209876543,null,1455,"David Wright","New York Mets","wrida",162,31,62,79,14,36,1,136,9,18,241]
[2910,"Desmond Jennings","NYM","Buy",null,null,null,null,null,null,null,null,null,null,0,0,0,0,0,0,0,0,0,0," ",2910,"Desmond Jennings",{"$f":"IF(AQ213<>0,VLOOKUP(AQ213,Info!A:B,2,FALSE),\"\")","v":"NYM"},"jende",0.1111111111111111,0.30864197530864196,0.33950617283950618,3.0864197530864196E-2,0.12345679012345678,1.8518518518518517E-2,0.61728395061728392,1.2345679012345678E-2,3.0864197530864196E-2,0.89506172839506171,null,2910,"Desmond Jennings","New York Mets","jende",162,18,50,55,5,20,3,100,2,5,145]
[1175,"Jose Reyes","NYM","Buy",null,null,null,null,null,null,null,null,null,null,0,0,0,0,0,0,0,0,0,0," ",1175,"Jose Reyes",{"$f":"IF(AQ214<>0,VLOOKUP(AQ214,Info!A:B,2,FALSE),\"\")","v":"NYM"},"reyjo",0.10493827160493827,0.39506172839506171,0.51851851851851849,0.1728395061728395,0.1728395061728395,4.9382716049382713E-2,0.84567901234567899,4.9382716049382713E-2,6.1728395061728392E-2,0.54320987654320985,null,1175,"Jose Reyes","New York Mets","reyjo",162,17,64,84,28,28,8,137,8,10,88]
[3822,"Juan Lagares","NYM","Buy",null,null,null,null,null,null,null,null,null,null,0,0,0,0,0,0,0,0,0,0," ",3822,"Juan Lagares",{"$f":"IF(AQ215<>0,VLOOKUP(AQ215,Info!A:B,2,FALSE),\"\")","v":"NYM"},"lagju",6.1728395061728392E-2,0.30864197530864196,0.40123456790123457,7.407407407407407E-2,0.19135802469135801,2.4691358024691357E-2,0.67901234567901236,3.7037037037037035E-2,3.7037037037037035E-2,0.59876543209876543,null,3822,"Juan Lagares","New York Mets","lagju",162,10,50,65,12,31,4,110,6,6,97]
[4007,"Michael Conforto","NYM","Buy",null,null,null,null,null,null,null,null,null,null,0,0,0,0,0,0,0,0,0,0," ",4007,"Michael Conforto",{"$f":"IF(AQ216<>0,VLOOKUP(AQ216,Info!A:B,2,FALSE),\"\")","v":"NYM"},"confm",0.24691358024691357,0.61728395061728392,0.68518518518518523,1.8518518518518517E-2,0.18518518518518517,1.2345679012345678E-2,0.93827160493827155,1.2345679012345678E-2,3.7037037037037035E-2,1.037037037037037,null,4007,"Michael Conforto","New York Mets","confm",162,40,100,111,3,30,2,152,2,6,168]
[3144,"Norichika Aoki","NYM","Buy",null,null,null,null,null,null,null,null,null,null,0,0,0,0,0,0,0,0,0,0," ",3144,"Norichika Aoki",{"$f":"IF(AQ217<>0,VLOOKUP(AQ217,Info!A:B,2,FALSE),\"\")","v":"NYM"},"aokno",6.1728395061728392E-2,0.3271604938271605,0.44444444444444442,9.2592592592592587E-2,0.18518518518518517,1.8518518518518517E-2,0.85185185185185186,1.8518518518518517E-2,3.0864197530864196E-2,0.46296296296296297,null,3144,"Norichika Aoki","New York Mets","aokno",162,10,53,72,15,30,3,138,3,5,75]
[3564,"Travis d'Arnaud","NYM","Buy",null,null,null,null,null,null,null,null,null,null,0,0,0,0,0,0,0,0,0,0," ",3564,"Travis d'Arnaud",{"$f":"IF(AQ218<>0,VLOOKUP(AQ218,Info!A:B,2,FALSE),\"\")","v":"NYM"},"dartr",0.1419753086419753,0.51851851851851849,0.34567901234567899,6.1728395061728392E-3,0.1728395061728395,1.2345679012345678E-2,0.75308641975308643,1.2345679012345678E-2,3.7037037037037035E-2,0.54938271604938271,null,3564,"Travis d'Arnaud","New York Mets","dartr",162,23,84,56,1,28,2,122,2,6,89]
[3851,"Wilmer Flores","NYM","Buy",null,null,null,null,null,null,null,null,null,null,0,0,0,0,0,0,0,0,0,0," ",3851,"Wilmer Flores",{"$f":"IF(AQ219<>0,VLOOKUP(AQ219,Info!A:B,2,FALSE),\"\")","v":"NYM"},"flowi",0.16666666666666666,0.47530864197530864,0.40740740740740738,1.2345679012345678E-2,0.1728395061728395,1.8518518518518517E-2,0.87037037037037035,1.2345679012345678E-2,7.407407407407407E-2,0.49382716049382713,null,3851,"Wilmer Flores","New York Mets","flowi",162,27,77,66,2,28,3,141,2,12,80]
[3039,"Yoenis Cespedes","NYM","Buy",null,null,null,null,null,null,null,null,null,null,0,0,0,0,0,0,0,0,0,0," ",3039,"Yoenis Cespedes",{"$f":"IF(AQ220<>0,VLOOKUP(AQ220,Info!A:B,2,FALSE),\"\")","v":"NYM"},"cesyo",0.22222222222222221,0.56172839506172845,0.57407407407407407,6.1728395061728392E-3,0.20987654320987653,2.4691358024691357E-2,1.0617283950617284,1.2345679012345678E-2,7.407407407407407E-2,0.74691358024691357,null,3039,"Yoenis Cespedes","New York Mets","cesyo",162,36,91,93,1,34,4,172,2,12,121]
[3286,"Aaron Hicks","NYY","Buy",null,null,null,null,null,null,null,null,null,null,0,0,0,0,0,0,0,0,0,0," ",3286,"Aaron Hicks",{"$f":"IF(AQ221<>0,VLOOKUP(AQ221,Info!A:B,2,FALSE),\"\")","v":"NYY"},"hicaa",0.16666666666666666,0.5864197530864198,0.62345679012345678,0.10493827160493827,0.21604938271604937,6.1728395061728392E-3,0.91975308641975306,5.5555555555555552E-2,3.0864197530864196E-2,0.77777777777777779,null,3286,"Aaron Hicks","New York Yankees","hicaa",162,27,95,101,17,35,1,149,9,5,126]
[4169,"Aaron Judge","NYY","Buy",null,null,null,null,null,null,null,null,null,null,0,0,0,0,0,0,0,0,0,0," ",4169,"Aaron Judge",{"$f":"IF(AQ222<>0,VLOOKUP(AQ222,Info!A:B,2,FALSE),\"\")","v":"NYY"},"judaa",0.30864197530864196,0.7407407407407407,0.7407407407407407,5.5555555555555552E-2,0.16049382716049382,1.8518518518518517E-2,0.98765432098765427,2.4691358024691357E-2,3.0864197530864196E-2,1.3888888888888888,null,4169,"Aaron Judge","New York Yankees","judaa",162,50,120,120,9,26,3,160,4,5,225]
[2617,"Brett Gardner","NYY","Buy",null,null,null,null,null,null,null,null,null,null,0,0,0,0,0,0,0,0,0,0," ",2617,"Brett Gardner",{"$f":"IF(AQ223<>0,VLOOKUP(AQ223,Info!A:B,2,FALSE),\"\")","v":"NYY"},"garbr",0.1419753086419753,0.41358024691358025,0.64197530864197527,0.15432098765432098,0.17901234567901234,3.0864197530864196E-2,1.0493827160493827,4.3209876543209874E-2,3.0864197530864196E-2,0.82098765432098764,null,2617,"Brett Gardner","New York Yankees","garbr",162,23,67,104,25,29,5,170,7,5,133]
[2636,"Chase Headley","NYY","Buy",null,null,null,null,null,null,null,null,null,null,0,0,0,0,0,0,0,0,0,0," ",2636,"Chase Headley",{"$f":"IF(AQ224<>0,VLOOKUP(AQ224,Info!A:B,2,FALSE),\"\")","v":"NYY"},"heach",8.0246913580246909E-2,0.40123456790123457,0.51234567901234573,6.1728395061728392E-2,0.20370370370370369,1.2345679012345678E-2,0.91975308641975306,1.8518518518518517E-2,7.407407407407407E-2,0.91975308641975306,null,2636,"Chase Headley","New York Yankees","heach",162,13,65,83,10,33,2,149,3,12,149]
[3043,"Chris Parmelee","NYY","Buy",null,null,null,null,null,null,null,null,null,null,0,0,0,0,0,0,0,0,0,0," ",3043,"Chris Parmelee",{"$f":"IF(AQ225<>0,VLOOKUP(AQ225,Info!A:B,2,FALSE),\"\")","v":"NYY"},"parch",0.12962962962962962,0.30864197530864196,0.34567901234567899,6.1728395061728392E-3,0.22222222222222221,3.7037037037037035E-2,0.66049382716049387,3.7037037037037035E-2,3.7037037037037035E-2,0.81481481481481477,null,3043,"Chris Parmelee","New York Yankees","parch",162,21,50,56,1,36,6,107,6,6,132]
[3798,"Didi Gregorius","NYY","Buy",null,null,null,null,null,null,null,null,null,null,0,0,0,0,0,0,0,0,0,0," ",3798,"Didi Gregorius",{"$f":"IF(AQ226<>0,VLOOKUP(AQ226,Info!A:B,2,FALSE),\"\")","v":"NYY"},"gredi",0.20370370370370369,0.65432098765432101,0.54320987654320985,2.4691358024691357E-2,0.19753086419753085,6.1728395061728392E-3,1.117283950617284,1.2345679012345678E-2,7.407407407407407E-2,0.53703703703703709,null,3798,"Didi Gregorius","New York Yankees","gredi",162,33,106,88,4,32,1,181,2,12,87]
[4158,"Gary Sanchez","NYY","Buy",null,null,null,null,null,null,null,null,null,null,0,0,0,0,0,0,0,0,0,0," ",4158,"Gary Sanchez",{"$f":"IF(AQ227<>0,VLOOKUP(AQ227,Info!A:B,2,FALSE),\"\")","v":"NYY"},"sanga",0.27777777777777779,0.7407407407407407,0.66049382716049387,1.8518518518518517E-2,0.16666666666666666,6.1728395061728392E-3,1.0740740740740742,1.2345679012345678E-2,9.2592592592592587E-2,1.0246913580246915,null,4158,"Gary Sanchez","New York Yankees","sanga",162,45,120,107,3,27,1,174,2,15,166]
[2039,"Jacoby Ellsbury","NYY","Buy",null,null,null,null,null,null,null,null,null,null,0,0,0,0,0,0,0,0,0,0," ",2039,"Jacoby Ellsbury",{"$f":"IF(AQ228<>0,VLOOKUP(AQ228,Info!A:B,2,FALSE),\"\")","v":"NYY"},"ellja",6.1728395061728392E-2,0.33950617283950618,0.56172839506172845,0.19135802469135801,0.1728395061728395,3.7037037037037035E-2,0.81481481481481477,3.0864197530864196E-2,3.0864197530864196E-2,0.57407407407407407,null,2039,"Jacoby Ellsbury","New York Yankees","ellja",162,10,55,91,31,28,6,132,5,5,93]
[1463,"Matt Holliday","NYY","Buy",null,null,null,null,null,null,null,null,null,null,0,0,0,0,0,0,0,0,0,0," ",1463,"Matt Holliday",{"$f":"IF(AQ229<>0,VLOOKUP(AQ229,Info!A:B,2,FALSE),\"\")","v":"NYY"},"holma",0.19135802469135801,0.62962962962962965,0.51851851851851849,1.2345679012345678E-2,0.1728395061728395,6.1728395061728392E-3,0.83333333333333337,1.2345679012345678E-2,3.0864197530864196E-2,1.0679012345679013,null,1463,"Matt Holliday","New York Yankees","holma",162,31,102,84,2,28,1,135,2,5,173]
[2645,"Starlin Castro","NYY","Buy",null,null,null,null,null,null,null,null,null,null,0,0,0,0,0,0,0,0,0,0," ",2645,"Starlin Castro",{"$f":"IF(AQ230<>0,VLOOKUP(AQ230,Info!A:B,2,FALSE),\"\")","v":"NYY"},"casst",0.1419753086419753,0.54938271604938271,0.59876543209876543,1.8518518518518517E-2,0.1728395061728395,1.2345679012345678E-2,1.1851851851851851,1.2345679012345678E-2,9.2592592592592587E-2,0.84567901234567899,null,2645,"Starlin Castro","New York Yankees","casst",162,23,89,97,3,28,2,192,2,15,137]
[3142,"Todd Frazier","NYY","Buy",null,null,null,null,null,null,null,null,null,null,0,0,0,0,0,0,0,0,0,0," ",3142,"Todd Frazier",{"$f":"IF(AQ231<>0,VLOOKUP(AQ231,Info!A:B,2,FALSE),\"\")","v":"NYY"},"frato",0.17901234567901234,0.51851851851851849,0.50617283950617287,3.0864197530864196E-2,0.13580246913580246,1.2345679012345678E-2,0.69135802469135799,3.7037037037037035E-2,0.10493827160493827,0.84567901234567899,null,3142,"Todd Frazier","New York Yankees","frato",162,29,84,82,5,22,2,112,6,17,137]
[3270,"Chris Carter","OAK","Buy",null,null,null,null,null,null,null,null,null,null,0,0,0,0,0,0,0,0,0,0," ",3270,"Chris Carter",{"$f":"IF(AQ232<>0,VLOOKUP(AQ232,Info!A:B,2,FALSE),\"\")","v":"OAK"},"cartc",0.12962962962962962,0.43209876543209874,0.32098765432098764,6.1728395061728392E-3,0.12345679012345678,1.8518518518518517E-2,0.62345679012345678,1.2345679012345678E-2,6.7901234567901231E-2,1.228395061728395,null,3270,"Chris Carter","Oakland Athletics","cartc",162,21,70,52,1,20,3,101,2,11,199]
[2863,"Jed Lowrie","OAK","Buy",null,null,null,null,null,null,null,null,null,null,0,0,0,0,0,0,0,0,0,0," ",2863,"Jed Lowrie",{"$f":"IF(AQ233<>0,VLOOKUP(AQ233,Info!A:B,2,FALSE),\"\")","v":"OAK"},"lowje",9.2592592592592587E-2,0.4567901234567901,0.57407407407407407,6.1728395061728392E-3,0.30864197530864196,2.4691358024691357E-2,1.037037037037037,1.2345679012345678E-2,3.7037037037037035E-2,0.66049382716049387,null,2863,"Jed Lowrie","Oakland Athletics","lowje",162,15,74,93,1,50,4,168,2,6,107]
[3520,"Khris Davis","OAK","Buy",null,null,null,null,null,null,null,null,null,null,0,0,0,0,0,0,0,0,0,0," ",3520,"Khris Davis",{"$f":"IF(AQ234<>0,VLOOKUP(AQ234,Info!A:B,2,FALSE),\"\")","v":"OAK"},"davkh",0.27777777777777779,0.72222222222222221,0.60493827160493829,3.0864197530864196E-2,0.18518518518518517,1.2345679012345678E-2,0.93827160493827155,1.2345679012345678E-2,3.0864197530864196E-2,1.2839506172839505,null,3520,"Khris Davis","Oakland Athletics","davkh",162,45,117,98,5,30,2,152,2,5,208]
[3797,"Marcus Semien","OAK","Buy",null,null,null,null,null,null,null,null,null,null,0,0,0,0,0,0,0,0,0,0," ",3797,"Marcus Semien",{"$f":"IF(AQ235<>0,VLOOKUP(AQ235,Info!A:B,2,FALSE),\"\")","v":"OAK"},"semma",0.12345679012345678,0.47530864197530864,0.62962962962962965,0.1419753086419753,0.22839506172839505,1.2345679012345678E-2,1,1.2345679012345678E-2,0.1111111111111111,1,null,3797,"Marcus Semien","Oakland Athletics","semma",162,20,77,102,23,37,2,162,2,18,162]
[3859,"Mark Canha","OAK","Buy",null,null,null,null,null,null,null,null,null,null,0,0,0,0,0,0,0,0,0,0," ",3859,"Mark Canha",{"$f":"IF(AQ236<>0,VLOOKUP(AQ236,Info!A:B,2,FALSE),\"\")","v":"OAK"},"canma",9.2592592592592587E-2,0.30864197530864196,0.30864197530864196,3.7037037037037035E-2,0.22839506172839505,1.8518518518518517E-2,0.63580246913580252,1.2345679012345678E-2,7.407407407407407E-2,0.98765432098765427,null,3859,"Mark Canha","Oakland Athletics","canma",162,15,50,50,6,37,3,103,2,12,160]
[2868,"Matt Joyce","OAK","Buy",null,null,null,null,null,null,null,null,null,null,0,0,0,0,0,0,0,0,0,0," ",2868,"Matt Joyce",{"$f":"IF(AQ237<>0,VLOOKUP(AQ237,Info!A:B,2,FALSE),\"\")","v":"OAK"},"joyma",0.17901234567901234,0.48148148148148145,0.56172839506172845,3.0864197530864196E-2,0.23456790123456789,6.1728395061728392E-3,0.82098765432098764,1.2345679012345678E-2,3.0864197530864196E-2,0.79629629629629628,null,2868,"Matt Joyce","Oakland Athletics","joyma",162,29,78,91,5,38,1,133,2,5,129]
[4183,"Ryon Healy","OAK","Buy",null,null,null,null,null,null,null,null,null,null,0,0,0,0,0,0,0,0,0,0," ",4183,"Ryon Healy",{"$f":"IF(AQ238<>0,VLOOKUP(AQ238,Info!A:B,2,FALSE),\"\")","v":"OAK"},"heary",0.1728395061728395,0.53086419753086422,0.45061728395061729,6.1728395061728392E-3,0.19753086419753085,6.1728395061728392E-3,1.0555555555555556,1.2345679012345678E-2,8.0246913580246909E-2,0.96296296296296291,null,4183,"Ryon Healy","Oakland Athletics","heary",162,28,86,73,1,32,1,171,2,13,156]
[3843,"Cesar Hernandez","PHI","Buy",null,null,null,null,null,null,null,null,null,null,0,0,0,0,0,0,0,0,0,0," ",3843,"Cesar Hernandez",{"$f":"IF(AQ239<>0,VLOOKUP(AQ239,Info!A:B,2,FALSE),\"\")","v":"PHI"},"herce",7.407407407407407E-2,0.30864197530864196,0.66666666666666663,0.11728395061728394,0.20370370370370369,4.9382716049382713E-2,1.1728395061728396,4.3209876543209874E-2,8.6419753086419748E-2,0.81481481481481477,null,3843,"Cesar Hernandez","Philadelphia Phillies","herce",162,12,50,108,19,33,8,190,7,14,132]
[3274,"Daniel Nava","PHI","Buy",null,null,null,null,null,null,null,null,null,null,0,0,0,0,0,0,0,0,0,0," ",3274,"Daniel Nava",{"$f":"IF(AQ240<>0,VLOOKUP(AQ240,Info!A:B,2,FALSE),\"\")","v":"PHI"},"navda",6.1728395061728392E-2,0.30864197530864196,0.30864197530864196,1.8518518518518517E-2,0.12345679012345678,1.8518518518518517E-2,0.69753086419753085,1.2345679012345678E-2,3.0864197530864196E-2,0.48148148148148145,null,3274,"Daniel Nava","Philadelphia Phillies","navda",162,10,50,50,3,20,3,113,2,5,78]
[4198,"Darren Daulton","PHI","Buy",null,null,null,null,null,null,null,null,null,null,0,0,0,0,0,0,0,0,0,0," ",4198,"Darren Daulton",{"$f":"IF(AQ241<>0,VLOOKUP(AQ241,Info!A:B,2,FALSE),\"\")","v":"PHI"},"dutch",1,1,1,1,1,1,1,1,1,1,null,4198,"Darren Daulton","Philadelphia Phillies","dutch",1,1,1,1,1,1,1,1,1,1,1]
[3823,"Freddy Galvis","PHI","Buy",null,null,null,null,null,null,null,null,null,null,0,0,0,0,0,0,0,0,0,0," ",3823,"Freddy Galvis",{"$f":"IF(AQ242<>0,VLOOKUP(AQ242,Info!A:B,2,FALSE),\"\")","v":"PHI"},"galfr",7.407407407407407E-2,0.37654320987654322,0.43827160493827161,8.6419753086419748E-2,0.17901234567901234,3.7037037037037035E-2,0.95679012345679015,3.0864197530864196E-2,5.5555555555555552E-2,0.69135802469135799,null,3823,"Freddy Galvis","Philadelphia Phillies","galfr",162,12,61,71,14,29,6,155,5,9,112]
[3842,"Maikel Franco","PHI","Buy",null,null,null,null,null,null,null,null,null,null,0,0,0,0,0,0,0,0,0,0," ",3842,"Maikel Franco",{"$f":"IF(AQ243<>0,VLOOKUP(AQ243,Info!A:B,2,FALSE),\"\")","v":"PHI"},"frama",0.16049382716049382,0.49382716049382713,0.43827160493827161,6.1728395061728392E-3,0.19135802469135801,1.2345679012345678E-2,0.85185185185185186,1.2345679012345678E-2,8.6419753086419748E-2,0.62962962962962965,null,3842,"Maikel Franco","Philadelphia Phillies","frama",162,26,80,71,1,31,2,138,2,14,102]
[3074,"Michael Saunders","PHI","Buy",null,null,null,null,null,null,null,null,null,null,0,0,0,0,0,0,0,0,0,0," ",3074,"Michael Saunders",{"$f":"IF(AQ244<>0,VLOOKUP(AQ244,Info!A:B,2,FALSE),\"\")","v":"PHI"},"saumi",8.6419753086419748E-2,0.30864197530864196,0.35185185185185186,6.1728395061728392E-3,0.12345679012345678,3.0864197530864196E-2,0.61728395061728392,1.8518518518518517E-2,3.0864197530864196E-2,0.74691358024691357,null,3074,"Michael Saunders","Philadelphia Phillies","saumi",162,14,50,57,1,20,5,100,3,5,121]
[4018,"Odubel Herrera","PHI","Buy",null,null,null,null,null,null,null,null,null,null,0,0,0,0,0,0,0,0,0,0," ",4018,"Odubel Herrera",{"$f":"IF(AQ245<>0,VLOOKUP(AQ245,Info!A:B,2,FALSE),\"\")","v":"PHI"},"herod",0.10493827160493827,0.40740740740740738,0.48765432098765432,6.1728395061728392E-2,0.30246913580246915,2.4691358024691357E-2,1.0740740740740742,3.7037037037037035E-2,3.0864197530864196E-2,0.90740740740740744,null,4018,"Odubel Herrera","Philadelphia Phillies","herod",162,17,66,79,10,49,4,174,6,5,147]
[4200,"Rhys Hoskins","PHI","Buy",null,null,null,null,null,null,null,null,null,null,0,0,0,0,0,0,0,0,0,0," ",4200,"Rhys Hoskins",{"$f":"IF(AQ246<>0,VLOOKUP(AQ246,Info!A:B,2,FALSE),\"\")","v":"PHI"},"hosrh",0.30864197530864196,0.7407407407407407,0.7407407407407407,4.3209876543209874E-2,0.1419753086419753,6.1728395061728392E-3,0.88271604938271608,1.2345679012345678E-2,3.0864197530864196E-2,0.92592592592592593,null,4200,"Rhys Hoskins","Philadelphia Phillies","hosrh",162,50,120,120,7,23,1,143,2,5,150]
[2482,"Andrew McCutchen","PIT","Buy",null,null,null,null,null,null,null,null,null,null,0,0,0,0,0,0,0,0,0,0," ",2482,"Andrew McCutchen",{"$f":"IF(AQ247<>0,VLOOKUP(AQ247,Info!A:B,2,FALSE),\"\")","v":"PIT"},"mccan",0.17901234567901234,0.57407407407407407,0.61111111111111116,7.407407407407407E-2,0.20987654320987653,1.8518518518518517E-2,1.037037037037037,3.7037037037037035E-2,3.0864197530864196E-2,0.74691358024691357,null,2482,"Andrew McCutchen","Pittsburgh Pirates","mccan",162,29,93,99,12,34,3,168,6,5,121]
[2632,"David Freese","PIT","Buy",null,null,null,null,null,null,null,null,null,null,0,0,0,0,0,0,0,0,0,0," ",2632,"David Freese",{"$f":"IF(AQ248<>0,VLOOKUP(AQ248,Info!A:B,2,FALSE),\"\")","v":"PIT"},"freda",8.0246913580246909E-2,0.40123456790123457,0.34567901234567899,6.1728395061728392E-3,0.12345679012345678,6.1728395061728392E-3,0.85802469135802473,1.2345679012345678E-2,9.2592592592592587E-2,0.90123456790123457,null,2632,"David Freese","Pittsburgh Pirates","freda",162,13,65,56,1,20,1,139,2,15,146]
[4010,"Francisco Cervelli","PIT","Buy",null,null,null,null,null,null,null,null,null,null,0,0,0,0,0,0,0,0,0,0," ",4010,"Francisco Cervelli",{"$f":"IF(AQ249<>0,VLOOKUP(AQ249,Info!A:B,2,FALSE),\"\")","v":"PIT"},"cerfr",6.1728395061728392E-2,0.38271604938271603,0.38271604938271603,6.1728395061728392E-3,0.16049382716049382,2.4691358024691357E-2,0.81481481481481477,2.4691358024691357E-2,6.1728395061728392E-2,0.80246913580246915,null,4010,"Francisco Cervelli","Pittsburgh Pirates","cerfr",162,10,62,62,1,26,4,132,4,10,130]
[3559,"Gregory Polanco","PIT","Buy",null,null,null,null,null,null,null,null,null,null,0,0,0,0,0,0,0,0,0,0," ",3559,"Gregory Polanco",{"$f":"IF(AQ250<>0,VLOOKUP(AQ250,Info!A:B,2,FALSE),\"\")","v":"PIT"},"polgr",0.10493827160493827,0.3271604938271605,0.35802469135802467,7.407407407407407E-2,0.18518518518518517,6.1728395061728392E-3,0.88271604938271608,1.2345679012345678E-2,3.0864197530864196E-2,0.56172839506172845,null,3559,"Gregory Polanco","Pittsburgh Pirates","polgr",162,17,53,58,12,30,1,143,2,5,91]
[2679,"John Jaso","PIT","Buy",null,null,null,null,null,null,null,null,null,null,0,0,0,0,0,0,0,0,0,0," ",2679,"John Jaso",{"$f":"IF(AQ251<>0,VLOOKUP(AQ251,Info!A:B,2,FALSE),\"\")","v":"PIT"},"jasjo",8.0246913580246909E-2,0.30864197530864196,0.30864197530864196,1.2345679012345678E-2,0.16049382716049382,6.1728395061728392E-3,0.61728395061728392,1.2345679012345678E-2,3.0864197530864196E-2,0.52469135802469136,null,2679,"John Jaso","Pittsburgh Pirates","jasjo",162,13,50,50,2,26,1,100,2,5,85]
[3562,"Jordy Mercer","PIT","Buy",null,null,null,null,null,null,null,null,null,null,0,0,0,0,0,0,0,0,0,0," ",3562,"Jordy Mercer",{"$f":"IF(AQ252<>0,VLOOKUP(AQ252,Info!A:B,2,FALSE),\"\")","v":"PIT"},"mercj",9.8765432098765427E-2,0.41358024691358025,0.36419753086419754,6.1728395061728392E-3,0.16666666666666666,4.3209876543209874E-2,0.89506172839506171,3.0864197530864196E-2,6.1728395061728392E-2,0.60493827160493829,null,3562,"Jordy Mercer","Pittsburgh Pirates","mercj",162,16,67,59,1,27,7,145,5,10,98]
[3793,"Josh Harrison","PIT","Buy",null,null,null,null,null,null,null,null,null,null,0,0,0,0,0,0,0,0,0,0," ",3793,"Josh Harrison",{"$f":"IF(AQ253<>0,VLOOKUP(AQ253,Info!A:B,2,FALSE),\"\")","v":"PIT"},"harjo",0.12962962962962962,0.37037037037037035,0.51234567901234573,8.6419753086419748E-2,0.20370370370370369,1.8518518518518517E-2,1.037037037037037,3.7037037037037035E-2,6.7901234567901231E-2,0.70370370370370372,null,3793,"Josh Harrison","Pittsburgh Pirates","harjo",162,21,60,83,14,33,3,168,6,11,114]
[3858,"Jung Ho Kang","PIT","Buy",null,null,null,null,null,null,null,null,null,null,0,0,0,0,0,0,0,0,0,0," ",3858,"Jung Ho Kang",{"$f":"IF(AQ254<>0,VLOOKUP(AQ254,Info!A:B,2,FALSE),\"\")","v":"PIT"},"kanju",0.20987654320987653,0.62345679012345678,0.43827160493827161,3.0864197530864196E-2,0.18518518518518517,6.1728395061728392E-3,0.79629629629629628,1.2345679012345678E-2,3.0864197530864196E-2,0.77160493827160492,null,3858,"Jung Ho Kang","Pittsburgh Pirates","kanju",162,34,101,71,5,30,1,129,2,5,125]
[3279,"Starling Marte","PIT","Buy",null,null,null,null,null,null,null,null,null,null,0,0,0,0,0,0,0,0,0,0," ",3279,"Starling Marte",{"$f":"IF(AQ255<>0,VLOOKUP(AQ255,Info!A:B,2,FALSE),\"\")","v":"PIT"},"marst",9.2592592592592587E-2,0.40740740740740738,0.62345679012345678,0.27777777777777779,0.12345679012345678,3.0864197530864196E-2,1.1049382716049383,5.5555555555555552E-2,4.3209876543209874E-2,0.82098765432098764,null,3279,"Starling Marte","Pittsburgh Pirates","marst",162,15,66,101,45,20,5,179,9,7,133]
[3828,"Alex Guerrero","XXX","Buy",null,null,null,null,null,null,null,null,null,null,0,0,0,0,0,0,0,0,0,0," ",3828,"Alex Guerrero",{"$f":"IF(AQ256<>0,VLOOKUP(AQ256,Info!A:B,2,FALSE),\"\")","v":"XXX"},"gueal",0.10493827160493827,0.34567901234567899,0.30864197530864196,1.2345679012345678E-2,0.12345679012345678,1.2345679012345678E-2,0.61728395061728392,1.2345679012345678E-2,3.0864197530864196E-2,0.54320987654320985,null,3828,"Alex Guerrero","Playing Overseas","gueal",162,17,56,50,2,20,2,100,2,5,88]
[2638,"Casey McGehee","XXX","Buy",null,null,null,null,null,null,null,null,null,null,0,0,0,0,0,0,0,0,0,0," ",2638,"Casey McGehee",{"$f":"IF(AQ257<>0,VLOOKUP(AQ257,Info!A:B,2,FALSE),\"\")","v":"XXX"},"mcgca",6.1728395061728392E-2,0.30864197530864196,0.30864197530864196,6.1728395061728392E-3,0.12345679012345678,6.1728395061728392E-3,0.70370370370370372,1.2345679012345678E-2,3.0864197530864196E-2,0.46913580246913578,null,2638,"Casey McGehee","Playing Overseas","mcgca",162,10,50,50,1,20,1,114,2,5,76]
[4031,"Dae-Ho Lee","XXX","Buy",null,null,null,null,null,null,null,null,null,null,0,0,0,0,0,0,0,0,0,0," ",4031,"Dae-Ho Lee",{"$f":"IF(AQ258<>0,VLOOKUP(AQ258,Info!A:B,2,FALSE),\"\")","v":"XXX"},"ledae",6.1728395061728392E-2,0.37037037037037035,0.30864197530864196,6.1728395061728392E-3,0.13580246913580246,6.1728395061728392E-3,0.66666666666666663,1.2345679012345678E-2,3.0864197530864196E-2,0.77160493827160492,null,4031,"Dae-Ho Lee","Playing Overseas","ledae",162,10,60,50,1,22,1,108,2,5,125]
[{"$f":"IF(Z259<>0,Z259,\"\")","v":2647},{"$f":"IF(A259<>0,VLOOKUP(A259,Z:AA,2,FALSE),\"\")","v":"Miguel Olivo"},{"$f":"IF(A259<>0,VLOOKUP(A259,Z:AB,3,FALSE))","v":"XXX"},{"$f":"HYPERLINK(\"http://www.jockstocks.com/buysell.php?action=buymax&plid=\"&A259,\"Buy\")","v":"Buy"},null,null,null,null,null,null,null,null,null,null,{"$f":"VLOOKUP($A259,$A:$N,5,FALSE)/VLOOKUP($A259,$Z:$AM,5,FALSE)","v":0},{"$f":"VLOOKUP($A259,$A:$N,6,FALSE)/VLOOKUP($A259,$Z:$AM,6,FALSE)","v":0},{"$f":"VLOOKUP($A259,$A:$N,7,FALSE)/VLOOKUP($A259,$Z:$AM,7,FALSE)","v":0},{"$f":"VLOOKUP($A259,$A:$N,8,FALSE)/VLOOKUP($A259,$Z:$AM,8,FALSE)","v":0},{"$f":"VLOOKUP($A259,$A:$N,9,FALSE)/VLOOKUP($A259,$Z:$AM,9,FALSE)","v":0},{"$f":"VLOOKUP($A259,$A:$N,10,FALSE)/VLOOKUP($A259,$Z:$AM,10,FALSE)","v":0},{"$f":"VLOOKUP($A259,$A:$N,11,FALSE)/VLOOKUP($A259,$Z:$AM,11,FALSE)","v":0},{"$f":"VLOOKUP($A259,$A:$N,12,FALSE)/VLOOKUP($A259,$Z:$AM,12,FALSE)","v":0},{"$f":"VLOOKUP($A259,$A:$N,13,FALSE)/VLOOKUP($A259,$Z:$AM,13,FALSE)","v":0},{"$f":"VLOOKUP($A259,$A:$N,14,FALSE)/VLOOKUP($A259,$Z:$AM,14,FALSE)","v":0}," ",{"$f":"IF(AO259<>0,AO259,\"\")","v":2647},{"$f":"IF(AP259<>0,VLOOKUP(Z259,AO:AP,2,FALSE),\"\")","v":"Miguel Olivo"},{"$f":"IF(AQ259<>0,VLOOKUP(AQ259,Info!A:B,2,FALSE),\"\")","v":"XXX"},{"$f":"IF(AO259<>0,VLOOKUP(Z259,AO:AR,4,FALSE),\"\")","v":"olimi"},{"$f":"IF($AO259<>0,AT259/$AS259,\"\")","v":0.12345679012345678},{"$f":"IF($AO259<>0,AU259/$AS259,\"\")","v":0.30864197530864196},{"$f":"IF($AO259<>0,AV259/$AS259,\"\")","v":0.30864197530864196},{"$f":"IF($AO259<>0,AW259/$AS259,\"\")","v":6.1728395061728392E-3},{"$f":"IF($AO259<>0,AX259/$AS259,\"\")","v":0.12345679012345678},{"$f":"IF($AO259<>0,AY259/$AS259,\"\")","v":6.1728395061728392E-3},{"$f":"IF($AO259<>0,AZ259/$AS259,\"\")","v":0.61728395061728392},{"$f":"IF($AO259<>0,BA259/$AS259,\"\")","v":1.2345679012345678E-2},{"$f":"IF($AO259<>0,BB259/$AS259,\"\")","v":9.2592592592592587E-2},{"$f":"IF($AO259<>0,BC259/$AS259,\"\")","v":0.69753086419753085},null,2647,"Miguel Olivo","Playing Overseas","olimi",162,20,50,50,1,20,1,100,2,15,113]
[2619,"Erick Aybar","SDP","Buy",null,null,null,null,null,null,null,null,null,null,0,0,0,0,0,0,0,0,0,0," ",2619,"Erick Aybar",{"$f":"IF(AQ260<>0,VLOOKUP(AQ260,Info!A:B,2,FALSE),\"\")","v":"SDP"},"ayber",6.7901234567901231E-2,0.30864197530864196,0.35185185185185186,0.10493827160493827,0.1419753086419753,1.2345679012345678E-2,0.73456790123456794,3.7037037037037035E-2,5.5555555555555552E-2,0.53703703703703709,null,2619,"Erick Aybar","San Diego Padres","ayber",162,11,50,57,17,23,2,119,6,9,87]
[2915,"Jemile Weeks","SDP","Buy",null,null,null,null,null,null,null,null,null,null,0,0,0,0,0,0,0,0,0,0," ",2915,"Jemile Weeks",{"$f":"IF(AQ261<>0,VLOOKUP(AQ261,Info!A:B,2,FALSE),\"\")","v":"SDP"},"weeje",6.1728395061728392E-2,0.30864197530864196,0.46296296296296297,0.13580246913580246,0.12962962962962962,5.5555555555555552E-2,0.83333333333333337,4.3209876543209874E-2,8.0246913580246909E-2,0.58024691358024694,null,2915,"Jemile Weeks","San Diego Padres","weeje",162,10,50,75,22,21,9,135,7,13,94]
[3299,"Wil Myers","SDP","Buy",null,null,null,null,null,null,null,null,null,null,0,0,0,0,0,0,0,0,0,0," ",3299,"Wil Myers",{"$f":"IF(AQ262<>0,VLOOKUP(AQ262,Info!A:B,2,FALSE),\"\")","v":"SDP"},"myewi",0.19753086419753085,0.48148148148148145,0.51851851851851849,0.12962962962962962,0.19135802469135801,2.4691358024691357E-2,0.89506172839506171,4.3209876543209874E-2,3.0864197530864196E-2,1.1666666666666667,null,3299,"Wil Myers","San Diego Padres","myewi",162,32,78,84,21,31,4,145,7,5,189]
[3541,"Yangervis Solarte","SDP","Buy",null,null,null,null,null,null,null,null,null,null,0,0,0,0,0,0,0,0,0,0," ",3541,"Yangervis Solarte",{"$f":"IF(AQ263<>0,VLOOKUP(AQ263,Info!A:B,2,FALSE),\"\")","v":"SDP"},"solya",0.1419753086419753,0.51234567901234573,0.38271604938271603,2.4691358024691357E-2,0.16666666666666666,6.1728395061728392E-3,0.93827160493827155,1.2345679012345678E-2,5.5555555555555552E-2,0.47530864197530864,null,3541,"Yangervis Solarte","San Diego Padres","solya",162,23,83,62,4,27,1,152,2,9,77]
[1987,"Aaron Hill","SFG","Buy",null,null,null,null,null,null,null,null,null,null,0,0,0,0,0,0,0,0,0,0," ",1987,"Aaron Hill",{"$f":"IF(AQ264<>0,VLOOKUP(AQ264,Info!A:B,2,FALSE),\"\")","v":"SFG"},"hilaa",6.1728395061728392E-2,0.30864197530864196,0.30864197530864196,6.1728395061728392E-3,0.12345679012345678,3.0864197530864196E-2,0.61728395061728392,1.2345679012345678E-2,6.1728395061728392E-2,0.46296296296296297,null,1987,"Aaron Hill","San Francisco Giants","hilaa",162,10,50,50,1,20,5,100,2,10,75]
[2911,"Brandon Belt","SFG","Buy",null,null,null,null,null,null,null,null,null,null,0,0,0,0,0,0,0,0,0,0," ",2911,"Brandon Belt",{"$f":"IF(AQ265<>0,VLOOKUP(AQ265,Info!A:B,2,FALSE),\"\")","v":"SFG"},"belbr",0.18518518518518517,0.5,0.61111111111111116,3.0864197530864196E-2,0.25925925925925924,3.0864197530864196E-2,0.90123456790123457,2.4691358024691357E-2,3.0864197530864196E-2,0.99382716049382713,null,2911,"Brandon Belt","San Francisco Giants","belbr",162,30,81,99,5,42,5,146,4,5,161]
[3282,"Brandon Crawford","SFG","Buy",null,null,null,null,null,null,null,null,null,null,0,0,0,0,0,0,0,0,0,0," ",3282,"Brandon Crawford",{"$f":"IF(AQ266<>0,VLOOKUP(AQ266,Info!A:B,2,FALSE),\"\")","v":"SFG"},"crabr",9.8765432098765427E-2,0.53703703703703709,0.40123456790123457,2.4691358024691357E-2,0.23456790123456789,1.2345679012345678E-2,0.90740740740740744,3.7037037037037035E-2,8.0246913580246909E-2,0.80246913580246915,null,3282,"Brandon Crawford","San Francisco Giants","crabr",162,16,87,65,4,38,2,147,6,13,130]
[2649,"Buster Posey","SFG","Buy",null,null,null,null,null,null,null,null,null,null,0,0,0,0,0,0,0,0,0,0," ",2649,"Buster Posey",{"$f":"IF(AQ267<>0,VLOOKUP(AQ267,Info!A:B,2,FALSE),\"\")","v":"SFG"},"posbu",8.6419753086419748E-2,0.48765432098765432,0.44444444444444442,3.7037037037037035E-2,0.25308641975308643,6.1728395061728392E-3,1.1296296296296295,1.2345679012345678E-2,3.7037037037037035E-2,0.46913580246913578,null,2649,"Buster Posey","San Francisco Giants","posbu",162,14,79,72,6,41,1,183,2,6,76]
[2215,"Denard Span","SFG","Buy",null,null,null,null,null,null,null,null,null,null,0,0,0,0,0,0,0,0,0,0," ",2215,"Denard Span",{"$f":"IF(AQ268<>0,VLOOKUP(AQ268,Info!A:B,2,FALSE),\"\")","v":"SFG"},"spade",9.2592592592592587E-2,0.33333333333333331,0.57407407407407407,9.2592592592592587E-2,0.24691358024691357,4.3209876543209874E-2,1.0493827160493827,5.5555555555555552E-2,3.0864197530864196E-2,0.54320987654320985,null,2215,"Denard Span","San Francisco Giants","spade",162,15,54,93,15,40,7,170,9,5,88]
[2674,"Drew Stubbs","SFG","Buy",null,null,null,null,null,null,null,null,null,null,0,0,0,0,0,0,0,0,0,0," ",2674,"Drew Stubbs",{"$f":"IF(AQ269<>0,VLOOKUP(AQ269,Info!A:B,2,FALSE),\"\")","v":"SFG"},"studr",6.1728395061728392E-2,0.30864197530864196,0.30864197530864196,0.15432098765432098,0.12345679012345678,6.1728395061728392E-3,0.61728395061728392,1.8518518518518517E-2,3.0864197530864196E-2,0.65432098765432101,null,2674,"Drew Stubbs","San Francisco Giants","studr",162,10,50,50,25,20,1,100,3,5,106]
[1999,"Hunter Pence","SFG","Buy",null,null,null,null,null,null,null,null,null,null,0,0,0,0,0,0,0,0,0,0," ",1999,"Hunter Pence",{"$f":"IF(AQ270<>0,VLOOKUP(AQ270,Info!A:B,2,FALSE),\"\")","v":"SFG"},"penhu",9.8765432098765427E-2,0.5,0.42592592592592593,1.8518518518518517E-2,0.12345679012345678,3.7037037037037035E-2,0.95061728395061729,2.4691358024691357E-2,3.0864197530864196E-2,0.77777777777777779,null,1999,"Hunter Pence","San Francisco Giants","penhu",162,16,81,69,3,20,6,154,4,5,126]
[3831,"Joe Panik","SFG","Buy",null,null,null,null,null,null,null,null,null,null,0,0,0,0,0,0,0,0,0,0," ",3831,"Joe Panik",{"$f":"IF(AQ271<>0,VLOOKUP(AQ271,Info!A:B,2,FALSE),\"\")","v":"SFG"},"panjo",7.407407407407407E-2,0.3888888888888889,0.43827160493827161,3.0864197530864196E-2,0.20370370370370369,3.7037037037037035E-2,1.0679012345679013,1.8518518518518517E-2,6.7901234567901231E-2,0.46296296296296297,null,3831,"Joe Panik","San Francisco Giants","panjo",162,12,63,71,5,33,6,173,3,11,75]
[3525,"Josmil Pinto","SFG","Buy",null,null,null,null,null,null,null,null,null,null,0,0,0,0,0,0,0,0,0,0," ",3525,"Josmil Pinto",{"$f":"IF(AQ272<>0,VLOOKUP(AQ272,Info!A:B,2,FALSE),\"\")","v":"SFG"},"pinjo",0.12345679012345678,0.32098765432098764,0.44444444444444442,6.1728395061728392E-3,0.1419753086419753,6.1728395061728392E-3,0.65432098765432101,1.8518518518518517E-2,9.2592592592592587E-2,0.88271604938271608,null,3525,"Josmil Pinto","San Francisco Giants","pinjo",162,20,52,72,1,23,1,106,3,15,143]
[1969,"Melvin Upton Jr.","SFG","Buy",null,null,null,null,null,null,null,null,null,null,0,0,0,0,0,0,0,0,0,0," ",1969,"Melvin Upton Jr.",{"$f":"IF(AQ273<>0,VLOOKUP(AQ273,Info!A:B,2,FALSE),\"\")","v":"SFG"},"uptme",0.13580246913580246,0.40123456790123457,0.42592592592592593,0.17901234567901234,0.12345679012345678,2.4691358024691357E-2,0.77160493827160492,5.5555555555555552E-2,3.0864197530864196E-2,1.0246913580246915,null,1969,"Melvin Upton Jr.","San Francisco Giants","uptme",162,22,65,69,29,20,4,125,9,5,166]
[2894,"Michael Morse","SFG","Buy",null,null,null,null,null,null,null,null,null,null,0,0,0,0,0,0,0,0,0,0," ",2894,"Michael Morse",{"$f":"IF(AQ274<>0,VLOOKUP(AQ274,Info!A:B,2,FALSE),\"\")","v":"SFG"},"mormi",6.1728395061728392E-2,0.30864197530864196,0.30864197530864196,6.1728395061728392E-3,0.12345679012345678,1.2345679012345678E-2,0.61728395061728392,1.2345679012345678E-2,3.0864197530864196E-2,0.77777777777777779,null,2894,"Michael Morse","San Francisco Giants","mormi",162,10,50,50,1,20,2,100,2,5,126]
[2855,"Nick Hundley","SFG","Buy",null,null,null,null,null,null,null,null,null,null,0,0,0,0,0,0,0,0,0,0," ",2855,"Nick Hundley",{"$f":"IF(AQ275<>0,VLOOKUP(AQ275,Info!A:B,2,FALSE),\"\")","v":"SFG"},"hunni",9.2592592592592587E-2,0.34567901234567899,0.30864197530864196,6.1728395061728392E-3,0.22839506172839505,6.1728395061728392E-3,0.69135802469135799,1.2345679012345678E-2,7.407407407407407E-2,0.80864197530864201,null,2855,"Nick Hundley","San Francisco Giants","hunni",162,15,56,50,1,37,1,112,2,12,131]
[2457,"Pablo Sandoval","SFG","Buy",null,null,null,null,null,null,null,null,null,null,0,0,0,0,0,0,0,0,0,0," ",2457,"Pablo Sandoval",{"$f":"IF(AQ276<>0,VLOOKUP(AQ276,Info!A:B,2,FALSE),\"\")","v":"SFG"},"sanpa",0.11728395061728394,0.40740740740740738,0.34567901234567899,6.1728395061728392E-3,0.1419753086419753,6.1728395061728392E-3,0.72222222222222221,1.8518518518518517E-2,5.5555555555555552E-2,0.6728395061728395,null,2457,"Pablo Sandoval","San Francisco Giants","sanpa",162,19,66,56,1,23,1,117,3,9,109]
[2854,"Carlos Ruiz","SEA","Buy",null,null,null,null,null,null,null,null,null,null,0,0,0,0,0,0,0,0,0,0," ",2854,"Carlos Ruiz",{"$f":"IF(AQ277<>0,VLOOKUP(AQ277,Info!A:B,2,FALSE),\"\")","v":"SEA"},"ruica",6.1728395061728392E-2,0.30864197530864196,0.30864197530864196,1.8518518518518517E-2,0.14814814814814814,6.1728395061728392E-3,0.61728395061728392,1.2345679012345678E-2,3.0864197530864196E-2,0.70370370370370372,null,2854,"Carlos Ruiz","Seattle Mariners","ruica",162,10,50,50,3,24,1,100,2,5,114]
[2895,"Danny Espinosa","SEA","Buy",null,null,null,null,null,null,null,null,null,null,0,0,0,0,0,0,0,0,0,0," ",2895,"Danny Espinosa",{"$f":"IF(AQ278<>0,VLOOKUP(AQ278,Info!A:B,2,FALSE),\"\")","v":"SEA"},"espda",6.7901234567901231E-2,0.33333333333333331,0.32098765432098764,5.5555555555555552E-2,0.12345679012345678,6.1728395061728392E-3,0.61728395061728392,5.5555555555555552E-2,4.3209876543209874E-2,1.1604938271604939,null,2895,"Danny Espinosa","Seattle Mariners","espda",162,11,54,52,9,20,1,100,9,7,188]
[2707,"Danny Valencia","SEA","Buy",null,null,null,null,null,null,null,null,null,null,0,0,0,0,0,0,0,0,0,0," ",2707,"Danny Valencia",{"$f":"IF(AQ279<>0,VLOOKUP(AQ279,Info!A:B,2,FALSE),\"\")","v":"SEA"},"valda",0.11728395061728394,0.50617283950617287,0.41358024691358025,1.8518518518518517E-2,0.14814814814814814,2.4691358024691357E-2,0.88271604938271608,1.8518518518518517E-2,3.0864197530864196E-2,0.9320987654320988,null,2707,"Danny Valencia","Seattle Mariners","valda",162,19,82,67,3,24,4,143,3,5,151]
[2479,"Gordon Beckham","SEA","Buy",null,null,null,null,null,null,null,null,null,null,0,0,0,0,0,0,0,0,0,0," ",2479,"Gordon Beckham",{"$f":"IF(AQ280<>0,VLOOKUP(AQ280,Info!A:B,2,FALSE),\"\")","v":"SEA"},"becgo",6.1728395061728392E-2,0.35802469135802467,0.30864197530864196,1.2345679012345678E-2,0.19753086419753085,6.1728395061728392E-3,0.61728395061728392,1.2345679012345678E-2,3.0864197530864196E-2,0.59259259259259256,null,2479,"Gordon Beckham","Seattle Mariners","becgo",162,10,58,50,2,32,1,100,2,5,96]
[3588,"Jarrod Dyson","SEA","Buy",null,null,null,null,null,null,null,null,null,null,0,0,0,0,0,0,0,0,0,0," ",3588,"Jarrod Dyson",{"$f":"IF(AQ281<>0,VLOOKUP(AQ281,Info!A:B,2,FALSE),\"\")","v":"SEA"},"dysja",6.1728395061728392E-2,0.30864197530864196,0.51234567901234573,0.25308641975308643,0.12345679012345678,3.0864197530864196E-2,0.79012345679012341,6.7901234567901231E-2,3.0864197530864196E-2,0.51234567901234573,null,3588,"Jarrod Dyson","Seattle Mariners","dysja",162,10,50,83,41,20,5,128,11,5,83]
[3287,"Jean Segura","SEA","Buy",null,null,null,null,null,null,null,null,null,null,0,0,0,0,0,0,0,0,0,0," ",3287,"Jean Segura",{"$f":"IF(AQ282<>0,VLOOKUP(AQ282,Info!A:B,2,FALSE),\"\")","v":"SEA"},"segje",9.2592592592592587E-2,0.36419753086419754,0.66049382716049387,0.17901234567901234,0.24074074074074073,1.8518518518518517E-2,1.2592592592592593,6.7901234567901231E-2,9.8765432098765427E-2,0.66666666666666663,null,3287,"Jean Segura","Seattle Mariners","segje",162,15,59,107,29,39,3,204,11,16,108]
[3075,"Kyle Seager","SEA","Buy",null,null,null,null,null,null,null,null,null,null,0,0,0,0,0,0,0,0,0,0," ",3075,"Kyle Seager",{"$f":"IF(AQ283<>0,VLOOKUP(AQ283,Info!A:B,2,FALSE),\"\")","v":"SEA"},"seaky",0.17901234567901234,0.58024691358024694,0.46913580246913578,1.8518518518518517E-2,0.21604938271604937,1.2345679012345678E-2,0.94444444444444442,1.2345679012345678E-2,9.2592592592592587E-2,0.72222222222222221,null,3075,"Kyle Seager","Seattle Mariners","seaky",162,29,94,76,3,35,2,153,2,15,117]
[3581,"Mike Zunino","SEA","Buy",null,null,null,null,null,null,null,null,null,null,0,0,0,0,0,0,0,0,0,0," ",3581,"Mike Zunino",{"$f":"IF(AQ284<>0,VLOOKUP(AQ284,Info!A:B,2,FALSE),\"\")","v":"SEA"},"zunmi",0.20370370370370369,0.51234567901234573,0.43209876543209874,1.2345679012345678E-2,0.20370370370370369,6.1728395061728392E-3,0.78395061728395066,1.2345679012345678E-2,4.9382716049382713E-2,1.3024691358024691,null,3581,"Mike Zunino","Seattle Mariners","zunmi",162,33,83,70,2,33,1,127,2,8,211]
[2396,"Nelson Cruz","SEA","Buy",null,null,null,null,null,null,null,null,null,null,0,0,0,0,0,0,0,0,0,0," ",2396,"Nelson Cruz",{"$f":"IF(AQ285<>0,VLOOKUP(AQ285,Info!A:B,2,FALSE),\"\")","v":"SEA"},"crune",0.25308641975308643,0.7407407407407407,0.59259259259259256,1.2345679012345678E-2,0.18518518518518517,6.1728395061728392E-3,1.037037037037037,1.2345679012345678E-2,3.0864197530864196E-2,0.90123456790123457,null,2396,"Nelson Cruz","Seattle Mariners","crune",162,41,120,96,2,30,1,168,2,5,146]
[1546,"Robinson Cano","SEA","Buy",null,null,null,null,null,null,null,null,null,null,0,0,0,0,0,0,0,0,0,0," ",1546,"Robinson Cano",{"$f":"IF(AQ286<>0,VLOOKUP(AQ286,Info!A:B,2,FALSE),\"\")","v":"SEA"},"canro",0.15432098765432098,0.64814814814814814,0.53086419753086422,1.2345679012345678E-2,0.22222222222222221,6.1728395061728392E-3,1.1111111111111112,1.2345679012345678E-2,6.7901234567901231E-2,0.5679012345679012,null,1546,"Robinson Cano","Seattle Mariners","canro",162,25,105,86,2,36,1,180,2,11,92]
[3281,"Yonder Alonso","SEA","Buy",null,null,null,null,null,null,null,null,null,null,0,0,0,0,0,0,0,0,0,0," ",3281,"Yonder Alonso",{"$f":"IF(AQ287<>0,VLOOKUP(AQ287,Info!A:B,2,FALSE),\"\")","v":"SEA"},"aloyo",0.19753086419753085,0.48148148148148145,0.51851851851851849,1.8518518518518517E-2,0.16666666666666666,6.1728395061728392E-3,0.88271604938271608,1.2345679012345678E-2,6.7901234567901231E-2,0.8271604938271605,null,3281,"Yonder Alonso","Seattle Mariners","aloyo",162,32,78,84,3,27,1,143,2,11,134]
[4017,"Aledmys Diaz","STL","Buy",null,null,null,null,null,null,null,null,null,null,0,0,0,0,0,0,0,0,0,0," ",4017,"Aledmys Diaz",{"$f":"IF(AQ288<>0,VLOOKUP(AQ288,Info!A:B,2,FALSE),\"\")","v":"STL"},"diaal",8.6419753086419748E-2,0.30864197530864196,0.38271604938271603,4.9382716049382713E-2,0.20987654320987653,6.1728395061728392E-3,0.9135802469135802,1.2345679012345678E-2,7.407407407407407E-2,0.54320987654320985,null,4017,"Aledmys Diaz","St. Louis Cardinals","diaal",162,14,50,62,8,34,1,148,2,12,88]
[2440,"Dexter Fowler","STL","Buy",null,null,null,null,null,null,null,null,null,null,0,0,0,0,0,0,0,0,0,0," ",2440,"Dexter Fowler",{"$f":"IF(AQ289<>0,VLOOKUP(AQ289,Info!A:B,2,FALSE),\"\")","v":"STL"},"fowde",0.15432098765432098,0.54320987654320985,0.58024691358024694,6.1728395061728392E-2,0.18518518518518517,5.5555555555555552E-2,0.93827160493827155,3.0864197530864196E-2,3.0864197530864196E-2,0.85185185185185186,null,2440,"Dexter Fowler","St. Louis Cardinals","fowde",162,25,88,94,10,30,9,152,5,5,138]
[3303,"Jedd Gyorko","STL","Buy",null,null,null,null,null,null,null,null,null,null,0,0,0,0,0,0,0,0,0,0," ",3303,"Jedd Gyorko",{"$f":"IF(AQ290<>0,VLOOKUP(AQ290,Info!A:B,2,FALSE),\"\")","v":"STL"},"gyoje",0.16049382716049382,0.55555555555555558,0.43209876543209874,4.9382716049382713E-2,0.17901234567901234,1.8518518518518517E-2,0.9320987654320988,1.8518518518518517E-2,8.0246913580246909E-2,0.84567901234567899,null,3303,"Jedd Gyorko","St. Louis Cardinals","gyoje",162,26,90,70,8,29,3,151,3,13,137]
[1553,"Jhonny Peralta","STL","Buy",null,null,null,null,null,null,null,null,null,null,0,0,0,0,0,0,0,0,0,0," ",1553,"Jhonny Peralta",{"$f":"IF(AQ291<>0,VLOOKUP(AQ291,Info!A:B,2,FALSE),\"\")","v":"STL"},"perjh",9.8765432098765427E-2,0.35802469135802467,0.44444444444444442,6.1728395061728392E-3,0.20370370370370369,1.2345679012345678E-2,0.91975308641975306,1.2345679012345678E-2,3.0864197530864196E-2,0.69135802469135799,null,1553,"Jhonny Peralta","St. Louis Cardinals","perjh",162,16,58,72,1,33,2,149,2,5,112]
[2399,"Jordan Schafer","STL","Buy",null,null,null,null,null,null,null,null,null,null,0,0,0,0,0,0,0,0,0,0," ",2399,"Jordan Schafer",{"$f":"IF(AQ292<>0,VLOOKUP(AQ292,Info!A:B,2,FALSE),\"\")","v":"STL"},"schjo",6.1728395061728392E-2,0.30864197530864196,0.33333333333333331,6.1728395061728392E-3,0.12345679012345678,6.1728395061728392E-3,0.61728395061728392,0.1111111111111111,3.7037037037037035E-2,0.85185185185185186,null,2399,"Jordan Schafer","St. Louis Cardinals","schjo",162,10,50,54,1,20,1,100,18,6,138]
[3587,"Kolten Wong","STL","Buy",null,null,null,null,null,null,null,null,null,null,0,0,0,0,0,0,0,0,0,0," ",3587,"Kolten Wong",{"$f":"IF(AQ293<>0,VLOOKUP(AQ293,Info!A:B,2,FALSE),\"\")","v":"STL"},"wonko",6.1728395061728392E-2,0.3888888888888889,0.53086419753086422,7.407407407407407E-2,0.25308641975308643,3.0864197530864196E-2,0.95679012345679015,1.8518518518518517E-2,9.2592592592592587E-2,0.55555555555555558,null,3587,"Kolten Wong","St. Louis Cardinals","wonko",162,10,63,86,12,41,5,155,3,15,90]
[3301,"Matt Carpenter","STL","Buy",null,null,null,null,null,null,null,null,null,null,0,0,0,0,0,0,0,0,0,0," ",3301,"Matt Carpenter",{"$f":"IF(AQ294<>0,VLOOKUP(AQ294,Info!A:B,2,FALSE),\"\")","v":"STL"},"carpm",0.16049382716049382,0.48765432098765432,0.62345679012345678,1.8518518518518517E-2,0.22222222222222221,1.8518518518518517E-2,0.83333333333333337,1.2345679012345678E-2,7.407407407407407E-2,0.87037037037037035,null,3301,"Matt Carpenter","St. Louis Cardinals","carpm",162,26,79,101,3,36,3,135,2,12,141]
[3852,"Randal Grichuk","STL","Buy",null,null,null,null,null,null,null,null,null,null,0,0,0,0,0,0,0,0,0,0," ",3852,"Randal Grichuk",{"$f":"IF(AQ295<>0,VLOOKUP(AQ295,Info!A:B,2,FALSE),\"\")","v":"STL"},"grira",0.18518518518518517,0.48765432098765432,0.43827160493827161,4.9382716049382713E-2,0.20987654320987653,2.4691358024691357E-2,0.80864197530864201,1.8518518518518517E-2,3.0864197530864196E-2,1.0925925925925926,null,3852,"Randal Grichuk","St. Louis Cardinals","grira",162,30,79,71,8,34,4,131,3,5,177]
[4006,"Stephen Piscotty","STL","Buy",null,null,null,null,null,null,null,null,null,null,0,0,0,0,0,0,0,0,0,0," ",4006,"Stephen Piscotty",{"$f":"IF(AQ296<>0,VLOOKUP(AQ296,Info!A:B,2,FALSE),\"\")","v":"STL"},"pisst",8.6419753086419748E-2,0.36419753086419754,0.3888888888888889,3.0864197530864196E-2,0.16049382716049382,1.2345679012345678E-2,0.75308641975308643,5.5555555555555552E-2,3.0864197530864196E-2,0.80864197530864201,null,4006,"Stephen Piscotty","St. Louis Cardinals","pisst",162,14,59,63,5,26,2,122,9,5,131]
[4191,"Tommy Pham","STL","Buy",null,null,null,null,null,null,null,null,null,null,0,0,0,0,0,0,0,0,0,0," ",4191,"Tommy Pham",{"$f":"IF(AQ297<>0,VLOOKUP(AQ297,Info!A:B,2,FALSE),\"\")","v":"STL"},"phato",0.18518518518518517,0.5679012345679012,0.7407407407407407,0.19753086419753085,0.1728395061728395,1.8518518518518517E-2,1.0555555555555556,5.5555555555555552E-2,3.0864197530864196E-2,0.91975308641975306,null,4191,"Tommy Pham","St. Louis Cardinals","phato",162,30,92,120,32,28,3,171,9,5,149]
[2212,"Yadier Molina","STL","Buy",null,null,null,null,null,null,null,null,null,null,0,0,0,0,0,0,0,0,0,0," ",2212,"Yadier Molina",{"$f":"IF(AQ298<>0,VLOOKUP(AQ298,Info!A:B,2,FALSE),\"\")","v":"STL"},"molya",0.13580246913580246,0.60493827160493829,0.44444444444444442,6.7901234567901231E-2,0.20370370370370369,1.2345679012345678E-2,1.0123456790123457,3.0864197530864196E-2,5.5555555555555552E-2,0.54938271604938271,null,2212,"Yadier Molina","St. Louis Cardinals","molya",162,22,98,72,11,33,2,164,5,9,89]
[3561,"Brad Miller","TAM","Buy",null,null,null,null,null,null,null,null,null,null,0,0,0,0,0,0,0,0,0,0," ",3561,"Brad Miller",{"$f":"IF(AQ299<>0,VLOOKUP(AQ299,Info!A:B,2,FALSE),\"\")","v":"TAM"},"milbr",8.6419753086419748E-2,0.36419753086419754,0.39506172839506171,4.9382716049382713E-2,0.12345679012345678,3.0864197530864196E-2,0.62345679012345678,3.0864197530864196E-2,9.2592592592592587E-2,1,null,3561,"Brad Miller","Tampa Bay Rays","milbr",162,14,59,64,8,20,5,101,5,15,162]
[2615,"Colby Rasmus","TAM","Buy",null,null,null,null,null,null,null,null,null,null,0,0,0,0,0,0,0,0,0,0," ",2615,"Colby Rasmus",{"$f":"IF(AQ300<>0,VLOOKUP(AQ300,Info!A:B,2,FALSE),\"\")","v":"TAM"},"rasco",0.24074074074074073,0.61111111111111116,0.45061728395061729,3.0864197530864196E-2,0.18518518518518517,3.0864197530864196E-2,0.92592592592592593,1.2345679012345678E-2,3.0864197530864196E-2,1.2407407407407407,null,2615,"Colby Rasmus","Tampa Bay Rays","rasco",162,39,99,73,5,30,5,150,2,5,201]
[3787,"Corey Dickerson","TAM","Buy",null,null,null,null,null,null,null,null,null,null,0,0,0,0,0,0,0,0,0,0," ",3787,"Corey Dickerson",{"$f":"IF(AQ301<>0,VLOOKUP(AQ301,Info!A:B,2,FALSE),\"\")","v":"TAM"},"dicco",0.17901234567901234,0.41358024691358025,0.56172839506172845,3.0864197530864196E-2,0.22222222222222221,3.0864197530864196E-2,1.1049382716049383,2.4691358024691357E-2,3.0864197530864196E-2,1.0246913580246915,null,3787,"Corey Dickerson","Tampa Bay Rays","dicco",162,29,67,91,5,36,5,179,4,5,166]
[3546,"Derek Norris","TAM","Buy",null,null,null,null,null,null,null,null,null,null,0,0,0,0,0,0,0,0,0,0," ",3546,"Derek Norris",{"$f":"IF(AQ302<>0,VLOOKUP(AQ302,Info!A:B,2,FALSE),\"\")","v":"TAM"},"norde",0.16666666666666666,0.44444444444444442,0.3888888888888889,1.8518518518518517E-2,0.12345679012345678,6.1728395061728392E-3,0.66666666666666663,1.2345679012345678E-2,7.407407407407407E-2,0.94444444444444442,null,3546,"Derek Norris","Tampa Bay Rays","norde",162,27,72,63,3,20,1,108,2,12,153]
[2165,"Evan Longoria","TAM","Buy",null,null,null,null,null,null,null,null,null,null,0,0,0,0,0,0,0,0,0,0," ",2165,"Evan Longoria",{"$f":"IF(AQ303<>0,VLOOKUP(AQ303,Info!A:B,2,FALSE),\"\")","v":"TAM"},"lonev",0.13580246913580246,0.5679012345679012,0.46913580246913578,4.3209876543209874E-2,0.24074074074074073,1.8518518518518517E-2,1.0493827160493827,1.2345679012345678E-2,8.0246913580246909E-2,0.69753086419753085,null,2165,"Evan Longoria","Tampa Bay Rays","lonev",162,22,92,76,7,39,3,170,2,13,113]
[2899,"Logan Morrison","TAM","Buy",null,null,null,null,null,null,null,null,null,null,0,0,0,0,0,0,0,0,0,0," ",2899,"Logan Morrison",{"$f":"IF(AQ304<>0,VLOOKUP(AQ304,Info!A:B,2,FALSE),\"\")","v":"TAM"},"morlo",0.25308641975308643,0.5679012345679012,0.5,1.8518518518518517E-2,0.14814814814814814,1.2345679012345678E-2,0.84567901234567899,1.2345679012345678E-2,5.5555555555555552E-2,1,null,2899,"Logan Morrison","Tampa Bay Rays","morlo",162,41,92,81,3,24,2,137,2,9,162]
[3076,"Lucas Duda","TAM","Buy",null,null,null,null,null,null,null,null,null,null,0,0,0,0,0,0,0,0,0,0," ",3076,"Lucas Duda",{"$f":"IF(AQ305<>0,VLOOKUP(AQ305,Info!A:B,2,FALSE),\"\")","v":"TAM"},"dudlu",0.23456790123456789,0.5,0.3888888888888889,6.1728395061728392E-3,0.22222222222222221,6.1728395061728392E-3,0.71604938271604934,1.2345679012345678E-2,4.3209876543209874E-2,1.0864197530864197,null,3076,"Lucas Duda","Tampa Bay Rays","dudlu",162,38,81,63,1,36,1,116,2,7,176]
[3832,"Matt Duffy","TAM","Buy",null,null,null,null,null,null,null,null,null,null,0,0,0,0,0,0,0,0,0,0," ",3832,"Matt Duffy",{"$f":"IF(AQ306<>0,VLOOKUP(AQ306,Info!A:B,2,FALSE),\"\")","v":"TAM"},"dufma",6.1728395061728392E-2,0.30864197530864196,0.45061728395061729,9.2592592592592587E-2,0.15432098765432098,2.4691358024691357E-2,0.95061728395061729,5.5555555555555552E-2,3.0864197530864196E-2,0.5864197530864198,null,3832,"Matt Duffy","Tampa Bay Rays","dufma",162,10,50,73,15,25,4,154,9,5,95]
[2914,"Peter Bourjos","TAM","Buy",null,null,null,null,null,null,null,null,null,null,0,0,0,0,0,0,0,0,0,0," ",2914,"Peter Bourjos",{"$f":"IF(AQ307<>0,VLOOKUP(AQ307,Info!A:B,2,FALSE),\"\")","v":"TAM"},"boupe",6.1728395061728392E-2,0.30864197530864196,0.30864197530864196,5.5555555555555552E-2,0.12345679012345678,3.0864197530864196E-2,0.61728395061728392,5.5555555555555552E-2,3.0864197530864196E-2,0.53086419753086422,null,2914,"Peter Bourjos","Tampa Bay Rays","boupe",162,10,50,50,9,20,5,100,9,5,86]
[2148,"Rickie Weeks","TAM","Buy",null,null,null,null,null,null,null,null,null,null,0,0,0,0,0,0,0,0,0,0," ",2148,"Rickie Weeks",{"$f":"IF(AQ308<>0,VLOOKUP(AQ308,Info!A:B,2,FALSE),\"\")","v":"TAM"},"weeri",6.1728395061728392E-2,0.30864197530864196,0.36419753086419754,3.0864197530864196E-2,0.16666666666666666,6.1728395061728392E-3,0.61728395061728392,1.2345679012345678E-2,3.0864197530864196E-2,1.308641975308642,null,2148,"Rickie Weeks","Tampa Bay Rays","weeri",162,10,50,59,5,27,1,100,2,5,212]
[3833,"Steven Souza","TAM","Buy",null,null,null,null,null,null,null,null,null,null,0,0,0,0,0,0,0,0,0,0," ",3833,"Steven Souza",{"$f":"IF(AQ309<>0,VLOOKUP(AQ309,Info!A:B,2,FALSE),\"\")","v":"TAM"},"soust",0.20370370370370369,0.53703703703703709,0.52469135802469136,0.1111111111111111,0.1419753086419753,1.8518518518518517E-2,0.84567901234567899,3.0864197530864196E-2,3.7037037037037035E-2,1.2160493827160495,null,3833,"Steven Souza","Tampa Bay Rays","soust",162,33,87,85,18,23,3,137,5,6,197]
[3073,"Trevor Plouffe","TAM","Buy",null,null,null,null,null,null,null,null,null,null,0,0,0,0,0,0,0,0,0,0," ",3073,"Trevor Plouffe",{"$f":"IF(AQ310<>0,VLOOKUP(AQ310,Info!A:B,2,FALSE),\"\")","v":"TAM"},"plotr",9.2592592592592587E-2,0.30864197530864196,0.30864197530864196,1.2345679012345678E-2,0.12345679012345678,6.1728395061728392E-3,0.61728395061728392,2.4691358024691357E-2,6.1728395061728392E-2,0.87654320987654322,null,3073,"Trevor Plouffe","Tampa Bay Rays","plotr",162,15,50,50,2,20,1,100,4,10,142]
[2869,"Wilson Ramos","TAM","Buy",null,null,null,null,null,null,null,null,null,null,0,0,0,0,0,0,0,0,0,0," ",2869,"Wilson Ramos",{"$f":"IF(AQ311<>0,VLOOKUP(AQ311,Info!A:B,2,FALSE),\"\")","v":"TAM"},"ramwi",0.17901234567901234,0.55555555555555558,0.30864197530864196,6.1728395061728392E-3,0.12345679012345678,6.1728395061728392E-3,0.84567901234567899,1.2345679012345678E-2,6.7901234567901231E-2,0.55555555555555558,null,2869,"Wilson Ramos","Tampa Bay Rays","ramwi",162,29,90,50,1,20,1,137,2,11,90]
[1095,"Adrian Beltre","TEX","Buy",null,null,null,null,null,null,null,null,null,null,0,0,0,0,0,0,0,0,0,0," ",1095,"Adrian Beltre",{"$f":"IF(AQ312<>0,VLOOKUP(AQ312,Info!A:B,2,FALSE),\"\")","v":"TEX"},"belad",0.17901234567901234,0.7407407407407407,0.5,2.4691358024691357E-2,0.23456790123456789,1.2345679012345678E-2,1.1296296296296295,1.2345679012345678E-2,5.5555555555555552E-2,0.54938271604938271,null,1095,"Adrian Beltre","Texas Rangers","belad",162,29,120,81,4,38,2,183,2,9,89]
[2140,"Carlos Gomez","TEX","Buy",null,null,null,null,null,null,null,null,null,null,0,0,0,0,0,0,0,0,0,0," ",2140,"Carlos Gomez",{"$f":"IF(AQ313<>0,VLOOKUP(AQ313,Info!A:B,2,FALSE),\"\")","v":"TEX"},"gomca",0.16666666666666666,0.48765432098765432,0.48765432098765432,0.12962962962962962,0.22222222222222221,1.2345679012345678E-2,0.90123456790123457,4.9382716049382713E-2,4.3209876543209874E-2,1.2098765432098766,null,2140,"Carlos Gomez","Texas Rangers","gomca",162,27,79,79,21,36,2,146,8,7,196]
[4004,"Delino DeShields","TEX","Buy",null,null,null,null,null,null,null,null,null,null,0,0,0,0,0,0,0,0,0,0," ",4004,"Delino DeShields",{"$f":"IF(AQ314<>0,VLOOKUP(AQ314,Info!A:B,2,FALSE),\"\")","v":"TEX"},"desde",6.1728395061728392E-2,0.30864197530864196,0.62962962962962965,0.25925925925925924,0.13580246913580246,1.8518518518518517E-2,0.85185185185185186,6.7901234567901231E-2,3.0864197530864196E-2,0.91975308641975306,null,4004,"Delino DeShields","Texas Rangers","desde",162,10,50,102,42,22,3,138,11,5,149]
[2454,"Elvis Andrus","TEX","Buy",null,null,null,null,null,null,null,null,null,null,0,0,0,0,0,0,0,0,0,0," ",2454,"Elvis Andrus",{"$f":"IF(AQ315<>0,VLOOKUP(AQ315,Info!A:B,2,FALSE),\"\")","v":"TEX"},"andel",0.12962962962962962,0.56172839506172845,0.63580246913580252,0.16666666666666666,0.27777777777777779,3.0864197530864196E-2,1.2160493827160495,7.407407407407407E-2,0.1111111111111111,0.64197530864197527,null,2454,"Elvis Andrus","Texas Rangers","andel",162,21,91,103,27,45,5,197,12,18,104]
[3834,"Joey Gallo","TEX","Buy",null,null,null,null,null,null,null,null,null,null,0,0,0,0,0,0,0,0,0,0," ",3834,"Joey Gallo",{"$f":"IF(AQ316<>0,VLOOKUP(AQ316,Info!A:B,2,FALSE),\"\")","v":"TEX"},"galjo",0.2839506172839506,0.54938271604938271,0.61111111111111116,4.9382716049382713E-2,0.13580246913580246,2.4691358024691357E-2,0.65432098765432101,1.8518518518518517E-2,9.8765432098765427E-2,1.345679012345679,null,3834,"Joey Gallo","Texas Rangers","galjo",162,46,89,99,8,22,4,106,3,16,218]
[1989,"Josh Hamilton","TEX","Buy",null,null,null,null,null,null,null,null,null,null,0,0,0,0,0,0,0,0,0,0," ",1989,"Josh Hamilton",{"$f":"IF(AQ317<>0,VLOOKUP(AQ317,Info!A:B,2,FALSE),\"\")","v":"TEX"},"hamjo",0.16049382716049382,0.5,0.44444444444444442,6.1728395061728392E-3,0.16049382716049382,6.1728395061728392E-3,0.86419753086419748,1.2345679012345678E-2,3.0864197530864196E-2,1.0432098765432098,null,1989,"Josh Hamilton","Texas Rangers","hamjo",162,26,81,72,1,26,1,140,2,5,169]
[3296,"Jurickson Profar","TEX","Buy",null,null,null,null,null,null,null,null,null,null,0,0,0,0,0,0,0,0,0,0," ",3296,"Jurickson Profar",{"$f":"IF(AQ318<>0,VLOOKUP(AQ318,Info!A:B,2,FALSE),\"\")","v":"TEX"},"proju",6.1728395061728392E-2,0.30864197530864196,0.3888888888888889,2.4691358024691357E-2,0.12345679012345678,3.7037037037037035E-2,0.71604938271604934,1.2345679012345678E-2,4.9382716049382713E-2,0.6728395061728395,null,3296,"Jurickson Profar","Texas Rangers","proju",162,10,50,63,4,20,6,116,2,8,109]
[1795,"Mike Napoli","TEX","Buy",null,null,null,null,null,null,null,null,null,null,0,0,0,0,0,0,0,0,0,0," ",1795,"Mike Napoli",{"$f":"IF(AQ319<>0,VLOOKUP(AQ319,Info!A:B,2,FALSE),\"\")","v":"TEX"},"napmi",0.23456790123456789,0.53703703703703709,0.49382716049382713,1.2345679012345678E-2,0.12345679012345678,1.2345679012345678E-2,0.66666666666666663,1.2345679012345678E-2,6.1728395061728392E-2,1.3148148148148149,null,1795,"Mike Napoli","Texas Rangers","napmi",162,38,87,80,2,20,2,108,2,10,213]
[4016,"Nomar Mazara","TEX","Buy",null,null,null,null,null,null,null,null,null,null,0,0,0,0,0,0,0,0,0,0," ",4016,"Nomar Mazara",{"$f":"IF(AQ320<>0,VLOOKUP(AQ320,Info!A:B,2,FALSE),\"\")","v":"TEX"},"mazno",0.13580246913580246,0.68518518518518523,0.43827160493827161,1.8518518518518517E-2,0.20987654320987653,1.8518518518518517E-2,0.95061728395061729,1.8518518518518517E-2,3.0864197530864196E-2,0.87654320987654322,null,4016,"Nomar Mazara","Texas Rangers","mazno",162,22,111,71,3,34,3,154,3,5,142]
[1744,"Prince Fielder","TEX","Buy",null,null,null,null,null,null,null,null,null,null,0,0,0,0,0,0,0,0,0,0," ",1744,"Prince Fielder",{"$f":"IF(AQ321<>0,VLOOKUP(AQ321,Info!A:B,2,FALSE),\"\")","v":"TEX"},"fiepr",9.2592592592592587E-2,0.5,0.3271604938271605,6.1728395061728392E-3,0.18518518518518517,6.1728395061728392E-3,0.77777777777777779,1.2345679012345678E-2,3.0864197530864196E-2,0.70987654320987659,null,1744,"Prince Fielder","Texas Rangers","fiepr",162,15,81,53,1,30,1,126,2,5,115]
[3560,"Rougned Odor","TEX","Buy",null,null,null,null,null,null,null,null,null,null,0,0,0,0,0,0,0,0,0,0," ",3560,"Rougned Odor",{"$f":"IF(AQ322<>0,VLOOKUP(AQ322,Info!A:B,2,FALSE),\"\")","v":"TEX"},"odoro",0.18518518518518517,0.46296296296296297,0.48765432098765432,9.2592592592592587E-2,0.12962962962962962,1.8518518518518517E-2,0.76543209876543206,3.7037037037037035E-2,0.12962962962962962,1.0185185185185186,null,3560,"Rougned Odor","Texas Rangers","odoro",162,30,75,79,15,21,3,124,6,21,165]
[{"$f":"IF(Z323<>0,Z323,\"\")","v":2398},{"$f":"IF(A323<>0,VLOOKUP(A323,Z:AA,2,FALSE),\"\")","v":"Shin-Soo Choo"},{"$f":"IF(A323<>0,VLOOKUP(A323,Z:AB,3,FALSE))","v":"TEX"},{"$f":"HYPERLINK(\"http://www.jockstocks.com/buysell.php?action=buymax&plid=\"&A323,\"Buy\")","v":"Buy"},null,null,null,null,null,null,null,null,null,null,{"$f":"VLOOKUP($A323,$A:$N,5,FALSE)/VLOOKUP($A323,$Z:$AM,5,FALSE)","v":0},{"$f":"VLOOKUP($A323,$A:$N,6,FALSE)/VLOOKUP($A323,$Z:$AM,6,FALSE)","v":0},{"$f":"VLOOKUP($A323,$A:$N,7,FALSE)/VLOOKUP($A323,$Z:$AM,7,FALSE)","v":0},{"$f":"VLOOKUP($A323,$A:$N,8,FALSE)/VLOOKUP($A323,$Z:$AM,8,FALSE)","v":0},{"$f":"VLOOKUP($A323,$A:$N,9,FALSE)/VLOOKUP($A323,$Z:$AM,9,FALSE)","v":0},{"$f":"VLOOKUP($A323,$A:$N,10,FALSE)/VLOOKUP($A323,$Z:$AM,10,FALSE)","v":0},{"$f":"VLOOKUP($A323,$A:$N,11,FALSE)/VLOOKUP($A323,$Z:$AM,11,FALSE)","v":0},{"$f":"VLOOKUP($A323,$A:$N,12,FALSE)/VLOOKUP($A323,$Z:$AM,12,FALSE)","v":0},{"$f":"VLOOKUP($A323,$A:$N,13,FALSE)/VLOOKUP($A323,$Z:$AM,13,FALSE)","v":0},{"$f":"VLOOKUP($A323,$A:$N,14,FALSE)/VLOOKUP($A323,$Z:$AM,14,FALSE)","v":0}," ",{"$f":"IF(AO323<>0,AO323,\"\")","v":2398},{"$f":"IF(AP323<>0,VLOOKUP(Z323,AO:AP,2,FALSE),\"\")","v":"Shin-Soo Choo"},{"$f":"IF(AQ323<>0,VLOOKUP(AQ323,Info!A:B,2,FALSE),\"\")","v":"TEX"},{"$f":"IF(AO323<>0,VLOOKUP(Z323,AO:AR,4,FALSE),\"\")","v":"chosh"},{"$f":"IF($AO323<>0,AT323/$AS323,\"\")","v":0.16049382716049382},{"$f":"IF($AO323<>0,AU323/$AS323,\"\")","v":0.53086419753086422},{"$f":"IF($AO323<>0,AV323/$AS323,\"\")","v":0.66049382716049387},{"$f":"IF($AO323<>0,AW323/$AS323,\"\")","v":9.2592592592592587E-2},{"$f":"IF($AO323<>0,AX323/$AS323,\"\")","v":0.13580246913580246},{"$f":"IF($AO323<>0,AY323/$AS323,\"\")","v":1.2345679012345678E-2},{"$f":"IF($AO323<>0,AZ323/$AS323,\"\")","v":0.96296296296296291},{"$f":"IF($AO323<>0,BA323/$AS323,\"\")","v":2.4691358024691357E-2},{"$f":"IF($AO323<>0,BB323/$AS323,\"\")","v":3.0864197530864196E-2},{"$f":"IF($AO323<>0,BC323/$AS323,\"\")","v":0.90740740740740744},null,2398,"Shin-Soo Choo","Texas Rangers","chosh",162,26,86,107,15,22,2,156,4,5,147]
[2400,"Travis Snider","TEX","Buy",null,null,null,null,null,null,null,null,null,null,0,0,0,0,0,0,0,0,0,0," ",2400,"Travis Snider",{"$f":"IF(AQ324<>0,VLOOKUP(AQ324,Info!A:B,2,FALSE),\"\")","v":"TEX"},"snitr",6.1728395061728392E-2,0.3271604938271605,0.30864197530864196,1.2345679012345678E-2,0.1419753086419753,2.4691358024691357E-2,0.63580246913580252,1.2345679012345678E-2,3.0864197530864196E-2,0.7592592592592593,null,2400,"Travis Snider","Texas Rangers","snitr",162,10,53,50,2,23,4,103,2,5,123]
[3070,"Will Middlebrooks","TEX","Buy",null,null,null,null,null,null,null,null,null,null,0,0,0,0,0,0,0,0,0,0," ",3070,"Will Middlebrooks",{"$f":"IF(AQ325<>0,VLOOKUP(AQ325,Info!A:B,2,FALSE),\"\")","v":"TEX"},"midwi",0.1111111111111111,0.35185185185185186,0.30864197530864196,2.4691358024691357E-2,0.12345679012345678,2.4691358024691357E-2,0.65432098765432101,1.2345679012345678E-2,9.8765432098765427E-2,0.72839506172839508,null,3070,"Will Middlebrooks","Texas Rangers","midwi",162,18,57,50,4,20,4,106,2,16,118]
[2681,"Chris Coghlan","TOR","Buy",null,null,null,null,null,null,null,null,null,null,0,0,0,0,0,0,0,0,0,0," ",2681,"Chris Coghlan",{"$f":"IF(AQ326<>0,VLOOKUP(AQ326,Info!A:B,2,FALSE),\"\")","v":"TOR"},"cogch",6.1728395061728392E-2,0.30864197530864196,0.30864197530864196,6.1728395061728392E-3,0.12345679012345678,6.1728395061728392E-3,0.61728395061728392,1.2345679012345678E-2,0.1111111111111111,0.61728395061728392,null,2681,"Chris Coghlan","Toronto Blue Jays","cogch",162,10,50,50,1,20,1,100,2,18,100]
[3857,"Chris Colabello","TOR","Buy",null,null,null,null,null,null,null,null,null,null,0,0,0,0,0,0,0,0,0,0," ",3857,"Chris Colabello",{"$f":"IF(AQ327<>0,VLOOKUP(AQ327,Info!A:B,2,FALSE),\"\")","v":"TOR"},"colch",0.15432098765432098,0.53703703703703709,0.54938271604938271,2.4691358024691357E-2,0.19135802469135801,1.2345679012345678E-2,1.0617283950617284,1.2345679012345678E-2,4.3209876543209874E-2,0.95061728395061729,null,3857,"Chris Colabello","Toronto Blue Jays","colch",162,25,87,89,4,31,2,172,2,7,154]
[3796,"Dalton Pompey","TOR","Buy",null,null,null,null,null,null,null,null,null,null,0,0,0,0,0,0,0,0,0,0," ",3796,"Dalton Pompey",{"$f":"IF(AQ328<>0,VLOOKUP(AQ328,Info!A:B,2,FALSE),\"\")","v":"TOR"},"pomda",6.1728395061728392E-2,0.30864197530864196,0.5,0.14814814814814814,0.24074074074074073,6.1728395061728392E-3,0.62345679012345678,3.0864197530864196E-2,6.1728395061728392E-2,0.67901234567901236,null,3796,"Dalton Pompey","Toronto Blue Jays","pomda",162,10,50,81,24,39,1,101,5,10,110]
[2913,"Darwin Barney","TOR","Buy",null,null,null,null,null,null,null,null,null,null,0,0,0,0,0,0,0,0,0,0," ",2913,"Darwin Barney",{"$f":"IF(AQ329<>0,VLOOKUP(AQ329,Info!A:B,2,FALSE),\"\")","v":"TOR"},"barnd",6.1728395061728392E-2,0.30864197530864196,0.30864197530864196,5.5555555555555552E-2,0.12345679012345678,6.1728395061728392E-3,0.61728395061728392,1.8518518518518517E-2,7.407407407407407E-2,0.49382716049382713,null,2913,"Darwin Barney","Toronto Blue Jays","barnd",162,10,50,50,9,20,1,100,3,12,80]
[3826,"Devon Travis","TOR","Buy",null,null,null,null,null,null,null,null,null,null,0,0,0,0,0,0,0,0,0,0," ",3826,"Devon Travis",{"$f":"IF(AQ330<>0,VLOOKUP(AQ330,Info!A:B,2,FALSE),\"\")","v":"TOR"},"trade",0.10493827160493827,0.48148148148148145,0.44444444444444442,8.0246913580246909E-2,0.30864197530864196,6.1728395061728392E-3,0.96296296296296291,4.3209876543209874E-2,8.0246913580246909E-2,0.76543209876543206,null,3826,"Devon Travis","Toronto Blue Jays","trade",162,17,78,72,13,50,1,156,7,13,124]
[3071,"Jarrod Saltalamacchia","TOR","Buy",null,null,null,null,null,null,null,null,null,null,0,0,0,0,0,0,0,0,0,0," ",3071,"Jarrod Saltalamacchia",{"$f":"IF(AQ331<>0,VLOOKUP(AQ331,Info!A:B,2,FALSE),\"\")","v":"TOR"},"salja",0.12962962962962962,0.40740740740740738,0.32098765432098764,6.1728395061728392E-3,0.12345679012345678,1.2345679012345678E-2,0.61728395061728392,1.2345679012345678E-2,3.7037037037037035E-2,1.1419753086419753,null,3071,"Jarrod Saltalamacchia","Toronto Blue Jays","salja",162,21,66,52,1,20,2,100,2,6,185]
[2639,"Jose Bautista","TOR","Buy",null,null,null,null,null,null,null,null,null,null,0,0,0,0,0,0,0,0,0,0," ",2639,"Jose Bautista",{"$f":"IF(AQ332<>0,VLOOKUP(AQ332,Info!A:B,2,FALSE),\"\")","v":"TOR"},"baujo",0.14814814814814814,0.41358024691358025,0.59876543209876543,3.7037037037037035E-2,0.1728395061728395,6.1728395061728392E-3,0.76543209876543206,2.4691358024691357E-2,3.0864197530864196E-2,1.0802469135802468,null,2639,"Jose Bautista","Toronto Blue Jays","baujo",162,24,67,97,6,28,1,124,4,5,175]
[2852,"Jose Tabata","TOR","Buy",null,null,null,null,null,null,null,null,null,null,0,0,0,0,0,0,0,0,0,0," ",2852,"Jose Tabata",{"$f":"IF(AQ333<>0,VLOOKUP(AQ333,Info!A:B,2,FALSE),\"\")","v":"TOR"},"tabjo",6.1728395061728392E-2,0.30864197530864196,0.30864197530864196,6.1728395061728392E-3,0.12345679012345678,6.1728395061728392E-3,0.61728395061728392,3.7037037037037035E-2,3.0864197530864196E-2,0.46296296296296297,null,2852,"Jose Tabata","Toronto Blue Jays","tabjo",162,10,50,50,1,20,1,100,6,5,75]
[3277,"Josh Donaldson","TOR","Buy",null,null,null,null,null,null,null,null,null,null,0,0,0,0,0,0,0,0,0,0," ",3277,"Josh Donaldson",{"$f":"IF(AQ334<>0,VLOOKUP(AQ334,Info!A:B,2,FALSE),\"\")","v":"TOR"},"donjo",0.29012345679012347,0.68518518518518523,0.57407407407407407,1.8518518518518517E-2,0.18518518518518517,6.1728395061728392E-3,0.97530864197530864,1.8518518518518517E-2,8.0246913580246909E-2,0.98765432098765427,null,3277,"Josh Donaldson","Toronto Blue Jays","donjo",162,47,111,93,3,30,1,158,3,13,160]
[2683,"Justin Smoak","TOR","Buy",null,null,null,null,null,null,null,null,null,null,0,0,0,0,0,0,0,0,0,0," ",2683,"Justin Smoak",{"$f":"IF(AQ335<>0,VLOOKUP(AQ335,Info!A:B,2,FALSE),\"\")","v":"TOR"},"smoju",0.24691358024691357,0.57407407407407407,0.55555555555555558,6.1728395061728392E-3,0.18518518518518517,1.2345679012345678E-2,0.96296296296296291,1.2345679012345678E-2,3.0864197530864196E-2,0.80864197530864201,null,2683,"Justin Smoak","Toronto Blue Jays","smoju",162,40,93,90,1,30,2,156,2,5,131]
[2439,"Kendrys Morales","TOR","Buy",null,null,null,null,null,null,null,null,null,null,0,0,0,0,0,0,0,0,0,0," ",2439,"Kendrys Morales",{"$f":"IF(AQ336<>0,VLOOKUP(AQ336,Info!A:B,2,FALSE),\"\")","v":"TOR"},"morke",0.19753086419753085,0.58024691358024694,0.46296296296296297,6.1728395061728392E-3,0.16666666666666666,6.1728395061728392E-3,0.9320987654320988,1.2345679012345678E-2,3.0864197530864196E-2,0.87654320987654322,null,2439,"Kendrys Morales","Toronto Blue Jays","morke",162,32,94,75,1,27,1,151,2,5,142]
[3835,"Kevin Pillar","TOR","Buy",null,null,null,null,null,null,null,null,null,null,0,0,0,0,0,0,0,0,0,0," ",3835,"Kevin Pillar",{"$f":"IF(AQ337<>0,VLOOKUP(AQ337,Info!A:B,2,FALSE),\"\")","v":"TOR"},"pilke",0.10493827160493827,0.30864197530864196,0.46913580246913578,9.8765432098765427E-2,0.24074074074074073,1.2345679012345678E-2,0.96913580246913578,4.3209876543209874E-2,3.0864197530864196E-2,0.62345679012345678,null,3835,"Kevin Pillar","Toronto Blue Jays","pilke",162,17,50,76,16,39,2,157,7,5,101]
[2614,"Miguel Montero","TOR","Buy",null,null,null,null,null,null,null,null,null,null,0,0,0,0,0,0,0,0,0,0," ",2614,"Miguel Montero",{"$f":"IF(AQ338<>0,VLOOKUP(AQ338,Info!A:B,2,FALSE),\"\")","v":"TOR"},"monmi",8.0246913580246909E-2,0.30864197530864196,0.31481481481481483,1.8518518518518517E-2,0.12345679012345678,6.1728395061728392E-3,0.61728395061728392,1.2345679012345678E-2,3.0864197530864196E-2,0.62345679012345678,null,2614,"Miguel Montero","Toronto Blue Jays","monmi",162,13,50,51,3,20,1,100,2,5,101]
[1971,"Russell Martin","TOR","Buy",null,null,null,null,null,null,null,null,null,null,0,0,0,0,0,0,0,0,0,0," ",1971,"Russell Martin",{"$f":"IF(AQ339<>0,VLOOKUP(AQ339,Info!A:B,2,FALSE),\"\")","v":"TOR"},"marru",0.1419753086419753,0.38271604938271603,0.53703703703703709,2.4691358024691357E-2,0.13580246913580246,6.1728395061728392E-3,0.7407407407407407,2.4691358024691357E-2,3.0864197530864196E-2,0.9135802469135802,null,1971,"Russell Martin","Toronto Blue Jays","marru",162,23,62,87,4,22,1,120,4,5,148]
[2003,"Troy Tulowitzki","TOR","Buy",null,null,null,null,null,null,null,null,null,null,0,0,0,0,0,0,0,0,0,0," ",2003,"Troy Tulowitzki",{"$f":"IF(AQ340<>0,VLOOKUP(AQ340,Info!A:B,2,FALSE),\"\")","v":"TOR"},"tultr",0.10493827160493827,0.3888888888888889,0.30864197530864196,6.1728395061728392E-3,0.15432098765432098,6.1728395061728392E-3,0.90123456790123457,1.8518518518518517E-2,0.12345679012345678,0.61728395061728392,null,2003,"Troy Tulowitzki","Toronto Blue Jays","tultr",162,17,63,50,1,25,1,146,3,20,100]
[3509,"Adam Eaton","WAS","Buy",null,null,null,null,null,null,null,null,null,null,0,0,0,0,0,0,0,0,0,0," ",3509,"Adam Eaton",{"$f":"IF(AQ341<>0,VLOOKUP(AQ341,Info!A:B,2,FALSE),\"\")","v":"WAS"},"eatad",9.2592592592592587E-2,0.38271604938271603,0.58024691358024694,9.2592592592592587E-2,0.18518518518518517,5.5555555555555552E-2,1.1296296296296295,4.3209876543209874E-2,3.0864197530864196E-2,0.72839506172839508,null,3509,"Adam Eaton","Washington Nationals","eatad",162,15,62,94,15,30,9,183,7,5,118]
[2394,"Adam Lind","WAS","Buy",null,null,null,null,null,null,null,null,null,null,0,0,0,0,0,0,0,0,0,0," ",2394,"Adam Lind",{"$f":"IF(AQ342<>0,VLOOKUP(AQ342,Info!A:B,2,FALSE),\"\")","v":"WAS"},"linad",0.12962962962962962,0.51234567901234573,0.33333333333333331,1.2345679012345678E-2,0.12345679012345678,6.1728395061728392E-3,0.70987654320987659,1.2345679012345678E-2,4.3209876543209874E-2,0.46296296296296297,null,2394,"Adam Lind","Washington Nationals","linad",162,21,83,54,2,20,1,115,2,7,75]
[3145,"Alejandro De Aza","WAS","Buy",null,null,null,null,null,null,null,null,null,null,0,0,0,0,0,0,0,0,0,0," ",3145,"Alejandro De Aza",{"$f":"IF(AQ343<>0,VLOOKUP(AQ343,Info!A:B,2,FALSE),\"\")","v":"WAS"},"deaal",6.1728395061728392E-2,0.3271604938271605,0.30864197530864196,3.7037037037037035E-2,0.12345679012345678,5.5555555555555552E-2,0.61728395061728392,1.2345679012345678E-2,7.407407407407407E-2,0.57407407407407407,null,3145,"Alejandro De Aza","Washington Nationals","deaal",162,10,53,50,6,20,9,100,2,12,93]
[3521,"Anthony Rendon","WAS","Buy",null,null,null,null,null,null,null,null,null,null,0,0,0,0,0,0,0,0,0,0," ",3521,"Anthony Rendon",{"$f":"IF(AQ344<>0,VLOOKUP(AQ344,Info!A:B,2,FALSE),\"\")","v":"WAS"},"renan",0.1728395061728395,0.66666666666666663,0.55555555555555558,4.9382716049382713E-2,0.27777777777777779,1.2345679012345678E-2,1.0246913580246915,1.8518518518518517E-2,5.5555555555555552E-2,0.54938271604938271,null,3521,"Anthony Rendon","Washington Nationals","renan",162,28,108,90,8,45,2,166,3,9,89]
[3064,"Bryce Harper","WAS","Buy",null,null,null,null,null,null,null,null,null,null,0,0,0,0,0,0,0,0,0,0," ",3064,"Bryce Harper",{"$f":"IF(AQ345<>0,VLOOKUP(AQ345,Info!A:B,2,FALSE),\"\")","v":"WAS"},"harpb",0.25925925925925924,0.7407407407407407,0.7407407407407407,4.3209876543209874E-2,0.24074074074074073,1.2345679012345678E-2,1.1851851851851851,1.8518518518518517E-2,3.0864197530864196E-2,0.90740740740740744,null,3064,"Bryce Harper","Washington Nationals","harpb",162,42,120,120,7,39,2,192,3,5,147]
[2481,"Daniel Murphy","WAS","Buy",null,null,null,null,null,null,null,null,null,null,0,0,0,0,0,0,0,0,0,0," ",2481,"Daniel Murphy",{"$f":"IF(AQ346<>0,VLOOKUP(AQ346,Info!A:B,2,FALSE),\"\")","v":"WAS"},"murpd",0.16049382716049382,0.63580246913580252,0.66666666666666663,1.8518518518518517E-2,0.29629629629629628,2.4691358024691357E-2,1.191358024691358,1.2345679012345678E-2,6.1728395061728392E-2,0.5679012345679012,null,2481,"Daniel Murphy","Washington Nationals","murpd",162,26,103,108,3,48,4,193,2,10,92]
[2146,"Howie Kendrick","WAS","Buy",null,null,null,null,null,null,null,null,null,null,0,0,0,0,0,0,0,0,0,0," ",2146,"Howie Kendrick",{"$f":"IF(AQ347<>0,VLOOKUP(AQ347,Info!A:B,2,FALSE),\"\")","v":"WAS"},"kenho",9.8765432098765427E-2,0.43209876543209874,0.42592592592592593,0.12962962962962962,0.1728395061728395,3.7037037037037035E-2,1,5.5555555555555552E-2,5.5555555555555552E-2,0.75308641975308643,null,2146,"Howie Kendrick","Washington Nationals","kenho",162,16,70,69,21,28,6,162,9,9,122]
[2196,"Jayson Werth","WAS","Buy",null,null,null,null,null,null,null,null,null,null,0,0,0,0,0,0,0,0,0,0," ",2196,"Jayson Werth",{"$f":"IF(AQ348<>0,VLOOKUP(AQ348,Info!A:B,2,FALSE),\"\")","v":"WAS"},"werja",0.13580246913580246,0.3888888888888889,0.48148148148148145,5.5555555555555552E-2,0.14814814814814814,1.8518518518518517E-2,0.80246913580246915,4.3209876543209874E-2,5.5555555555555552E-2,0.97530864197530864,null,2196,"Jayson Werth","Washington Nationals","werja",162,22,63,78,9,24,3,130,7,9,158]
[2611,"Matt Wieters","WAS","Buy",null,null,null,null,null,null,null,null,null,null,0,0,0,0,0,0,0,0,0,0," ",2611,"Matt Wieters",{"$f":"IF(AQ349<>0,VLOOKUP(AQ349,Info!A:B,2,FALSE),\"\")","v":"WAS"},"wiema",8.0246913580246909E-2,0.40740740740740738,0.35185185185185186,1.2345679012345678E-2,0.16049382716049382,6.1728395061728392E-3,0.75308641975308643,1.2345679012345678E-2,8.0246913580246909E-2,0.76543209876543206,null,2611,"Matt Wieters","Washington Nationals","wiema",162,13,66,57,2,26,1,122,2,13,124]
[3854,"Michael Taylor","WAS","Buy",null,null,null,null,null,null,null,null,null,null,0,0,0,0,0,0,0,0,0,0," ",3854,"Michael Taylor",{"$f":"IF(AQ350<>0,VLOOKUP(AQ350,Info!A:B,2,FALSE),\"\")","v":"WAS"},"taymi",0.1728395061728395,0.49382716049382713,0.46913580246913578,0.1419753086419753,0.19135802469135801,2.4691358024691357E-2,0.9320987654320988,6.7901234567901231E-2,3.7037037037037035E-2,1.1666666666666667,null,3854,"Michael Taylor","Washington Nationals","taymi",162,28,80,76,23,31,4,151,11,6,189]
[2865,"Ryan Raburn","WAS","Buy",null,null,null,null,null,null,null,null,null,null,0,0,0,0,0,0,0,0,0,0," ",2865,"Ryan Raburn",{"$f":"IF(AQ351<>0,VLOOKUP(AQ351,Info!A:B,2,FALSE),\"\")","v":"WAS"},"rabry",8.0246913580246909E-2,0.30864197530864196,0.30864197530864196,6.1728395061728392E-3,0.12345679012345678,5.5555555555555552E-2,0.73456790123456794,4.3209876543209874E-2,3.0864197530864196E-2,0.96296296296296291,null,2865,"Ryan Raburn","Washington Nationals","rabry",162,13,50,50,1,20,9,119,7,5,156]
[{"$f":"IF(Z352<>0,Z352,\"\")","v":1773},{"$f":"IF(A352<>0,VLOOKUP(A352,Z:AA,2,FALSE),\"\")","v":"Ryan Zimmerman"},{"$f":"IF(A352<>0,VLOOKUP(A352,Z:AB,3,FALSE))","v":"WAS"},{"$f":"HYPERLINK(\"http://www.jockstocks.com/buysell.php?action=buymax&plid=\"&A352,\"Buy\")","v":"Buy"},null,null,null,null,null,null,null,null,null,null,{"$f":"VLOOKUP($A352,$A:$N,5,FALSE)/VLOOKUP($A352,$Z:$AM,5,FALSE)","v":0},{"$f":"VLOOKUP($A352,$A:$N,6,FALSE)/VLOOKUP($A352,$Z:$AM,6,FALSE)","v":0},{"$f":"VLOOKUP($A352,$A:$N,7,FALSE)/VLOOKUP($A352,$Z:$AM,7,FALSE)","v":0},{"$f":"VLOOKUP($A352,$A:$N,8,FALSE)/VLOOKUP($A352,$Z:$AM,8,FALSE)","v":0},{"$f":"VLOOKUP($A352,$A:$N,9,FALSE)/VLOOKUP($A352,$Z:$AM,9,FALSE)","v":0},{"$f":"VLOOKUP($A352,$A:$N,10,FALSE)/VLOOKUP($A352,$Z:$AM,10,FALSE)","v":0},{"$f":"VLOOKUP($A352,$A:$N,11,FALSE)/VLOOKUP($A352,$Z:$AM,11,FALSE)","v":0},{"$f":"VLOOKUP($A352,$A:$N,12,FALSE)/VLOOKUP($A352,$Z:$AM,12,FALSE)","v":0},{"$f":"VLOOKUP($A352,$A:$N,13,FALSE)/VLOOKUP($A352,$Z:$AM,13,FALSE)","v":0},{"$f":"VLOOKUP($A352,$A:$N,14,FALSE)/VLOOKUP($A352,$Z:$AM,14,FALSE)","v":0},null,{"$f":"IF(AO352<>0,AO352,\"\")","v":1773},{"$f":"IF(AP352<>0,VLOOKUP(Z352,AO:AP,2,FALSE),\"\")","v":"Ryan Zimmerman"},{"$f":"IF(AQ352<>0,VLOOKUP(AQ352,Info!A:B,2,FALSE),\"\")","v":"WAS"},{"$f":"IF(AO352<>0,VLOOKUP(Z352,AO:AR,4,FALSE),\"\")","v":"zimry"},{"$f":"IF($AO352<>0,AT352/$AS352,\"\")","v":0.25308641975308643},{"$f":"IF($AO352<>0,AU352/$AS352,\"\")","v":0.7407407407407407},{"$f":"IF($AO352<>0,AV352/$AS352,\"\")","v":0.61111111111111116},{"$f":"IF($AO352<>0,AW352/$AS352,\"\")","v":1.8518518518518517E-2},{"$f":"IF($AO352<>0,AX352/$AS352,\"\")","v":0.22839506172839505},{"$f":"IF($AO352<>0,AY352/$AS352,\"\")","v":6.1728395061728392E-3},{"$f":"IF($AO352<>0,AZ352/$AS352,\"\")","v":1.0925925925925926},{"$f":"IF($AO352<>0,BA352/$AS352,\"\")","v":1.2345679012345678E-2},{"$f":"IF($AO352<>0,BB352/$AS352,\"\")","v":8.6419753086419748E-2},{"$f":"IF($AO352<>0,BC352/$AS352,\"\")","v":0.87654320987654322},null,1773,"Ryan Zimmerman","Washington Nationals","zimry",162,41,120,99,3,37,1,177,2,14,142]
[1812,"Stephen Drew","WAS","Buy",null,null,null,null,null,null,null,null,null,null,0,0,0,0,0,0,0,0,0,0,null,1812,"Stephen Drew",{"$f":"IF(AQ353<>0,VLOOKUP(AQ353,Info!A:B,2,FALSE),\"\")","v":"WAS"},"drest",6.1728395061728392E-2,0.36419753086419754,0.30864197530864196,6.1728395061728392E-3,0.1728395061728395,6.1728395061728392E-3,0.61728395061728392,1.2345679012345678E-2,6.7901234567901231E-2,0.46296296296296297,null,1812,"Stephen Drew","Washington Nationals","drest",162,10,59,50,1,28,1,100,2,11,75]
[4156,"Trea Turner","WAS","Buy",null,null,null,null,null,null,null,null,null,null,0,0,0,0,0,0,0,0,0,0,null,4156,"Trea Turner",{"$f":"IF(AQ354<>0,VLOOKUP(AQ354,Info!A:B,2,FALSE),\"\")","v":"WAS"},"turtr",0.1111111111111111,0.43827160493827161,0.73456790123456794,0.30864197530864196,0.25308641975308643,5.5555555555555552E-2,1.154320987654321,6.7901234567901231E-2,0.1111111111111111,0.83950617283950613,null,4156,"Trea Turner","Washington Nationals","turtr",162,18,71,119,50,41,9,187,11,18,136]
["","","","Buy",null,null,null,null,null,null,null,null,null,null,{"$error":"#VALUE!"},{"$error":"#VALUE!"},{"$error":"#VALUE!"},{"$error":"#VALUE!"},{"$error":"#VALUE!"},{"$error":"#VALUE!"},{"$error":"#VALUE!"},{"$error":"#VALUE!"},{"$error":"#VALUE!"},{"$error":"#VALUE!"},null,"","",{"$f":"IF(AQ355<>0,VLOOKUP(AQ355,Info!A:B,2,FALSE),\"\")","v":""},"","","","","","","","","","",""]
["","","","Buy",null,null,null,null,null,null,null,null,null,null,{"$error":"#VALUE!"},{"$error":"#VALUE!"},{"$error":"#VALUE!"},{"$error":"#VALUE!"},{"$error":"#VALUE!"},{"$error":"#VALUE!"},{"$error":"#VALUE!"},{"$error":"#VALUE!"},{"$error":"#VALUE!"},{"$error":"#VALUE!"},null,"","",{"$f":"IF(AQ356<>0,VLOOKUP(AQ356,Info!A:B,2,FALSE),\"\")","v":""},"","","","","","","","","","",""]
["","","","Buy",null,null,null,null,null,null,null,null,null,null,{"$error":"#VALUE!"},{"$error":"#VALUE!"},{"$error":"#VALUE!"},{"$error":"#VALUE!"},{"$error":"#VALUE!"},{"$error":"#VALUE!"},{"$error":"#VALUE!"},{"$error":"#VALUE!"},{"$error":"#VALUE!"},{"$error":"#VALUE!"},null,"","",{"$f":"IF(AQ357<>0,VLOOKUP(AQ357,Info!A:B,2,FALSE),\"\")","v":""},"","","","","","","","","","",""]
["","","","Buy",null,null,null,null,null,null,null,null,null,null,{"$error":"#VALUE!"},{"$error":"#VALUE!"},{"$error":"#VALUE!"},{"$error":"#VALUE!"},{"$error":"#VALUE!"},{"$error":"#VALUE!"},{"$error":"#VALUE!"},{"$error":"#VALUE!"},{"$error":"#VALUE!"},{"$error":"#VALUE!"},null,"","",{"$f":"IF(AQ358<>0,VLOOKUP(AQ358,Info!A:B,2,FALSE),\"\")","v":""},"","","","","","","","","","",""]
["","","","Buy",null,null,null,null,null,null,null,null,null,null,{"$error":"#VALUE!"},{"$error":"#VALUE!"},{"$error":"#VALUE!"},{"$error":"#VALUE!"},{"$error":"#VALUE!"},{"$error":"#VALUE!"},{"$error":"#VALUE!"},{"$error":"#VALUE!"},{"$error":"#VALUE!"},{"$error":"#VALUE!"},null,"","",{"$f":"IF(AQ359<>0,VLOOKUP(AQ359,Info!A:B,2,FALSE),\"\")","v":""},"","","","","","","","","","",""]
["","","","Buy",null,null,null,null,null,null,null,null,null,null,{"$error":"#VALUE!"},{"$error":"#VALUE!"},{"$error":"#VALUE!"},{"$error":"#VALUE!"},{"$error":"#VALUE!"},{"$error":"#VALUE!"},{"$error":"#VALUE!"},{"$error":"#VALUE!"},{"$error":"#VALUE!"},{"$error":"#VALUE!"},null,"","",{"$f":"IF(AQ360<>0,VLOOKUP(AQ360,Info!A:B,2,FALSE),\"\")","v":""},"","","","","","","","","","",""]
["","","","Buy",null,null,null,null,null,null,null,null,null,null,{"$error":"#VALUE!"},{"$error":"#VALUE!"},{"$error":"#VALUE!"},{"$error":"#VALUE!"},{"$error":"#VALUE!"},{"$error":"#VALUE!"},{"$error":"#VALUE!"},{"$error":"#VALUE!"},{"$error":"#VALUE!"},{"$error":"#VALUE!"},null,"","",{"$f":"IF(AQ361<>0,VLOOKUP(AQ361,Info!A:B,2,FALSE),\"\")","v":""},"","","","","","","","","","",""]
["","","","Buy",null,null,null,null,null,null,null,null,null,null,{"$error":"#VALUE!"},{"$error":"#VALUE!"},{"$error":"#VALUE!"},{"$error":"#VALUE!"},{"$error":"#VALUE!"},{"$error":"#VALUE!"},{"$error":"#VALUE!"},{"$error":"#VALUE!"},{"$error":"#VALUE!"},{"$error":"#VALUE!"},null,"","",{"$f":"IF(AQ362<>0,VLOOKUP(AQ362,Info!A:B,2,FALSE),\"\")","v":""},"","","","","","","","","","",""]
["","","","Buy",null,null,null,null,null,null,null,null,null,null,{"$error":"#VALUE!"},{"$error":"#VALUE!"},{"$error":"#VALUE!"},{"$error":"#VALUE!"},{"$error":"#VALUE!"},{"$error":"#VALUE!"},{"$error":"#VALUE!"},{"$error":"#VALUE!"},{"$error":"#VALUE!"},{"$error":"#VALUE!"},null,"","",{"$f":"IF(AQ363<>0,VLOOKUP(AQ363,Info!A:B,2,FALSE),\"\")","v":""},"","","","","","","","","","",""]
["","","","Buy",null,null,null,null,null,null,null,null,null,null,{"$error":"#VALUE!"},{"$error":"#VALUE!"},{"$error":"#VALUE!"},{"$error":"#VALUE!"},{"$error":"#VALUE!"},{"$error":"#VALUE!"},{"$error":"#VALUE!"},{"$error":"#VALUE!"},{"$error":"#VALUE!"},{"$error":"#VALUE!"},null,"","",{"$f":"IF(AQ364<>0,VLOOKUP(AQ364,Info!A:B,2,FALSE),\"\")","v":""},"","","","","","","","","","",""]
["","","","Buy",null,null,null,null,null,null,null,null,null,null,{"$error":"#VALUE!"},{"$error":"#VALUE!"},{"$error":"#VALUE!"},{"$error":"#VALUE!"},{"$error":"#VALUE!"},{"$error":"#VALUE!"},{"$error":"#VALUE!"},{"$error":"#VALUE!"},{"$error":"#VALUE!"},{"$error":"#VALUE!"},null,"","",{"$f":"IF(AQ365<>0,VLOOKUP(AQ365,Info!A:B,2,FALSE),\"\")","v":""},"","","","","","","","","","",""]
["","","","Buy",null,null,null,null,null,null,null,null,null,null,{"$error":"#VALUE!"},{"$error":"#VALUE!"},{"$error":"#VALUE!"},{"$error":"#VALUE!"},{"$error":"#VALUE!"},{"$error":"#VALUE!"},{"$error":"#VALUE!"},{"$error":"#VALUE!"},{"$error":"#VALUE!"},{"$error":"#VALUE!"},null,"","",{"$f":"IF(AQ366<>0,VLOOKUP(AQ366,Info!A:B,2,FALSE),\"\")","v":""},"","","","","","","","","","",""]
["","","","Buy",null,null,null,null,null,null,null,null,null,null,{"$error":"#VALUE!"},{"$error":"#VALUE!"},{"$error":"#VALUE!"},{"$error":"#VALUE!"},{"$error":"#VALUE!"},{"$error":"#VALUE!"},{"$error":"#VALUE!"},{"$error":"#VALUE!"},{"$error":"#VALUE!"},{"$error":"#VALUE!"},null,"","",{"$f":"IF(AQ367<>0,VLOOKUP(AQ367,Info!A:B,2,FALSE),\"\")","v":""},"","","","","","","","","","",""]
["","","","Buy",null,null,null,null,null,null,null,null,null,null,{"$error":"#VALUE!"},{"$error":"#VALUE!"},{"$error":"#VALUE!"},{"$error":"#VALUE!"},{"$error":"#VALUE!"},{"$error":"#VALUE!"},{"$error":"#VALUE!"},{"$error":"#VALUE!"},{"$error":"#VALUE!"},{"$error":"#VALUE!"},null,"","",{"$f":"IF(AQ368<>0,VLOOKUP(AQ368,Info!A:B,2,FALSE),\"\")","v":""},"","","","","","","","","","",""]
["","","","Buy",null,null,null,null,null,null,null,null,null,null,{"$error":"#VALUE!"},{"$error":"#VALUE!"},{"$error":"#VALUE!"},{"$error":"#VALUE!"},{"$error":"#VALUE!"},{"$error":"#VALUE!"},{"$error":"#VALUE!"},{"$error":"#VALUE!"},{"$error":"#VALUE!"},{"$error":"#VALUE!"},null,"","",{"$f":"IF(AQ369<>0,VLOOKUP(AQ369,Info!A:B,2,FALSE),\"\")","v":""},"","","","","","","","","","",""]
["","","","Buy",null,null,null,null,null,null,null,null,null,null,{"$error":"#VALUE!"},{"$error":"#VALUE!"},{"$error":"#VALUE!"},{"$error":"#VALUE!"},{"$error":"#VALUE!"},{"$error":"#VALUE!"},{"$error":"#VALUE!"},{"$error":"#VALUE!"},{"$error":"#VALUE!"},{"$error":"#VALUE!"},null,"","",{"$f":"IF(AQ370<>0,VLOOKUP(AQ370,Info!A:B,2,FALSE),\"\")","v":""},"","","","","","","","","","",""]
["","","","Buy",null,null,null,null,null,null,null,null,null,null,{"$error":"#VALUE!"},{"$error":"#VALUE!"},{"$error":"#VALUE!"},{"$error":"#VALUE!"},{"$error":"#VALUE!"},{"$error":"#VALUE!"},{"$error":"#VALUE!"},{"$error":"#VALUE!"},{"$error":"#VALUE!"},{"$error":"#VALUE!"},null,"","",{"$f":"IF(AQ371<>0,VLOOKUP(AQ371,Info!A:B,2,FALSE),\"\")","v":""},"","","","","","","","","","",""]
["","","","Buy",null,null,null,null,null,null,null,null,null,null,{"$error":"#VALUE!"},{"$error":"#VALUE!"},{"$error":"#VALUE!"},{"$error":"#VALUE!"},{"$error":"#VALUE!"},{"$error":"#VALUE!"},{"$error":"#VALUE!"},{"$error":"#VALUE!"},{"$error":"#VALUE!"},{"$error":"#VALUE!"},null,"","",{"$f":"IF(AQ372<>0,VLOOKUP(AQ372,Info!A:B,2,FALSE),\"\")","v":""},"","","","","","","","","","",""]
["","","","Buy",null,null,null,null,null,null,null,null,null,null,{"$error":"#VALUE!"},{"$error":"#VALUE!"},{"$error":"#VALUE!"},{"$error":"#VALUE!"},{"$error":"#VALUE!"},{"$error":"#VALUE!"},{"$error":"#VALUE!"},{"$error":"#VALUE!"},{"$error":"#VALUE!"},{"$error":"#VALUE!"},null,"","",{"$f":"IF(AQ373<>0,VLOOKUP(AQ373,Info!A:B,2,FALSE),\"\")","v":""},"","","","","","","","","","",""]
["","","","Buy",null,null,null,null,null,null,null,null,null,null,{"$error":"#VALUE!"},{"$error":"#VALUE!"},{"$error":"#VALUE!"},{"$error":"#VALUE!"},{"$error":"#VALUE!"},{"$error":"#VALUE!"},{"$error":"#VALUE!"},{"$error":"#VALUE!"},{"$error":"#VALUE!"},{"$error":"#VALUE!"},null,"","",{"$f":"IF(AQ374<>0,VLOOKUP(AQ374,Info!A:B,2,FALSE),\"\")","v":""},"","","","","","","","","","",""]
["","","","Buy",null,null,null,null,null,null,null,null,null,null,{"$error":"#VALUE!"},{"$error":"#VALUE!"},{"$error":"#VALUE!"},{"$error":"#VALUE!"},{"$error":"#VALUE!"},{"$error":"#VALUE!"},{"$error":"#VALUE!"},{"$error":"#VALUE!"},{"$error":"#VALUE!"},{"$error":"#VALUE!"},null,"","",{"$f":"IF(AQ375<>0,VLOOKUP(AQ375,Info!A:B,2,FALSE),\"\")","v":""},"","","","","","","","","","",""]
["","","","Buy",null,null,null,null,null,null,null,null,null,null,{"$error":"#VALUE!"},{"$error":"#VALUE!"},{"$error":"#VALUE!"},{"$error":"#VALUE!"},{"$error":"#VALUE!"},{"$error":"#VALUE!"},{"$error":"#VALUE!"},{"$error":"#VALUE!"},{"$error":"#VALUE!"},{"$error":"#VALUE!"},null,"","",{"$f":"IF(AQ376<>0,VLOOKUP(AQ376,Info!A:B,2,FALSE),\"\")","v":""},"","","","","","","","","","",""]
["","","","Buy",null,null,null,null,null,null,null,null,null,null,{"$error":"#VALUE!"},{"$error":"#VALUE!"},{"$error":"#VALUE!"},{"$error":"#VALUE!"},{"$error":"#VALUE!"},{"$error":"#VALUE!"},{"$error":"#VALUE!"},{"$error":"#VALUE!"},{"$error":"#VALUE!"},{"$error":"#VALUE!"},null,"","",{"$f":"IF(AQ377<>0,VLOOKUP(AQ377,Info!A:B,2,FALSE),\"\")","v":""},"","","","","","","","","","",""]
["","","","Buy",null,null,null,null,null,null,null,null,null,null,{"$error":"#VALUE!"},{"$error":"#VALUE!"},{"$error":"#VALUE!"},{"$error":"#VALUE!"},{"$error":"#VALUE!"},{"$error":"#VALUE!"},{"$error":"#VALUE!"},{"$error":"#VALUE!"},{"$error":"#VALUE!"},{"$error":"#VALUE!"},null,"","",{"$f":"IF(AQ378<>0,VLOOKUP(AQ378,Info!A:B,2,FALSE),\"\")","v":""},"","","","","","","","","","",""]
["","","","Buy",null,null,null,null,null,null,null,null,null,null,{"$error":"#VALUE!"},{"$error":"#VALUE!"},{"$error":"#VALUE!"},{"$error":"#VALUE!"},{"$error":"#VALUE!"},{"$error":"#VALUE!"},{"$error":"#VALUE!"},{"$error":"#VALUE!"},{"$error":"#VALUE!"},{"$error":"#VALUE!"},null,"","",{"$f":"IF(AQ379<>0,VLOOKUP(AQ379,Info!A:B,2,FALSE),\"\")","v":""},"","","","","","","","","","",""]
["","","","Buy",null,null,null,null,null,null,null,null,null,null,{"$error":"#VALUE!"},{"$error":"#VALUE!"},{"$error":"#VALUE!"},{"$error":"#VALUE!"},{"$error":"#VALUE!"},{"$error":"#VALUE!"},{"$error":"#VALUE!"},{"$error":"#VALUE!"},{"$error":"#VALUE!"},{"$error":"#VALUE!"},null,"","",{"$f":"IF(AQ380<>0,VLOOKUP(AQ380,Info!A:B,2,FALSE),\"\")","v":""},"","","","","","","","","","",""]
["","","","Buy",null,null,null,null,null,null,null,null,null,null,{"$error":"#VALUE!"},{"$error":"#VALUE!"},{"$error":"#VALUE!"},{"$error":"#VALUE!"},{"$error":"#VALUE!"},{"$error":"#VALUE!"},{"$error":"#VALUE!"},{"$error":"#VALUE!"},{"$error":"#VALUE!"},{"$error":"#VALUE!"},null,"","",{"$f":"IF(AQ381<>0,VLOOKUP(AQ381,Info!A:B,2,FALSE),\"\")","v":""},"","","","","","","","","","",""]
["","","","Buy",null,null,null,null,null,null,null,null,null,null,{"$error":"#VALUE!"},{"$error":"#VALUE!"},{"$error":"#VALUE!"},{"$error":"#VALUE!"},{"$error":"#VALUE!"},{"$error":"#VALUE!"},{"$error":"#VALUE!"},{"$error":"#VALUE!"},{"$error":"#VALUE!"},{"$error":"#VALUE!"},null,"","",{"$f":"IF(AQ382<>0,VLOOKUP(AQ382,Info!A:B,2,FALSE),\"\")","v":""},"","","","","","","","","","",""]
["","","","Buy",null,null,null,null,null,null,null,null,null,null,{"$error":"#VALUE!"},{"$error":"#VALUE!"},{"$error":"#VALUE!"},{"$error":"#VALUE!"},{"$error":"#VALUE!"},{"$error":"#VALUE!"},{"$error":"#VALUE!"},{"$error":"#VALUE!"},{"$error":"#VALUE!"},{"$error":"#VALUE!"},null,"","",{"$f":"IF(AQ383<>0,VLOOKUP(AQ383,Info!A:B,2,FALSE),\"\")","v":""},"","","","","","","","","","",""]
["","","","Buy",null,null,null,null,null,null,null,null,null,null,{"$error":"#VALUE!"},{"$error":"#VALUE!"},{"$error":"#VALUE!"},{"$error":"#VALUE!"},{"$error":"#VALUE!"},{"$error":"#VALUE!"},{"$error":"#VALUE!"},{"$error":"#VALUE!"},{"$error":"#VALUE!"},{"$error":"#VALUE!"},null,"","",{"$f":"IF(AQ384<>0,VLOOKUP(AQ384,Info!A:B,2,FALSE),\"\")","v":""},"","","","","","","","","","",""]
["","","","Buy",null,null,null,null,null,null,null,null,null,null,{"$error":"#VALUE!"},{"$error":"#VALUE!"},{"$error":"#VALUE!"},{"$error":"#VALUE!"},{"$error":"#VALUE!"},{"$error":"#VALUE!"},{"$error":"#VALUE!"},{"$error":"#VALUE!"},{"$error":"#VALUE!"},{"$error":"#VALUE!"},null,"","",{"$f":"IF(AQ385<>0,VLOOKUP(AQ385,Info!A:B,2,FALSE),\"\")","v":""},"","","","","","","","","","",""]
["","","","Buy",null,null,null,null,null,null,null,null,null,null,{"$error":"#VALUE!"},{"$error":"#VALUE!"},{"$error":"#VALUE!"},{"$error":"#VALUE!"},{"$error":"#VALUE!"},{"$error":"#VALUE!"},{"$error":"#VALUE!"},{"$error":"#VALUE!"},{"$error":"#VALUE!"},{"$error":"#VALUE!"},null,"","",{"$f":"IF(AQ386<>0,VLOOKUP(AQ386,Info!A:B,2,FALSE),\"\")","v":""},"","","","","","","","","","",""]
["","","","Buy",null,null,null,null,null,null,null,null,null,null,{"$f":"VLOOKUP($A387,$A:$N,5,FALSE)/VLOOKUP($A387,$Z:$AM,5,FALSE)","v":{"$error":"#VALUE!"}},{"$f":"VLOOKUP($A387,$A:$N,6,FALSE)/VLOOKUP($A387,$Z:$AM,6,FALSE)","v":{"$error":"#VALUE!"}},{"$f":"VLOOKUP($A387,$A:$N,7,FALSE)/VLOOKUP($A387,$Z:$AM,7,FALSE)","v":{"$error":"#VALUE!"}},{"$f":"VLOOKUP($A387,$A:$N,8,FALSE)/VLOOKUP($A387,$Z:$AM,8,FALSE)","v":{"$error":"#VALUE!"}},{"$f":"VLOOKUP($A387,$A:$N,9,FALSE)/VLOOKUP($A387,$Z:$AM,9,FALSE)","v":{"$error":"#VALUE!"}},{"$f":"VLOOKUP($A387,$A:$N,10,FALSE)/VLOOKUP($A387,$Z:$AM,10,FALSE)","v":{"$error":"#VALUE!"}},{"$f":"VLOOKUP($A387,$A:$N,11,FALSE)/VLOOKUP($A387,$Z:$AM,11,FALSE)","v":{"$error":"#VALUE!"}},{"$f":"VLOOKUP($A387,$A:$N,12,FALSE)/VLOOKUP($A387,$Z:$AM,12,FALSE)","v":{"$error":"#VALUE!"}},{"$f":"VLOOKUP($A387,$A:$N,13,FALSE)/VLOOKUP($A387,$Z:$AM,13,FALSE)","v":{"$error":"#VALUE!"}},{"$f":"VLOOKUP($A387,$A:$N,14,FALSE)/VLOOKUP($A387,$Z:$AM,14,FALSE)","v":{"$error":"#VALUE!"}},null,"","",{"$f":"IF(AQ387<>0,VLOOKUP(AQ387,Info!A:B,2,FALSE),\"\")","v":""},"","","","","","","","","","",""]
["","","","Buy",null,null,null,null,null,null,null,null,null,null,{"$error":"#VALUE!"},{"$error":"#VALUE!"},{"$error":"#VALUE!"},{"$error":"#VALUE!"},{"$error":"#VALUE!"},{"$error":"#VALUE!"},{"$error":"#VALUE!"},{"$error":"#VALUE!"},{"$error":"#VALUE!"},{"$error":"#VALUE!"},null,"","",{"$f":"IF(AQ388<>0,VLOOKUP(AQ388,Info!A:B,2,FALSE),\"\")","v":""},"","","","","","","","","","",""]
["","","","Buy",null,null,null,null,null,null,null,null,null,null,{"$error":"#VALUE!"},{"$error":"#VALUE!"},{"$error":"#VALUE!"},{"$error":"#VALUE!"},{"$error":"#VALUE!"},{"$error":"#VALUE!"},{"$error":"#VALUE!"},{"$error":"#VALUE!"},{"$error":"#VALUE!"},{"$error":"#VALUE!"},null,"","",{"$f":"IF(AQ389<>0,VLOOKUP(AQ389,Info!A:B,2,FALSE),\"\")","v":""},"","","","","","","","","","",""]
["","","","Buy",null,null,null,null,null,null,null,null,null,null,{"$error":"#VALUE!"},{"$error":"#VALUE!"},{"$error":"#VALUE!"},{"$error":"#VALUE!"},{"$error":"#VALUE!"},{"$error":"#VALUE!"},{"$error":"#VALUE!"},{"$error":"#VALUE!"},{"$error":"#VALUE!"},{"$error":"#VALUE!"},null,"","",{"$f":"IF(AQ390<>0,VLOOKUP(AQ390,Info!A:B,2,FALSE),\"\")","v":""},"","","","","","","","","","",""]
["","","","Buy",null,null,null,null,null,null,null,null,null,null,{"$error":"#VALUE!"},{"$error":"#VALUE!"},{"$error":"#VALUE!"},{"$error":"#VALUE!"},{"$error":"#VALUE!"},{"$error":"#VALUE!"},{"$error":"#VALUE!"},{"$error":"#VALUE!"},{"$error":"#VALUE!"},{"$error":"#VALUE!"},null,"","",{"$f":"IF(AQ391<>0,VLOOKUP(AQ391,Info!A:B,2,FALSE),\"\")","v":""},"","","","","","","","","","",""]
["","","","Buy",null,null,null,null,null,null,null,null,null,null,{"$error":"#VALUE!"},{"$error":"#VALUE!"},{"$error":"#VALUE!"},{"$error":"#VALUE!"},{"$error":"#VALUE!"},{"$error":"#VALUE!"},{"$error":"#VALUE!"},{"$error":"#VALUE!"},{"$error":"#VALUE!"},{"$error":"#VALUE!"},null,"","",{"$f":"IF(AQ392<>0,VLOOKUP(AQ392,Info!A:B,2,FALSE),\"\")","v":""},"","","","","","","","","","",""]
["","","","Buy",null,null,null,null,null,null,null,null,null,null,{"$error":"#VALUE!"},{"$error":"#VALUE!"},{"$error":"#VALUE!"},{"$error":"#VALUE!"},{"$error":"#VALUE!"},{"$error":"#VALUE!"},{"$error":"#VALUE!"},{"$error":"#VALUE!"},{"$error":"#VALUE!"},{"$error":"#VALUE!"},null,"","",{"$f":"IF(AQ393<>0,VLOOKUP(AQ393,Info!A:B,2,FALSE),\"\")","v":""},"","","","","","","","","","",""]
["","","","Buy",null,null,null,null,null,null,null,null,null,null,{"$error":"#VALUE!"},{"$error":"#VALUE!"},{"$error":"#VALUE!"},{"$error":"#VALUE!"},{"$error":"#VALUE!"},{"$error":"#VALUE!"},{"$error":"#VALUE!"},{"$error":"#VALUE!"},{"$error":"#VALUE!"},{"$error":"#VALUE!"},null,"","",{"$f":"IF(AQ394<>0,VLOOKUP(AQ394,Info!A:B,2,FALSE),\"\")","v":""},"","","","","","","","","","",""]
["","","","Buy",null,null,null,null,null,null,null,null,null,null,{"$error":"#VALUE!"},{"$error":"#VALUE!"},{"$error":"#VALUE!"},{"$error":"#VALUE!"},{"$error":"#VALUE!"},{"$error":"#VALUE!"},{"$error":"#VALUE!"},{"$error":"#VALUE!"},{"$error":"#VALUE!"},{"$error":"#VALUE!"},null,"","",{"$f":"IF(AQ395<>0,VLOOKUP(AQ395,Info!A:B,2,FALSE),\"\")","v":""},"","","","","","","","","","",""]
["","","","Buy",null,null,null,null,null,null,null,null,null,null,{"$error":"#VALUE!"},{"$error":"#VALUE!"},{"$error":"#VALUE!"},{"$error":"#VALUE!"},{"$error":"#VALUE!"},{"$error":"#VALUE!"},{"$error":"#VALUE!"},{"$error":"#VALUE!"},{"$error":"#VALUE!"},{"$error":"#VALUE!"},null,"","",{"$f":"IF(AQ396<>0,VLOOKUP(AQ396,Info!A:B,2,FALSE),\"\")","v":""},"","","","","","","","","","",""]
["","","","Buy",null,null,null,null,null,null,null,null,null,null,{"$error":"#VALUE!"},{"$error":"#VALUE!"},{"$error":"#VALUE!"},{"$error":"#VALUE!"},{"$error":"#VALUE!"},{"$error":"#VALUE!"},{"$error":"#VALUE!"},{"$error":"#VALUE!"},{"$error":"#VALUE!"},{"$error":"#VALUE!"},null,"","",{"$f":"IF(AQ397<>0,VLOOKUP(AQ397,Info!A:B,2,FALSE),\"\")","v":""},"","","","","","","","","","",""]
["","","","Buy",null,null,null,null,null,null,null,null,null,null,{"$error":"#VALUE!"},{"$error":"#VALUE!"},{"$error":"#VALUE!"},{"$error":"#VALUE!"},{"$error":"#VALUE!"},{"$error":"#VALUE!"},{"$error":"#VALUE!"},{"$error":"#VALUE!"},{"$error":"#VALUE!"},{"$error":"#VALUE!"},null,"","",{"$f":"IF(AQ398<>0,VLOOKUP(AQ398,Info!A:B,2,FALSE),\"\")","v":""},"","","","","","","","","","",""]
["","","","Buy",null,null,null,null,null,null,null,null,null,null,{"$error":"#VALUE!"},{"$error":"#VALUE!"},{"$error":"#VALUE!"},{"$error":"#VALUE!"},{"$error":"#VALUE!"},{"$error":"#VALUE!"},{"$error":"#VALUE!"},{"$error":"#VALUE!"},{"$error":"#VALUE!"},{"$error":"#VALUE!"},null,"","",{"$f":"IF(AQ399<>0,VLOOKUP(AQ399,Info!A:B,2,FALSE),\"\")","v":""},"","","","","","","","","","",""]
["","","","Buy",null,null,null,null,null,null,null,null,null,null,{"$error":"#VALUE!"},{"$error":"#VALUE!"},{"$error":"#VALUE!"},{"$error":"#VALUE!"},{"$error":"#VALUE!"},{"$error":"#VALUE!"},{"$error":"#VALUE!"},{"$error":"#VALUE!"},{"$error":"#VALUE!"},{"$error":"#VALUE!"},null,"","",{"$f":"IF(AQ400<>0,VLOOKUP(AQ400,Info!A:B,2,FALSE),\"\")","v":""},"","","","","","","","","","",""]

{"sheet":"MLBS","index":2,"n_rows":250,"n_cols":51,"rows_kept":250,"cut":false,"hidden":false,"merged":[]}
["plid","Name","Team",null,"W","Save","Ks","L","SO","ERs",null,null,null,null,"W","Save","Ks","L","SO","ERs",null,null,null,null,null,{"$f":"IF(AO1<>0,AO1,\"\")","v":"ID"},{"$f":"IF(AP1<>0,AP1,\"\")","v":"Name"},{"$f":"IF(AQ1<>0,AQ1,\"\")","v":"Team"},{"$f":"IF(AR1<>0,AR1,\"\")","v":"Symbol"},{"$f":"IF(AT1<>0,AT1,\"\")","v":"Wins"},"Saves","Strikeouts","Losses","Shutouts","Earned Runs",{"$f":"IF(BL1<>0,BL1,\"\")","v":""},{"$f":"IF(BM1<>0,BM1,\"\")","v":""},{"$f":"IF(BN1<>0,BN1,\"\")","v":""},{"$f":"IF(BO1<>0,BO1,\"\")","v":""},null,"ID","Name","Team","Symbol","Appearances","Wins","Saves","Strikeouts","Losses","Shutouts","Earned Runs"]
[{"$f":"IF(Z2<>0,Z2,\"\")","v":2624},{"$f":"IF(A2<>0,VLOOKUP(A2,Z:AA,2,FALSE),\"\")","v":"Brian Matusz"},{"$f":"IF(A2<>0,VLOOKUP(A2,Z:AB,3,FALSE))","v":"ARI"},{"$f":"HYPERLINK(\"http://www.jockstocks.com/buysell.php?action=buymax&plid=\"&A2,\"Buy\")","v":"Buy"},null,null,null,null,null,null,null,null,null,null,{"$f":"VLOOKUP($A2,$A:$N,5,FALSE)/VLOOKUP($A2,$Z:$AM,5,FALSE)","v":0},{"$f":"VLOOKUP($A2,$A:$N,6,FALSE)/VLOOKUP($A2,$Z:$AM,6,FALSE)","v":0},{"$f":"VLOOKUP($A2,$A:$N,7,FALSE)/VLOOKUP($A2,$Z:$AM,7,FALSE)","v":0},{"$f":"VLOOKUP($A2,$A:$N,8,FALSE)/VLOOKUP($A2,$Z:$AM,8,FALSE)","v":0},{"$f":"VLOOKUP($A2,$A:$N,9,FALSE)/VLOOKUP($A2,$Z:$AM,9,FALSE)","v":0},{"$f":"VLOOKUP($A2,$A:$N,10,FALSE)/VLOOKUP($A2,$Z:$AM,10,FALSE)","v":0},{"$f":"VLOOKUP($A2,$A:$N,11,FALSE)/VLOOKUP($A2,$Z:$AM,11,FALSE)","v":{"$error":"#DIV/0!"}},{"$f":"VLOOKUP($A2,$A:$N,12,FALSE)/VLOOKUP($A2,$Z:$AM,12,FALSE)","v":{"$error":"#DIV/0!"}},{"$f":"VLOOKUP($A2,$A:$N,13,FALSE)/VLOOKUP($A2,$Z:$AM,13,FALSE)","v":{"$error":"#DIV/0!"}},{"$f":"VLOOKUP($A2,$A:$N,14,FALSE)/VLOOKUP($A2,$Z:$AM,14,FALSE)","v":{"$error":"#DIV/0!"}}," ",{"$f":"IF(AO2<>0,AO2,\"\")","v":2624},{"$f":"IF(AP2<>0,VLOOKUP(Z2,AO:AP,2,FALSE),\"\")","v":"Brian Matusz"},{"$f":"IF(AQ2<>0,VLOOKUP(AQ2,Info!A:B,2,FALSE),\"\")","v":"ARI"},{"$f":"IF(AO2<>0,VLOOKUP(Z2,AO:AR,4,FALSE),\"\")","v":"matbr"},{"$f":"IF($AO2<>0,AT2/$AS2,\"\")","v":0.22857142857142856},2.8571428571428571E-2,2.1428571428571428,0.17142857142857143,2.8571428571428571E-2,2,{"$f":"IF($AO2<>0,BL2/$AS2,\"\")","v":0},{"$f":"IF($AO2<>0,BM2/$AS2,\"\")","v":0},{"$f":"IF($AO2<>0,BN2/$AS2,\"\")","v":0},{"$f":"IF($AO2<>0,BO2/$AS2,\"\")","v":0},null,2624,"Brian Matusz","Arizona Diamondbacks","matbr",35,8,1,75,6,1,70]
[{"$f":"IF(Z3<>0,Z3,\"\")","v":1979},{"$f":"IF(A3<>0,VLOOKUP(A3,Z:AA,2,FALSE),\"\")","v":"Jorge De La Rosa"},{"$f":"IF(A3<>0,VLOOKUP(A3,Z:AB,3,FALSE))","v":"ARI"},{"$f":"HYPERLINK(\"http://www.jockstocks.com/buysell.php?action=buymax&plid=\"&A3,\"Buy\")","v":"Buy"},null,null,null,null,null,null,null,null,null,null,{"$f":"VLOOKUP($A3,$A:$N,5,FALSE)/VLOOKUP($A3,$Z:$AM,5,FALSE)","v":0},{"$f":"VLOOKUP($A3,$A:$N,6,FALSE)/VLOOKUP($A3,$Z:$AM,6,FALSE)","v":0},{"$f":"VLOOKUP($A3,$A:$N,7,FALSE)/VLOOKUP($A3,$Z:$AM,7,FALSE)","v":0},{"$f":"VLOOKUP($A3,$A:$N,8,FALSE)/VLOOKUP($A3,$Z:$AM,8,FALSE)","v":0},{"$f":"VLOOKUP($A3,$A:$N,9,FALSE)/VLOOKUP($A3,$Z:$AM,9,FALSE)","v":0},{"$f":"VLOOKUP($A3,$A:$N,10,FALSE)/VLOOKUP($A3,$Z:$AM,10,FALSE)","v":0},{"$f":"VLOOKUP($A3,$A:$N,11,FALSE)/VLOOKUP($A3,$Z:$AM,11,FALSE)","v":{"$error":"#DIV/0!"}},{"$f":"VLOOKUP($A3,$A:$N,12,FALSE)/VLOOKUP($A3,$Z:$AM,12,FALSE)","v":{"$error":"#DIV/0!"}},{"$f":"VLOOKUP($A3,$A:$N,13,FALSE)/VLOOKUP($A3,$Z:$AM,13,FALSE)","v":{"$error":"#DIV/0!"}},{"$f":"VLOOKUP($A3,$A:$N,14,FALSE)/VLOOKUP($A3,$Z:$AM,14,FALSE)","v":{"$error":"#DIV/0!"}}," ",{"$f":"IF(AO3<>0,AO3,\"\")","v":1979},{"$f":"IF(AP3<>0,VLOOKUP(Z3,AO:AP,2,FALSE),\"\")","v":"Jorge De La Rosa"},{"$f":"IF(AQ3<>0,VLOOKUP(AQ3,Info!A:B,2,FALSE),\"\")","v":"ARI"},{"$f":"IF(AO3<>0,VLOOKUP(Z3,AO:AR,4,FALSE),\"\")","v":"deljo"},{"$f":"IF($AO3<>0,AT3/$AS3,\"\")","v":0.22857142857142856},{"$f":"IF($AO3<>0,AU3/$AS3,\"\")","v":2.8571428571428571E-2},{"$f":"IF($AO3<>0,AV3/$AS3,\"\")","v":2.1428571428571428},{"$f":"IF($AO3<>0,AW3/$AS3,\"\")","v":0.17142857142857143},{"$f":"IF($AO3<>0,AX3/$AS3,\"\")","v":2.8571428571428571E-2},{"$f":"IF($AO3<>0,AY3/$AS3,\"\")","v":2},{"$f":"IF($AO3<>0,BL3/$AS3,\"\")","v":0},{"$f":"IF($AO3<>0,BM3/$AS3,\"\")","v":0},{"$f":"IF($AO3<>0,BN3/$AS3,\"\")","v":0},{"$f":"IF($AO3<>0,BO3/$AS3,\"\")","v":0},null,1979,"Jorge De La Rosa","Arizona Diamondbacks","deljo",35,8,1,75,6,1,70]
[3288,"Patrick Corbin","ARI","Buy",null,null,null,null,null,null,null,null,null,null,0,0,0,0,0,0,{"$error":"#DIV/0!"},{"$error":"#DIV/0!"},{"$error":"#DIV/0!"},{"$error":"#DIV/0!"}," ",3288,"Patrick Corbin",{"$f":"IF(AQ4<>0,VLOOKUP(AQ4,Info!A:B,2,FALSE),\"\")","v":"ARI"},"corpa",0.42857142857142855,2.8571428571428571E-2,5.4,0.4,2.8571428571428571E-2,2.6285714285714286,0,0,0,0,null,3288,"Patrick Corbin","Arizona Diamondbacks","corpa",35,15,1,189,14,1,92]
[4165,"Robbie Ray","ARI","Buy",null,null,null,null,null,null,null,null,null,null,0,0,0,0,0,0,{"$error":"#DIV/0!"},{"$error":"#DIV/0!"},{"$error":"#DIV/0!"},{"$error":"#DIV/0!"}," ",4165,"Robbie Ray",{"$f":"IF(AQ5<>0,VLOOKUP(AQ5,Info!A:B,2,FALSE),\"\")","v":"ARI"},"rayro",0.51428571428571423,2.8571428571428571E-2,7.1428571428571432,0.2,5.7142857142857141E-2,2,0,0,0,0,null,4165,"Robbie Ray","Arizona Diamondbacks","rayro",35,18,1,250,7,2,70]
[3864,"Rubby De La Rosa","ARI","Buy",null,null,null,null,null,null,null,null,null,null,0,0,0,0,0,0,{"$error":"#DIV/0!"},{"$error":"#DIV/0!"},{"$error":"#DIV/0!"},{"$error":"#DIV/0!"}," ",3864,"Rubby De La Rosa",{"$f":"IF(AQ6<>0,VLOOKUP(AQ6,Info!A:B,2,FALSE),\"\")","v":"ARI"},"delru",0.31428571428571428,2.8571428571428571E-2,4.1714285714285717,0.4,2.8571428571428571E-2,2,0,0,0,0,null,3864,"Rubby De La Rosa","Arizona Diamondbacks","delru",35,11,1,146,14,1,70]
[3284,"Shelby Miller","ARI","Buy",null,null,null,null,null,null,null,null,null,null,0,0,0,0,0,0,{"$error":"#DIV/0!"},{"$error":"#DIV/0!"},{"$error":"#DIV/0!"},{"$error":"#DIV/0!"}," ",3284,"Shelby Miller",{"$f":"IF(AQ7<>0,VLOOKUP(AQ7,Info!A:B,2,FALSE),\"\")","v":"ARI"},"milsh",0.22857142857142856,2.8571428571428571E-2,3.5142857142857142,0.5714285714285714,5.7142857142857141E-2,3.5714285714285716,0,0,0,0,null,3284,"Shelby Miller","Arizona Diamondbacks","milsh",35,8,1,123,20,2,125]
[3802,"Taijuan Walker","ARI","Buy",null,null,null,null,null,null,null,null,null,null,0,0,0,0,0,0,{"$error":"#DIV/0!"},{"$error":"#DIV/0!"},{"$error":"#DIV/0!"},{"$error":"#DIV/0!"}," ",3802,"Taijuan Walker",{"$f":"IF(AQ8<>0,VLOOKUP(AQ8,Info!A:B,2,FALSE),\"\")","v":"ARI"},"walta",0.31428571428571428,2.8571428571428571E-2,5.1428571428571432,0.37142857142857144,2.8571428571428571E-2,2.2571428571428571,0,0,0,0,null,3802,"Taijuan Walker","Arizona Diamondbacks","walta",35,11,1,180,13,1,79]
[2176,"Zack Greinke","ARI","Buy",null,null,null,null,null,null,null,null,null,null,0,0,0,0,0,0,{"$error":"#DIV/0!"},{"$error":"#DIV/0!"},{"$error":"#DIV/0!"},{"$error":"#DIV/0!"}," ",2176,"Zack Greinke",{"$f":"IF(AQ9<>0,VLOOKUP(AQ9,Info!A:B,2,FALSE),\"\")","v":"ARI"},"greza",0.51428571428571423,2.8571428571428571E-2,6.4857142857142858,0.25714285714285712,2.8571428571428571E-2,2.342857142857143,0,0,0,0,null,2176,"Zack Greinke","Arizona Diamondbacks","greza",35,18,1,227,9,1,82]
[3572,"Josh Collmenter","ATL","Buy",null,null,null,null,null,null,null,null,null,null,0,0,0,0,0,0,{"$error":"#DIV/0!"},{"$error":"#DIV/0!"},{"$error":"#DIV/0!"},{"$error":"#DIV/0!"}," ",3572,"Josh Collmenter",{"$f":"IF(AQ10<>0,VLOOKUP(AQ10,Info!A:B,2,FALSE),\"\")","v":"ATL"},"coljo",0.22857142857142856,2.8571428571428571E-2,2.1428571428571428,0.2,2.8571428571428571E-2,2,0,0,0,0,null,3572,"Josh Collmenter","Atlanta Braves","coljo",35,8,1,75,7,1,70]
[3262,"Julio Teheran","ATL","Buy",null,null,null,null,null,null,null,null,null,null,0,0,0,0,0,0,{"$error":"#DIV/0!"},{"$error":"#DIV/0!"},{"$error":"#DIV/0!"},{"$error":"#DIV/0!"}," ",3262,"Julio Teheran",{"$f":"IF(AQ11<>0,VLOOKUP(AQ11,Info!A:B,2,FALSE),\"\")","v":"ATL"},"tehju",0.37142857142857144,2.8571428571428571E-2,4.7428571428571429,0.42857142857142855,2.8571428571428571E-2,2.9714285714285715,0,0,0,0,null,3262,"Julio Teheran","Atlanta Braves","tehju",35,13,1,166,15,1,104]
[2665,"Kris Medlen","ATL","Buy",null,null,null,null,null,null,null,null,null,null,0,0,0,0,0,0,{"$error":"#DIV/0!"},{"$error":"#DIV/0!"},{"$error":"#DIV/0!"},{"$error":"#DIV/0!"}," ",2665,"Kris Medlen",{"$f":"IF(AQ12<>0,VLOOKUP(AQ12,Info!A:B,2,FALSE),\"\")","v":"ATL"},"medkr",0.4,2.8571428571428571E-2,2.6857142857142855,0.17142857142857143,2.8571428571428571E-2,2,0,0,0,0,null,2665,"Kris Medlen","Atlanta Braves","medkr",35,14,1,94,6,1,70]
[4187,"Mike Foltynewicz","ATL","Buy",null,null,null,null,null,null,null,null,null,null,0,0,0,0,0,0,{"$error":"#DIV/0!"},{"$error":"#DIV/0!"},{"$error":"#DIV/0!"},{"$error":"#DIV/0!"}," ",4187,"Mike Foltynewicz",{"$f":"IF(AQ13<>0,VLOOKUP(AQ13,Info!A:B,2,FALSE),\"\")","v":"ATL"},"folmi",0.37142857142857144,2.8571428571428571E-2,4.9428571428571431,0.45714285714285713,2.8571428571428571E-2,2.8285714285714287,0,0,0,0,null,4187,"Mike Foltynewicz","Atlanta Braves","folmi",35,13,1,173,16,1,99]
[2666,"R.A. Dickey","ATL","Buy",null,null,null,null,null,null,null,null,null,null,0,0,0,0,0,0,{"$error":"#DIV/0!"},{"$error":"#DIV/0!"},{"$error":"#DIV/0!"},{"$error":"#DIV/0!"}," ",2666,"R.A. Dickey",{"$f":"IF(AQ14<>0,VLOOKUP(AQ14,Info!A:B,2,FALSE),\"\")","v":"ATL"},"dicra",0.34285714285714286,2.8571428571428571E-2,4.4000000000000004,0.34285714285714286,2.8571428571428571E-2,2.9142857142857141,0,0,0,0,null,2666,"R.A. Dickey","Atlanta Braves","dicra",35,12,1,154,12,1,102]
[3146,"Chris Tillman","BAL","Buy",null,null,null,null,null,null,null,null,null,null,0,0,0,0,0,0,{"$error":"#DIV/0!"},{"$error":"#DIV/0!"},{"$error":"#DIV/0!"},{"$error":"#DIV/0!"}," ",3146,"Chris Tillman",{"$f":"IF(AQ15<>0,VLOOKUP(AQ15,Info!A:B,2,FALSE),\"\")","v":"BAL"},"tillc",0.22857142857142856,2.8571428571428571E-2,2.6285714285714286,0.31428571428571428,2.8571428571428571E-2,3.4,0,0,0,0,null,3146,"Chris Tillman","Baltimore Orioles","tillc",35,8,1,92,11,1,119]
[4170,"Dylan Bundy","BAL","Buy",null,null,null,null,null,null,null,null,null,null,0,0,0,0,0,0,{"$error":"#DIV/0!"},{"$error":"#DIV/0!"},{"$error":"#DIV/0!"},{"$error":"#DIV/0!"}," ",4170,"Dylan Bundy",{"$f":"IF(AQ16<>0,VLOOKUP(AQ16,Info!A:B,2,FALSE),\"\")","v":"BAL"},"bundy",0.45714285714285713,2.8571428571428571E-2,5.2857142857142856,0.31428571428571428,5.7142857142857141E-2,2.7714285714285714,0,0,0,0,null,4170,"Dylan Bundy","Baltimore Orioles","bundy",35,16,1,185,11,2,97]
[2874,"Jeremy Hellickson","BAL","Buy",null,null,null,null,null,null,null,null,null,null,0,0,0,0,0,0,{"$error":"#DIV/0!"},{"$error":"#DIV/0!"},{"$error":"#DIV/0!"},{"$error":"#DIV/0!"}," ",2874,"Jeremy Hellickson",{"$f":"IF(AQ17<>0,VLOOKUP(AQ17,Info!A:B,2,FALSE),\"\")","v":"BAL"},"helje",0.2857142857142857,2.8571428571428571E-2,3.2,0.37142857142857144,2.8571428571428571E-2,3.3142857142857145,0,0,0,0,null,2874,"Jeremy Hellickson","Baltimore Orioles","helje",35,10,1,112,13,1,116]
[3801,"Kevin Gausman","BAL","Buy",null,null,null,null,null,null,null,null,null,null,0,0,0,0,0,0,{"$error":"#DIV/0!"},{"$error":"#DIV/0!"},{"$error":"#DIV/0!"},{"$error":"#DIV/0!"}," ",3801,"Kevin Gausman",{"$f":"IF(AQ18<>0,VLOOKUP(AQ18,Info!A:B,2,FALSE),\"\")","v":"BAL"},"gauke",0.34285714285714286,2.8571428571428571E-2,5.2857142857142856,0.37142857142857144,2.8571428571428571E-2,2.8571428571428572,0,0,0,0,null,3801,"Kevin Gausman","Baltimore Orioles","gauke",35,12,1,185,13,1,100]
[2473,"Ubaldo Jimenez","BAL","Buy",null,null,null,null,null,null,null,null,null,null,0,0,0,0,0,0,{"$error":"#DIV/0!"},{"$error":"#DIV/0!"},{"$error":"#DIV/0!"},{"$error":"#DIV/0!"}," ",2473,"Ubaldo Jimenez",{"$f":"IF(AQ19<>0,VLOOKUP(AQ19,Info!A:B,2,FALSE),\"\")","v":"BAL"},"jimub",0.22857142857142856,2.8571428571428571E-2,4.4857142857142858,0.37142857142857144,2.8571428571428571E-2,3.4857142857142858,0,0,0,0,null,2473,"Ubaldo Jimenez","Baltimore Orioles","jimub",35,8,1,157,13,1,122]
[3088,"Wade Miley","BAL","Buy",null,null,null,null,null,null,null,null,null,null,0,0,0,0,0,0,{"$error":"#DIV/0!"},{"$error":"#DIV/0!"},{"$error":"#DIV/0!"},{"$error":"#DIV/0!"}," ",3088,"Wade Miley",{"$f":"IF(AQ20<>0,VLOOKUP(AQ20,Info!A:B,2,FALSE),\"\")","v":"BAL"},"milew",0.25714285714285712,2.8571428571428571E-2,4.4571428571428573,0.48571428571428571,2.8571428571428571E-2,3.0857142857142859,0,0,0,0,null,3088,"Wade Miley","Baltimore Orioles","milew",35,9,1,156,17,1,108]
[3051,"Chris Sale","BOS","Buy",null,null,null,null,null,null,null,null,null,null,0,0,0,0,0,0,{"$error":"#DIV/0!"},{"$error":"#DIV/0!"},{"$error":"#DIV/0!"},{"$error":"#DIV/0!"}," ",3051,"Chris Sale",{"$f":"IF(AQ21<>0,VLOOKUP(AQ21,Info!A:B,2,FALSE),\"\")","v":"BOS"},"salch",0.51428571428571423,2.8571428571428571E-2,7.1428571428571432,0.31428571428571428,2.8571428571428571E-2,2.3142857142857145,0,0,0,0,null,3051,"Chris Sale","Boston Red Sox","salch",35,18,1,250,11,1,81]
[2448,"David Price","BOS","Buy",null,null,null,null,null,null,null,null,null,null,0,0,0,0,0,0,{"$error":"#DIV/0!"},{"$error":"#DIV/0!"},{"$error":"#DIV/0!"},{"$error":"#DIV/0!"}," ",2448,"David Price",{"$f":"IF(AQ22<>0,VLOOKUP(AQ22,Info!A:B,2,FALSE),\"\")","v":"BOS"},"prida",0.34285714285714286,2.8571428571428571E-2,4.5714285714285712,0.17142857142857143,2.8571428571428571E-2,2,0,0,0,0,null,2448,"David Price","Boston Red Sox","prida",35,12,1,160,6,1,70]
[2949,"Doug Fister","BOS","Buy",null,null,null,null,null,null,null,null,null,null,0,0,0,0,0,0,{"$error":"#DIV/0!"},{"$error":"#DIV/0!"},{"$error":"#DIV/0!"},{"$error":"#DIV/0!"}," ",2949,"Doug Fister",{"$f":"IF(AQ23<>0,VLOOKUP(AQ23,Info!A:B,2,FALSE),\"\")","v":"BOS"},"fisdo",0.2857142857142857,2.8571428571428571E-2,4.4285714285714288,0.48571428571428571,2.8571428571428571E-2,2.9714285714285715,0,0,0,0,null,2949,"Doug Fister","Boston Red Sox","fisdo",35,10,1,155,17,1,104]
[3552,"Drew Pomeranz","BOS","Buy",null,null,null,null,null,null,null,null,null,null,0,0,0,0,0,0,{"$error":"#DIV/0!"},{"$error":"#DIV/0!"},{"$error":"#DIV/0!"},{"$error":"#DIV/0!"}," ",3552,"Drew Pomeranz",{"$f":"IF(AQ24<>0,VLOOKUP(AQ24,Info!A:B,2,FALSE),\"\")","v":"BOS"},"pomdr",0.54285714285714282,2.8571428571428571E-2,5.3142857142857141,0.22857142857142856,2.8571428571428571E-2,2.0857142857142859,0,0,0,0,null,3552,"Drew Pomeranz","Boston Red Sox","pomdr",35,19,1,186,8,1,73]
[3868,"Joe Kelly","BOS","Buy",null,null,null,null,null,null,null,null,null,null,0,0,0,0,0,0,{"$error":"#DIV/0!"},{"$error":"#DIV/0!"},{"$error":"#DIV/0!"},{"$error":"#DIV/0!"}," ",3868,"Joe Kelly",{"$f":"IF(AQ25<>0,VLOOKUP(AQ25,Info!A:B,2,FALSE),\"\")","v":"BOS"},"keljo",0.22857142857142856,2.8571428571428571E-2,2.1428571428571428,0.17142857142857143,2.8571428571428571E-2,2,0,0,0,0,null,3868,"Joe Kelly","Boston Red Sox","keljo",35,8,1,75,6,1,70]
[2220,"Kyle Kendrick","BOS","Buy",null,null,null,null,null,null,null,null,null,null,0,0,0,0,0,0,{"$error":"#DIV/0!"},{"$error":"#DIV/0!"},{"$error":"#DIV/0!"},{"$error":"#DIV/0!"}," ",2220,"Kyle Kendrick",{"$f":"IF(AQ26<>0,VLOOKUP(AQ26,Info!A:B,2,FALSE),\"\")","v":"BOS"},"kenky",0.2857142857142857,2.8571428571428571E-2,2.9714285714285715,0.48571428571428571,2.8571428571428571E-2,3.7142857142857144,0,0,0,0,null,2220,"Kyle Kendrick","Boston Red Sox","kenky",35,10,1,104,17,1,130]
[2449,"Rick Porcello","BOS","Buy",null,null,null,null,null,null,null,null,null,null,0,0,0,0,0,0,{"$error":"#DIV/0!"},{"$error":"#DIV/0!"},{"$error":"#DIV/0!"},{"$error":"#DIV/0!"}," ",2449,"Rick Porcello",{"$f":"IF(AQ27<>0,VLOOKUP(AQ27,Info!A:B,2,FALSE),\"\")","v":"BOS"},"porri",0.31428571428571428,2.8571428571428571E-2,5.2857142857142856,0.48571428571428571,2.8571428571428571E-2,3.0571428571428569,0,0,0,0,null,2449,"Rick Porcello","Boston Red Sox","porri",35,11,1,185,17,1,107]
[3535,"Roenis Elias","BOS","Buy",null,null,null,null,null,null,null,null,null,null,0,0,0,0,0,0,{"$error":"#DIV/0!"},{"$error":"#DIV/0!"},{"$error":"#DIV/0!"},{"$error":"#DIV/0!"}," ",3535,"Roenis Elias",{"$f":"IF(AQ28<>0,VLOOKUP(AQ28,Info!A:B,2,FALSE),\"\")","v":"BOS"},"eliro",0.22857142857142856,2.8571428571428571E-2,4.4285714285714288,0.37142857142857144,2.8571428571428571E-2,2.4285714285714284,0,0,0,0,null,3535,"Roenis Elias","Boston Red Sox","eliro",35,8,1,155,13,1,85]
[4037,"Steven Wright","BOS","Buy",null,null,null,null,null,null,null,null,null,null,0,0,0,0,0,0,{"$error":"#DIV/0!"},{"$error":"#DIV/0!"},{"$error":"#DIV/0!"},{"$error":"#DIV/0!"}," ",4037,"Steven Wright",{"$f":"IF(AQ29<>0,VLOOKUP(AQ29,Info!A:B,2,FALSE),\"\")","v":"BOS"},"wrist",0.54285714285714282,2.8571428571428571E-2,4.8571428571428568,0.25714285714285712,2.8571428571428571E-2,2.5714285714285716,0,0,0,0,null,4037,"Steven Wright","Boston Red Sox","wrist",35,19,1,170,9,1,90]
[2685,"Brian Duensing","CHC","Buy",null,null,null,null,null,null,null,null,null,null,0,0,0,0,0,0,{"$error":"#DIV/0!"},{"$error":"#DIV/0!"},{"$error":"#DIV/0!"},{"$error":"#DIV/0!"}," ",2685,"Brian Duensing",{"$f":"IF(AQ30<>0,VLOOKUP(AQ30,Info!A:B,2,FALSE),\"\")","v":"CHC"},"duebr",0.22857142857142856,2.8571428571428571E-2,2.1428571428571428,0.17142857142857143,2.8571428571428571E-2,2,0,0,0,0,null,2685,"Brian Duensing","Chicago Cubs","duebr",35,8,1,75,6,1,70]
[2871,"Jake Arrieta","CHC","Buy",null,null,null,null,null,null,null,null,null,null,0,0,0,0,0,0,{"$error":"#DIV/0!"},{"$error":"#DIV/0!"},{"$error":"#DIV/0!"},{"$error":"#DIV/0!"}," ",2871,"Jake Arrieta",{"$f":"IF(AQ31<>0,VLOOKUP(AQ31,Info!A:B,2,FALSE),\"\")","v":"CHC"},"arrja",0.45714285714285713,2.8571428571428571E-2,5.4,0.37142857142857144,2.8571428571428571E-2,2.1428571428571428,0,0,0,0,null,2871,"Jake Arrieta","Chicago Cubs","arrja",35,16,1,189,13,1,75]
[378,"John Lackey","CHC","Buy",null,null,null,null,null,null,null,null,null,null,0,0,0,0,0,0,{"$error":"#DIV/0!"},{"$error":"#DIV/0!"},{"$error":"#DIV/0!"},{"$error":"#DIV/0!"}," ",378,"John Lackey",{"$f":"IF(AQ32<>0,VLOOKUP(AQ32,Info!A:B,2,FALSE),\"\")","v":"CHC"},"lacjo",0.37142857142857144,2.8571428571428571E-2,4.5714285714285712,0.37142857142857144,2.8571428571428571E-2,2.7142857142857144,0,0,0,0,null,378,"John Lackey","Chicago Cubs","lacjo",35,13,1,160,13,1,95]
[1799,"Jon Lester","CHC","Buy",null,null,null,null,null,null,null,null,null,null,0,0,0,0,0,0,{"$error":"#DIV/0!"},{"$error":"#DIV/0!"},{"$error":"#DIV/0!"},{"$error":"#DIV/0!"}," ",1799,"Jon Lester",{"$f":"IF(AQ33<>0,VLOOKUP(AQ33,Info!A:B,2,FALSE),\"\")","v":"CHC"},"lesjo",0.37142857142857144,2.8571428571428571E-2,5.3428571428571425,0.22857142857142856,2.8571428571428571E-2,2.5714285714285716,0,0,0,0,null,1799,"Jon Lester","Chicago Cubs","lesjo",35,13,1,187,8,1,90]
[3263,"Jose Quintana","CHC","Buy",null,null,null,null,null,null,null,null,null,null,0,0,0,0,0,0,{"$error":"#DIV/0!"},{"$error":"#DIV/0!"},{"$error":"#DIV/0!"},{"$error":"#DIV/0!"}," ",3263,"Jose Quintana",{"$f":"IF(AQ34<>0,VLOOKUP(AQ34,Info!A:B,2,FALSE),\"\")","v":"CHC"},"quinj",0.31428571428571428,2.8571428571428571E-2,6.2285714285714286,0.31428571428571428,2.8571428571428571E-2,2.5428571428571427,0,0,0,0,null,3263,"Jose Quintana","Chicago Cubs","quinj",35,11,1,218,11,1,89]
[3872,"Kyle Hendricks","CHC","Buy",null,null,null,null,null,null,null,null,null,null,0,0,0,0,0,0,{"$error":"#DIV/0!"},{"$error":"#DIV/0!"},{"$error":"#DIV/0!"},{"$error":"#DIV/0!"}," ",3872,"Kyle Hendricks",{"$f":"IF(AQ35<>0,VLOOKUP(AQ35,Info!A:B,2,FALSE),\"\")","v":"CHC"},"henky",0.31428571428571428,2.8571428571428571E-2,5.2571428571428571,0.2,2.8571428571428571E-2,2,0,0,0,0,null,3872,"Kyle Hendricks","Chicago Cubs","henky",35,11,1,184,7,1,70]
[2210,"Manny Parra","CHC","Buy",null,null,null,null,null,null,null,null,null,null,0,0,0,0,0,0,{"$error":"#DIV/0!"},{"$error":"#DIV/0!"},{"$error":"#DIV/0!"},{"$error":"#DIV/0!"}," ",2210,"Manny Parra",{"$f":"IF(AQ36<>0,VLOOKUP(AQ36,Info!A:B,2,FALSE),\"\")","v":"CHC"},"parrm",0.22857142857142856,2.8571428571428571E-2,2.1428571428571428,0.17142857142857143,2.8571428571428571E-2,2,0,0,0,0,null,2210,"Manny Parra","Chicago Cubs","parrm",35,8,1,75,6,1,70]
[3871,"Carlos Rodon","CHW","Buy",null,null,null,null,null,null,null,null,null,null,0,0,0,0,0,0,{"$error":"#DIV/0!"},{"$error":"#DIV/0!"},{"$error":"#DIV/0!"},{"$error":"#DIV/0!"}," ",3871,"Carlos Rodon",{"$f":"IF(AQ37<>0,VLOOKUP(AQ37,Info!A:B,2,FALSE),\"\")","v":"CHW"},"rodca",0.22857142857142856,2.8571428571428571E-2,6.3428571428571425,0.42857142857142855,2.8571428571428571E-2,2.6857142857142855,0,0,0,0,null,3871,"Carlos Rodon","Chicago White Sox","rodca",35,8,1,222,15,1,94]
[2846,"Derek Holland","CHW","Buy",null,null,null,null,null,null,null,null,null,null,0,0,0,0,0,0,{"$error":"#DIV/0!"},{"$error":"#DIV/0!"},{"$error":"#DIV/0!"},{"$error":"#DIV/0!"}," ",2846,"Derek Holland",{"$f":"IF(AQ38<>0,VLOOKUP(AQ38,Info!A:B,2,FALSE),\"\")","v":"CHW"},"holde",0.25714285714285712,2.8571428571428571E-2,3.6,0.48571428571428571,2.8571428571428571E-2,3.4,0,0,0,0,null,2846,"Derek Holland","Chicago White Sox","holde",35,9,1,126,17,1,119]
[1983,"James Shields","CHW","Buy",null,null,null,null,null,null,null,null,null,null,0,0,0,0,0,0,{"$error":"#DIV/0!"},{"$error":"#DIV/0!"},{"$error":"#DIV/0!"},{"$error":"#DIV/0!"}," ",1983,"James Shields",{"$f":"IF(AQ39<>0,VLOOKUP(AQ39,Info!A:B,2,FALSE),\"\")","v":"CHW"},"shija",0.25714285714285712,2.8571428571428571E-2,4.9142857142857146,0.34285714285714286,2.8571428571428571E-2,3.2571428571428571,0,0,0,0,null,1983,"James Shields","Chicago White Sox","shija",35,9,1,172,12,1,114]
[2229,"Mike Pelfrey","CHW","Buy",null,null,null,null,null,null,null,null,null,null,0,0,0,0,0,0,{"$error":"#DIV/0!"},{"$error":"#DIV/0!"},{"$error":"#DIV/0!"},{"$error":"#DIV/0!"}," ",2229,"Mike Pelfrey",{"$f":"IF(AQ40<>0,VLOOKUP(AQ40,Info!A:B,2,FALSE),\"\")","v":"CHW"},"pelmi",0.22857142857142856,2.8571428571428571E-2,2.342857142857143,0.37142857142857144,2.8571428571428571E-2,2.342857142857143,0,0,0,0,null,2229,"Mike Pelfrey","Chicago White Sox","pelmi",35,8,1,82,13,1,82]
[4041,"Anthony DeSclafani","CIN","Buy",null,null,null,null,null,null,null,null,null,null,0,0,0,0,0,0,{"$error":"#DIV/0!"},{"$error":"#DIV/0!"},{"$error":"#DIV/0!"},{"$error":"#DIV/0!"}," ",4041,"Anthony DeSclafani",{"$f":"IF(AQ41<>0,VLOOKUP(AQ41,Info!A:B,2,FALSE),\"\")","v":"CIN"},"desan",0.48571428571428571,2.8571428571428571E-2,5.4285714285714288,0.2,2.8571428571428571E-2,2.8571428571428572,0,0,0,0,null,4041,"Anthony DeSclafani","Cincinnati Reds","desan",35,17,1,190,7,1,100]
[1473,"Bronson Arroyo","CIN","Buy",null,null,null,null,null,null,null,null,null,null,0,0,0,0,0,0,{"$error":"#DIV/0!"},{"$error":"#DIV/0!"},{"$error":"#DIV/0!"},{"$error":"#DIV/0!"}," ",1473,"Bronson Arroyo",{"$f":"IF(AQ42<>0,VLOOKUP(AQ42,Info!A:B,2,FALSE),\"\")","v":"CIN"},"arrbr",0.22857142857142856,2.8571428571428571E-2,3.2285714285714286,0.42857142857142855,2.8571428571428571E-2,4.1428571428571432,0,0,0,0,null,1473,"Bronson Arroyo","Cincinnati Reds","arrbr",35,8,1,113,15,1,145]
[2908,"Homer Bailey","CIN","Buy",null,null,null,null,null,null,null,null,null,null,0,0,0,0,0,0,{"$error":"#DIV/0!"},{"$error":"#DIV/0!"},{"$error":"#DIV/0!"},{"$error":"#DIV/0!"}," ",2908,"Homer Bailey",{"$f":"IF(AQ43<>0,VLOOKUP(AQ43,Info!A:B,2,FALSE),\"\")","v":"CIN"},"baiho",0.37142857142857144,2.8571428571428571E-2,3.8285714285714287,0.48571428571428571,2.8571428571428571E-2,3.3714285714285714,0,0,0,0,null,2908,"Homer Bailey","Cincinnati Reds","baiho",35,13,1,134,17,1,118]
[2474,"Scott Feldman","CIN","Buy",null,null,null,null,null,null,null,null,null,null,0,0,0,0,0,0,{"$error":"#DIV/0!"},{"$error":"#DIV/0!"},{"$error":"#DIV/0!"},{"$error":"#DIV/0!"}," ",2474,"Scott Feldman",{"$f":"IF(AQ44<>0,VLOOKUP(AQ44,Info!A:B,2,FALSE),\"\")","v":"CIN"},"felsc",0.34285714285714286,2.8571428571428571E-2,4.4285714285714288,0.34285714285714286,5.7142857142857141E-2,2.8285714285714287,0,0,0,0,null,2474,"Scott Feldman","Cincinnati Reds","felsc",35,12,1,155,12,2,99]
[2891,"Carlos Carrasco","CLE","Buy",null,null,null,null,null,null,null,null,null,null,0,0,0,0,0,0,{"$error":"#DIV/0!"},{"$error":"#DIV/0!"},{"$error":"#DIV/0!"},{"$error":"#DIV/0!"}," ",2891,"Carlos Carrasco",{"$f":"IF(AQ45<>0,VLOOKUP(AQ45,Info!A:B,2,FALSE),\"\")","v":"CLE"},"carca",0.5714285714285714,2.8571428571428571E-2,7.0857142857142854,0.2,2.8571428571428571E-2,2.2285714285714286,0,0,0,0,null,2891,"Carlos Carrasco","Cleveland Indians","carca",35,20,1,248,7,1,78]
[3501,"Corey Kluber","CLE","Buy",null,null,null,null,null,null,null,null,null,null,0,0,0,0,0,0,{"$error":"#DIV/0!"},{"$error":"#DIV/0!"},{"$error":"#DIV/0!"},{"$error":"#DIV/0!"}," ",3501,"Corey Kluber",{"$f":"IF(AQ46<>0,VLOOKUP(AQ46,Info!A:B,2,FALSE),\"\")","v":"CLE"},"kluco",0.5714285714285714,2.8571428571428571E-2,7.1428571428571432,0.17142857142857143,0.11428571428571428,2,0,0,0,0,null,3501,"Corey Kluber","Cleveland Indians","kluco",35,20,1,250,6,4,70]
[3511,"Danny Salazar","CLE","Buy",null,null,null,null,null,null,null,null,null,null,0,0,0,0,0,0,{"$error":"#DIV/0!"},{"$error":"#DIV/0!"},{"$error":"#DIV/0!"},{"$error":"#DIV/0!"}," ",3511,"Danny Salazar",{"$f":"IF(AQ47<>0,VLOOKUP(AQ47,Info!A:B,2,FALSE),\"\")","v":"CLE"},"salda",0.22857142857142856,2.8571428571428571E-2,6.1714285714285717,0.25714285714285712,2.8571428571428571E-2,2.0571428571428569,0,0,0,0,null,3511,"Danny Salazar","Cleveland Indians","salda",35,8,1,216,9,1,72]
[2849,"Josh Tomlin","CLE","Buy",null,null,null,null,null,null,null,null,null,null,0,0,0,0,0,0,{"$error":"#DIV/0!"},{"$error":"#DIV/0!"},{"$error":"#DIV/0!"},{"$error":"#DIV/0!"}," ",2849,"Josh Tomlin",{"$f":"IF(AQ48<>0,VLOOKUP(AQ48,Info!A:B,2,FALSE),\"\")","v":"CLE"},"tomjo",0.4,2.8571428571428571E-2,4.0571428571428569,0.34285714285714286,2.8571428571428571E-2,2.8,0,0,0,0,null,2849,"Josh Tomlin","Cleveland Indians","tomjo",35,14,1,142,12,1,98]
[1965,"Tom Gorzelanny","CLE","Buy",null,null,null,null,null,null,null,null,null,null,0,0,0,0,0,0,{"$error":"#DIV/0!"},{"$error":"#DIV/0!"},{"$error":"#DIV/0!"},{"$error":"#DIV/0!"}," ",1965,"Tom Gorzelanny",{"$f":"IF(AQ49<>0,VLOOKUP(AQ49,Info!A:B,2,FALSE),\"\")","v":"CLE"},"gorzt",0.22857142857142856,2.8571428571428571E-2,2.1428571428571428,0.17142857142857143,2.8571428571428571E-2,2,0,0,0,0,null,1965,"Tom Gorzelanny","Cleveland Indians","gorzt",35,8,1,75,6,1,70]
[3836,"Trevor Bauer","CLE","Buy",null,null,null,null,null,null,null,null,null,null,0,0,0,0,0,0,{"$error":"#DIV/0!"},{"$error":"#DIV/0!"},{"$error":"#DIV/0!"},{"$error":"#DIV/0!"}," ",3836,"Trevor Bauer",{"$f":"IF(AQ50<>0,VLOOKUP(AQ50,Info!A:B,2,FALSE),\"\")","v":"CLE"},"bautr",0.54285714285714282,2.8571428571428571E-2,6.1142857142857139,0.31428571428571428,2.8571428571428571E-2,2.4285714285714284,0,0,0,0,null,3836,"Trevor Bauer","Cleveland Indians","bautr",35,19,1,214,11,1,85]
[3308,"Tyler Chatwood","COL","Buy",null,null,null,null,null,null,null,null,null,null,0,0,0,0,0,0,{"$error":"#DIV/0!"},{"$error":"#DIV/0!"},{"$error":"#DIV/0!"},{"$error":"#DIV/0!"}," ",3308,"Tyler Chatwood",{"$f":"IF(AQ51<>0,VLOOKUP(AQ51,Info!A:B,2,FALSE),\"\")","v":"COL"},"chaty",0.25714285714285712,5.7142857142857141E-2,3.657142857142857,0.45714285714285713,5.7142857142857141E-2,2.3142857142857145,0,0,0,0,null,3308,"Tyler Chatwood","Colorado Rockies","chaty",35,9,2,128,16,2,81]
[2873,"Anibal Sanchez","DET","Buy",null,null,null,null,null,null,null,null,null,null,0,0,0,0,0,0,{"$error":"#DIV/0!"},{"$error":"#DIV/0!"},{"$error":"#DIV/0!"},{"$error":"#DIV/0!"}," ",2873,"Anibal Sanchez",{"$f":"IF(AQ52<>0,VLOOKUP(AQ52,Info!A:B,2,FALSE),\"\")","v":"DET"},"sanan",0.22857142857142856,2.8571428571428571E-2,3.7142857142857144,0.2857142857142857,2.8571428571428571E-2,2.9142857142857141,0,0,0,0,null,2873,"Anibal Sanchez","Detroit Tigers","sanan",35,8,1,130,10,1,102]
[4174,"Jim Bunning","DET","Buy",null,null,null,null,null,null,null,null,null,null,0,0,0,0,0,0,{"$error":"#DIV/0!"},{"$error":"#DIV/0!"},{"$error":"#DIV/0!"},{"$error":"#DIV/0!"}," ",4174,"Jim Bunning",{"$f":"IF(AQ53<>0,VLOOKUP(AQ53,Info!A:B,2,FALSE),\"\")","v":"DET"},"bunji",1,1,1,1,1,1,0,0,0,0,null,4174,"Jim Bunning","Detroit Tigers","bunji",1,1,1,1,1,1,1]
[2892,"Jordan Zimmermann","DET","Buy",null,null,null,null,null,null,null,null,null,null,0,0,0,0,0,0,{"$error":"#DIV/0!"},{"$error":"#DIV/0!"},{"$error":"#DIV/0!"},{"$error":"#DIV/0!"}," ",2892,"Jordan Zimmermann",{"$f":"IF(AQ54<>0,VLOOKUP(AQ54,Info!A:B,2,FALSE),\"\")","v":"DET"},"zimjo",0.2857142857142857,2.8571428571428571E-2,3.5714285714285716,0.45714285714285713,2.8571428571428571E-2,3.7428571428571429,0,0,0,0,null,2892,"Jordan Zimmermann","Detroit Tigers","zimjo",35,10,1,125,16,1,131]
[4164,"Michael Fulmer","DET","Buy",null,null,null,null,null,null,null,null,null,null,0,0,0,0,0,0,{"$error":"#DIV/0!"},{"$error":"#DIV/0!"},{"$error":"#DIV/0!"},{"$error":"#DIV/0!"}," ",4164,"Michael Fulmer",{"$f":"IF(AQ55<>0,VLOOKUP(AQ55,Info!A:B,2,FALSE),\"\")","v":"DET"},"fulmi",0.4,2.8571428571428571E-2,4.371428571428571,0.48571428571428571,2.8571428571428571E-2,2.8,0,0,0,0,null,4164,"Michael Fulmer","Detroit Tigers","fulmi",35,14,1,153,17,1,98]
[2435,"Aaron Laffey","XXX","Buy",null,null,null,null,null,null,null,null,null,null,0,0,0,0,0,0,{"$error":"#DIV/0!"},{"$error":"#DIV/0!"},{"$error":"#DIV/0!"},{"$error":"#DIV/0!"}," ",2435,"Aaron Laffey",{"$f":"IF(AQ56<>0,VLOOKUP(AQ56,Info!A:B,2,FALSE),\"\")","v":"XXX"},"lafaa",0.22857142857142856,2.8571428571428571E-2,2.2000000000000002,0.2857142857142857,2.8571428571428571E-2,2.4285714285714284,0,0,0,0,null,2435,"Aaron Laffey","FA/RET/DEC/HON","lafaa",35,8,1,77,10,1,85]
[2660,"Alfredo Simon","XXX","Buy",null,null,null,null,null,null,null,null,null,null,0,0,0,0,0,0,{"$error":"#DIV/0!"},{"$error":"#DIV/0!"},{"$error":"#DIV/0!"},{"$error":"#DIV/0!"}," ",2660,"Alfredo Simon",{"$f":"IF(AQ57<>0,VLOOKUP(AQ57,Info!A:B,2,FALSE),\"\")","v":"XXX"},"simal",0.22857142857142856,2.8571428571428571E-2,2.6,0.48571428571428571,2.8571428571428571E-2,4.0857142857142854,0,0,0,0,null,2660,"Alfredo Simon","FA/RET/DEC/HON","simal",35,8,1,91,17,1,143]
[3066,"Brandon Beachy","XXX","Buy",null,null,null,null,null,null,null,null,null,null,0,0,0,0,0,0,{"$error":"#DIV/0!"},{"$error":"#DIV/0!"},{"$error":"#DIV/0!"},{"$error":"#DIV/0!"}," ",3066,"Brandon Beachy",{"$f":"IF(AQ58<>0,VLOOKUP(AQ58,Info!A:B,2,FALSE),\"\")","v":"XXX"},"beabr",0.4,2.8571428571428571E-2,5.2571428571428571,0.4,2.8571428571428571E-2,2,0,0,0,0,null,3066,"Brandon Beachy","FA/RET/DEC/HON","beabr",35,14,1,184,14,1,70]
[2202,"C.J. Wilson","XXX","Buy",null,null,null,null,null,null,null,null,null,null,0,0,0,0,0,0,{"$error":"#DIV/0!"},{"$error":"#DIV/0!"},{"$error":"#DIV/0!"},{"$error":"#DIV/0!"}," ",2202,"C.J. Wilson",{"$f":"IF(AQ59<>0,VLOOKUP(AQ59,Info!A:B,2,FALSE),\"\")","v":"XXX"},"wilcj",0.4,2.8571428571428571E-2,5.2571428571428571,0.4,2.8571428571428571E-2,2.7142857142857144,0,0,0,0,null,2202,"C.J. Wilson","FA/RET/DEC/HON","wilcj",35,14,1,184,14,1,95]
[1527,"Chris Capuano","XXX","Buy",null,null,null,null,null,null,null,null,null,null,0,0,0,0,0,0,{"$error":"#DIV/0!"},{"$error":"#DIV/0!"},{"$error":"#DIV/0!"},{"$error":"#DIV/0!"}," ",1527,"Chris Capuano",{"$f":"IF(AQ60<>0,VLOOKUP(AQ60,Info!A:B,2,FALSE),\"\")","v":"XXX"},"capch",0.22857142857142856,2.8571428571428571E-2,2.1428571428571428,0.17142857142857143,2.8571428571428571E-2,2,0,0,0,0,null,1527,"Chris Capuano","FA/RET/DEC/HON","capch",35,8,1,75,6,1,70]
[2845,"Colby Lewis","XXX","Buy",null,null,null,null,null,null,null,null,null,null,0,0,0,0,0,0,{"$error":"#DIV/0!"},{"$error":"#DIV/0!"},{"$error":"#DIV/0!"},{"$error":"#DIV/0!"}," ",2845,"Colby Lewis",{"$f":"IF(AQ61<>0,VLOOKUP(AQ61,Info!A:B,2,FALSE),\"\")","v":"XXX"},"lewco",0.31428571428571428,2.8571428571428571E-2,3.7714285714285714,0.25714285714285712,2.8571428571428571E-2,2.657142857142857,0,0,0,0,null,2845,"Colby Lewis","FA/RET/DEC/HON","lewco",35,11,1,132,9,1,93]
[804,"Jake Peavy","XXX","Buy",null,null,null,null,null,null,null,null,null,null,0,0,0,0,0,0,{"$error":"#DIV/0!"},{"$error":"#DIV/0!"},{"$error":"#DIV/0!"},{"$error":"#DIV/0!"}," ",804,"Jake Peavy",{"$f":"IF(AQ62<>0,VLOOKUP(AQ62,Info!A:B,2,FALSE),\"\")","v":"XXX"},"peaja",0.22857142857142856,2.8571428571428571E-2,3.3142857142857145,0.31428571428571428,2.8571428571428571E-2,2.342857142857143,0,0,0,0,null,804,"Jake Peavy","FA/RET/DEC/HON","peaja",35,8,1,116,11,1,82]
[3151,"Jarrod Parker","XXX","Buy",null,null,null,null,null,null,null,null,null,null,0,0,0,0,0,0,{"$error":"#DIV/0!"},{"$error":"#DIV/0!"},{"$error":"#DIV/0!"},{"$error":"#DIV/0!"}," ",3151,"Jarrod Parker",{"$f":"IF(AQ63<>0,VLOOKUP(AQ63,Info!A:B,2,FALSE),\"\")","v":"XXX"},"parja",0.42857142857142855,2.8571428571428571E-2,4.0857142857142854,0.22857142857142856,2.8571428571428571E-2,2.8,0,0,0,0,null,3151,"Jarrod Parker","FA/RET/DEC/HON","parja",35,15,1,143,8,1,98]
[2179,"John Danks","XXX","Buy",null,null,null,null,null,null,null,null,null,null,0,0,0,0,0,0,{"$error":"#DIV/0!"},{"$error":"#DIV/0!"},{"$error":"#DIV/0!"},{"$error":"#DIV/0!"}," ",2179,"John Danks",{"$f":"IF(AQ64<>0,VLOOKUP(AQ64,Info!A:B,2,FALSE),\"\")","v":"XXX"},"danjo",0.25714285714285712,2.8571428571428571E-2,4.1428571428571432,0.51428571428571423,5.7142857142857141E-2,3.0571428571428569,0,0,0,0,null,2179,"John Danks","FA/RET/DEC/HON","danjo",35,9,1,145,18,2,107]
[2667,"Jonathon Niese","XXX","Buy",null,null,null,null,null,null,null,null,null,null,0,0,0,0,0,0,{"$error":"#DIV/0!"},{"$error":"#DIV/0!"},{"$error":"#DIV/0!"},{"$error":"#DIV/0!"}," ",2667,"Jonathon Niese",{"$f":"IF(AQ65<>0,VLOOKUP(AQ65,Info!A:B,2,FALSE),\"\")","v":"XXX"},"niesj",0.2857142857142857,2.8571428571428571E-2,3.0571428571428569,0.25714285714285712,2.8571428571428571E-2,2.657142857142857,0,0,0,0,null,2667,"Jonathon Niese","FA/RET/DEC/HON","niesj",35,10,1,107,9,1,93]
[2848,"Kyle Drabek","XXX","Buy",null,null,null,null,null,null,null,null,null,null,0,0,0,0,0,0,{"$error":"#DIV/0!"},{"$error":"#DIV/0!"},{"$error":"#DIV/0!"},{"$error":"#DIV/0!"}," ",2848,"Kyle Drabek",{"$f":"IF(AQ66<>0,VLOOKUP(AQ66,Info!A:B,2,FALSE),\"\")","v":"XXX"},"draky",0.31428571428571428,2.8571428571428571E-2,3.6285714285714286,0.54285714285714282,2.8571428571428571E-2,3,0,0,0,0,null,2848,"Kyle Drabek","FA/RET/DEC/HON","draky",35,11,1,127,19,1,105]
[{"$f":"IF(Z67<>0,Z67,\"\")","v":2471},{"$f":"IF(A67<>0,VLOOKUP(A67,Z:AA,2,FALSE),\"\")","v":"Luke Hochevar"},{"$f":"IF(A67<>0,VLOOKUP(A67,Z:AB,3,FALSE))","v":"XXX"},{"$f":"HYPERLINK(\"http://www.jockstocks.com/buysell.php?action=buymax&plid=\"&A67,\"Buy\")","v":"Buy"},null,null,null,null,null,null,null,null,null,null,{"$f":"VLOOKUP($A67,$A:$N,5,FALSE)/VLOOKUP($A67,$Z:$AM,5,FALSE)","v":0},{"$f":"VLOOKUP($A67,$A:$N,6,FALSE)/VLOOKUP($A67,$Z:$AM,6,FALSE)","v":0},{"$f":"VLOOKUP($A67,$A:$N,7,FALSE)/VLOOKUP($A67,$Z:$AM,7,FALSE)","v":0},{"$f":"VLOOKUP($A67,$A:$N,8,FALSE)/VLOOKUP($A67,$Z:$AM,8,FALSE)","v":0},{"$f":"VLOOKUP($A67,$A:$N,9,FALSE)/VLOOKUP($A67,$Z:$AM,9,FALSE)","v":0},{"$f":"VLOOKUP($A67,$A:$N,10,FALSE)/VLOOKUP($A67,$Z:$AM,10,FALSE)","v":0},{"$f":"VLOOKUP($A67,$A:$N,11,FALSE)/VLOOKUP($A67,$Z:$AM,11,FALSE)","v":{"$error":"#DIV/0!"}},{"$f":"VLOOKUP($A67,$A:$N,12,FALSE)/VLOOKUP($A67,$Z:$AM,12,FALSE)","v":{"$error":"#DIV/0!"}},{"$f":"VLOOKUP($A67,$A:$N,13,FALSE)/VLOOKUP($A67,$Z:$AM,13,FALSE)","v":{"$error":"#DIV/0!"}},{"$f":"VLOOKUP($A67,$A:$N,14,FALSE)/VLOOKUP($A67,$Z:$AM,14,FALSE)","v":{"$error":"#DIV/0!"}}," ",{"$f":"IF(AO67<>0,AO67,\"\")","v":2471},{"$f":"IF(AP67<>0,VLOOKUP(Z67,AO:AP,2,FALSE),\"\")","v":"Luke Hochevar"},{"$f":"IF(AQ67<>0,VLOOKUP(AQ67,Info!A:B,2,FALSE),\"\")","v":"XXX"},{"$f":"IF(AO67<>0,VLOOKUP(Z67,AO:AR,4,FALSE),\"\")","v":"hoclu"},{"$f":"IF($AO67<>0,AT67/$AS67,\"\")","v":0.22857142857142856},{"$f":"IF($AO67<>0,AU67/$AS67,\"\")","v":2.8571428571428571E-2},{"$f":"IF($AO67<>0,AV67/$AS67,\"\")","v":2.1428571428571428},{"$f":"IF($AO67<>0,AW67/$AS67,\"\")","v":0.17142857142857143},{"$f":"IF($AO67<>0,AX67/$AS67,\"\")","v":2.8571428571428571E-2},{"$f":"IF($AO67<>0,AY67/$AS67,\"\")","v":2},{"$f":"IF($AO67<>0,BL67/$AS67,\"\")","v":0},{"$f":"IF($AO67<>0,BM67/$AS67,\"\")","v":0},{"$f":"IF($AO67<>0,BN67/$AS67,\"\")","v":0},{"$f":"IF($AO67<>0,BO67/$AS67,\"\")","v":0},null,2471,"Luke Hochevar","FA/RET/DEC/HON","hoclu",35,8,1,75,6,1,70]
[744,"Mark Buehrle","XXX","Buy",null,null,null,null,null,null,null,null,null,null,0,0,0,0,0,0,{"$error":"#DIV/0!"},{"$error":"#DIV/0!"},{"$error":"#DIV/0!"},{"$error":"#DIV/0!"}," ",744,"Mark Buehrle",{"$f":"IF(AQ68<>0,VLOOKUP(AQ68,Info!A:B,2,FALSE),\"\")","v":"XXX"},"buema",0.48571428571428571,2.8571428571428571E-2,2.8571428571428572,0.25714285714285712,5.7142857142857141E-2,2.6285714285714286,0,0,0,0,null,744,"Mark Buehrle","FA/RET/DEC/HON","buema",35,17,1,100,9,2,92]
[3086,"Matt Harrison","XXX","Buy",null,null,null,null,null,null,null,null,null,null,0,0,0,0,0,0,{"$error":"#DIV/0!"},{"$error":"#DIV/0!"},{"$error":"#DIV/0!"},{"$error":"#DIV/0!"}," ",3086,"Matt Harrison",{"$f":"IF(AQ69<>0,VLOOKUP(AQ69,Info!A:B,2,FALSE),\"\")","v":"XXX"},"harrm",0.5714285714285714,2.8571428571428571E-2,4.1714285714285717,0.37142857142857144,5.7142857142857141E-2,2.4571428571428573,0,0,0,0,null,3086,"Matt Harrison","FA/RET/DEC/HON","harrm",35,20,1,146,13,2,86]
[1978,"Roberto Hernandez","XXX","Buy",null,null,null,null,null,null,null,null,null,null,0,0,0,0,0,0,{"$error":"#DIV/0!"},{"$error":"#DIV/0!"},{"$error":"#DIV/0!"},{"$error":"#DIV/0!"}," ",1978,"Roberto Hernandez",{"$f":"IF(AQ70<>0,VLOOKUP(AQ70,Info!A:B,2,FALSE),\"\")","v":"XXX"},"herro",0.22857142857142856,2.8571428571428571E-2,2.1428571428571428,0.25714285714285712,2.8571428571428571E-2,2.0571428571428569,0,0,0,0,null,1978,"Roberto Hernandez","FA/RET/DEC/HON","herro",35,8,1,75,9,1,72]
[751,"Roy Halladay","XXX","Buy",null,null,null,null,null,null,null,null,null,null,0,0,0,0,0,0,{"$error":"#DIV/0!"},{"$error":"#DIV/0!"},{"$error":"#DIV/0!"},{"$error":"#DIV/0!"}," ",751,"Roy Halladay",{"$f":"IF(AQ71<>0,VLOOKUP(AQ71,Info!A:B,2,FALSE),\"\")","v":"XXX"},"halro",0.31428571428571428,2.8571428571428571E-2,3.9428571428571431,0.4,2.8571428571428571E-2,3.6285714285714286,0,0,0,0,null,751,"Roy Halladay","FA/RET/DEC/HON","halro",35,11,1,138,14,1,127]
[2887,"Ryan Vogelsong","XXX","Buy",null,null,null,null,null,null,null,null,null,null,0,0,0,0,0,0,{"$error":"#DIV/0!"},{"$error":"#DIV/0!"},{"$error":"#DIV/0!"},{"$error":"#DIV/0!"}," ",2887,"Ryan Vogelsong",{"$f":"IF(AQ72<>0,VLOOKUP(AQ72,Info!A:B,2,FALSE),\"\")","v":"XXX"},"vogry",0.22857142857142856,2.8571428571428571E-2,2.5428571428571427,0.31428571428571428,2.8571428571428571E-2,2,0,0,0,0,null,2887,"Ryan Vogelsong","FA/RET/DEC/HON","vogry",35,8,1,89,11,1,70]
[1992,"Tim Lincecum","XXX","Buy",null,null,null,null,null,null,null,null,null,null,0,0,0,0,0,0,{"$error":"#DIV/0!"},{"$error":"#DIV/0!"},{"$error":"#DIV/0!"},{"$error":"#DIV/0!"}," ",1992,"Tim Lincecum",{"$f":"IF(AQ73<>0,VLOOKUP(AQ73,Info!A:B,2,FALSE),\"\")","v":"XXX"},"linti",0.48571428571428571,2.8571428571428571E-2,4,0.2857142857142857,2.8571428571428571E-2,2.342857142857143,0,0,0,0,null,1992,"Tim Lincecum","FA/RET/DEC/HON","linti",35,17,1,140,10,1,82]
[3505,"Yordano Ventura","XXX","Buy",null,null,null,null,null,null,null,null,null,null,0,0,0,0,0,0,{"$error":"#DIV/0!"},{"$error":"#DIV/0!"},{"$error":"#DIV/0!"},{"$error":"#DIV/0!"}," ",3505,"Yordano Ventura",{"$f":"IF(AQ74<>0,VLOOKUP(AQ74,Info!A:B,2,FALSE),\"\")","v":"XXX"},"venyo",0.37142857142857144,2.8571428571428571E-2,4.5142857142857142,0.4,2.8571428571428571E-2,2.8857142857142857,0,0,0,0,null,3505,"Yordano Ventura","FA/RET/DEC/HON","venyo",35,13,1,158,14,1,101]
[3574,"Charlie Morton","HOU","Buy",null,null,null,null,null,null,null,null,null,null,0,0,0,0,0,0,{"$error":"#DIV/0!"},{"$error":"#DIV/0!"},{"$error":"#DIV/0!"},{"$error":"#DIV/0!"}," ",3574,"Charlie Morton",{"$f":"IF(AQ75<>0,VLOOKUP(AQ75,Info!A:B,2,FALSE),\"\")","v":"HOU"},"morch",0.54285714285714282,2.8571428571428571E-2,6.371428571428571,0.31428571428571428,2.8571428571428571E-2,2.5428571428571427,0,0,0,0,null,3574,"Charlie Morton","Houston Astros","morch",35,19,1,223,11,1,89]
[3547,"Collin McHugh","HOU","Buy",null,null,null,null,null,null,null,null,null,null,0,0,0,0,0,0,{"$error":"#DIV/0!"},{"$error":"#DIV/0!"},{"$error":"#DIV/0!"},{"$error":"#DIV/0!"}," ",3547,"Collin McHugh",{"$f":"IF(AQ76<>0,VLOOKUP(AQ76,Info!A:B,2,FALSE),\"\")","v":"HOU"},"mchco",0.4,2.8571428571428571E-2,5,0.17142857142857143,2.8571428571428571E-2,2,0,0,0,0,null,3547,"Collin McHugh","Houston Astros","mchco",35,14,1,175,6,1,70]
[3555,"Dallas Keuchel","HOU","Buy",null,null,null,null,null,null,null,null,null,null,0,0,0,0,0,0,{"$error":"#DIV/0!"},{"$error":"#DIV/0!"},{"$error":"#DIV/0!"},{"$error":"#DIV/0!"}," ",3555,"Dallas Keuchel",{"$f":"IF(AQ77<>0,VLOOKUP(AQ77,Info!A:B,2,FALSE),\"\")","v":"HOU"},"keuda",0.5714285714285714,2.8571428571428571E-2,5.6857142857142859,0.2,2.8571428571428571E-2,2,0,0,0,0,null,3555,"Dallas Keuchel","Houston Astros","keuda",35,20,1,199,7,1,70]
[1785,"Francisco Liriano","HOU","Buy",null,null,null,null,null,null,null,null,null,null,0,0,0,0,0,0,{"$error":"#DIV/0!"},{"$error":"#DIV/0!"},{"$error":"#DIV/0!"},{"$error":"#DIV/0!"}," ",1785,"Francisco Liriano",{"$f":"IF(AQ78<>0,VLOOKUP(AQ78,Info!A:B,2,FALSE),\"\")","v":"HOU"},"lirfr",0.22857142857142856,2.8571428571428571E-2,2.1428571428571428,0.2,2.8571428571428571E-2,2,0,0,0,0,null,1785,"Francisco Liriano","Houston Astros","lirfr",35,8,1,75,7,1,70]
[1762,"Justin Verlander","HOU","Buy",null,null,null,null,null,null,null,null,null,null,0,0,0,0,0,0,{"$error":"#DIV/0!"},{"$error":"#DIV/0!"},{"$error":"#DIV/0!"},{"$error":"#DIV/0!"}," ",1762,"Justin Verlander",{"$f":"IF(AQ79<>0,VLOOKUP(AQ79,Info!A:B,2,FALSE),\"\")","v":"HOU"},"verju",0.51428571428571423,2.8571428571428571E-2,6.5428571428571427,0.22857142857142856,2.8571428571428571E-2,2.2571428571428571,0,0,0,0,null,1762,"Justin Verlander","Houston Astros","verju",35,18,1,229,8,1,79]
[3873,"Lance McCullers","HOU","Buy",null,null,null,null,null,null,null,null,null,null,0,0,0,0,0,0,{"$error":"#DIV/0!"},{"$error":"#DIV/0!"},{"$error":"#DIV/0!"},{"$error":"#DIV/0!"}," ",3873,"Lance McCullers",{"$f":"IF(AQ80<>0,VLOOKUP(AQ80,Info!A:B,2,FALSE),\"\")","v":"HOU"},"mccla",0.31428571428571428,2.8571428571428571E-2,5.9142857142857146,0.2,2.8571428571428571E-2,2.5428571428571427,0,0,0,0,null,3873,"Lance McCullers","Houston Astros","mccla",35,11,1,207,7,1,89]
[3800,"Mike Fiers","HOU","Buy",null,null,null,null,null,null,null,null,null,null,0,0,0,0,0,0,{"$error":"#DIV/0!"},{"$error":"#DIV/0!"},{"$error":"#DIV/0!"},{"$error":"#DIV/0!"}," ",3800,"Mike Fiers",{"$f":"IF(AQ81<>0,VLOOKUP(AQ81,Info!A:B,2,FALSE),\"\")","v":"HOU"},"fiemi",0.2857142857142857,2.8571428571428571E-2,5.0571428571428569,0.37142857142857144,2.8571428571428571E-2,3.1142857142857143,0,0,0,0,null,3800,"Mike Fiers","Houston Astros","fiemi",35,10,1,177,13,1,109]
[1502,"Chris Young","KAN","Buy",null,null,null,null,null,null,null,null,null,null,0,0,0,0,0,0,{"$error":"#DIV/0!"},{"$error":"#DIV/0!"},{"$error":"#DIV/0!"},{"$error":"#DIV/0!"}," ",1502,"Chris Young",{"$f":"IF(AQ82<>0,VLOOKUP(AQ82,Info!A:B,2,FALSE),\"\")","v":"KAN"},"youch",0.22857142857142856,2.8571428571428571E-2,2.1428571428571428,0.17142857142857143,2.8571428571428571E-2,2,0,0,0,0,null,1502,"Chris Young","Kansas City Royals","youch",35,8,1,75,6,1,70]
[3044,"Danny Duffy","KAN","Buy",null,null,null,null,null,null,null,null,null,null,0,0,0,0,0,0,{"$error":"#DIV/0!"},{"$error":"#DIV/0!"},{"$error":"#DIV/0!"},{"$error":"#DIV/0!"}," ",3044,"Danny Duffy",{"$f":"IF(AQ83<>0,VLOOKUP(AQ83,Info!A:B,2,FALSE),\"\")","v":"KAN"},"dufda",0.4,2.8571428571428571E-2,5.4285714285714288,0.42857142857142855,2.8571428571428571E-2,2.6,0,0,0,0,null,3044,"Danny Duffy","Kansas City Royals","dufda",35,14,1,190,15,1,91]
[2622,"Ian Kennedy","KAN","Buy",null,null,null,null,null,null,null,null,null,null,0,0,0,0,0,0,{"$error":"#DIV/0!"},{"$error":"#DIV/0!"},{"$error":"#DIV/0!"},{"$error":"#DIV/0!"}," ",2622,"Ian Kennedy",{"$f":"IF(AQ84<>0,VLOOKUP(AQ84,Info!A:B,2,FALSE),\"\")","v":"KAN"},"kenia",0.22857142857142856,2.8571428571428571E-2,4.371428571428571,0.45714285714285713,2.8571428571428571E-2,3.0857142857142859,0,0,0,0,null,2622,"Ian Kennedy","Kansas City Royals","kenia",35,8,1,153,16,1,108]
[2664,"Jason Hammel","KAN","Buy",null,null,null,null,null,null,null,null,null,null,0,0,0,0,0,0,{"$error":"#DIV/0!"},{"$error":"#DIV/0!"},{"$error":"#DIV/0!"},{"$error":"#DIV/0!"}," ",2664,"Jason Hammel",{"$f":"IF(AQ85<>0,VLOOKUP(AQ85,Info!A:B,2,FALSE),\"\")","v":"KAN"},"hamja",0.25714285714285712,2.8571428571428571E-2,4.5428571428571427,0.42857142857142855,2.8571428571428571E-2,3.3142857142857145,0,0,0,0,null,2664,"Jason Hammel","Kansas City Royals","hamja",35,9,1,159,15,1,116]
[2669,"Jason Vargas","KAN","Buy",null,null,null,null,null,null,null,null,null,null,0,0,0,0,0,0,{"$error":"#DIV/0!"},{"$error":"#DIV/0!"},{"$error":"#DIV/0!"},{"$error":"#DIV/0!"}," ",2669,"Jason Vargas",{"$f":"IF(AQ86<>0,VLOOKUP(AQ86,Info!A:B,2,FALSE),\"\")","v":"KAN"},"vargj",0.5714285714285714,2.8571428571428571E-2,4.2,0.37142857142857144,5.7142857142857141E-2,2.6,0,0,0,0,null,2669,"Jason Vargas","Kansas City Royals","vargj",35,20,1,147,13,2,91]
[3046,"Mike Minor","KAN","Buy",null,null,null,null,null,null,null,null,null,null,0,0,0,0,0,0,{"$error":"#DIV/0!"},{"$error":"#DIV/0!"},{"$error":"#DIV/0!"},{"$error":"#DIV/0!"}," ",3046,"Mike Minor",{"$f":"IF(AQ87<>0,VLOOKUP(AQ87,Info!A:B,2,FALSE),\"\")","v":"KAN"},"minom",0.22857142857142856,0.11428571428571428,2.1428571428571428,0.17142857142857143,2.8571428571428571E-2,2,0,0,0,0,null,3046,"Mike Minor","Kansas City Royals","minom",35,8,4,75,6,1,70]
[2662,"Trevor Cahill","KAN","Buy",null,null,null,null,null,null,null,null,null,null,0,0,0,0,0,0,{"$error":"#DIV/0!"},{"$error":"#DIV/0!"},{"$error":"#DIV/0!"},{"$error":"#DIV/0!"}," ",2662,"Trevor Cahill",{"$f":"IF(AQ88<>0,VLOOKUP(AQ88,Info!A:B,2,FALSE),\"\")","v":"KAN"},"cahtr",0.22857142857142856,2.8571428571428571E-2,4.1428571428571432,0.17142857142857143,2.8571428571428571E-2,2.2000000000000002,0,0,0,0,null,2662,"Trevor Cahill","Kansas City Royals","cahtr",35,8,1,145,6,1,77]
[2628,"Bud Norris","LAA","Buy",null,null,null,null,null,null,null,null,null,null,0,0,0,0,0,0,{"$error":"#DIV/0!"},{"$error":"#DIV/0!"},{"$error":"#DIV/0!"},{"$error":"#DIV/0!"}," ",2628,"Bud Norris",{"$f":"IF(AQ89<>0,VLOOKUP(AQ89,Info!A:B,2,FALSE),\"\")","v":"LAA"},"norbu",0.22857142857142856,0.34285714285714286,2.1428571428571428,0.17142857142857143,2.8571428571428571E-2,2,0,0,0,0,null,2628,"Bud Norris","Los Angeles Angels","norbu",35,8,12,75,6,1,70]
[3570,"Garrett Richards","LAA","Buy",null,null,null,null,null,null,null,null,null,null,0,0,0,0,0,0,{"$error":"#DIV/0!"},{"$error":"#DIV/0!"},{"$error":"#DIV/0!"},{"$error":"#DIV/0!"}," ",3570,"Garrett Richards",{"$f":"IF(AQ90<>0,VLOOKUP(AQ90,Info!A:B,2,FALSE),\"\")","v":"LAA"},"ricga",0.48571428571428571,2.8571428571428571E-2,5.5142857142857142,0.4,5.7142857142857141E-2,2.6285714285714286,0,0,0,0,null,3570,"Garrett Richards","Los Angeles Angels","ricga",35,17,1,193,14,2,92]
[4180,"JC Ramirez","LAA","Buy",null,null,null,null,null,null,null,null,null,null,0,0,0,0,0,0,{"$error":"#DIV/0!"},{"$error":"#DIV/0!"},{"$error":"#DIV/0!"},{"$error":"#DIV/0!"}," ",4180,"JC Ramirez",{"$f":"IF(AQ91<>0,VLOOKUP(AQ91,Info!A:B,2,FALSE),\"\")","v":"LAA"},"ramjc",0.42857142857142855,2.8571428571428571E-2,3.9142857142857141,0.37142857142857144,2.8571428571428571E-2,2.5428571428571427,0,0,0,0,null,4180,"JC Ramirez","Los Angeles Angels","ramjc",35,15,1,137,13,1,89]
[3553,"Jesse Chavez","LAA","Buy",null,null,null,null,null,null,null,null,null,null,0,0,0,0,0,0,{"$error":"#DIV/0!"},{"$error":"#DIV/0!"},{"$error":"#DIV/0!"},{"$error":"#DIV/0!"}," ",3553,"Jesse Chavez",{"$f":"IF(AQ92<>0,VLOOKUP(AQ92,Info!A:B,2,FALSE),\"\")","v":"LAA"},"chaje",0.22857142857142856,2.8571428571428571E-2,3.1428571428571428,0.31428571428571428,2.8571428571428571E-2,2.2000000000000002,0,0,0,0,null,3553,"Jesse Chavez","Los Angeles Angels","chaje",35,8,1,110,11,1,77]
[3571,"Matt Shoemaker","LAA","Buy",null,null,null,null,null,null,null,null,null,null,0,0,0,0,0,0,{"$error":"#DIV/0!"},{"$error":"#DIV/0!"},{"$error":"#DIV/0!"},{"$error":"#DIV/0!"}," ",3571,"Matt Shoemaker",{"$f":"IF(AQ93<>0,VLOOKUP(AQ93,Info!A:B,2,FALSE),\"\")","v":"LAA"},"shoma",0.42857142857142855,2.8571428571428571E-2,4.9428571428571431,0.22857142857142856,2.8571428571428571E-2,2.8,0,0,0,0,null,3571,"Matt Shoemaker","Los Angeles Angels","shoma",35,15,1,173,8,1,98]
[1820,"Ricky Nolasco","LAA","Buy",null,null,null,null,null,null,null,null,null,null,0,0,0,0,0,0,{"$error":"#DIV/0!"},{"$error":"#DIV/0!"},{"$error":"#DIV/0!"},{"$error":"#DIV/0!"}," ",1820,"Ricky Nolasco",{"$f":"IF(AQ94<>0,VLOOKUP(AQ94,Info!A:B,2,FALSE),\"\")","v":"LAA"},"nolri",0.22857142857142856,2.8571428571428571E-2,4.3428571428571425,0.45714285714285713,2.8571428571428571E-2,2.8857142857142857,0,0,0,0,null,1820,"Ricky Nolasco","Los Angeles Angels","nolri",35,8,1,152,16,1,101]
[3803,"Alex Wood","LAD","Buy",null,null,null,null,null,null,null,null,null,null,0,0,0,0,0,0,{"$error":"#DIV/0!"},{"$error":"#DIV/0!"},{"$error":"#DIV/0!"},{"$error":"#DIV/0!"}," ",3803,"Alex Wood",{"$f":"IF(AQ95<>0,VLOOKUP(AQ95,Info!A:B,2,FALSE),\"\")","v":"LAD"},"wooal",0.5714285714285714,2.8571428571428571E-2,5.6,0.17142857142857143,2.8571428571428571E-2,2,0,0,0,0,null,3803,"Alex Wood","Los Angeles Dodgers","wooal",35,20,1,196,6,1,70]
[1982,"Brandon McCarthy","LAD","Buy",null,null,null,null,null,null,null,null,null,null,0,0,0,0,0,0,{"$error":"#DIV/0!"},{"$error":"#DIV/0!"},{"$error":"#DIV/0!"},{"$error":"#DIV/0!"}," ",1982,"Brandon McCarthy",{"$f":"IF(AQ96<>0,VLOOKUP(AQ96,Info!A:B,2,FALSE),\"\")","v":"LAD"},"mcbra",0.34285714285714286,2.8571428571428571E-2,3.8,0.22857142857142856,2.8571428571428571E-2,2.1714285714285713,0,0,0,0,null,1982,"Brandon McCarthy","Los Angeles Dodgers","mcbra",35,12,1,133,8,1,76]
[2422,"Brandon Morrow","LAD","Buy",null,null,null,null,null,null,null,null,null,null,0,0,0,0,0,0,{"$error":"#DIV/0!"},{"$error":"#DIV/0!"},{"$error":"#DIV/0!"},{"$error":"#DIV/0!"}," ",2422,"Brandon Morrow",{"$f":"IF(AQ97<>0,VLOOKUP(AQ97,Info!A:B,2,FALSE),\"\")","v":"LAD"},"mobra",0.22857142857142856,5.7142857142857141E-2,2.1428571428571428,0.17142857142857143,2.8571428571428571E-2,2,0,0,0,0,null,2422,"Brandon Morrow","Los Angeles Dodgers","mobra",35,8,2,75,6,1,70]
[2428,"Clayton Kershaw","LAD","Buy",null,null,null,null,null,null,null,null,null,null,0,0,0,0,0,0,{"$error":"#DIV/0!"},{"$error":"#DIV/0!"},{"$error":"#DIV/0!"},{"$error":"#DIV/0!"}," ",2428,"Clayton Kershaw",{"$f":"IF(AQ98<>0,VLOOKUP(AQ98,Info!A:B,2,FALSE),\"\")","v":"LAD"},"kercl",0.5714285714285714,2.8571428571428571E-2,7.1428571428571432,0.17142857142857143,2.8571428571428571E-2,2,0,0,0,0,null,2428,"Clayton Kershaw","Los Angeles Dodgers","kercl",35,20,1,250,6,1,70]
[3261,"Hyun-Jin Ryu","LAD","Buy",null,null,null,null,null,null,null,null,null,null,0,0,0,0,0,0,{"$error":"#DIV/0!"},{"$error":"#DIV/0!"},{"$error":"#DIV/0!"},{"$error":"#DIV/0!"}," ",3261,"Hyun-Jin Ryu",{"$f":"IF(AQ99<>0,VLOOKUP(AQ99,Info!A:B,2,FALSE),\"\")","v":"LAD"},"ryuhy",0.22857142857142856,5.7142857142857141E-2,4.6571428571428575,0.37142857142857144,2.8571428571428571E-2,2.1428571428571428,0,0,0,0,null,3261,"Hyun-Jin Ryu","Los Angeles Dodgers","ryuhy",35,8,2,163,13,1,75]
[2625,"Justin Masterson","LAD","Buy",null,null,null,null,null,null,null,null,null,null,0,0,0,0,0,0,{"$error":"#DIV/0!"},{"$error":"#DIV/0!"},{"$error":"#DIV/0!"},{"$error":"#DIV/0!"}," ",2625,"Justin Masterson",{"$f":"IF(AQ100<>0,VLOOKUP(AQ100,Info!A:B,2,FALSE),\"\")","v":"LAD"},"masju",0.22857142857142856,2.8571428571428571E-2,2.7428571428571429,0.17142857142857143,2.8571428571428571E-2,2.0571428571428569,0,0,0,0,null,2625,"Justin Masterson","Los Angeles Dodgers","masju",35,8,1,96,6,1,72]
[4039,"Kenta Maeda","LAD","Buy",null,null,null,null,null,null,null,null,null,null,0,0,0,0,0,0,{"$error":"#DIV/0!"},{"$error":"#DIV/0!"},{"$error":"#DIV/0!"},{"$error":"#DIV/0!"}," ",4039,"Kenta Maeda",{"$f":"IF(AQ101<>0,VLOOKUP(AQ101,Info!A:B,2,FALSE),\"\")","v":"LAD"},"maeke",0.48571428571428571,5.7142857142857141E-2,4.5142857142857142,0.2,2.8571428571428571E-2,2,0,0,0,0,null,4039,"Kenta Maeda","Los Angeles Dodgers","maeke",35,17,2,158,7,1,70]
[4111,"Ralph Branca","LAD","Buy",null,null,null,null,null,null,null,null,null,null,0,0,0,0,0,0,{"$error":"#DIV/0!"},{"$error":"#DIV/0!"},{"$error":"#DIV/0!"},{"$error":"#DIV/0!"}," ",4111,"Ralph Branca",{"$f":"IF(AQ102<>0,VLOOKUP(AQ102,Info!A:B,2,FALSE),\"\")","v":"LAD"},"brara",1,1,1,1,1,1,0,0,0,0,null,4111,"Ralph Branca","Los Angeles Dodgers","brara",1,1,1,1,1,1,1]
[1976,"Rich Hill","LAD","Buy",null,null,null,null,null,null,null,null,null,null,0,0,0,0,0,0,{"$error":"#DIV/0!"},{"$error":"#DIV/0!"},{"$error":"#DIV/0!"},{"$error":"#DIV/0!"}," ",1976,"Rich Hill",{"$f":"IF(AQ103<>0,VLOOKUP(AQ103,Info!A:B,2,FALSE),\"\")","v":"LAD"},"hilri",0.45714285714285713,2.8571428571428571E-2,6.6,0.31428571428571428,2.8571428571428571E-2,2,0,0,0,0,null,1976,"Rich Hill","Los Angeles Dodgers","hilri",35,16,1,231,11,1,70]
[1477,"Scott Kazmir","LAD","Buy",null,null,null,null,null,null,null,null,null,null,0,0,0,0,0,0,{"$error":"#DIV/0!"},{"$error":"#DIV/0!"},{"$error":"#DIV/0!"},{"$error":"#DIV/0!"}," ",1477,"Scott Kazmir",{"$f":"IF(AQ104<>0,VLOOKUP(AQ104,Info!A:B,2,FALSE),\"\")","v":"LAD"},"kazsc",0.4,2.8571428571428571E-2,5.1714285714285717,0.25714285714285712,2.8571428571428571E-2,2.657142857142857,0,0,0,0,null,1477,"Scott Kazmir","Los Angeles Dodgers","kazsc",35,14,1,181,9,1,93]
[3047,"Yu Darvish","LAD","Buy",null,null,null,null,null,null,null,null,null,null,0,0,0,0,0,0,{"$error":"#DIV/0!"},{"$error":"#DIV/0!"},{"$error":"#DIV/0!"},{"$error":"#DIV/0!"}," ",3047,"Yu Darvish",{"$f":"IF(AQ105<>0,VLOOKUP(AQ105,Info!A:B,2,FALSE),\"\")","v":"LAD"},"daryu",0.37142857142857144,2.8571428571428571E-2,6.7714285714285714,0.4,2.8571428571428571E-2,2.5142857142857142,0,0,0,0,null,3047,"Yu Darvish","Los Angeles Dodgers","daryu",35,13,1,237,14,1,88]
[3514,"Dan Straily","MIA","Buy",null,null,null,null,null,null,null,null,null,null,0,0,0,0,0,0,{"$error":"#DIV/0!"},{"$error":"#DIV/0!"},{"$error":"#DIV/0!"},{"$error":"#DIV/0!"}," ",3514,"Dan Straily",{"$f":"IF(AQ106<>0,VLOOKUP(AQ106,Info!A:B,2,FALSE),\"\")","v":"MIA"},"strad",0.31428571428571428,2.8571428571428571E-2,5.1714285714285717,0.2857142857142857,2.8571428571428571E-2,2.6285714285714286,0,0,0,0,null,3514,"Dan Straily","Miami Marlins","strad",35,11,1,181,10,1,92]
[2158,"Dustin McGowan","MIA","Buy",null,null,null,null,null,null,null,null,null,null,0,0,0,0,0,0,{"$error":"#DIV/0!"},{"$error":"#DIV/0!"},{"$error":"#DIV/0!"},{"$error":"#DIV/0!"}," ",2158,"Dustin McGowan",{"$f":"IF(AQ107<>0,VLOOKUP(AQ107,Info!A:B,2,FALSE),\"\")","v":"MIA"},"mcgdu",0.22857142857142856,2.8571428571428571E-2,2.1428571428571428,0.17142857142857143,2.8571428571428571E-2,2,0,0,0,0,null,2158,"Dustin McGowan","Miami Marlins","mcgdu",35,8,1,75,6,1,70]
[2174,"Edinson Volquez","MIA","Buy",null,null,null,null,null,null,null,null,null,null,0,0,0,0,0,0,{"$error":"#DIV/0!"},{"$error":"#DIV/0!"},{"$error":"#DIV/0!"},{"$error":"#DIV/0!"}," ",2174,"Edinson Volquez",{"$f":"IF(AQ108<>0,VLOOKUP(AQ108,Info!A:B,2,FALSE),\"\")","v":"MIA"},"voled",0.25714285714285712,2.8571428571428571E-2,4.7714285714285714,0.48571428571428571,8.5714285714285715E-2,2.5428571428571427,0,0,0,0,null,2174,"Edinson Volquez","Miami Marlins","voled",35,9,1,167,17,3,89]
[3289,"Jeff Locke","MIA","Buy",null,null,null,null,null,null,null,null,null,null,0,0,0,0,0,0,{"$error":"#DIV/0!"},{"$error":"#DIV/0!"},{"$error":"#DIV/0!"},{"$error":"#DIV/0!"}," ",3289,"Jeff Locke",{"$f":"IF(AQ109<>0,VLOOKUP(AQ109,Info!A:B,2,FALSE),\"\")","v":"MIA"},"locje",0.31428571428571428,2.8571428571428571E-2,2.4571428571428573,0.2857142857142857,5.7142857142857141E-2,2.5714285714285716,0,0,0,0,null,3289,"Jeff Locke","Miami Marlins","locje",35,11,1,86,10,2,90]
[3310,"Jose Fernandez","MIA","Buy",null,null,null,null,null,null,null,null,null,null,0,0,0,0,0,0,{"$error":"#DIV/0!"},{"$error":"#DIV/0!"},{"$error":"#DIV/0!"},{"$error":"#DIV/0!"}," ",3310,"Jose Fernandez",{"$f":"IF(AQ110<>0,VLOOKUP(AQ110,Info!A:B,2,FALSE),\"\")","v":"MIA"},"ferjo",0.5714285714285714,2.8571428571428571E-2,7.1428571428571432,0.2857142857142857,2.8571428571428571E-2,2,0,0,0,0,null,3310,"Jose Fernandez","Miami Marlins","ferjo",35,20,1,250,10,1,70]
[3551,"Tom Koehler","MIA","Buy",null,null,null,null,null,null,null,null,null,null,0,0,0,0,0,0,{"$error":"#DIV/0!"},{"$error":"#DIV/0!"},{"$error":"#DIV/0!"},{"$error":"#DIV/0!"}," ",3551,"Tom Koehler",{"$f":"IF(AQ111<>0,VLOOKUP(AQ111,Info!A:B,2,FALSE),\"\")","v":"MIA"},"koeto",0.22857142857142856,2.8571428571428571E-2,2.3142857142857145,0.2857142857142857,2.8571428571428571E-2,2,0,0,0,0,null,3551,"Tom Koehler","Miami Marlins","koeto",35,8,1,81,10,1,70]
[2950,"Vance Worley","MIA","Buy",null,null,null,null,null,null,null,null,null,null,0,0,0,0,0,0,{"$error":"#DIV/0!"},{"$error":"#DIV/0!"},{"$error":"#DIV/0!"},{"$error":"#DIV/0!"}," ",2950,"Vance Worley",{"$f":"IF(AQ112<>0,VLOOKUP(AQ112,Info!A:B,2,FALSE),\"\")","v":"MIA"},"worva",0.22857142857142856,5.7142857142857141E-2,2.1428571428571428,0.25714285714285712,2.8571428571428571E-2,2.3142857142857145,0,0,0,0,null,2950,"Vance Worley","Miami Marlins","worva",35,8,2,75,9,1,81]
[3082,"Wei-Yin Chen","MIA","Buy",null,null,null,null,null,null,null,null,null,null,0,0,0,0,0,0,{"$error":"#DIV/0!"},{"$error":"#DIV/0!"},{"$error":"#DIV/0!"},{"$error":"#DIV/0!"}," ",3082,"Wei-Yin Chen",{"$f":"IF(AQ113<>0,VLOOKUP(AQ113,Info!A:B,2,FALSE),\"\")","v":"MIA"},"chewe",0.22857142857142856,2.8571428571428571E-2,4.5714285714285712,0.22857142857142856,2.8571428571428571E-2,3.1142857142857143,0,0,0,0,null,3082,"Wei-Yin Chen","Miami Marlins","chewe",35,8,1,160,8,1,109]
[3865,"Jimmy Nelson","MIL","Buy",null,null,null,null,null,null,null,null,null,null,0,0,0,0,0,0,{"$error":"#DIV/0!"},{"$error":"#DIV/0!"},{"$error":"#DIV/0!"},{"$error":"#DIV/0!"}," ",3865,"Jimmy Nelson",{"$f":"IF(AQ114<>0,VLOOKUP(AQ114,Info!A:B,2,FALSE),\"\")","v":"MIL"},"nelji",0.42857142857142855,2.8571428571428571E-2,6.8857142857142861,0.22857142857142856,2.8571428571428571E-2,2.3714285714285714,0,0,0,0,null,3865,"Jimmy Nelson","Milwaukee Brewers","nelji",35,15,1,241,8,1,83]
[2157,"Matt Garza","MIL","Buy",null,null,null,null,null,null,null,null,null,null,0,0,0,0,0,0,{"$error":"#DIV/0!"},{"$error":"#DIV/0!"},{"$error":"#DIV/0!"},{"$error":"#DIV/0!"}," ",2157,"Matt Garza",{"$f":"IF(AQ115<>0,VLOOKUP(AQ115,Info!A:B,2,FALSE),\"\")","v":"MIL"},"garzm",0.25714285714285712,2.8571428571428571E-2,3.3142857142857145,0.4,2.8571428571428571E-2,2.6285714285714286,0,0,0,0,null,2157,"Matt Garza","Milwaukee Brewers","garzm",35,9,1,116,14,1,92]
[3867,"Taylor Jungmann","MIL","Buy",null,null,null,null,null,null,null,null,null,null,0,0,0,0,0,0,{"$error":"#DIV/0!"},{"$error":"#DIV/0!"},{"$error":"#DIV/0!"},{"$error":"#DIV/0!"}," ",3867,"Taylor Jungmann",{"$f":"IF(AQ116<>0,VLOOKUP(AQ116,Info!A:B,2,FALSE),\"\")","v":"MIL"},"junta",0.42857142857142855,2.8571428571428571E-2,5.1142857142857139,0.4,2.8571428571428571E-2,2.4,0,0,0,0,null,3867,"Taylor Jungmann","Milwaukee Brewers","junta",35,15,1,179,14,1,84]
[3554,"Wily Peralta","MIL","Buy",null,null,null,null,null,null,null,null,null,null,0,0,0,0,0,0,{"$error":"#DIV/0!"},{"$error":"#DIV/0!"},{"$error":"#DIV/0!"},{"$error":"#DIV/0!"}," ",3554,"Wily Peralta",{"$f":"IF(AQ117<>0,VLOOKUP(AQ117,Info!A:B,2,FALSE),\"\")","v":"MIL"},"perwi",0.2857142857142857,2.8571428571428571E-2,2.7428571428571429,0.22857142857142856,2.8571428571428571E-2,2.657142857142857,0,0,0,0,null,3554,"Wily Peralta","Milwaukee Brewers","perwi",35,10,1,96,8,1,93]
[4035,"Zach Davies","MIL","Buy",null,null,null,null,null,null,null,null,null,null,0,0,0,0,0,0,{"$error":"#DIV/0!"},{"$error":"#DIV/0!"},{"$error":"#DIV/0!"},{"$error":"#DIV/0!"}," ",4035,"Zach Davies",{"$f":"IF(AQ118<>0,VLOOKUP(AQ118,Info!A:B,2,FALSE),\"\")","v":"MIL"},"davza",0.54285714285714282,2.8571428571428571E-2,3.7714285714285714,0.2857142857142857,2.8571428571428571E-2,2.5428571428571427,0,0,0,0,null,4035,"Zach Davies","Milwaukee Brewers","davza",35,19,1,132,10,1,89]
[735,"Bartolo Colon","MIN","Buy",null,null,null,null,null,null,null,null,null,null,0,0,0,0,0,0,{"$error":"#DIV/0!"},{"$error":"#DIV/0!"},{"$error":"#DIV/0!"},{"$error":"#DIV/0!"}," ",735,"Bartolo Colon",{"$f":"IF(AQ119<>0,VLOOKUP(AQ119,Info!A:B,2,FALSE),\"\")","v":"MIN"},"colba",0.25714285714285712,2.8571428571428571E-2,3.2,0.51428571428571423,2.8571428571428571E-2,3.6857142857142855,0,0,0,0,null,735,"Bartolo Colon","Minnesota Twins","colba",35,9,1,112,18,1,129]
[2889,"Dillon Gee","MIN","Buy",null,null,null,null,null,null,null,null,null,null,0,0,0,0,0,0,{"$error":"#DIV/0!"},{"$error":"#DIV/0!"},{"$error":"#DIV/0!"},{"$error":"#DIV/0!"}," ",2889,"Dillon Gee",{"$f":"IF(AQ120<>0,VLOOKUP(AQ120,Info!A:B,2,FALSE),\"\")","v":"MIN"},"geedi",0.22857142857142856,5.7142857142857141E-2,2.342857142857143,0.17142857142857143,2.8571428571428571E-2,2,0,0,0,0,null,2889,"Dillon Gee","Minnesota Twins","geedi",35,8,2,82,6,1,70]
[1749,"Ervin Santana","MIN","Buy",null,null,null,null,null,null,null,null,null,null,0,0,0,0,0,0,{"$error":"#DIV/0!"},{"$error":"#DIV/0!"},{"$error":"#DIV/0!"},{"$error":"#DIV/0!"}," ",1749,"Ervin Santana",{"$f":"IF(AQ121<>0,VLOOKUP(AQ121,Info!A:B,2,FALSE),\"\")","v":"MIN"},"saner",0.48571428571428571,2.8571428571428571E-2,4.9142857142857146,0.25714285714285712,0.11428571428571428,2.4,0,0,0,0,null,1749,"Ervin Santana","Minnesota Twins","saner",35,17,1,172,9,4,84]
[3870,"Hector Santiago","MIN","Buy",null,null,null,null,null,null,null,null,null,null,0,0,0,0,0,0,{"$error":"#DIV/0!"},{"$error":"#DIV/0!"},{"$error":"#DIV/0!"},{"$error":"#DIV/0!"}," ",3870,"Hector Santiago",{"$f":"IF(AQ122<>0,VLOOKUP(AQ122,Info!A:B,2,FALSE),\"\")","v":"MIN"},"sanhe",0.2857142857142857,2.8571428571428571E-2,3.4,0.54285714285714282,2.8571428571428571E-2,2.9428571428571431,0,0,0,0,null,3870,"Hector Santiago","Minnesota Twins","sanhe",35,10,1,119,19,1,103]
[4179,"Jose Berrios","MIN","Buy",null,null,null,null,null,null,null,null,null,null,0,0,0,0,0,0,{"$error":"#DIV/0!"},{"$error":"#DIV/0!"},{"$error":"#DIV/0!"},{"$error":"#DIV/0!"}," ",4179,"Jose Berrios",{"$f":"IF(AQ123<>0,VLOOKUP(AQ123,Info!A:B,2,FALSE),\"\")","v":"MIN"},"berrj",0.54285714285714282,2.8571428571428571E-2,5.3142857142857141,0.34285714285714286,2.8571428571428571E-2,2.4571428571428573,0,0,0,0,null,4179,"Jose Berrios","Minnesota Twins","berrj",35,19,1,186,12,1,86]
[3522,"Kyle Gibson","MIN","Buy",null,null,null,null,null,null,null,null,null,null,0,0,0,0,0,0,{"$error":"#DIV/0!"},{"$error":"#DIV/0!"},{"$error":"#DIV/0!"},{"$error":"#DIV/0!"}," ",3522,"Kyle Gibson",{"$f":"IF(AQ124<>0,VLOOKUP(AQ124,Info!A:B,2,FALSE),\"\")","v":"MIN"},"gibky",0.42857142857142855,2.8571428571428571E-2,4.2,0.37142857142857144,2.8571428571428571E-2,3.0857142857142859,0,0,0,0,null,3522,"Kyle Gibson","Minnesota Twins","gibky",35,15,1,147,13,1,108]
[1962,"Matt Belisle","MIN","Buy",null,null,null,null,null,null,null,null,null,null,0,0,0,0,0,0,{"$error":"#DIV/0!"},{"$error":"#DIV/0!"},{"$error":"#DIV/0!"},{"$error":"#DIV/0!"}," ",1962,"Matt Belisle",{"$f":"IF(AQ125<>0,VLOOKUP(AQ125,Info!A:B,2,FALSE),\"\")","v":"MIN"},"belim",0.22857142857142856,0.14285714285714285,2.1428571428571428,0.17142857142857143,2.8571428571428571E-2,2,0,0,0,0,null,1962,"Matt Belisle","Minnesota Twins","belim",35,8,5,75,6,1,70]
[2156,"Phil Hughes","MIN","Buy",null,null,null,null,null,null,null,null,null,null,0,0,0,0,0,0,{"$error":"#DIV/0!"},{"$error":"#DIV/0!"},{"$error":"#DIV/0!"},{"$error":"#DIV/0!"}," ",2156,"Phil Hughes",{"$f":"IF(AQ126<>0,VLOOKUP(AQ126,Info!A:B,2,FALSE),\"\")","v":"MIN"},"hugph",0.2857142857142857,2.8571428571428571E-2,2.7142857142857144,0.22857142857142856,2.8571428571428571E-2,2.5142857142857142,0,0,0,0,null,2156,"Phil Hughes","Minnesota Twins","hugph",35,10,1,95,8,1,88]
[3874,"Trevor May","MIN","Buy",null,null,null,null,null,null,null,null,null,null,0,0,0,0,0,0,{"$error":"#DIV/0!"},{"$error":"#DIV/0!"},{"$error":"#DIV/0!"},{"$error":"#DIV/0!"}," ",3874,"Trevor May",{"$f":"IF(AQ127<>0,VLOOKUP(AQ127,Info!A:B,2,FALSE),\"\")","v":"MIN"},"maytr",0.22857142857142856,2.8571428571428571E-2,2.1428571428571428,0.17142857142857143,2.8571428571428571E-2,2,0,0,0,0,null,3874,"Trevor May","Minnesota Twins","maytr",35,8,1,75,6,1,70]
[3799,"Jacob deGrom","NYM","Buy",null,null,null,null,null,null,null,null,null,null,0,0,0,0,0,0,{"$error":"#DIV/0!"},{"$error":"#DIV/0!"},{"$error":"#DIV/0!"},{"$error":"#DIV/0!"}," ",3799,"Jacob deGrom",{"$f":"IF(AQ128<>0,VLOOKUP(AQ128,Info!A:B,2,FALSE),\"\")","v":"NYM"},"degja",0.48571428571428571,2.8571428571428571E-2,7.1428571428571432,0.34285714285714286,2.8571428571428571E-2,2.5714285714285716,0,0,0,0,null,3799,"Jacob deGrom","New York Mets","degja",35,17,1,250,12,1,90]
[3260,"Matt Harvey","NYM","Buy",null,null,null,null,null,null,null,null,null,null,0,0,0,0,0,0,{"$error":"#DIV/0!"},{"$error":"#DIV/0!"},{"$error":"#DIV/0!"},{"$error":"#DIV/0!"}," ",3260,"Matt Harvey",{"$f":"IF(AQ129<>0,VLOOKUP(AQ129,Info!A:B,2,FALSE),\"\")","v":"NYM"},"harma",0.2857142857142857,2.8571428571428571E-2,3.5428571428571427,0.37142857142857144,2.8571428571428571E-2,3.657142857142857,0,0,0,0,null,3260,"Matt Harvey","New York Mets","harma",35,10,1,124,13,1,128]
[3869,"Noah Syndergaard","NYM","Buy",null,null,null,null,null,null,null,null,null,null,0,0,0,0,0,0,{"$error":"#DIV/0!"},{"$error":"#DIV/0!"},{"$error":"#DIV/0!"},{"$error":"#DIV/0!"}," ",3869,"Noah Syndergaard",{"$f":"IF(AQ130<>0,VLOOKUP(AQ130,Info!A:B,2,FALSE),\"\")","v":"NYM"},"synno",0.45714285714285713,2.8571428571428571E-2,7.1428571428571432,0.2857142857142857,2.8571428571428571E-2,2,0,0,0,0,null,3869,"Noah Syndergaard","New York Mets","synno",35,16,1,250,10,1,70]
[{"$f":"IF(Z131<>0,Z131,\"\")","v":3085},{"$f":"IF(A131<>0,VLOOKUP(A131,Z:AA,2,FALSE),\"\")","v":"Tommy Milone"},{"$f":"IF(A131<>0,VLOOKUP(A131,Z:AB,3,FALSE))","v":"NYM"},{"$f":"HYPERLINK(\"http://www.jockstocks.com/buysell.php?action=buymax&plid=\"&A131,\"Buy\")","v":"Buy"},null,null,null,null,null,null,null,null,null,null,{"$f":"VLOOKUP($A131,$A:$N,5,FALSE)/VLOOKUP($A131,$Z:$AM,5,FALSE)","v":0},{"$f":"VLOOKUP($A131,$A:$N,6,FALSE)/VLOOKUP($A131,$Z:$AM,6,FALSE)","v":0},{"$f":"VLOOKUP($A131,$A:$N,7,FALSE)/VLOOKUP($A131,$Z:$AM,7,FALSE)","v":0},{"$f":"VLOOKUP($A131,$A:$N,8,FALSE)/VLOOKUP($A131,$Z:$AM,8,FALSE)","v":0},{"$f":"VLOOKUP($A131,$A:$N,9,FALSE)/VLOOKUP($A131,$Z:$AM,9,FALSE)","v":0},{"$f":"VLOOKUP($A131,$A:$N,10,FALSE)/VLOOKUP($A131,$Z:$AM,10,FALSE)","v":0},{"$f":"VLOOKUP($A131,$A:$N,11,FALSE)/VLOOKUP($A131,$Z:$AM,11,FALSE)","v":{"$error":"#DIV/0!"}},{"$f":"VLOOKUP($A131,$A:$N,12,FALSE)/VLOOKUP($A131,$Z:$AM,12,FALSE)","v":{"$error":"#DIV/0!"}},{"$f":"VLOOKUP($A131,$A:$N,13,FALSE)/VLOOKUP($A131,$Z:$AM,13,FALSE)","v":{"$error":"#DIV/0!"}},{"$f":"VLOOKUP($A131,$A:$N,14,FALSE)/VLOOKUP($A131,$Z:$AM,14,FALSE)","v":{"$error":"#DIV/0!"}}," ",{"$f":"IF(AO131<>0,AO131,\"\")","v":3085},{"$f":"IF(AP131<>0,VLOOKUP(Z131,AO:AP,2,FALSE),\"\")","v":"Tommy Milone"},{"$f":"IF(AQ131<>0,VLOOKUP(AQ131,Info!A:B,2,FALSE),\"\")","v":"NYM"},{"$f":"IF(AO131<>0,VLOOKUP(Z131,AO:AR,4,FALSE),\"\")","v":"milto"},{"$f":"IF($AO131<>0,AT131/$AS131,\"\")","v":0.22857142857142856},{"$f":"IF($AO131<>0,AU131/$AS131,\"\")","v":8.5714285714285715E-2},{"$f":"IF($AO131<>0,AV131/$AS131,\"\")","v":2.2571428571428571},{"$f":"IF($AO131<>0,AW131/$AS131,\"\")","v":0.2},{"$f":"IF($AO131<>0,AX131/$AS131,\"\")","v":2.8571428571428571E-2},{"$f":"IF($AO131<>0,AY131/$AS131,\"\")","v":2.4285714285714284},{"$f":"IF($AO131<>0,BL131/$AS131,\"\")","v":0},{"$f":"IF($AO131<>0,BM131/$AS131,\"\")","v":0},{"$f":"IF($AO131<>0,BN131/$AS131,\"\")","v":0},{"$f":"IF($AO131<>0,BO131/$AS131,\"\")","v":0},null,3085,"Tommy Milone","New York Mets","milto",35,8,3,79,7,1,85]
[3510,"Zack Wheeler","NYM","Buy",null,null,null,null,null,null,null,null,null,null,0,0,0,0,0,0,{"$error":"#DIV/0!"},{"$error":"#DIV/0!"},{"$error":"#DIV/0!"},{"$error":"#DIV/0!"}," ",3510,"Zack Wheeler",{"$f":"IF(AQ132<>0,VLOOKUP(AQ132,Info!A:B,2,FALSE),\"\")","v":"NYM"},"wheza",0.22857142857142856,2.8571428571428571E-2,4.7714285714285714,0.42857142857142855,2.8571428571428571E-2,2.9428571428571431,0,0,0,0,null,3510,"Zack Wheeler","New York Mets","wheza",35,8,1,167,15,1,103]
[799,"CC Sabathia","NYY","Buy",null,null,null,null,null,null,null,null,null,null,0,0,0,0,0,0,{"$error":"#DIV/0!"},{"$error":"#DIV/0!"},{"$error":"#DIV/0!"},{"$error":"#DIV/0!"}," ",799,"CC Sabathia",{"$f":"IF(AQ133<>0,VLOOKUP(AQ133,Info!A:B,2,FALSE),\"\")","v":"NYY"},"sabcc",0.51428571428571423,2.8571428571428571E-2,4.6571428571428575,0.17142857142857143,2.8571428571428571E-2,2.1714285714285713,0,0,0,0,null,799,"CC Sabathia","New York Yankees","sabcc",35,18,1,163,6,1,76]
[2651,"Jaime Garcia","NYY","Buy",null,null,null,null,null,null,null,null,null,null,0,0,0,0,0,0,{"$error":"#DIV/0!"},{"$error":"#DIV/0!"},{"$error":"#DIV/0!"},{"$error":"#DIV/0!"}," ",2651,"Jaime Garcia",{"$f":"IF(AQ134<>0,VLOOKUP(AQ134,Info!A:B,2,FALSE),\"\")","v":"NYY"},"garja",0.22857142857142856,2.8571428571428571E-2,4.7142857142857144,0.37142857142857144,2.8571428571428571E-2,2.7714285714285714,0,0,0,0,null,2651,"Jaime Garcia","New York Yankees","garja",35,8,1,165,13,1,97]
[4188,"Jordan Montgomery","NYY","Buy",null,null,null,null,null,null,null,null,null,null,0,0,0,0,0,0,{"$error":"#DIV/0!"},{"$error":"#DIV/0!"},{"$error":"#DIV/0!"},{"$error":"#DIV/0!"}," ",4188,"Jordan Montgomery",{"$f":"IF(AQ135<>0,VLOOKUP(AQ135,Info!A:B,2,FALSE),\"\")","v":"NYY"},"monjo",0.31428571428571428,2.8571428571428571E-2,4.9714285714285715,0.25714285714285712,2.8571428571428571E-2,2.3142857142857145,0,0,0,0,null,4188,"Jordan Montgomery","New York Yankees","monjo",35,11,1,174,9,1,81]
[4177,"Luis Severino","NYY","Buy",null,null,null,null,null,null,null,null,null,null,0,0,0,0,0,0,{"$error":"#DIV/0!"},{"$error":"#DIV/0!"},{"$error":"#DIV/0!"},{"$error":"#DIV/0!"}," ",4177,"Luis Severino",{"$f":"IF(AQ136<>0,VLOOKUP(AQ136,Info!A:B,2,FALSE),\"\")","v":"NYY"},"sevlu",0.45714285714285713,2.8571428571428571E-2,7.0571428571428569,0.2,2.8571428571428571E-2,2.1142857142857143,0,0,0,0,null,4177,"Luis Severino","New York Yankees","sevlu",35,16,1,247,7,1,74]
[3513,"Masahiro Tanaka","NYY","Buy",null,null,null,null,null,null,null,null,null,null,0,0,0,0,0,0,{"$error":"#DIV/0!"},{"$error":"#DIV/0!"},{"$error":"#DIV/0!"},{"$error":"#DIV/0!"}," ",3513,"Masahiro Tanaka",{"$f":"IF(AQ137<>0,VLOOKUP(AQ137,Info!A:B,2,FALSE),\"\")","v":"NYY"},"tanma",0.45714285714285713,2.8571428571428571E-2,6.4,0.42857142857142855,2.8571428571428571E-2,3,0,0,0,0,null,3513,"Masahiro Tanaka","New York Yankees","tanma",35,16,1,224,15,1,105]
[2870,"Michael Pineda","NYY","Buy",null,null,null,null,null,null,null,null,null,null,0,0,0,0,0,0,{"$error":"#DIV/0!"},{"$error":"#DIV/0!"},{"$error":"#DIV/0!"},{"$error":"#DIV/0!"}," ",2870,"Michael Pineda",{"$f":"IF(AQ138<>0,VLOOKUP(AQ138,Info!A:B,2,FALSE),\"\")","v":"NYY"},"pinmi",0.48571428571428571,2.8571428571428571E-2,5.4285714285714288,0.25714285714285712,2.8571428571428571E-2,2.7714285714285714,0,0,0,0,null,2870,"Michael Pineda","New York Yankees","pinmi",35,17,1,190,9,1,97]
[3532,"Sonny Gray","NYY","Buy",null,null,null,null,null,null,null,null,null,null,0,0,0,0,0,0,{"$error":"#DIV/0!"},{"$error":"#DIV/0!"},{"$error":"#DIV/0!"},{"$error":"#DIV/0!"}," ",3532,"Sonny Gray",{"$f":"IF(AQ139<>0,VLOOKUP(AQ139,Info!A:B,2,FALSE),\"\")","v":"NYY"},"graso",0.37142857142857144,2.8571428571428571E-2,5.5428571428571427,0.48571428571428571,2.8571428571428571E-2,2.4,0,0,0,0,null,3532,"Sonny Gray","New York Yankees","graso",35,13,1,194,17,1,84]
[4171,"Andrew Triggs","OAK","Buy",null,null,null,null,null,null,null,null,null,null,0,0,0,0,0,0,{"$error":"#DIV/0!"},{"$error":"#DIV/0!"},{"$error":"#DIV/0!"},{"$error":"#DIV/0!"}," ",4171,"Andrew Triggs",{"$f":"IF(AQ140<>0,VLOOKUP(AQ140,Info!A:B,2,FALSE),\"\")","v":"OAK"},"trian",0.4,2.8571428571428571E-2,3.8571428571428572,0.48571428571428571,2.8571428571428571E-2,2.4,0,0,0,0,null,4171,"Andrew Triggs","Oakland Athletics","trian",35,14,1,135,17,1,84]
[3083,"Felix Doubront","OAK","Buy",null,null,null,null,null,null,null,null,null,null,0,0,0,0,0,0,{"$error":"#DIV/0!"},{"$error":"#DIV/0!"},{"$error":"#DIV/0!"},{"$error":"#DIV/0!"}," ",3083,"Felix Doubront",{"$f":"IF(AQ141<>0,VLOOKUP(AQ141,Info!A:B,2,FALSE),\"\")","v":"OAK"},"doufe",0.22857142857142856,8.5714285714285715E-2,3.5142857142857142,0.2,2.8571428571428571E-2,2.8857142857142857,0,0,0,0,null,3083,"Felix Doubront","Oakland Athletics","doufe",35,8,3,123,7,1,101]
[3503,"Henderson Alvarez","OAK","Buy",null,null,null,null,null,null,null,null,null,null,0,0,0,0,0,0,{"$error":"#DIV/0!"},{"$error":"#DIV/0!"},{"$error":"#DIV/0!"},{"$error":"#DIV/0!"}," ",3503,"Henderson Alvarez",{"$f":"IF(AQ142<>0,VLOOKUP(AQ142,Info!A:B,2,FALSE),\"\")","v":"OAK"},"alvhe",0.4,2.8571428571428571E-2,3.7142857142857144,0.25714285714285712,0.11428571428571428,2,0,0,0,0,null,3503,"Henderson Alvarez","Oakland Athletics","alvhe",35,14,1,130,9,4,70]
[3048,"Ross Detwiler","OAK","Buy",null,null,null,null,null,null,null,null,null,null,0,0,0,0,0,0,{"$error":"#DIV/0!"},{"$error":"#DIV/0!"},{"$error":"#DIV/0!"},{"$error":"#DIV/0!"}," ",3048,"Ross Detwiler",{"$f":"IF(AQ143<>0,VLOOKUP(AQ143,Info!A:B,2,FALSE),\"\")","v":"OAK"},"detro",0.22857142857142856,2.8571428571428571E-2,2.1428571428571428,0.25714285714285712,2.8571428571428571E-2,2.0857142857142859,0,0,0,0,null,3048,"Ross Detwiler","Oakland Athletics","detro",35,8,1,75,9,1,73]
[4167,"Sean Manaea","OAK","Buy",null,null,null,null,null,null,null,null,null,null,0,0,0,0,0,0,{"$error":"#DIV/0!"},{"$error":"#DIV/0!"},{"$error":"#DIV/0!"},{"$error":"#DIV/0!"}," ",4167,"Sean Manaea",{"$f":"IF(AQ144<>0,VLOOKUP(AQ144,Info!A:B,2,FALSE),\"\")","v":"OAK"},"manse",0.42857142857142855,2.8571428571428571E-2,4.8285714285714283,0.37142857142857144,2.8571428571428571E-2,2.657142857142857,0,0,0,0,null,4167,"Sean Manaea","Oakland Athletics","manse",35,15,1,169,13,1,93]
[4166,"Aaron Nola","PHI","Buy",null,null,null,null,null,null,null,null,null,null,0,0,0,0,0,0,{"$error":"#DIV/0!"},{"$error":"#DIV/0!"},{"$error":"#DIV/0!"},{"$error":"#DIV/0!"}," ",4166,"Aaron Nola",{"$f":"IF(AQ145<>0,VLOOKUP(AQ145,Info!A:B,2,FALSE),\"\")","v":"PHI"},"nolaa",0.45714285714285713,2.8571428571428571E-2,6.8285714285714283,0.42857142857142855,2.8571428571428571E-2,2.4571428571428573,0,0,0,0,null,4166,"Aaron Nola","Philadelphia Phillies","nolaa",35,16,1,239,15,1,86]
[2151,"Clay Buchholz","PHI","Buy",null,null,null,null,null,null,null,null,null,null,0,0,0,0,0,0,{"$error":"#DIV/0!"},{"$error":"#DIV/0!"},{"$error":"#DIV/0!"},{"$error":"#DIV/0!"}," ",2151,"Clay Buchholz",{"$f":"IF(AQ146<>0,VLOOKUP(AQ146,Info!A:B,2,FALSE),\"\")","v":"PHI"},"buccl",0.22857142857142856,2.8571428571428571E-2,2.5714285714285716,0.31428571428571428,2.8571428571428571E-2,2,0,0,0,0,null,2151,"Clay Buchholz","Philadelphia Phillies","buccl",35,8,1,90,11,1,70]
[4040,"Vince Velasquez","PHI","Buy",null,null,null,null,null,null,null,null,null,null,0,0,0,0,0,0,{"$error":"#DIV/0!"},{"$error":"#DIV/0!"},{"$error":"#DIV/0!"},{"$error":"#DIV/0!"}," ",4040,"Vince Velasquez",{"$f":"IF(AQ147<>0,VLOOKUP(AQ147,Info!A:B,2,FALSE),\"\")","v":"PHI"},"velvi",0.22857142857142856,2.8571428571428571E-2,4.5428571428571427,0.48571428571428571,2.8571428571428571E-2,2.7428571428571429,0,0,0,0,null,4040,"Vince Velasquez","Philadelphia Phillies","velvi",35,8,1,159,17,1,96]
[2684,"Daniel Hudson","PIT","Buy",null,null,null,null,null,null,null,null,null,null,0,0,0,0,0,0,{"$error":"#DIV/0!"},{"$error":"#DIV/0!"},{"$error":"#DIV/0!"},{"$error":"#DIV/0!"}," ",2684,"Daniel Hudson",{"$f":"IF(AQ148<>0,VLOOKUP(AQ148,Info!A:B,2,FALSE),\"\")","v":"PIT"},"hudda",0.22857142857142856,2.8571428571428571E-2,2.1428571428571428,0.17142857142857143,2.8571428571428571E-2,2,0,0,0,0,null,2684,"Daniel Hudson","Pittsburgh Pirates","hudda",35,8,1,75,6,1,70]
[3548,"Drew Hutchison","PIT","Buy",null,null,null,null,null,null,null,null,null,null,0,0,0,0,0,0,{"$error":"#DIV/0!"},{"$error":"#DIV/0!"},{"$error":"#DIV/0!"},{"$error":"#DIV/0!"}," ",3548,"Drew Hutchison",{"$f":"IF(AQ149<>0,VLOOKUP(AQ149,Info!A:B,2,FALSE),\"\")","v":"PIT"},"hutdr",0.45714285714285713,2.8571428571428571E-2,4.3142857142857141,0.17142857142857143,5.7142857142857141E-2,3.1142857142857143,0,0,0,0,null,3548,"Drew Hutchison","Pittsburgh Pirates","hutdr",35,16,1,151,6,2,109]
[3309,"Gerrit Cole","PIT","Buy",null,null,null,null,null,null,null,null,null,null,0,0,0,0,0,0,{"$error":"#DIV/0!"},{"$error":"#DIV/0!"},{"$error":"#DIV/0!"},{"$error":"#DIV/0!"}," ",3309,"Gerrit Cole",{"$f":"IF(AQ150<>0,VLOOKUP(AQ150,Info!A:B,2,FALSE),\"\")","v":"PIT"},"colge",0.37142857142857144,2.8571428571428571E-2,5.9428571428571431,0.37142857142857144,2.8571428571428571E-2,2.9142857142857141,0,0,0,0,null,3309,"Gerrit Cole","Pittsburgh Pirates","colge",35,13,1,208,13,1,102]
[2900,"Ivan Nova","PIT","Buy",null,null,null,null,null,null,null,null,null,null,0,0,0,0,0,0,{"$error":"#DIV/0!"},{"$error":"#DIV/0!"},{"$error":"#DIV/0!"},{"$error":"#DIV/0!"}," ",2900,"Ivan Nova",{"$f":"IF(AQ151<>0,VLOOKUP(AQ151,Info!A:B,2,FALSE),\"\")","v":"PIT"},"noviv",0.37142857142857144,2.8571428571428571E-2,4.2285714285714286,0.45714285714285713,5.7142857142857141E-2,2.8,0,0,0,0,null,2900,"Ivan Nova","Pittsburgh Pirates","noviv",35,13,1,148,16,2,98]
[4172,"Jameson Taillon","PIT","Buy",null,null,null,null,null,null,null,null,null,null,0,0,0,0,0,0,{"$error":"#DIV/0!"},{"$error":"#DIV/0!"},{"$error":"#DIV/0!"},{"$error":"#DIV/0!"}," ",4172,"Jameson Taillon",{"$f":"IF(AQ152<>0,VLOOKUP(AQ152,Info!A:B,2,FALSE),\"\")","v":"PIT"},"taija",0.34285714285714286,2.8571428571428571E-2,5,0.2857142857142857,2.8571428571428571E-2,2.657142857142857,0,0,0,0,null,4172,"Jameson Taillon","Pittsburgh Pirates","taija",35,12,1,175,10,1,93]
[2893,"Alexi Ogando","XXX","Buy",null,null,null,null,null,null,null,null,null,null,0,0,0,0,0,0,{"$error":"#DIV/0!"},{"$error":"#DIV/0!"},{"$error":"#DIV/0!"},{"$error":"#DIV/0!"}," ",2893,"Alexi Ogando",{"$f":"IF(AQ153<>0,VLOOKUP(AQ153,Info!A:B,2,FALSE),\"\")","v":"XXX"},"ogaal",0.22857142857142856,2.8571428571428571E-2,2.1428571428571428,0.17142857142857143,2.8571428571428571E-2,2,0,0,0,0,null,2893,"Alexi Ogando","Playing Overseas","ogaal",35,8,1,75,6,1,70]
[2851,"Phil Coke","XXX","Buy",null,null,null,null,null,null,null,null,null,null,0,0,0,0,0,0,{"$error":"#DIV/0!"},{"$error":"#DIV/0!"},{"$error":"#DIV/0!"},{"$error":"#DIV/0!"}," ",2851,"Phil Coke",{"$f":"IF(AQ154<>0,VLOOKUP(AQ154,Info!A:B,2,FALSE),\"\")","v":"XXX"},"cokph",0.22857142857142856,2.8571428571428571E-2,2.1428571428571428,0.17142857142857143,2.8571428571428571E-2,2,0,0,0,0,null,2851,"Phil Coke","Playing Overseas","cokph",35,8,1,75,6,1,70]
[2450,"Ross Ohlendorf","XXX","Buy",null,null,null,null,null,null,null,null,null,null,0,0,0,0,0,0,{"$error":"#DIV/0!"},{"$error":"#DIV/0!"},{"$error":"#DIV/0!"},{"$error":"#DIV/0!"}," ",2450,"Ross Ohlendorf",{"$f":"IF(AQ155<>0,VLOOKUP(AQ155,Info!A:B,2,FALSE),\"\")","v":"XXX"},"ohlro",0.22857142857142856,5.7142857142857141E-2,2.1428571428571428,0.17142857142857143,2.8571428571428571E-2,2,0,0,0,0,null,2450,"Ross Ohlendorf","Playing Overseas","ohlro",35,8,2,75,6,1,70]
[3084,"Scott Diamond","XXX","Buy",null,null,null,null,null,null,null,null,null,null,0,0,0,0,0,0,{"$error":"#DIV/0!"},{"$error":"#DIV/0!"},{"$error":"#DIV/0!"},{"$error":"#DIV/0!"}," ",3084,"Scott Diamond",{"$f":"IF(AQ156<>0,VLOOKUP(AQ156,Info!A:B,2,FALSE),\"\")","v":"XXX"},"diasc",0.25714285714285712,2.8571428571428571E-2,2.1714285714285713,0.54285714285714282,2.8571428571428571E-2,3.3142857142857145,0,0,0,0,null,3084,"Scott Diamond","Playing Overseas","diasc",35,9,1,76,19,1,116]
[3534,"Andre Rienzo","SDP","Buy",null,null,null,null,null,null,null,null,null,null,0,0,0,0,0,0,{"$error":"#DIV/0!"},{"$error":"#DIV/0!"},{"$error":"#DIV/0!"},{"$error":"#DIV/0!"}," ",3534,"Andre Rienzo",{"$f":"IF(AQ157<>0,VLOOKUP(AQ157,Info!A:B,2,FALSE),\"\")","v":"SDP"},"riean",0.22857142857142856,2.8571428571428571E-2,2.1428571428571428,0.17142857142857143,2.8571428571428571E-2,2,0,0,0,0,null,3534,"Andre Rienzo","San Diego Padres","riean",35,8,1,75,6,1,70]
[2670,"Clayton Richard","SDP","Buy",null,null,null,null,null,null,null,null,null,null,0,0,0,0,0,0,{"$error":"#DIV/0!"},{"$error":"#DIV/0!"},{"$error":"#DIV/0!"},{"$error":"#DIV/0!"}," ",2670,"Clayton Richard",{"$f":"IF(AQ158<>0,VLOOKUP(AQ158,Info!A:B,2,FALSE),\"\")","v":"SDP"},"riccl",0.25714285714285712,2.8571428571428571E-2,4.7428571428571429,0.48571428571428571,5.7142857142857141E-2,3.2857142857142856,0,0,0,0,null,2670,"Clayton Richard","San Diego Padres","riccl",35,9,1,166,17,2,115]
[3573,"Jarred Cosart","SDP","Buy",null,null,null,null,null,null,null,null,null,null,0,0,0,0,0,0,{"$error":"#DIV/0!"},{"$error":"#DIV/0!"},{"$error":"#DIV/0!"},{"$error":"#DIV/0!"}," ",3573,"Jarred Cosart",{"$f":"IF(AQ159<>0,VLOOKUP(AQ159,Info!A:B,2,FALSE),\"\")","v":"SDP"},"cosja",0.22857142857142856,2.8571428571428571E-2,2.9428571428571431,0.31428571428571428,2.8571428571428571E-2,2.9428571428571431,0,0,0,0,null,3573,"Jarred Cosart","San Diego Padres","cosja",35,8,1,103,11,1,103]
[1790,"Jered Weaver","SDP","Buy",null,null,null,null,null,null,null,null,null,null,0,0,0,0,0,0,{"$error":"#DIV/0!"},{"$error":"#DIV/0!"},{"$error":"#DIV/0!"},{"$error":"#DIV/0!"}," ",1790,"Jered Weaver",{"$f":"IF(AQ160<>0,VLOOKUP(AQ160,Info!A:B,2,FALSE),\"\")","v":"SDP"},"wejer",0.4,2.8571428571428571E-2,3.342857142857143,0.4,5.7142857142857141E-2,3.2285714285714286,0,0,0,0,null,1790,"Jered Weaver","San Diego Padres","wejer",35,14,1,117,14,2,113]
[2850,"Jhoulys Chacin","SDP","Buy",null,null,null,null,null,null,null,null,null,null,0,0,0,0,0,0,{"$error":"#DIV/0!"},{"$error":"#DIV/0!"},{"$error":"#DIV/0!"},{"$error":"#DIV/0!"}," ",2850,"Jhoulys Chacin",{"$f":"IF(AQ161<>0,VLOOKUP(AQ161,Info!A:B,2,FALSE),\"\")","v":"SDP"},"chajh",0.42857142857142855,2.8571428571428571E-2,4.8,0.31428571428571428,2.8571428571428571E-2,2.4571428571428573,0,0,0,0,null,2850,"Jhoulys Chacin","San Diego Padres","chajh",35,15,1,168,11,1,86]
[3290,"Travis Wood","SDP","Buy",null,null,null,null,null,null,null,null,null,null,0,0,0,0,0,0,{"$error":"#DIV/0!"},{"$error":"#DIV/0!"},{"$error":"#DIV/0!"},{"$error":"#DIV/0!"}," ",3290,"Travis Wood",{"$f":"IF(AQ162<>0,VLOOKUP(AQ162,Info!A:B,2,FALSE),\"\")","v":"SDP"},"wootr",0.22857142857142856,2.8571428571428571E-2,2.1428571428571428,0.2,2.8571428571428571E-2,2,0,0,0,0,null,3290,"Travis Wood","San Diego Padres","wootr",35,8,1,75,7,1,70]
[3067,"Jeff Samardzija","SFG","Buy",null,null,null,null,null,null,null,null,null,null,0,0,0,0,0,0,{"$error":"#DIV/0!"},{"$error":"#DIV/0!"},{"$error":"#DIV/0!"},{"$error":"#DIV/0!"}," ",3067,"Jeff Samardzija",{"$f":"IF(AQ163<>0,VLOOKUP(AQ163,Info!A:B,2,FALSE),\"\")","v":"SFG"},"samje",0.2857142857142857,2.8571428571428571E-2,6.4285714285714288,0.48571428571428571,5.7142857142857141E-2,3.2,0,0,0,0,null,3067,"Jeff Samardzija","San Francisco Giants","samje",35,10,1,225,17,2,112]
[2153,"Johnny Cueto","SFG","Buy",null,null,null,null,null,null,null,null,null,null,0,0,0,0,0,0,{"$error":"#DIV/0!"},{"$error":"#DIV/0!"},{"$error":"#DIV/0!"},{"$error":"#DIV/0!"}," ",2153,"Johnny Cueto",{"$f":"IF(AQ164<>0,VLOOKUP(AQ164,Info!A:B,2,FALSE),\"\")","v":"SFG"},"cuejo",0.34285714285714286,2.8571428571428571E-2,5.4571428571428573,0.34285714285714286,2.8571428571428571E-2,2.9714285714285715,0,0,0,0,null,2153,"Johnny Cueto","San Francisco Giants","cuejo",35,12,1,191,12,1,104]
[2668,"Madison Bumgarner","SFG","Buy",null,null,null,null,null,null,null,null,null,null,0,0,0,0,0,0,{"$error":"#DIV/0!"},{"$error":"#DIV/0!"},{"$error":"#DIV/0!"},{"$error":"#DIV/0!"}," ",2668,"Madison Bumgarner",{"$f":"IF(AQ165<>0,VLOOKUP(AQ165,Info!A:B,2,FALSE),\"\")","v":"SFG"},"bumma",0.25714285714285712,2.8571428571428571E-2,5.9428571428571431,0.54285714285714282,2.8571428571428571E-2,2.4285714285714284,0,0,0,0,null,2668,"Madison Bumgarner","San Francisco Giants","bumma",35,9,1,208,19,1,85]
[1818,"Matt Cain","SFG","Buy",null,null,null,null,null,null,null,null,null,null,0,0,0,0,0,0,{"$error":"#DIV/0!"},{"$error":"#DIV/0!"},{"$error":"#DIV/0!"},{"$error":"#DIV/0!"}," ",1818,"Matt Cain",{"$f":"IF(AQ166<>0,VLOOKUP(AQ166,Info!A:B,2,FALSE),\"\")","v":"SFG"},"caima",0.22857142857142856,2.8571428571428571E-2,2.8,0.42857142857142855,2.8571428571428571E-2,2.7428571428571429,0,0,0,0,null,1818,"Matt Cain","San Francisco Giants","caima",35,8,1,98,15,1,96]
[3049,"Matt Moore","SFG","Buy",null,null,null,null,null,null,null,null,null,null,0,0,0,0,0,0,{"$error":"#DIV/0!"},{"$error":"#DIV/0!"},{"$error":"#DIV/0!"},{"$error":"#DIV/0!"}," ",3049,"Matt Moore",{"$f":"IF(AQ167<>0,VLOOKUP(AQ167,Info!A:B,2,FALSE),\"\")","v":"SFG"},"moorm",0.22857142857142856,2.8571428571428571E-2,4.628571428571429,0.48571428571428571,2.8571428571428571E-2,3.3714285714285714,0,0,0,0,null,3049,"Matt Moore","San Francisco Giants","moorm",35,8,1,162,17,1,118]
[4178,"Ariel Miranda","SEA","Buy",null,null,null,null,null,null,null,null,null,null,0,0,0,0,0,0,{"$error":"#DIV/0!"},{"$error":"#DIV/0!"},{"$error":"#DIV/0!"},{"$error":"#DIV/0!"}," ",4178,"Ariel Miranda",{"$f":"IF(AQ168<>0,VLOOKUP(AQ168,Info!A:B,2,FALSE),\"\")","v":"SEA"},"mirar",0.2857142857142857,2.8571428571428571E-2,4.4285714285714288,0.22857142857142856,2.8571428571428571E-2,2.9428571428571431,0,0,0,0,null,4178,"Ariel Miranda","Seattle Mariners","mirar",35,10,1,155,8,1,103]
[3838,"Chris Heston","SEA","Buy",null,null,null,null,null,null,null,null,null,null,0,0,0,0,0,0,{"$error":"#DIV/0!"},{"$error":"#DIV/0!"},{"$error":"#DIV/0!"},{"$error":"#DIV/0!"}," ",3838,"Chris Heston",{"$f":"IF(AQ169<>0,VLOOKUP(AQ169,Info!A:B,2,FALSE),\"\")","v":"SEA"},"hesch",0.4,2.8571428571428571E-2,4.5714285714285712,0.37142857142857144,5.7142857142857141E-2,2.5428571428571427,0,0,0,0,null,3838,"Chris Heston","Seattle Mariners","hesch",35,14,1,160,13,2,89]
[3264,"David Phelps","SEA","Buy",null,null,null,null,null,null,null,null,null,null,0,0,0,0,0,0,{"$error":"#DIV/0!"},{"$error":"#DIV/0!"},{"$error":"#DIV/0!"},{"$error":"#DIV/0!"}," ",3264,"David Phelps",{"$f":"IF(AQ170<>0,VLOOKUP(AQ170,Info!A:B,2,FALSE),\"\")","v":"SEA"},"pheda",0.22857142857142856,2.8571428571428571E-2,2.1428571428571428,0.17142857142857143,2.8571428571428571E-2,2,0,0,0,0,null,3264,"David Phelps","Seattle Mariners","pheda",35,8,1,75,6,1,70]
[3530,"Drew Smyly","SEA","Buy",null,null,null,null,null,null,null,null,null,null,0,0,0,0,0,0,{"$error":"#DIV/0!"},{"$error":"#DIV/0!"},{"$error":"#DIV/0!"},{"$error":"#DIV/0!"}," ",3530,"Drew Smyly",{"$f":"IF(AQ171<>0,VLOOKUP(AQ171,Info!A:B,2,FALSE),\"\")","v":"SEA"},"smydr",0.25714285714285712,2.8571428571428571E-2,5.5714285714285712,0.4,2.8571428571428571E-2,3.1714285714285713,0,0,0,0,null,3530,"Drew Smyly","Seattle Mariners","smydr",35,9,1,195,14,1,111]
[3866,"Erasmo Ramirez","SEA","Buy",null,null,null,null,null,null,null,null,null,null,0,0,0,0,0,0,{"$error":"#DIV/0!"},{"$error":"#DIV/0!"},{"$error":"#DIV/0!"},{"$error":"#DIV/0!"}," ",3866,"Erasmo Ramirez",{"$f":"IF(AQ172<>0,VLOOKUP(AQ172,Info!A:B,2,FALSE),\"\")","v":"SEA"},"ramer",0.22857142857142856,2.8571428571428571E-2,2.9714285714285715,0.17142857142857143,2.8571428571428571E-2,2,0,0,0,0,null,3866,"Erasmo Ramirez","Seattle Mariners","ramer",35,8,1,104,6,1,70]
[1752,"Felix Hernandez","SEA","Buy",null,null,null,null,null,null,null,null,null,null,0,0,0,0,0,0,{"$error":"#DIV/0!"},{"$error":"#DIV/0!"},{"$error":"#DIV/0!"},{"$error":"#DIV/0!"}," ",1752,"Felix Hernandez",{"$f":"IF(AQ173<>0,VLOOKUP(AQ173,Info!A:B,2,FALSE),\"\")","v":"SEA"},"herfe",0.4,2.8571428571428571E-2,4.8857142857142861,0.31428571428571428,2.8571428571428571E-2,2.6285714285714286,0,0,0,0,null,1752,"Felix Hernandez","Seattle Mariners","herfe",35,14,1,171,11,1,92]
[3258,"Hisashi Iwakuma","SEA","Buy",null,null,null,null,null,null,null,null,null,null,0,0,0,0,0,0,{"$error":"#DIV/0!"},{"$error":"#DIV/0!"},{"$error":"#DIV/0!"},{"$error":"#DIV/0!"}," ",3258,"Hisashi Iwakuma",{"$f":"IF(AQ174<>0,VLOOKUP(AQ174,Info!A:B,2,FALSE),\"\")","v":"SEA"},"iwahi",0.48571428571428571,2.8571428571428571E-2,4.4571428571428573,0.37142857142857144,2.8571428571428571E-2,2.7714285714285714,0,0,0,0,null,3258,"Hisashi Iwakuma","Seattle Mariners","iwahi",35,17,1,156,13,1,97]
[3504,"James Paxton","SEA","Buy",null,null,null,null,null,null,null,null,null,null,0,0,0,0,0,0,{"$error":"#DIV/0!"},{"$error":"#DIV/0!"},{"$error":"#DIV/0!"},{"$error":"#DIV/0!"}," ",3504,"James Paxton",{"$f":"IF(AQ175<>0,VLOOKUP(AQ175,Info!A:B,2,FALSE),\"\")","v":"SEA"},"paxja",0.51428571428571423,2.8571428571428571E-2,6.5142857142857142,0.22857142857142856,2.8571428571428571E-2,2,0,0,0,0,null,3504,"James Paxton","Seattle Mariners","paxja",35,18,1,228,8,1,70]
[2653,"Mike Leake","SEA","Buy",null,null,null,null,null,null,null,null,null,null,0,0,0,0,0,0,{"$error":"#DIV/0!"},{"$error":"#DIV/0!"},{"$error":"#DIV/0!"},{"$error":"#DIV/0!"}," ",2653,"Mike Leake",{"$f":"IF(AQ176<>0,VLOOKUP(AQ176,Info!A:B,2,FALSE),\"\")","v":"SEA"},"leami",0.34285714285714286,2.8571428571428571E-2,4.2,0.42857142857142855,2.8571428571428571E-2,2.6285714285714286,0,0,0,0,null,2653,"Mike Leake","Seattle Mariners","leami",35,12,1,147,15,1,92]
[2426,"Yovani Gallardo","SEA","Buy",null,null,null,null,null,null,null,null,null,null,0,0,0,0,0,0,{"$error":"#DIV/0!"},{"$error":"#DIV/0!"},{"$error":"#DIV/0!"},{"$error":"#DIV/0!"}," ",2426,"Yovani Gallardo",{"$f":"IF(AQ177<>0,VLOOKUP(AQ177,Info!A:B,2,FALSE),\"\")","v":"SEA"},"galyo",0.22857142857142856,5.7142857142857141E-2,3.3714285714285714,0.37142857142857144,2.8571428571428571E-2,2.9714285714285715,0,0,0,0,null,2426,"Yovani Gallardo","Seattle Mariners","galyo",35,8,2,118,13,1,104]
[2008,"Adam Wainwright","STL","Buy",null,null,null,null,null,null,null,null,null,null,0,0,0,0,0,0,{"$error":"#DIV/0!"},{"$error":"#DIV/0!"},{"$error":"#DIV/0!"},{"$error":"#DIV/0!"}," ",2008,"Adam Wainwright",{"$f":"IF(AQ178<>0,VLOOKUP(AQ178,Info!A:B,2,FALSE),\"\")","v":"STL"},"waiad",0.51428571428571423,2.8571428571428571E-2,4,0.22857142857142856,2.8571428571428571E-2,2.9428571428571431,0,0,0,0,null,2008,"Adam Wainwright","St. Louis Cardinals","waiad",35,18,1,140,8,1,103]
[3837,"Carlos Martinez","STL","Buy",null,null,null,null,null,null,null,null,null,null,0,0,0,0,0,0,{"$error":"#DIV/0!"},{"$error":"#DIV/0!"},{"$error":"#DIV/0!"},{"$error":"#DIV/0!"}," ",3837,"Carlos Martinez",{"$f":"IF(AQ179<>0,VLOOKUP(AQ179,Info!A:B,2,FALSE),\"\")","v":"STL"},"martc",0.4,2.8571428571428571E-2,6.8,0.37142857142857144,8.5714285714285715E-2,2.6,0,0,0,0,null,3837,"Carlos Martinez","St. Louis Cardinals","martc",35,14,1,238,13,3,91]
[3045,"Daniel Bard","STL","Buy",null,null,null,null,null,null,null,null,null,null,0,0,0,0,0,0,{"$error":"#DIV/0!"},{"$error":"#DIV/0!"},{"$error":"#DIV/0!"},{"$error":"#DIV/0!"}," ",3045,"Daniel Bard",{"$f":"IF(AQ180<>0,VLOOKUP(AQ180,Info!A:B,2,FALSE),\"\")","v":"STL"},"bardd",0.31428571428571428,2.8571428571428571E-2,2.2571428571428571,0.37142857142857144,2.8571428571428571E-2,2.4285714285714284,0,0,0,0,null,3045,"Daniel Bard","St. Louis Cardinals","bardd",35,11,1,79,13,1,85]
[3050,"Lance Lynn","STL","Buy",null,null,null,null,null,null,null,null,null,null,0,0,0,0,0,0,{"$error":"#DIV/0!"},{"$error":"#DIV/0!"},{"$error":"#DIV/0!"},{"$error":"#DIV/0!"}," ",3050,"Lance Lynn",{"$f":"IF(AQ181<>0,VLOOKUP(AQ181,Info!A:B,2,FALSE),\"\")","v":"STL"},"lynla",0.34285714285714286,2.8571428571428571E-2,4.6571428571428575,0.25714285714285712,2.8571428571428571E-2,2.1714285714285713,0,0,0,0,null,3050,"Lance Lynn","St. Louis Cardinals","lynla",35,12,1,163,9,1,76]
[3377,"Michael Wacha","STL","Buy",null,null,null,null,null,null,null,null,null,null,0,0,0,0,0,0,{"$error":"#DIV/0!"},{"$error":"#DIV/0!"},{"$error":"#DIV/0!"},{"$error":"#DIV/0!"}," ",3377,"Michael Wacha",{"$f":"IF(AQ182<>0,VLOOKUP(AQ182,Info!A:B,2,FALSE),\"\")","v":"STL"},"wacmi",0.4,2.8571428571428571E-2,5.2857142857142856,0.31428571428571428,5.7142857142857141E-2,2.5428571428571427,0,0,0,0,null,3377,"Michael Wacha","St. Louis Cardinals","wacmi",35,14,1,185,11,2,89]
[3266,"Alex Cobb","TAM","Buy",null,null,null,null,null,null,null,null,null,null,0,0,0,0,0,0,{"$error":"#DIV/0!"},{"$error":"#DIV/0!"},{"$error":"#DIV/0!"},{"$error":"#DIV/0!"}," ",3266,"Alex Cobb",{"$f":"IF(AQ183<>0,VLOOKUP(AQ183,Info!A:B,2,FALSE),\"\")","v":"TAM"},"cobal",0.42857142857142855,2.8571428571428571E-2,4.4285714285714288,0.37142857142857144,2.8571428571428571E-2,2.5428571428571427,0,0,0,0,null,3266,"Alex Cobb","Tampa Bay Rays","cobal",35,15,1,155,13,1,89]
[3307,"Chris Archer","TAM","Buy",null,null,null,null,null,null,null,null,null,null,0,0,0,0,0,0,{"$error":"#DIV/0!"},{"$error":"#DIV/0!"},{"$error":"#DIV/0!"},{"$error":"#DIV/0!"}," ",3307,"Chris Archer",{"$f":"IF(AQ184<>0,VLOOKUP(AQ184,Info!A:B,2,FALSE),\"\")","v":"TAM"},"arcch",0.31428571428571428,2.8571428571428571E-2,7.1428571428571432,0.37142857142857144,2.8571428571428571E-2,2.7142857142857144,0,0,0,0,null,3307,"Chris Archer","Tampa Bay Rays","arcch",35,11,1,250,13,1,95]
[3575,"Jake Odorizzi","TAM","Buy",null,null,null,null,null,null,null,null,null,null,0,0,0,0,0,0,{"$error":"#DIV/0!"},{"$error":"#DIV/0!"},{"$error":"#DIV/0!"},{"$error":"#DIV/0!"}," ",3575,"Jake Odorizzi",{"$f":"IF(AQ185<>0,VLOOKUP(AQ185,Info!A:B,2,FALSE),\"\")","v":"TAM"},"odoja",0.37142857142857144,2.8571428571428571E-2,4.5428571428571427,0.2857142857142857,2.8571428571428571E-2,2.3714285714285714,0,0,0,0,null,3575,"Jake Odorizzi","Tampa Bay Rays","odoja",35,13,1,159,10,1,83]
[3550,"Nathan Eovaldi","TAM","Buy",null,null,null,null,null,null,null,null,null,null,0,0,0,0,0,0,{"$error":"#DIV/0!"},{"$error":"#DIV/0!"},{"$error":"#DIV/0!"},{"$error":"#DIV/0!"}," ",3550,"Nathan Eovaldi",{"$f":"IF(AQ186<>0,VLOOKUP(AQ186,Info!A:B,2,FALSE),\"\")","v":"TAM"},"eovna",0.4,2.8571428571428571E-2,4.0571428571428569,0.34285714285714286,2.8571428571428571E-2,2.7714285714285714,0,0,0,0,null,3550,"Nathan Eovaldi","Tampa Bay Rays","eovna",35,14,1,142,12,1,97]
[3265,"AJ Griffin","TEX","Buy",null,null,null,null,null,null,null,null,null,null,0,0,0,0,0,0,{"$error":"#DIV/0!"},{"$error":"#DIV/0!"},{"$error":"#DIV/0!"},{"$error":"#DIV/0!"}," ",3265,"AJ Griffin",{"$f":"IF(AQ187<>0,VLOOKUP(AQ187,Info!A:B,2,FALSE),\"\")","v":"TEX"},"griaj",0.34285714285714286,2.8571428571428571E-2,3.4,0.34285714285714286,5.7142857142857141E-2,2.8571428571428572,0,0,0,0,null,3265,"AJ Griffin","Texas Rangers","griaj",35,12,1,119,12,2,100]
[3515,"Andrew Cashner","TEX","Buy",null,null,null,null,null,null,null,null,null,null,0,0,0,0,0,0,{"$error":"#DIV/0!"},{"$error":"#DIV/0!"},{"$error":"#DIV/0!"},{"$error":"#DIV/0!"}," ",3515,"Andrew Cashner",{"$f":"IF(AQ188<>0,VLOOKUP(AQ188,Info!A:B,2,FALSE),\"\")","v":"TEX"},"casan",0.4,2.8571428571428571E-2,3.0857142857142859,0.4,2.8571428571428571E-2,2.2571428571428571,0,0,0,0,null,3515,"Andrew Cashner","Texas Rangers","casan",35,14,1,108,14,1,79]
[1975,"Cole Hamels","TEX","Buy",null,null,null,null,null,null,null,null,null,null,0,0,0,0,0,0,{"$error":"#DIV/0!"},{"$error":"#DIV/0!"},{"$error":"#DIV/0!"},{"$error":"#DIV/0!"}," ",1975,"Cole Hamels",{"$f":"IF(AQ189<>0,VLOOKUP(AQ189,Info!A:B,2,FALSE),\"\")","v":"TEX"},"hamco",0.48571428571428571,2.8571428571428571E-2,4.4000000000000004,0.25714285714285712,2.8571428571428571E-2,2.8857142857142857,0,0,0,0,null,1975,"Cole Hamels","Texas Rangers","hamco",35,17,1,154,9,1,101]
[3312,"Miguel Gonzalez","TEX","Buy",null,null,null,null,null,null,null,null,null,null,0,0,0,0,0,0,{"$error":"#DIV/0!"},{"$error":"#DIV/0!"},{"$error":"#DIV/0!"},{"$error":"#DIV/0!"}," ",3312,"Miguel Gonzalez",{"$f":"IF(AQ190<>0,VLOOKUP(AQ190,Info!A:B,2,FALSE),\"\")","v":"TEX"},"gonzm",0.31428571428571428,2.8571428571428571E-2,3.7142857142857144,0.48571428571428571,2.8571428571428571E-2,3.1142857142857143,0,0,0,0,null,3312,"Miguel Gonzalez","Texas Rangers","gonzm",35,11,1,130,17,1,109]
[2476,"Tommy Hanson","TEX","Buy",null,null,null,null,null,null,null,null,null,null,0,0,0,0,0,0,{"$error":"#DIV/0!"},{"$error":"#DIV/0!"},{"$error":"#DIV/0!"},{"$error":"#DIV/0!"}," ",2476,"Tommy Hanson",{"$f":"IF(AQ191<>0,VLOOKUP(AQ191,Info!A:B,2,FALSE),\"\")","v":"TEX"},"hanto",0.2857142857142857,2.8571428571428571E-2,3.7428571428571429,0.2,2.8571428571428571E-2,2.9428571428571431,0,0,0,0,null,2476,"Tommy Hanson","Texas Rangers","hanto",35,10,1,131,7,1,103]
[3531,"Tyson Ross","TEX","Buy",null,null,null,null,null,null,null,null,null,null,0,0,0,0,0,0,{"$error":"#DIV/0!"},{"$error":"#DIV/0!"},{"$error":"#DIV/0!"},{"$error":"#DIV/0!"}," ",3531,"Tyson Ross",{"$f":"IF(AQ192<>0,VLOOKUP(AQ192,Info!A:B,2,FALSE),\"\")","v":"TEX"},"rosty",0.25714285714285712,2.8571428571428571E-2,3,0.25714285714285712,2.8571428571428571E-2,3.5142857142857142,0,0,0,0,null,3531,"Tyson Ross","Texas Rangers","rosty",35,9,1,105,9,1,123]
[4038,"Aaron Sanchez","TOR","Buy",null,null,null,null,null,null,null,null,null,null,0,0,0,0,0,0,{"$error":"#DIV/0!"},{"$error":"#DIV/0!"},{"$error":"#DIV/0!"},{"$error":"#DIV/0!"}," ",4038,"Aaron Sanchez",{"$f":"IF(AQ193<>0,VLOOKUP(AQ193,Info!A:B,2,FALSE),\"\")","v":"TOR"},"sanaa",0.51428571428571423,2.8571428571428571E-2,5.1428571428571432,0.22857142857142856,2.8571428571428571E-2,2.5714285714285716,0,0,0,0,null,4038,"Aaron Sanchez","Toronto Blue Jays","sanaa",35,18,1,180,8,1,90]
[2623,"Brett Anderson","TOR","Buy",null,null,null,null,null,null,null,null,null,null,0,0,0,0,0,0,{"$error":"#DIV/0!"},{"$error":"#DIV/0!"},{"$error":"#DIV/0!"},{"$error":"#DIV/0!"}," ",2623,"Brett Anderson",{"$f":"IF(AQ194<>0,VLOOKUP(AQ194,Info!A:B,2,FALSE),\"\")","v":"TOR"},"andeb",0.31428571428571428,2.8571428571428571E-2,2.9428571428571431,0.31428571428571428,2.8571428571428571E-2,3,0,0,0,0,null,2623,"Brett Anderson","Toronto Blue Jays","andeb",35,11,1,103,11,1,105]
[{"$f":"IF(Z195<>0,Z195,\"\")","v":2208},{"$f":"IF(A195<>0,VLOOKUP(A195,Z:AA,2,FALSE),\"\")","v":"Gavin Floyd"},{"$f":"IF(A195<>0,VLOOKUP(A195,Z:AB,3,FALSE))","v":"TOR"},{"$f":"HYPERLINK(\"http://www.jockstocks.com/buysell.php?action=buymax&plid=\"&A195,\"Buy\")","v":"Buy"},null,null,null,null,null,null,null,null,null,null,{"$f":"VLOOKUP($A195,$A:$N,5,FALSE)/VLOOKUP($A195,$Z:$AM,5,FALSE)","v":0},{"$f":"VLOOKUP($A195,$A:$N,6,FALSE)/VLOOKUP($A195,$Z:$AM,6,FALSE)","v":0},{"$f":"VLOOKUP($A195,$A:$N,7,FALSE)/VLOOKUP($A195,$Z:$AM,7,FALSE)","v":0},{"$f":"VLOOKUP($A195,$A:$N,8,FALSE)/VLOOKUP($A195,$Z:$AM,8,FALSE)","v":0},{"$f":"VLOOKUP($A195,$A:$N,9,FALSE)/VLOOKUP($A195,$Z:$AM,9,FALSE)","v":0},{"$f":"VLOOKUP($A195,$A:$N,10,FALSE)/VLOOKUP($A195,$Z:$AM,10,FALSE)","v":0},{"$f":"VLOOKUP($A195,$A:$N,11,FALSE)/VLOOKUP($A195,$Z:$AM,11,FALSE)","v":{"$error":"#DIV/0!"}},{"$f":"VLOOKUP($A195,$A:$N,12,FALSE)/VLOOKUP($A195,$Z:$AM,12,FALSE)","v":{"$error":"#DIV/0!"}},{"$f":"VLOOKUP($A195,$A:$N,13,FALSE)/VLOOKUP($A195,$Z:$AM,13,FALSE)","v":{"$error":"#DIV/0!"}},{"$f":"VLOOKUP($A195,$A:$N,14,FALSE)/VLOOKUP($A195,$Z:$AM,14,FALSE)","v":{"$error":"#DIV/0!"}}," ",{"$f":"IF(AO195<>0,AO195,\"\")","v":2208},{"$f":"IF(AP195<>0,VLOOKUP(Z195,AO:AP,2,FALSE),\"\")","v":"Gavin Floyd"},{"$f":"IF(AQ195<>0,VLOOKUP(AQ195,Info!A:B,2,FALSE),\"\")","v":"TOR"},{"$f":"IF(AO195<>0,VLOOKUP(Z195,AO:AR,4,FALSE),\"\")","v":"floga"},{"$f":"IF($AO195<>0,AT195/$AS195,\"\")","v":0.22857142857142856},{"$f":"IF($AO195<>0,AU195/$AS195,\"\")","v":2.8571428571428571E-2},{"$f":"IF($AO195<>0,AV195/$AS195,\"\")","v":2.1428571428571428},{"$f":"IF($AO195<>0,AW195/$AS195,\"\")","v":0.17142857142857143},{"$f":"IF($AO195<>0,AX195/$AS195,\"\")","v":2.8571428571428571E-2},{"$f":"IF($AO195<>0,AY195/$AS195,\"\")","v":2},{"$f":"IF($AO195<>0,BL195/$AS195,\"\")","v":0},{"$f":"IF($AO195<>0,BM195/$AS195,\"\")","v":0},{"$f":"IF($AO195<>0,BN195/$AS195,\"\")","v":0},{"$f":"IF($AO195<>0,BO195/$AS195,\"\")","v":0},null,2208,"Gavin Floyd","Toronto Blue Jays","floga",35,8,1,75,6,1,70]
[2470,"J.A. Happ","TOR","Buy",null,null,null,null,null,null,null,null,null,null,0,0,0,0,0,0,{"$error":"#DIV/0!"},{"$error":"#DIV/0!"},{"$error":"#DIV/0!"},{"$error":"#DIV/0!"}," ",2470,"J.A. Happ",{"$f":"IF(AQ196<>0,VLOOKUP(AQ196,Info!A:B,2,FALSE),\"\")","v":"TOR"},"hapja",0.4,2.8571428571428571E-2,5.6857142857142859,0.45714285714285713,2.8571428571428571E-2,2.2857142857142856,0,0,0,0,null,2470,"J.A. Happ","Toronto Blue Jays","hapja",35,14,1,199,16,1,80]
[3512,"Marco Estrada","TOR","Buy",null,null,null,null,null,null,null,null,null,null,0,0,0,0,0,0,{"$error":"#DIV/0!"},{"$error":"#DIV/0!"},{"$error":"#DIV/0!"},{"$error":"#DIV/0!"}," ",3512,"Marco Estrada",{"$f":"IF(AQ197<>0,VLOOKUP(AQ197,Info!A:B,2,FALSE),\"\")","v":"TOR"},"estma",0.31428571428571428,2.8571428571428571E-2,5.3428571428571425,0.2857142857142857,2.8571428571428571E-2,3.1428571428571428,0,0,0,0,null,3512,"Marco Estrada","Toronto Blue Jays","estma",35,11,1,187,10,1,110]
[4042,"Marcus Stroman","TOR","Buy",null,null,null,null,null,null,null,null,null,null,0,0,0,0,0,0,{"$error":"#DIV/0!"},{"$error":"#DIV/0!"},{"$error":"#DIV/0!"},{"$error":"#DIV/0!"}," ",4042,"Marcus Stroman",{"$f":"IF(AQ198<>0,VLOOKUP(AQ198,Info!A:B,2,FALSE),\"\")","v":"TOR"},"strma",0.4,2.8571428571428571E-2,4.9714285714285715,0.2857142857142857,2.8571428571428571E-2,2.1142857142857143,0,0,0,0,null,4042,"Marcus Stroman","Toronto Blue Jays","strma",35,14,1,174,10,1,74]
[2626,"Mat Latos","TOR","Buy",null,null,null,null,null,null,null,null,null,null,0,0,0,0,0,0,{"$error":"#DIV/0!"},{"$error":"#DIV/0!"},{"$error":"#DIV/0!"},{"$error":"#DIV/0!"}," ",2626,"Mat Latos",{"$f":"IF(AQ199<>0,VLOOKUP(AQ199,Info!A:B,2,FALSE),\"\")","v":"TOR"},"latma",0.42857142857142855,2.8571428571428571E-2,2.4857142857142858,0.2,2.8571428571428571E-2,2.2571428571428571,0,0,0,0,null,2626,"Mat Latos","Toronto Blue Jays","latma",35,15,1,87,7,1,79]
[2472,"Ricky Romero","TOR","Buy",null,null,null,null,null,null,null,null,null,null,0,0,0,0,0,0,{"$error":"#DIV/0!"},{"$error":"#DIV/0!"},{"$error":"#DIV/0!"},{"$error":"#DIV/0!"}," ",2472,"Ricky Romero",{"$f":"IF(AQ200<>0,VLOOKUP(AQ200,Info!A:B,2,FALSE),\"\")","v":"TOR"},"romri",0.2857142857142857,2.8571428571428571E-2,3.8857142857142857,0.45714285714285713,2.8571428571428571E-2,3.6,0,0,0,0,null,2472,"Ricky Romero","Toronto Blue Jays","romri",35,10,1,136,16,1,126]
[2230,"Edwin Jackson","WAS","Buy",null,null,null,null,null,null,null,null,null,null,0,0,0,0,0,0,{"$error":"#DIV/0!"},{"$error":"#DIV/0!"},{"$error":"#DIV/0!"},{"$error":"#DIV/0!"}," ",2230,"Edwin Jackson",{"$f":"IF(AQ201<>0,VLOOKUP(AQ201,Info!A:B,2,FALSE),\"\")","v":"WAS"},"jaced",0.2857142857142857,2.8571428571428571E-2,3.2857142857142856,0.34285714285714286,2.8571428571428571E-2,2.5428571428571427,0,0,0,0,null,2230,"Edwin Jackson","Washington Nationals","jaced",35,10,1,115,12,1,89]
[{"$f":"IF(Z202<>0,Z202,\"\")","v":2652},{"$f":"IF(A202<>0,VLOOKUP(A202,Z:AA,2,FALSE),\"\")","v":"Gio Gonzalez"},{"$f":"IF(A202<>0,VLOOKUP(A202,Z:AB,3,FALSE))","v":"WAS"},{"$f":"HYPERLINK(\"http://www.jockstocks.com/buysell.php?action=buymax&plid=\"&A202,\"Buy\")","v":"Buy"},null,null,null,null,null,null,null,null,null,null,{"$f":"VLOOKUP($A202,$A:$N,5,FALSE)/VLOOKUP($A202,$Z:$AM,5,FALSE)","v":0},{"$f":"VLOOKUP($A202,$A:$N,6,FALSE)/VLOOKUP($A202,$Z:$AM,6,FALSE)","v":0},{"$f":"VLOOKUP($A202,$A:$N,7,FALSE)/VLOOKUP($A202,$Z:$AM,7,FALSE)","v":0},{"$f":"VLOOKUP($A202,$A:$N,8,FALSE)/VLOOKUP($A202,$Z:$AM,8,FALSE)","v":0},{"$f":"VLOOKUP($A202,$A:$N,9,FALSE)/VLOOKUP($A202,$Z:$AM,9,FALSE)","v":0},{"$f":"VLOOKUP($A202,$A:$N,10,FALSE)/VLOOKUP($A202,$Z:$AM,10,FALSE)","v":0},{"$f":"VLOOKUP($A202,$A:$N,11,FALSE)/VLOOKUP($A202,$Z:$AM,11,FALSE)","v":{"$error":"#DIV/0!"}},{"$f":"VLOOKUP($A202,$A:$N,12,FALSE)/VLOOKUP($A202,$Z:$AM,12,FALSE)","v":{"$error":"#DIV/0!"}},{"$f":"VLOOKUP($A202,$A:$N,13,FALSE)/VLOOKUP($A202,$Z:$AM,13,FALSE)","v":{"$error":"#DIV/0!"}},{"$f":"VLOOKUP($A202,$A:$N,14,FALSE)/VLOOKUP($A202,$Z:$AM,14,FALSE)","v":{"$error":"#DIV/0!"}}," ",{"$f":"IF(AO202<>0,AO202,\"\")","v":2652},{"$f":"IF(AP202<>0,VLOOKUP(Z202,AO:AP,2,FALSE),\"\")","v":"Gio Gonzalez"},{"$f":"IF(AQ202<>0,VLOOKUP(AQ202,Info!A:B,2,FALSE),\"\")","v":"WAS"},{"$f":"IF(AO202<>0,VLOOKUP(Z202,AO:AR,4,FALSE),\"\")","v":"gongi"},{"$f":"IF($AO202<>0,AT202/$AS202,\"\")","v":0.45714285714285713},{"$f":"IF($AO202<>0,AU202/$AS202,\"\")","v":2.8571428571428571E-2},{"$f":"IF($AO202<>0,AV202/$AS202,\"\")","v":5.8571428571428568},{"$f":"IF($AO202<>0,AW202/$AS202,\"\")","v":0.2857142857142857},{"$f":"IF($AO202<>0,AX202/$AS202,\"\")","v":2.8571428571428571E-2},{"$f":"IF($AO202<>0,AY202/$AS202,\"\")","v":2.1428571428571428},{"$f":"IF($AO202<>0,BL202/$AS202,\"\")","v":0},{"$f":"IF($AO202<>0,BM202/$AS202,\"\")","v":0},{"$f":"IF($AO202<>0,BN202/$AS202,\"\")","v":0},{"$f":"IF($AO202<>0,BO202/$AS202,\"\")","v":0},null,2652,"Gio Gonzalez","Washington Nationals","gongi",35,16,1,205,10,1,75]
[3311,"Jacob Turner","WAS","Buy",null,null,null,null,null,null,null,null,null,null,0,0,0,0,0,0,{"$error":"#DIV/0!"},{"$error":"#DIV/0!"},{"$error":"#DIV/0!"},{"$error":"#DIV/0!"}," ",3311,"Jacob Turner",{"$f":"IF(AQ203<>0,VLOOKUP(AQ203,Info!A:B,2,FALSE),\"\")","v":"WAS"},"turja",0.22857142857142856,2.8571428571428571E-2,2.1428571428571428,0.17142857142857143,2.8571428571428571E-2,2,0,0,0,0,null,3311,"Jacob Turner","Washington Nationals","turja",35,8,1,75,6,1,70]
[2225,"Jeremy Guthrie","WAS","Buy",null,null,null,null,null,null,null,null,null,null,0,0,0,0,0,0,{"$error":"#DIV/0!"},{"$error":"#DIV/0!"},{"$error":"#DIV/0!"},{"$error":"#DIV/0!"}," ",2225,"Jeremy Guthrie",{"$f":"IF(AQ204<>0,VLOOKUP(AQ204,Info!A:B,2,FALSE),\"\")","v":"WAS"},"gutje",0.2857142857142857,2.8571428571428571E-2,2.8,0.2857142857142857,2.8571428571428571E-2,3.2857142857142856,0,0,0,0,null,2225,"Jeremy Guthrie","Washington Nationals","gutje",35,10,1,98,10,1,115]
[2180,"John Lannan","WAS","Buy",null,null,null,null,null,null,null,null,null,null,0,0,0,0,0,0,{"$error":"#DIV/0!"},{"$error":"#DIV/0!"},{"$error":"#DIV/0!"},{"$error":"#DIV/0!"}," ",2180,"John Lannan",{"$f":"IF(AQ205<>0,VLOOKUP(AQ205,Info!A:B,2,FALSE),\"\")","v":"WAS"},"lanjo",0.22857142857142856,2.8571428571428571E-2,2.7142857142857144,0.42857142857142855,2.8571428571428571E-2,3.1428571428571428,0,0,0,0,null,2180,"John Lannan","Washington Nationals","lanjo",35,8,1,95,15,1,110]
[2427,"Max Scherzer","WAS","Buy",null,null,null,null,null,null,null,null,null,null,0,0,0,0,0,0,{"$error":"#DIV/0!"},{"$error":"#DIV/0!"},{"$error":"#DIV/0!"},{"$error":"#DIV/0!"}," ",2427,"Max Scherzer",{"$f":"IF(AQ206<>0,VLOOKUP(AQ206,Info!A:B,2,FALSE),\"\")","v":"WAS"},"schem",0.48571428571428571,2.8571428571428571E-2,7.1428571428571432,0.22857142857142856,2.8571428571428571E-2,2,0,0,0,0,null,2427,"Max Scherzer","Washington Nationals","schem",35,17,1,250,8,1,70]
[1169,"Oliver Perez","WAS","Buy",null,null,null,null,null,null,null,null,null,null,0,0,0,0,0,0,{"$error":"#DIV/0!"},{"$error":"#DIV/0!"},{"$error":"#DIV/0!"},{"$error":"#DIV/0!"}," ",1169,"Oliver Perez",{"$f":"IF(AQ207<>0,VLOOKUP(AQ207,Info!A:B,2,FALSE),\"\")","v":"WAS"},"perol",0.22857142857142856,2.8571428571428571E-2,2.1428571428571428,0.17142857142857143,2.8571428571428571E-2,2,0,0,0,0,null,1169,"Oliver Perez","Washington Nationals","perol",35,8,1,75,6,1,70]
[3533,"Tanner Roark","WAS","Buy",null,null,null,null,null,null,null,null,null,null,0,0,0,0,0,0,{"$error":"#DIV/0!"},{"$error":"#DIV/0!"},{"$error":"#DIV/0!"},{"$error":"#DIV/0!"}," ",{"$f":"IF(AO209<>0,AO209,\"\")","v":3533},{"$f":"IF(AP209<>0,VLOOKUP(Z208,AO:AP,2,FALSE),\"\")","v":"Tanner Roark"},{"$f":"IF(AQ209<>0,VLOOKUP(AQ209,Info!A:B,2,FALSE),\"\")","v":"WAS"},{"$f":"IF(AO209<>0,VLOOKUP(Z208,AO:AR,4,FALSE),\"\")","v":"roata"},{"$f":"IF($AO209<>0,AT209/$AS209,\"\")","v":0.42857142857142855},{"$f":"IF($AO209<>0,AU209/$AS209,\"\")","v":2.8571428571428571E-2},{"$f":"IF($AO209<>0,AV209/$AS209,\"\")","v":5.2},{"$f":"IF($AO209<>0,AW209/$AS209,\"\")","v":0.37142857142857144},{"$f":"IF($AO209<>0,AX209/$AS209,\"\")","v":2.8571428571428571E-2},{"$f":"IF($AO209<>0,AY209/$AS209,\"\")","v":2.9428571428571431},{"$f":"IF($AO209<>0,BL208/$AS209,\"\")","v":0},{"$f":"IF($AO209<>0,BM208/$AS209,\"\")","v":0},{"$f":"IF($AO209<>0,BN208/$AS209,\"\")","v":0},{"$f":"IF($AO209<>0,BO208/$AS209,\"\")","v":0},null,2654,"Stephen Strasburg","Washington Nationals","stras",35,19,1,250,6,2,70]
["","","","Buy",null,null,null,null,null,null,null,null,null,null,{"$error":"#VALUE!"},{"$error":"#VALUE!"},{"$error":"#VALUE!"},{"$error":"#VALUE!"},{"$error":"#VALUE!"},{"$error":"#VALUE!"},{"$error":"#VALUE!"},{"$error":"#VALUE!"},{"$error":"#VALUE!"},{"$error":"#VALUE!"}," ","","",{"$f":"IF(AQ210<>0,VLOOKUP(AQ210,Info!A:B,2,FALSE),\"\")","v":""},"","","","","","","","","","","",null,3533,"Tanner Roark","Washington Nationals","roata",35,15,1,182,13,1,103]
["","","","Buy",null,null,null,null,null,null,null,null,null,null,{"$error":"#VALUE!"},{"$error":"#VALUE!"},{"$error":"#VALUE!"},{"$error":"#VALUE!"},{"$error":"#VALUE!"},{"$error":"#VALUE!"},{"$error":"#VALUE!"},{"$error":"#VALUE!"},{"$error":"#VALUE!"},{"$error":"#VALUE!"}," ","","",{"$f":"IF(AQ211<>0,VLOOKUP(AQ211,Info!A:B,2,FALSE),\"\")","v":""},"","","","","","","","","","",""]
["","","","Buy",null,null,null,null,null,null,null,null,null,null,{"$error":"#VALUE!"},{"$error":"#VALUE!"},{"$error":"#VALUE!"},{"$error":"#VALUE!"},{"$error":"#VALUE!"},{"$error":"#VALUE!"},{"$error":"#VALUE!"},{"$error":"#VALUE!"},{"$error":"#VALUE!"},{"$error":"#VALUE!"}," ","","",{"$f":"IF(AQ212<>0,VLOOKUP(AQ212,Info!A:B,2,FALSE),\"\")","v":""},"","","","","","","","","","",""]
["","","","Buy",null,null,null,null,null,null,null,null,null,null,{"$error":"#VALUE!"},{"$error":"#VALUE!"},{"$error":"#VALUE!"},{"$error":"#VALUE!"},{"$error":"#VALUE!"},{"$error":"#VALUE!"},{"$error":"#VALUE!"},{"$error":"#VALUE!"},{"$error":"#VALUE!"},{"$error":"#VALUE!"}," ","","",{"$f":"IF(AQ213<>0,VLOOKUP(AQ213,Info!A:B,2,FALSE),\"\")","v":""},"","","","","","","","","","",""]
["","","","Buy",null,null,null,null,null,null,null,null,null,null,{"$error":"#VALUE!"},{"$error":"#VALUE!"},{"$error":"#VALUE!"},{"$error":"#VALUE!"},{"$error":"#VALUE!"},{"$error":"#VALUE!"},{"$error":"#VALUE!"},{"$error":"#VALUE!"},{"$error":"#VALUE!"},{"$error":"#VALUE!"}," ","","",{"$f":"IF(AQ214<>0,VLOOKUP(AQ214,Info!A:B,2,FALSE),\"\")","v":""},"","","","","","","","","","",""]
["","","","Buy",null,null,null,null,null,null,null,null,null,null,{"$error":"#VALUE!"},{"$error":"#VALUE!"},{"$error":"#VALUE!"},{"$error":"#VALUE!"},{"$error":"#VALUE!"},{"$error":"#VALUE!"},{"$error":"#VALUE!"},{"$error":"#VALUE!"},{"$error":"#VALUE!"},{"$error":"#VALUE!"}," ","","",{"$f":"IF(AQ215<>0,VLOOKUP(AQ215,Info!A:B,2,FALSE),\"\")","v":""},"","","","","","","","","","",""]
[{"$f":"IF(Z215<>0,Z215,\"\")","v":""},{"$f":"IF(A215<>0,VLOOKUP(A215,Z:AA,2,FALSE),\"\")","v":""},{"$f":"IF(A215<>0,VLOOKUP(A215,Z:AB,3,FALSE))","v":""},{"$f":"HYPERLINK(\"http://www.jockstocks.com/buysell.php?action=buymax&plid=\"&A215,\"Buy\")","v":"Buy"},null,null,null,null,null,null,null,null,null,null,{"$error":"#VALUE!"},{"$error":"#VALUE!"},{"$error":"#VALUE!"},{"$error":"#VALUE!"},{"$error":"#VALUE!"},{"$error":"#VALUE!"},{"$error":"#VALUE!"},{"$error":"#VALUE!"},{"$error":"#VALUE!"},{"$error":"#VALUE!"}," ","","",{"$f":"IF(AQ216<>0,VLOOKUP(AQ216,Info!A:B,2,FALSE),\"\")","v":""},"","","","","","","","","","",""]
["","","","Buy",null,null,null,null,null,null,null,null,null,null,{"$error":"#VALUE!"},{"$error":"#VALUE!"},{"$error":"#VALUE!"},{"$error":"#VALUE!"},{"$error":"#VALUE!"},{"$error":"#VALUE!"},{"$error":"#VALUE!"},{"$error":"#VALUE!"},{"$error":"#VALUE!"},{"$error":"#VALUE!"}," ","","",{"$f":"IF(AQ217<>0,VLOOKUP(AQ217,Info!A:B,2,FALSE),\"\")","v":""},"","","","","","","","","","",""]
["","","","Buy",null,null,null,null,null,null,null,null,null,null,{"$error":"#VALUE!"},{"$error":"#VALUE!"},{"$error":"#VALUE!"},{"$error":"#VALUE!"},{"$error":"#VALUE!"},{"$error":"#VALUE!"},{"$error":"#VALUE!"},{"$error":"#VALUE!"},{"$error":"#VALUE!"},{"$error":"#VALUE!"}," ","","",{"$f":"IF(AQ218<>0,VLOOKUP(AQ218,Info!A:B,2,FALSE),\"\")","v":""},"","","","","","","","","","",""]
["","","","Buy",null,null,null,null,null,null,null,null,null,null,{"$error":"#VALUE!"},{"$error":"#VALUE!"},{"$error":"#VALUE!"},{"$error":"#VALUE!"},{"$error":"#VALUE!"},{"$error":"#VALUE!"},{"$error":"#VALUE!"},{"$error":"#VALUE!"},{"$error":"#VALUE!"},{"$error":"#VALUE!"}," ","","",{"$f":"IF(AQ219<>0,VLOOKUP(AQ219,Info!A:B,2,FALSE),\"\")","v":""},"","","","","","","","","","",""]
["","","","Buy",null,null,null,null,null,null,null,null,null,null,{"$error":"#VALUE!"},{"$error":"#VALUE!"},{"$error":"#VALUE!"},{"$error":"#VALUE!"},{"$error":"#VALUE!"},{"$error":"#VALUE!"},{"$error":"#VALUE!"},{"$error":"#VALUE!"},{"$error":"#VALUE!"},{"$error":"#VALUE!"}," ","","",{"$f":"IF(AQ220<>0,VLOOKUP(AQ220,Info!A:B,2,FALSE),\"\")","v":""},"","","","","","","","","","",""]
["","","","Buy",null,null,null,null,null,null,null,null,null,null,{"$error":"#VALUE!"},{"$error":"#VALUE!"},{"$error":"#VALUE!"},{"$error":"#VALUE!"},{"$error":"#VALUE!"},{"$error":"#VALUE!"},{"$error":"#VALUE!"},{"$error":"#VALUE!"},{"$error":"#VALUE!"},{"$error":"#VALUE!"}," ","","",{"$f":"IF(AQ221<>0,VLOOKUP(AQ221,Info!A:B,2,FALSE),\"\")","v":""},"","","","","","","","","","",""]
["","","","Buy",null,null,null,null,null,null,null,null,null,null,{"$error":"#VALUE!"},{"$error":"#VALUE!"},{"$error":"#VALUE!"},{"$error":"#VALUE!"},{"$error":"#VALUE!"},{"$error":"#VALUE!"},{"$error":"#VALUE!"},{"$error":"#VALUE!"},{"$error":"#VALUE!"},{"$error":"#VALUE!"}," ","","",{"$f":"IF(AQ222<>0,VLOOKUP(AQ222,Info!A:B,2,FALSE),\"\")","v":""},"","","","","","","","","","",""]
["","","","Buy",null,null,null,null,null,null,null,null,null,null,{"$error":"#VALUE!"},{"$error":"#VALUE!"},{"$error":"#VALUE!"},{"$error":"#VALUE!"},{"$error":"#VALUE!"},{"$error":"#VALUE!"},{"$error":"#VALUE!"},{"$error":"#VALUE!"},{"$error":"#VALUE!"},{"$error":"#VALUE!"}," ","","",{"$f":"IF(AQ223<>0,VLOOKUP(AQ223,Info!A:B,2,FALSE),\"\")","v":""},"","","","","","","","","","",""]
["","","","Buy",null,null,null,null,null,null,null,null,null,null,{"$error":"#VALUE!"},{"$error":"#VALUE!"},{"$error":"#VALUE!"},{"$error":"#VALUE!"},{"$error":"#VALUE!"},{"$error":"#VALUE!"},{"$error":"#VALUE!"},{"$error":"#VALUE!"},{"$error":"#VALUE!"},{"$error":"#VALUE!"}," ","","",{"$f":"IF(AQ224<>0,VLOOKUP(AQ224,Info!A:B,2,FALSE),\"\")","v":""},"","","","","","","","","","",""]
["","","","Buy",null,null,null,null,null,null,null,null,null,null,{"$error":"#VALUE!"},{"$error":"#VALUE!"},{"$error":"#VALUE!"},{"$error":"#VALUE!"},{"$error":"#VALUE!"},{"$error":"#VALUE!"},{"$error":"#VALUE!"},{"$error":"#VALUE!"},{"$error":"#VALUE!"},{"$error":"#VALUE!"}," ","","",{"$f":"IF(AQ225<>0,VLOOKUP(AQ225,Info!A:B,2,FALSE),\"\")","v":""},"","","","","","","","","","",""]
["","","","Buy",null,null,null,null,null,null,null,null,null,null,{"$error":"#VALUE!"},{"$error":"#VALUE!"},{"$error":"#VALUE!"},{"$error":"#VALUE!"},{"$error":"#VALUE!"},{"$error":"#VALUE!"},{"$error":"#VALUE!"},{"$error":"#VALUE!"},{"$error":"#VALUE!"},{"$error":"#VALUE!"}," ","","",{"$f":"IF(AQ226<>0,VLOOKUP(AQ226,Info!A:B,2,FALSE),\"\")","v":""},"","","","","","","","","","",""]
["","","","Buy",null,null,null,null,null,null,null,null,null,null,{"$error":"#VALUE!"},{"$error":"#VALUE!"},{"$error":"#VALUE!"},{"$error":"#VALUE!"},{"$error":"#VALUE!"},{"$error":"#VALUE!"},{"$error":"#VALUE!"},{"$error":"#VALUE!"},{"$error":"#VALUE!"},{"$error":"#VALUE!"}," ","","",{"$f":"IF(AQ227<>0,VLOOKUP(AQ227,Info!A:B,2,FALSE),\"\")","v":""},"","","","","","","","","","",""]
["","","","Buy",null,null,null,null,null,null,null,null,null,null,{"$error":"#VALUE!"},{"$error":"#VALUE!"},{"$error":"#VALUE!"},{"$error":"#VALUE!"},{"$error":"#VALUE!"},{"$error":"#VALUE!"},{"$error":"#VALUE!"},{"$error":"#VALUE!"},{"$error":"#VALUE!"},{"$error":"#VALUE!"}," ","","",{"$f":"IF(AQ228<>0,VLOOKUP(AQ228,Info!A:B,2,FALSE),\"\")","v":""},"","","","","","","","","","",""]
["","","","Buy",null,null,null,null,null,null,null,null,null,null,{"$error":"#VALUE!"},{"$error":"#VALUE!"},{"$error":"#VALUE!"},{"$error":"#VALUE!"},{"$error":"#VALUE!"},{"$error":"#VALUE!"},{"$error":"#VALUE!"},{"$error":"#VALUE!"},{"$error":"#VALUE!"},{"$error":"#VALUE!"}," ","","",{"$f":"IF(AQ229<>0,VLOOKUP(AQ229,Info!A:B,2,FALSE),\"\")","v":""},"","","","","","","","","","",""]
["","","","Buy",null,null,null,null,null,null,null,null,null,null,{"$error":"#VALUE!"},{"$error":"#VALUE!"},{"$error":"#VALUE!"},{"$error":"#VALUE!"},{"$error":"#VALUE!"},{"$error":"#VALUE!"},{"$error":"#VALUE!"},{"$error":"#VALUE!"},{"$error":"#VALUE!"},{"$error":"#VALUE!"}," ","","",{"$f":"IF(AQ230<>0,VLOOKUP(AQ230,Info!A:B,2,FALSE),\"\")","v":""},"","","","","","","","","","",""]
["","","","Buy",null,null,null,null,null,null,null,null,null,null,{"$error":"#VALUE!"},{"$error":"#VALUE!"},{"$error":"#VALUE!"},{"$error":"#VALUE!"},{"$error":"#VALUE!"},{"$error":"#VALUE!"},{"$error":"#VALUE!"},{"$error":"#VALUE!"},{"$error":"#VALUE!"},{"$error":"#VALUE!"}," ","","",{"$f":"IF(AQ231<>0,VLOOKUP(AQ231,Info!A:B,2,FALSE),\"\")","v":""},"","","","","","","","","","",""]
["","","","Buy",null,null,null,null,null,null,null,null,null,null,{"$error":"#VALUE!"},{"$error":"#VALUE!"},{"$error":"#VALUE!"},{"$error":"#VALUE!"},{"$error":"#VALUE!"},{"$error":"#VALUE!"},{"$error":"#VALUE!"},{"$error":"#VALUE!"},{"$error":"#VALUE!"},{"$error":"#VALUE!"}," ","","",{"$f":"IF(AQ232<>0,VLOOKUP(AQ232,Info!A:B,2,FALSE),\"\")","v":""},"","","","","","","","","","",""]
["","","","Buy",null,null,null,null,null,null,null,null,null,null,{"$error":"#VALUE!"},{"$error":"#VALUE!"},{"$error":"#VALUE!"},{"$error":"#VALUE!"},{"$error":"#VALUE!"},{"$error":"#VALUE!"},{"$error":"#VALUE!"},{"$error":"#VALUE!"},{"$error":"#VALUE!"},{"$error":"#VALUE!"}," ","","",{"$f":"IF(AQ233<>0,VLOOKUP(AQ233,Info!A:B,2,FALSE),\"\")","v":""},"","","","","","","","","","",""]
["","","","Buy",null,null,null,null,null,null,null,null,null,null,{"$error":"#VALUE!"},{"$error":"#VALUE!"},{"$error":"#VALUE!"},{"$error":"#VALUE!"},{"$error":"#VALUE!"},{"$error":"#VALUE!"},{"$error":"#VALUE!"},{"$error":"#VALUE!"},{"$error":"#VALUE!"},{"$error":"#VALUE!"}," ","","",{"$f":"IF(AQ234<>0,VLOOKUP(AQ234,Info!A:B,2,FALSE),\"\")","v":""},"","","","","","","","","","",""]
["","","","Buy",null,null,null,null,null,null,null,null,null,null,{"$error":"#VALUE!"},{"$error":"#VALUE!"},{"$error":"#VALUE!"},{"$error":"#VALUE!"},{"$error":"#VALUE!"},{"$error":"#VALUE!"},{"$error":"#VALUE!"},{"$error":"#VALUE!"},{"$error":"#VALUE!"},{"$error":"#VALUE!"}," ","","",{"$f":"IF(AQ235<>0,VLOOKUP(AQ235,Info!A:B,2,FALSE),\"\")","v":""},"","","","","","","","","","",""]
["","","","Buy",null,null,null,null,null,null,null,null,null,null,{"$error":"#VALUE!"},{"$error":"#VALUE!"},{"$error":"#VALUE!"},{"$error":"#VALUE!"},{"$error":"#VALUE!"},{"$error":"#VALUE!"},{"$error":"#VALUE!"},{"$error":"#VALUE!"},{"$error":"#VALUE!"},{"$error":"#VALUE!"}," ","","",{"$f":"IF(AQ236<>0,VLOOKUP(AQ236,Info!A:B,2,FALSE),\"\")","v":""},"","","","","","","","","","",""]
["","","","Buy",null,null,null,null,null,null,null,null,null,null,{"$error":"#VALUE!"},{"$error":"#VALUE!"},{"$error":"#VALUE!"},{"$error":"#VALUE!"},{"$error":"#VALUE!"},{"$error":"#VALUE!"},{"$error":"#VALUE!"},{"$error":"#VALUE!"},{"$error":"#VALUE!"},{"$error":"#VALUE!"}," ","","",{"$f":"IF(AQ237<>0,VLOOKUP(AQ237,Info!A:B,2,FALSE),\"\")","v":""},"","","","","","","","","","",""]
["","","","Buy",null,null,null,null,null,null,null,null,null,null,{"$error":"#VALUE!"},{"$error":"#VALUE!"},{"$error":"#VALUE!"},{"$error":"#VALUE!"},{"$error":"#VALUE!"},{"$error":"#VALUE!"},{"$error":"#VALUE!"},{"$error":"#VALUE!"},{"$error":"#VALUE!"},{"$error":"#VALUE!"}," ","","",{"$f":"IF(AQ238<>0,VLOOKUP(AQ238,Info!A:B,2,FALSE),\"\")","v":""},"","","","","","","","","","",""]
["","","","Buy",null,null,null,null,null,null,null,null,null,null,{"$error":"#VALUE!"},{"$error":"#VALUE!"},{"$error":"#VALUE!"},{"$error":"#VALUE!"},{"$error":"#VALUE!"},{"$error":"#VALUE!"},{"$error":"#VALUE!"},{"$error":"#VALUE!"},{"$error":"#VALUE!"},{"$error":"#VALUE!"}," ","","",{"$f":"IF(AQ239<>0,VLOOKUP(AQ239,Info!A:B,2,FALSE),\"\")","v":""},"","","","","","","","","","",""]
["","","","Buy",null,null,null,null,null,null,null,null,null,null,{"$error":"#VALUE!"},{"$error":"#VALUE!"},{"$error":"#VALUE!"},{"$error":"#VALUE!"},{"$error":"#VALUE!"},{"$error":"#VALUE!"},{"$error":"#VALUE!"},{"$error":"#VALUE!"},{"$error":"#VALUE!"},{"$error":"#VALUE!"}," ","","",{"$f":"IF(AQ240<>0,VLOOKUP(AQ240,Info!A:B,2,FALSE),\"\")","v":""},"","","","","","","","","","",""]
["","","","Buy",null,null,null,null,null,null,null,null,null,null,{"$error":"#VALUE!"},{"$error":"#VALUE!"},{"$error":"#VALUE!"},{"$error":"#VALUE!"},{"$error":"#VALUE!"},{"$error":"#VALUE!"},{"$error":"#VALUE!"},{"$error":"#VALUE!"},{"$error":"#VALUE!"},{"$error":"#VALUE!"}," ","","",{"$f":"IF(AQ241<>0,VLOOKUP(AQ241,Info!A:B,2,FALSE),\"\")","v":""},"","","","","","","","","","",""]
["","","","Buy",null,null,null,null,null,null,null,null,null,null,{"$error":"#VALUE!"},{"$error":"#VALUE!"},{"$error":"#VALUE!"},{"$error":"#VALUE!"},{"$error":"#VALUE!"},{"$error":"#VALUE!"},{"$error":"#VALUE!"},{"$error":"#VALUE!"},{"$error":"#VALUE!"},{"$error":"#VALUE!"}," ","","",{"$f":"IF(AQ242<>0,VLOOKUP(AQ242,Info!A:B,2,FALSE),\"\")","v":""},"","","","","","","","","","",""]
["","","","Buy",null,null,null,null,null,null,null,null,null,null,{"$error":"#VALUE!"},{"$error":"#VALUE!"},{"$error":"#VALUE!"},{"$error":"#VALUE!"},{"$error":"#VALUE!"},{"$error":"#VALUE!"},{"$error":"#VALUE!"},{"$error":"#VALUE!"},{"$error":"#VALUE!"},{"$error":"#VALUE!"}," ","","",{"$f":"IF(AQ243<>0,VLOOKUP(AQ243,Info!A:B,2,FALSE),\"\")","v":""},"","","","","","","","","","",""]
["","","","Buy",null,null,null,null,null,null,null,null,null,null,{"$error":"#VALUE!"},{"$error":"#VALUE!"},{"$error":"#VALUE!"},{"$error":"#VALUE!"},{"$error":"#VALUE!"},{"$error":"#VALUE!"},{"$error":"#VALUE!"},{"$error":"#VALUE!"},{"$error":"#VALUE!"},{"$error":"#VALUE!"}," ","","",{"$f":"IF(AQ244<>0,VLOOKUP(AQ244,Info!A:B,2,FALSE),\"\")","v":""},"","","","","","","","","","",""]
["","","","Buy",null,null,null,null,null,null,null,null,null,null,{"$error":"#VALUE!"},{"$error":"#VALUE!"},{"$error":"#VALUE!"},{"$error":"#VALUE!"},{"$error":"#VALUE!"},{"$error":"#VALUE!"},{"$error":"#VALUE!"},{"$error":"#VALUE!"},{"$error":"#VALUE!"},{"$error":"#VALUE!"}," ","","",{"$f":"IF(AQ245<>0,VLOOKUP(AQ245,Info!A:B,2,FALSE),\"\")","v":""},"","","","","","","","","","",""]
["","","","Buy",null,null,null,null,null,null,null,null,null,null,{"$error":"#VALUE!"},{"$error":"#VALUE!"},{"$error":"#VALUE!"},{"$error":"#VALUE!"},{"$error":"#VALUE!"},{"$error":"#VALUE!"},{"$error":"#VALUE!"},{"$error":"#VALUE!"},{"$error":"#VALUE!"},{"$error":"#VALUE!"}," ","","",{"$f":"IF(AQ246<>0,VLOOKUP(AQ246,Info!A:B,2,FALSE),\"\")","v":""},"","","","","","","","","","",""]
["","","","Buy",null,null,null,null,null,null,null,null,null,null,{"$error":"#VALUE!"},{"$error":"#VALUE!"},{"$error":"#VALUE!"},{"$error":"#VALUE!"},{"$error":"#VALUE!"},{"$error":"#VALUE!"},{"$error":"#VALUE!"},{"$error":"#VALUE!"},{"$error":"#VALUE!"},{"$error":"#VALUE!"}," ","","",{"$f":"IF(AQ247<>0,VLOOKUP(AQ247,Info!A:B,2,FALSE),\"\")","v":""},"","","","","","","","","","",""]
["","","","Buy",null,null,null,null,null,null,null,null,null,null,{"$error":"#VALUE!"},{"$error":"#VALUE!"},{"$error":"#VALUE!"},{"$error":"#VALUE!"},{"$error":"#VALUE!"},{"$error":"#VALUE!"},{"$error":"#VALUE!"},{"$error":"#VALUE!"},{"$error":"#VALUE!"},{"$error":"#VALUE!"}," ","","",{"$f":"IF(AQ248<>0,VLOOKUP(AQ248,Info!A:B,2,FALSE),\"\")","v":""},"","","","","","","","","","",""]
["","","","Buy",null,null,null,null,null,null,null,null,null,null,{"$error":"#VALUE!"},{"$error":"#VALUE!"},{"$error":"#VALUE!"},{"$error":"#VALUE!"},{"$error":"#VALUE!"},{"$error":"#VALUE!"},{"$error":"#VALUE!"},{"$error":"#VALUE!"},{"$error":"#VALUE!"},{"$error":"#VALUE!"}," ","","",{"$f":"IF(AQ249<>0,VLOOKUP(AQ249,Info!A:B,2,FALSE),\"\")","v":""},"","","","","","","","","","",""]
["","","","Buy",null,null,null,null,null,null,null,null,null,null,{"$error":"#VALUE!"},{"$error":"#VALUE!"},{"$error":"#VALUE!"},{"$error":"#VALUE!"},{"$error":"#VALUE!"},{"$error":"#VALUE!"},{"$error":"#VALUE!"},{"$error":"#VALUE!"},{"$error":"#VALUE!"},{"$error":"#VALUE!"}," ","","",{"$f":"IF(AQ250<>0,VLOOKUP(AQ250,Info!A:B,2,FALSE),\"\")","v":""},"","","","","","","","","","",""]
["","","","Buy",null,null,null,null,null,null,null,null,null,null,{"$error":"#VALUE!"},{"$error":"#VALUE!"},{"$error":"#VALUE!"},{"$error":"#VALUE!"},{"$error":"#VALUE!"},{"$error":"#VALUE!"},{"$error":"#VALUE!"},{"$error":"#VALUE!"},{"$error":"#VALUE!"},{"$error":"#VALUE!"}," ","","",{"$f":"IF(AQ251<>0,VLOOKUP(AQ251,Info!A:B,2,FALSE),\"\")","v":""},"","","","","","","","","","",""]

{"sheet":"MLBR","index":3,"n_rows":100,"n_cols":51,"rows_kept":100,"cut":false,"hidden":false,"merged":[]}
["plid","Name","Team",null,"W","Save","Ks","L","W/Hs","ERs",null,null,null,null,"W","Save","Ks","L","W/Hs","ERs",null,null,null,null,null,{"$f":"IF(AO1<>0,AO1,\"\")","v":"ID"},{"$f":"IF(AP1<>0,AP1,\"\")","v":"Name"},{"$f":"IF(AQ1<>0,AQ1,\"\")","v":"Team"},{"$f":"IF(AR1<>0,AR1,\"\")","v":"Symbol"},{"$f":"IF(AT1<>0,AT1,\"\")","v":"Wins"},{"$f":"IF(AU1<>0,AU1,\"\")","v":"Saves"},"Strikeouts","Losses","Walks/Hits","Earned Runs","",{"$f":"IF(BC1<>0,BC1,\"\")","v":""},{"$f":"IF(BD1<>0,BD1,\"\")","v":""},{"$f":"IF(BE1<>0,BE1,\"\")","v":""},null,"ID","Name","Team","Symbol","Appearances","Wins","Saves","Strikeouts","Losses","Walks/Hits","Earned Runs"]
[{"$f":"IF(Z2<>0,Z2,\"\")","v":2465},{"$f":"IF(A2<>0,VLOOKUP(A2,Z:AA,2,FALSE),\"\")","v":"Fernando Rodney"},{"$f":"IF(A2<>0,VLOOKUP(A2,Z:AB,3,FALSE))","v":"ARI"},{"$f":"HYPERLINK(\"http://www.jockstocks.com/buysell.php?action=buymax&plid=\"&A2,\"Buy\")","v":"Buy"},null,null,null,null,null,null,null,null,null,null,{"$f":"VLOOKUP($A2,$A:$N,5,FALSE)/VLOOKUP($A2,$Z:$AM,5,FALSE)","v":0},{"$f":"VLOOKUP($A2,$A:$N,6,FALSE)/VLOOKUP($A2,$Z:$AM,6,FALSE)","v":0},{"$f":"VLOOKUP($A2,$A:$N,7,FALSE)/VLOOKUP($A2,$Z:$AM,7,FALSE)","v":0},{"$f":"VLOOKUP($A2,$A:$N,8,FALSE)/VLOOKUP($A2,$Z:$AM,8,FALSE)","v":0},{"$f":"VLOOKUP($A2,$A:$N,9,FALSE)/VLOOKUP($A2,$Z:$AM,9,FALSE)","v":{"$error":"#DIV/0!"}},{"$f":"VLOOKUP($A2,$A:$N,10,FALSE)/VLOOKUP($A2,$Z:$AM,10,FALSE)","v":{"$error":"#DIV/0!"}},{"$f":"VLOOKUP($A2,$A:$N,11,FALSE)/VLOOKUP($A2,$Z:$AM,11,FALSE)","v":{"$error":"#DIV/0!"}},{"$f":"VLOOKUP($A2,$A:$N,12,FALSE)/VLOOKUP($A2,$Z:$AM,12,FALSE)","v":{"$error":"#DIV/0!"}},{"$f":"VLOOKUP($A2,$A:$N,13,FALSE)/VLOOKUP($A2,$Z:$AM,13,FALSE)","v":{"$error":"#DIV/0!"}},{"$f":"VLOOKUP($A2,$A:$N,14,FALSE)/VLOOKUP($A2,$Z:$AM,14,FALSE)","v":{"$error":"#DIV/0!"}}," ",{"$f":"IF(AO2<>0,AO2,\"\")","v":2465},{"$f":"IF(AP2<>0,VLOOKUP(Z2,AO:AP,2,FALSE),\"\")","v":"Fernando Rodney"},{"$f":"IF(AQ2<>0,VLOOKUP(AQ2,Info!A:B,2,FALSE),\"\")","v":"ARI"},{"$f":"IF(AO2<>0,VLOOKUP(Z2,AO:AR,4,FALSE),\"\")","v":"rodfe"},{"$f":"IF($AO2<>0,AT2/$AS2,\"\")","v":5.8823529411764705E-2},{"$f":"IF($AO2<>0,AU2/$AS2,\"\")","v":0.58823529411764708},{"$f":"IF($AO2<>0,AV2/$AS2,\"\")","v":1.0823529411764705},{"$f":"IF($AO2<>0,AW2/$AS2,\"\")","v":7.0588235294117646E-2},{"$f":"IF($AO2<>0,AZ2/$AS2,\"\")","v":0},0,0,0,0,0,null,2465,"Fernando Rodney","Arizona Diamondbacks","rodfe",85,5,50,92,6,92,38]
[{"$f":"IF(Z3<>0,Z3,\"\")","v":3094},{"$f":"IF(A3<>0,VLOOKUP(A3,Z:AA,2,FALSE),\"\")","v":"Tom Wilhelmsen"},{"$f":"IF(A3<>0,VLOOKUP(A3,Z:AB,3,FALSE))","v":"ARI"},{"$f":"HYPERLINK(\"http://www.jockstocks.com/buysell.php?action=buymax&plid=\"&A3,\"Buy\")","v":"Buy"},null,null,null,null,null,null,null,null,null,null,0,0,0,0,{"$error":"#DIV/0!"},{"$error":"#DIV/0!"},{"$error":"#DIV/0!"},{"$error":"#DIV/0!"},{"$error":"#DIV/0!"},{"$error":"#DIV/0!"}," ",{"$f":"IF(AO3<>0,AO3,\"\")","v":3094},{"$f":"IF(AP3<>0,VLOOKUP(Z3,AO:AP,2,FALSE),\"\")","v":"Tom Wilhelmsen"},{"$f":"IF(AQ3<>0,VLOOKUP(AQ3,Info!A:B,2,FALSE),\"\")","v":"ARI"},{"$f":"IF(AO3<>0,VLOOKUP(Z3,AO:AR,4,FALSE),\"\")","v":"wilto"},{"$f":"IF($AO3<>0,AT3/$AS3,\"\")","v":4.7058823529411764E-2},{"$f":"IF($AO3<>0,AU3/$AS3,\"\")","v":0.29411764705882354},{"$f":"IF($AO3<>0,AV3/$AS3,\"\")","v":0.63529411764705879},{"$f":"IF($AO3<>0,AW3/$AS3,\"\")","v":4.7058823529411764E-2},{"$f":"IF($AO3<>0,AZ3/$AS3,\"\")","v":0},{"$f":"IF($AO3<>0,BA3/$AS3,\"\")","v":0},{"$f":"IF($AO3<>0,BB3/$AS3,\"\")","v":0},{"$f":"IF($AO3<>0,BC3/$AS3,\"\")","v":0},{"$f":"IF($AO3<>0,BD3/$AS3,\"\")","v":0},{"$f":"IF($AO3<>0,BE3/$AS3,\"\")","v":0},null,3094,"Tom Wilhelmsen","Arizona Diamondbacks","wilto",85,4,25,54,4,117,41]
[2960,"Jason Motte","ATL","Buy",null,null,null,null,null,null,null,null,null,null,0,0,0,0,{"$error":"#DIV/0!"},{"$error":"#DIV/0!"},{"$error":"#DIV/0!"},{"$error":"#DIV/0!"},{"$error":"#DIV/0!"},{"$error":"#DIV/0!"}," ",2960,"Jason Motte",{"$f":"IF(AQ4<>0,VLOOKUP(AQ4,Info!A:B,2,FALSE),\"\")","v":"ATL"},"motja",2.3529411764705882E-2,0.29411764705882354,0.58823529411764708,2.3529411764705882E-2,0,0,0,0,0,0,null,2960,"Jason Motte","Atlanta Braves","motja",85,2,25,50,2,89,30]
[3057,"Jim Johnson","ATL","Buy",null,null,null,null,null,null,null,null,null,null,0,0,0,0,{"$error":"#DIV/0!"},{"$error":"#DIV/0!"},{"$error":"#DIV/0!"},{"$error":"#DIV/0!"},{"$error":"#DIV/0!"},{"$error":"#DIV/0!"}," ",3057,"Jim Johnson",{"$f":"IF(AQ5<>0,VLOOKUP(AQ5,Info!A:B,2,FALSE),\"\")","v":"ATL"},"jojim",5.8823529411764705E-2,0.36470588235294116,1,5.8823529411764705E-2,0,0,0,0,0,0,null,3057,"Jim Johnson","Atlanta Braves","jojim",85,5,31,85,5,120,49]
[2872,"Zach Britton","BAL","Buy",null,null,null,null,null,null,null,null,null,null,0,0,0,0,{"$error":"#DIV/0!"},{"$error":"#DIV/0!"},{"$error":"#DIV/0!"},{"$error":"#DIV/0!"},{"$error":"#DIV/0!"},{"$error":"#DIV/0!"}," ",2872,"Zach Britton",{"$f":"IF(AQ6<>0,VLOOKUP(AQ6,Info!A:B,2,FALSE),\"\")","v":"BAL"},"briza",5.8823529411764705E-2,0.4,0.76470588235294112,3.5294117647058823E-2,0,0,0,0,0,0,null,2872,"Zach Britton","Baltimore Orioles","briza",85,5,34,65,3,130,27]
[3091,"Addison Reed","BOS","Buy",null,null,null,null,null,null,null,null,null,null,0,0,0,0,{"$error":"#DIV/0!"},{"$error":"#DIV/0!"},{"$error":"#DIV/0!"},{"$error":"#DIV/0!"},{"$error":"#DIV/0!"},{"$error":"#DIV/0!"}," ",3091,"Addison Reed",{"$f":"IF(AQ7<>0,VLOOKUP(AQ7,Info!A:B,2,FALSE),\"\")","v":"BOS"},"reead",3.5294117647058823E-2,0.29411764705882354,0.95294117647058818,4.7058823529411764E-2,0,0,0,0,0,0,null,3091,"Addison Reed","Boston Red Sox","reead",85,3,25,81,4,88,28]
[2833,"Craig Kimbrel","BOS","Buy",null,null,null,null,null,null,null,null,null,null,0,0,0,0,{"$error":"#DIV/0!"},{"$error":"#DIV/0!"},{"$error":"#DIV/0!"},{"$error":"#DIV/0!"},{"$error":"#DIV/0!"},{"$error":"#DIV/0!"}," ",2833,"Craig Kimbrel",{"$f":"IF(AQ8<>0,VLOOKUP(AQ8,Info!A:B,2,FALSE),\"\")","v":"BOS"},"kimcr",5.8823529411764705E-2,0.51764705882352946,1.8588235294117648,2.3529411764705882E-2,0,0,0,0,0,0,null,2833,"Craig Kimbrel","Boston Red Sox","kimcr",85,5,44,158,2,58,20]
[3576,"Hector Rondon","CHC","Buy",null,null,null,null,null,null,null,null,null,null,0,0,0,0,{"$error":"#DIV/0!"},{"$error":"#DIV/0!"},{"$error":"#DIV/0!"},{"$error":"#DIV/0!"},{"$error":"#DIV/0!"},{"$error":"#DIV/0!"}," ",3576,"Hector Rondon",{"$f":"IF(AQ9<>0,VLOOKUP(AQ9,Info!A:B,2,FALSE),\"\")","v":"CHC"},"ronhe",5.8823529411764705E-2,0.29411764705882354,1.1294117647058823,3.5294117647058823E-2,0,0,0,0,0,0,null,3576,"Hector Rondon","Chicago Cubs","ronhe",85,5,25,96,3,96,39]
[3305,"Koji Uehara","CHC","Buy",null,null,null,null,null,null,null,null,null,null,0,0,0,0,{"$error":"#DIV/0!"},{"$error":"#DIV/0!"},{"$error":"#DIV/0!"},{"$error":"#DIV/0!"},{"$error":"#DIV/0!"},{"$error":"#DIV/0!"}," ",3305,"Koji Uehara",{"$f":"IF(AQ10<>0,VLOOKUP(AQ10,Info!A:B,2,FALSE),\"\")","v":"CHC"},"uehko",5.8823529411764705E-2,0.29411764705882354,1.0235294117647058,8.2352941176470587E-2,0,0,0,0,0,0,null,3305,"Koji Uehara","Chicago Cubs","uehko",85,5,25,87,7,89,33]
[2629,"Wade Davis","CHC","Buy",null,null,null,null,null,null,null,null,null,null,0,0,0,0,{"$error":"#DIV/0!"},{"$error":"#DIV/0!"},{"$error":"#DIV/0!"},{"$error":"#DIV/0!"},{"$error":"#DIV/0!"},{"$error":"#DIV/0!"}," ",2629,"Wade Davis",{"$f":"IF(AQ11<>0,VLOOKUP(AQ11,Info!A:B,2,FALSE),\"\")","v":"CHC"},"davwa",5.8823529411764705E-2,0.56470588235294117,1.3411764705882352,3.5294117647058823E-2,0,0,0,0,0,0,null,2629,"Wade Davis","Chicago Cubs","davwa",85,5,48,114,3,92,23]
[2832,"Drew Storen","CIN","Buy",null,null,null,null,null,null,null,null,null,null,0,0,0,0,{"$error":"#DIV/0!"},{"$error":"#DIV/0!"},{"$error":"#DIV/0!"},{"$error":"#DIV/0!"},{"$error":"#DIV/0!"},{"$error":"#DIV/0!"}," ",2832,"Drew Storen",{"$f":"IF(AQ12<>0,VLOOKUP(AQ12,Info!A:B,2,FALSE),\"\")","v":"CIN"},"stodr",5.8823529411764705E-2,0.29411764705882354,0.83529411764705885,3.5294117647058823E-2,0,0,0,0,0,0,null,2832,"Drew Storen","Cincinnati Reds","stodr",85,5,25,71,3,121,40]
[4149,"Raisel Iglesias","CIN","Buy",null,null,null,null,null,null,null,null,null,null,0,0,0,0,{"$error":"#DIV/0!"},{"$error":"#DIV/0!"},{"$error":"#DIV/0!"},{"$error":"#DIV/0!"},{"$error":"#DIV/0!"},{"$error":"#DIV/0!"}," ",4149,"Raisel Iglesias",{"$f":"IF(AQ13<>0,VLOOKUP(AQ13,Info!A:B,2,FALSE),\"\")","v":"CIN"},"iglra",5.8823529411764705E-2,0.44705882352941179,1.4705882352941178,5.8823529411764705E-2,0,0,0,0,0,0,null,4149,"Raisel Iglesias","Cincinnati Reds","iglra",85,5,38,125,5,115,29]
[2154,"Andrew Miller","CLE","Buy",null,null,null,null,null,null,null,null,null,null,0,0,0,0,{"$error":"#DIV/0!"},{"$error":"#DIV/0!"},{"$error":"#DIV/0!"},{"$error":"#DIV/0!"},{"$error":"#DIV/0!"},{"$error":"#DIV/0!"}," ",2154,"Andrew Miller",{"$f":"IF(AQ14<>0,VLOOKUP(AQ14,Info!A:B,2,FALSE),\"\")","v":"CLE"},"miand",5.8823529411764705E-2,0.29411764705882354,1.6941176470588235,7.0588235294117646E-2,0,0,0,0,0,0,null,2154,"Andrew Miller","Cleveland Indians","miand",85,5,25,144,6,73,20]
[3577,"Cody Allen","CLE","Buy",null,null,null,null,null,null,null,null,null,null,0,0,0,0,{"$error":"#DIV/0!"},{"$error":"#DIV/0!"},{"$error":"#DIV/0!"},{"$error":"#DIV/0!"},{"$error":"#DIV/0!"},{"$error":"#DIV/0!"}," ",3577,"Cody Allen",{"$f":"IF(AQ15<>0,VLOOKUP(AQ15,Info!A:B,2,FALSE),\"\")","v":"CLE"},"allco",4.7058823529411764E-2,0.43529411764705883,1.3764705882352941,9.4117647058823528E-2,0,0,0,0,0,0,null,3577,"Cody Allen","Cleveland Indians","allco",85,4,37,117,8,91,27]
[3880,"Zach McAllister","CLE","Buy",null,null,null,null,null,null,null,null,null,null,0,0,0,0,{"$error":"#DIV/0!"},{"$error":"#DIV/0!"},{"$error":"#DIV/0!"},{"$error":"#DIV/0!"},{"$error":"#DIV/0!"},{"$error":"#DIV/0!"}," ",3880,"Zach McAllister",{"$f":"IF(AQ16<>0,VLOOKUP(AQ16,Info!A:B,2,FALSE),\"\")","v":"CLE"},"mcaza",4.7058823529411764E-2,0.29411764705882354,1.3294117647058823,4.7058823529411764E-2,0,0,0,0,0,0,null,3880,"Zach McAllister","Cleveland Indians","mcaza",85,4,25,113,4,126,31]
[4034,"Carlos Estevez","COL","Buy",null,null,null,null,null,null,null,null,null,null,0,0,0,0,{"$error":"#DIV/0!"},{"$error":"#DIV/0!"},{"$error":"#DIV/0!"},{"$error":"#DIV/0!"},{"$error":"#DIV/0!"},{"$error":"#DIV/0!"}," ",4034,"Carlos Estevez",{"$f":"IF(AQ17<>0,VLOOKUP(AQ17,Info!A:B,2,FALSE),\"\")","v":"COL"},"estca",5.8823529411764705E-2,0.29411764705882354,0.89411764705882357,2.3529411764705882E-2,0,0,0,0,0,0,null,4034,"Carlos Estevez","Colorado Rockies","estca",85,5,25,76,2,128,50]
[2420,"Chad Qualls","COL","Buy",null,null,null,null,null,null,null,null,null,null,0,0,0,0,{"$error":"#DIV/0!"},{"$error":"#DIV/0!"},{"$error":"#DIV/0!"},{"$error":"#DIV/0!"},{"$error":"#DIV/0!"},{"$error":"#DIV/0!"}," ",2420,"Chad Qualls",{"$f":"IF(AQ18<>0,VLOOKUP(AQ18,Info!A:B,2,FALSE),\"\")","v":"COL"},"quach",5.8823529411764705E-2,0.29411764705882354,0.58823529411764708,5.8823529411764705E-2,0,0,0,0,0,0,null,2420,"Chad Qualls","Colorado Rockies","quach",85,5,25,50,5,99,45]
[3252,"Greg Holland","COL","Buy",null,null,null,null,null,null,null,null,null,null,0,0,0,0,{"$error":"#DIV/0!"},{"$error":"#DIV/0!"},{"$error":"#DIV/0!"},{"$error":"#DIV/0!"},{"$error":"#DIV/0!"},{"$error":"#DIV/0!"}," ",3252,"Greg Holland",{"$f":"IF(AQ19<>0,VLOOKUP(AQ19,Info!A:B,2,FALSE),\"\")","v":"COL"},"holgr",5.8823529411764705E-2,0.58823529411764708,1.1294117647058823,9.4117647058823528E-2,0,0,0,0,0,0,null,3252,"Greg Holland","Colorado Rockies","holgr",85,5,50,96,8,91,35]
[3805,"Jake McGee","COL","Buy",null,null,null,null,null,null,null,null,null,null,0,0,0,0,{"$error":"#DIV/0!"},{"$error":"#DIV/0!"},{"$error":"#DIV/0!"},{"$error":"#DIV/0!"},{"$error":"#DIV/0!"},{"$error":"#DIV/0!"}," ",3805,"Jake McGee",{"$f":"IF(AQ20<>0,VLOOKUP(AQ20,Info!A:B,2,FALSE),\"\")","v":"COL"},"mcgej",2.3529411764705882E-2,0.29411764705882354,0.92941176470588238,3.5294117647058823E-2,0,0,0,0,0,0,null,3805,"Jake McGee","Colorado Rockies","mcgej",85,2,25,79,3,85,30]
[4185,"Pat Neshek","COL","Buy",null,null,null,null,null,null,null,null,null,null,0,0,0,0,{"$error":"#DIV/0!"},{"$error":"#DIV/0!"},{"$error":"#DIV/0!"},{"$error":"#DIV/0!"},{"$error":"#DIV/0!"},{"$error":"#DIV/0!"}," ",4185,"Pat Neshek",{"$f":"IF(AQ21<>0,VLOOKUP(AQ21,Info!A:B,2,FALSE),\"\")","v":"COL"},"nespa",5.8823529411764705E-2,0.29411764705882354,0.9882352941176471,4.7058823529411764E-2,0,0,0,0,0,0,null,4185,"Pat Neshek","Colorado Rockies","nespa",85,5,25,84,4,64,20]
[3291,"Bobby Parnell","DET","Buy",null,null,null,null,null,null,null,null,null,null,0,0,0,0,{"$error":"#DIV/0!"},{"$error":"#DIV/0!"},{"$error":"#DIV/0!"},{"$error":"#DIV/0!"},{"$error":"#DIV/0!"},{"$error":"#DIV/0!"}," ",3291,"Bobby Parnell",{"$f":"IF(AQ22<>0,VLOOKUP(AQ22,Info!A:B,2,FALSE),\"\")","v":"DET"},"parbo",5.8823529411764705E-2,0.29411764705882354,0.58823529411764708,9.4117647058823528E-2,0,0,0,0,0,0,null,3291,"Bobby Parnell","Detroit Tigers","parbo",85,5,25,50,8,134,49]
[3268,"Edward Mujica","DET","Buy",null,null,null,null,null,null,null,null,null,null,0,0,0,0,{"$error":"#DIV/0!"},{"$error":"#DIV/0!"},{"$error":"#DIV/0!"},{"$error":"#DIV/0!"},{"$error":"#DIV/0!"},{"$error":"#DIV/0!"}," ",3268,"Edward Mujica",{"$f":"IF(AQ23<>0,VLOOKUP(AQ23,Info!A:B,2,FALSE),\"\")","v":"DET"},"mujed",5.8823529411764705E-2,0.29411764705882354,0.62352941176470589,9.4117647058823528E-2,0,0,0,0,0,0,null,3268,"Edward Mujica","Detroit Tigers","mujed",85,5,25,53,8,103,44]
[379,"Francisco Rodriguez","DET","Buy",null,null,null,null,null,null,null,null,null,null,0,0,0,0,{"$error":"#DIV/0!"},{"$error":"#DIV/0!"},{"$error":"#DIV/0!"},{"$error":"#DIV/0!"},{"$error":"#DIV/0!"},{"$error":"#DIV/0!"}," ",379,"Francisco Rodriguez",{"$f":"IF(AQ24<>0,VLOOKUP(AQ24,Info!A:B,2,FALSE),\"\")","v":"DET"},"rodfr",5.8823529411764705E-2,0.29411764705882354,0.82352941176470584,9.4117647058823528E-2,0,0,0,0,0,0,null,379,"Francisco Rodriguez","Detroit Tigers","rodfr",85,5,25,70,8,128,67]
[2464,"David Aardsma","XXX","Buy",null,null,null,null,null,null,null,null,null,null,0,0,0,0,{"$error":"#DIV/0!"},{"$error":"#DIV/0!"},{"$error":"#DIV/0!"},{"$error":"#DIV/0!"},{"$error":"#DIV/0!"},{"$error":"#DIV/0!"}," ",2464,"David Aardsma",{"$f":"IF(AQ25<>0,VLOOKUP(AQ25,Info!A:B,2,FALSE),\"\")","v":"XXX"},"aarda",3.5294117647058823E-2,0.29411764705882354,1.0705882352941176,3.5294117647058823E-2,0,0,0,0,0,0,null,2464,"David Aardsma","FA/RET/DEC/HON","aarda",85,3,25,91,3,101,42]
[2425,"Joba Chamberlain","XXX","Buy",null,null,null,null,null,null,null,null,null,null,0,0,0,0,{"$error":"#DIV/0!"},{"$error":"#DIV/0!"},{"$error":"#DIV/0!"},{"$error":"#DIV/0!"},{"$error":"#DIV/0!"},{"$error":"#DIV/0!"}," ",2425,"Joba Chamberlain",{"$f":"IF(AQ26<>0,VLOOKUP(AQ26,Info!A:B,2,FALSE),\"\")","v":"XXX"},"chajo",2.3529411764705882E-2,0.29411764705882354,0.90588235294117647,2.3529411764705882E-2,0,0,0,0,0,0,null,2425,"Joba Chamberlain","FA/RET/DEC/HON","chajo",85,2,25,77,2,98,22]
[1746,"Jonathan Papelbon","XXX","Buy",null,null,null,null,null,null,null,null,null,null,0,0,0,0,{"$error":"#DIV/0!"},{"$error":"#DIV/0!"},{"$error":"#DIV/0!"},{"$error":"#DIV/0!"},{"$error":"#DIV/0!"},{"$error":"#DIV/0!"}," ",1746,"Jonathan Papelbon",{"$f":"IF(AQ27<>0,VLOOKUP(AQ27,Info!A:B,2,FALSE),\"\")","v":"XXX"},"papjo",5.8823529411764705E-2,0.51764705882352946,0.84705882352941175,9.4117647058823528E-2,0,0,0,0,0,0,null,1746,"Jonathan Papelbon","FA/RET/DEC/HON","papjo",85,5,44,72,8,118,40]
[2885,"Jordan Walden","XXX","Buy",null,null,null,null,null,null,null,null,null,null,0,0,0,0,{"$error":"#DIV/0!"},{"$error":"#DIV/0!"},{"$error":"#DIV/0!"},{"$error":"#DIV/0!"},{"$error":"#DIV/0!"},{"$error":"#DIV/0!"}," ",2885,"Jordan Walden",{"$f":"IF(AQ28<>0,VLOOKUP(AQ28,Info!A:B,2,FALSE),\"\")","v":"XXX"},"waldj",2.3529411764705882E-2,0.29411764705882354,1.0705882352941176,3.5294117647058823E-2,0,0,0,0,0,0,null,2885,"Jordan Walden","FA/RET/DEC/HON","waldj",85,2,25,91,3,88,24]
[3879,"Kevin Jepsen","XXX","Buy",null,null,null,null,null,null,null,null,null,null,0,0,0,0,{"$error":"#DIV/0!"},{"$error":"#DIV/0!"},{"$error":"#DIV/0!"},{"$error":"#DIV/0!"},{"$error":"#DIV/0!"},{"$error":"#DIV/0!"}," ",3879,"Kevin Jepsen",{"$f":"IF(AQ29<>0,VLOOKUP(AQ29,Info!A:B,2,FALSE),\"\")","v":"XXX"},"jepke",3.5294117647058823E-2,0.29411764705882354,0.61176470588235299,9.4117647058823528E-2,0,0,0,0,0,0,null,3879,"Kevin Jepsen","FA/RET/DEC/HON","jepke",85,3,25,52,8,122,49]
[2834,"Matt Thornton","XXX","Buy",null,null,null,null,null,null,null,null,null,null,0,0,0,0,{"$error":"#DIV/0!"},{"$error":"#DIV/0!"},{"$error":"#DIV/0!"},{"$error":"#DIV/0!"},{"$error":"#DIV/0!"},{"$error":"#DIV/0!"}," ",2834,"Matt Thornton",{"$f":"IF(AQ30<>0,VLOOKUP(AQ30,Info!A:B,2,FALSE),\"\")","v":"XXX"},"thoma",5.8823529411764705E-2,0.29411764705882354,0.58823529411764708,2.3529411764705882E-2,0,0,0,0,0,0,null,2834,"Matt Thornton","FA/RET/DEC/HON","thoma",85,5,25,50,2,126,50]
[4150,"Ken Giles","HOU","Buy",null,null,null,null,null,null,null,null,null,null,0,0,0,0,{"$error":"#DIV/0!"},{"$error":"#DIV/0!"},{"$error":"#DIV/0!"},{"$error":"#DIV/0!"},{"$error":"#DIV/0!"},{"$error":"#DIV/0!"}," ",4150,"Ken Giles",{"$f":"IF(AQ31<>0,VLOOKUP(AQ31,Info!A:B,2,FALSE),\"\")","v":"HOU"},"gilke",2.3529411764705882E-2,0.55294117647058827,1.3529411764705883,4.7058823529411764E-2,0,0,0,0,0,0,null,4150,"Ken Giles","Houston Astros","gilke",85,2,47,115,4,84,25]
[3875,"Luke Gregerson","HOU","Buy",null,null,null,null,null,null,null,null,null,null,0,0,0,0,{"$error":"#DIV/0!"},{"$error":"#DIV/0!"},{"$error":"#DIV/0!"},{"$error":"#DIV/0!"},{"$error":"#DIV/0!"},{"$error":"#DIV/0!"}," ",3875,"Luke Gregerson",{"$f":"IF(AQ32<>0,VLOOKUP(AQ32,Info!A:B,2,FALSE),\"\")","v":"HOU"},"grelu",3.5294117647058823E-2,0.29411764705882354,1.0941176470588236,4.7058823529411764E-2,0,0,0,0,0,0,null,3875,"Luke Gregerson","Houston Astros","grelu",85,3,25,93,4,108,40]
[3095,"Tyler Clippard","HOU","Buy",null,null,null,null,null,null,null,null,null,null,0,0,0,0,{"$error":"#DIV/0!"},{"$error":"#DIV/0!"},{"$error":"#DIV/0!"},{"$error":"#DIV/0!"},{"$error":"#DIV/0!"},{"$error":"#DIV/0!"}," ",3095,"Tyler Clippard",{"$f":"IF(AQ33<>0,VLOOKUP(AQ33,Info!A:B,2,FALSE),\"\")","v":"HOU"},"clity",3.5294117647058823E-2,0.29411764705882354,1.0823529411764705,9.4117647058823528E-2,0,0,0,0,0,0,null,3095,"Tyler Clippard","Houston Astros","clity",85,3,25,92,8,99,41]
[4026,"Will Harris","HOU","Buy",null,null,null,null,null,null,null,null,null,null,0,0,0,0,{"$error":"#DIV/0!"},{"$error":"#DIV/0!"},{"$error":"#DIV/0!"},{"$error":"#DIV/0!"},{"$error":"#DIV/0!"},{"$error":"#DIV/0!"}," ",4026,"Will Harris",{"$f":"IF(AQ34<>0,VLOOKUP(AQ34,Info!A:B,2,FALSE),\"\")","v":"HOU"},"harwi",5.8823529411764705E-2,0.29411764705882354,1.0941176470588236,4.7058823529411764E-2,0,0,0,0,0,0,null,4026,"Will Harris","Houston Astros","harwi",85,5,25,93,4,78,29]
[4032,"Brandon Maurer","KAN","Buy",null,null,null,null,null,null,null,null,null,null,0,0,0,0,{"$error":"#DIV/0!"},{"$error":"#DIV/0!"},{"$error":"#DIV/0!"},{"$error":"#DIV/0!"},{"$error":"#DIV/0!"},{"$error":"#DIV/0!"}," ",4032,"Brandon Maurer",{"$f":"IF(AQ35<>0,VLOOKUP(AQ35,Info!A:B,2,FALSE),\"\")","v":"KAN"},"maubr",4.7058823529411764E-2,0.32941176470588235,0.87058823529411766,9.4117647058823528E-2,0,0,0,0,0,0,null,4032,"Brandon Maurer","Kansas City Royals","maubr",85,4,28,74,8,115,54]
[1986,"Joakim Soria","KAN","Buy",null,null,null,null,null,null,null,null,null,null,0,0,0,0,{"$error":"#DIV/0!"},{"$error":"#DIV/0!"},{"$error":"#DIV/0!"},{"$error":"#DIV/0!"},{"$error":"#DIV/0!"},{"$error":"#DIV/0!"}," ",1986,"Joakim Soria",{"$f":"IF(AQ36<>0,VLOOKUP(AQ36,Info!A:B,2,FALSE),\"\")","v":"KAN"},"sorjo",5.8823529411764705E-2,0.29411764705882354,1.0941176470588236,5.8823529411764705E-2,0,0,0,0,0,0,null,1986,"Joakim Soria","Kansas City Royals","sorjo",85,5,25,93,5,101,34]
[4151,"Kelvin Herrera","KAN","Buy",null,null,null,null,null,null,null,null,null,null,0,0,0,0,{"$error":"#DIV/0!"},{"$error":"#DIV/0!"},{"$error":"#DIV/0!"},{"$error":"#DIV/0!"},{"$error":"#DIV/0!"},{"$error":"#DIV/0!"}," ",4151,"Kelvin Herrera",{"$f":"IF(AQ37<>0,VLOOKUP(AQ37,Info!A:B,2,FALSE),\"\")","v":"KAN"},"herke",4.7058823529411764E-2,0.41176470588235292,0.88235294117647056,4.7058823529411764E-2,0,0,0,0,0,0,null,4151,"Kelvin Herrera","Kansas City Royals","herke",85,4,35,75,4,109,38]
[2659,"Neftali Feliz","KAN","Buy",null,null,null,null,null,null,null,null,null,null,0,0,0,0,{"$error":"#DIV/0!"},{"$error":"#DIV/0!"},{"$error":"#DIV/0!"},{"$error":"#DIV/0!"},{"$error":"#DIV/0!"},{"$error":"#DIV/0!"}," ",2659,"Neftali Feliz",{"$f":"IF(AQ38<>0,VLOOKUP(AQ38,Info!A:B,2,FALSE),\"\")","v":"KAN"},"felne",4.7058823529411764E-2,0.29411764705882354,0.76470588235294112,9.4117647058823528E-2,0,0,0,0,0,0,null,2659,"Neftali Feliz","Kansas City Royals","felne",85,4,25,65,8,110,49]
[2467,"Andrew Bailey","LAA","Buy",null,null,null,null,null,null,null,null,null,null,0,0,0,0,{"$error":"#DIV/0!"},{"$error":"#DIV/0!"},{"$error":"#DIV/0!"},{"$error":"#DIV/0!"},{"$error":"#DIV/0!"},{"$error":"#DIV/0!"}," ",2467,"Andrew Bailey",{"$f":"IF(AQ39<>0,VLOOKUP(AQ39,Info!A:B,2,FALSE),\"\")","v":"LAA"},"baian",5.8823529411764705E-2,0.29411764705882354,0.89411764705882357,4.7058823529411764E-2,0,0,0,0,0,0,null,2467,"Andrew Bailey","Los Angeles Angels","baian",85,5,25,76,4,117,52]
[4152,"Cam Bedrosian","LAA","Buy",null,null,null,null,null,null,null,null,null,null,0,0,0,0,{"$error":"#DIV/0!"},{"$error":"#DIV/0!"},{"$error":"#DIV/0!"},{"$error":"#DIV/0!"},{"$error":"#DIV/0!"},{"$error":"#DIV/0!"}," ",4152,"Cam Bedrosian",{"$f":"IF(AQ40<>0,VLOOKUP(AQ40,Info!A:B,2,FALSE),\"\")","v":"LAA"},"bedca",5.8823529411764705E-2,0.29411764705882354,1.1058823529411765,9.4117647058823528E-2,0,0,0,0,0,0,null,4152,"Cam Bedrosian","Los Angeles Angels","bedca",85,5,25,94,8,105,39]
[2886,"Fernando Salas","LAA","Buy",null,null,null,null,null,null,null,null,null,null,0,0,0,0,{"$error":"#DIV/0!"},{"$error":"#DIV/0!"},{"$error":"#DIV/0!"},{"$error":"#DIV/0!"},{"$error":"#DIV/0!"},{"$error":"#DIV/0!"}," ",2886,"Fernando Salas",{"$f":"IF(AQ41<>0,VLOOKUP(AQ41,Info!A:B,2,FALSE),\"\")","v":"LAA"},"salfe",3.5294117647058823E-2,0.29411764705882354,0.92941176470588238,3.5294117647058823E-2,0,0,0,0,0,0,null,2886,"Fernando Salas","Los Angeles Angels","salfe",85,3,25,79,3,125,48]
[1549,"Huston Street","LAA","Buy",null,null,null,null,null,null,null,null,null,null,0,0,0,0,{"$error":"#DIV/0!"},{"$error":"#DIV/0!"},{"$error":"#DIV/0!"},{"$error":"#DIV/0!"},{"$error":"#DIV/0!"},{"$error":"#DIV/0!"}," ",1549,"Huston Street",{"$f":"IF(AQ42<>0,VLOOKUP(AQ42,Info!A:B,2,FALSE),\"\")","v":"LAA"},"strhu",5.8823529411764705E-2,0.3411764705882353,0.6,9.4117647058823528E-2,0,0,0,0,0,0,null,1549,"Huston Street","Los Angeles Angels","strhu",85,5,29,51,8,152,67]
[3097,"Kenley Jansen","LAD","Buy",null,null,null,null,null,null,null,null,null,null,0,0,0,0,{"$error":"#DIV/0!"},{"$error":"#DIV/0!"},{"$error":"#DIV/0!"},{"$error":"#DIV/0!"},{"$error":"#DIV/0!"},{"$error":"#DIV/0!"}," ",3097,"Kenley Jansen",{"$f":"IF(AQ43<>0,VLOOKUP(AQ43,Info!A:B,2,FALSE),\"\")","v":"LAD"},"janke",5.8823529411764705E-2,0.58823529411764708,1.7058823529411764,2.3529411764705882E-2,0,0,0,0,0,0,null,3097,"Kenley Jansen","Los Angeles Dodgers","janke",85,5,50,145,2,62,20]
[3502,"Tony Cingrani","LAD","Buy",null,null,null,null,null,null,null,null,null,null,0,0,0,0,{"$error":"#DIV/0!"},{"$error":"#DIV/0!"},{"$error":"#DIV/0!"},{"$error":"#DIV/0!"},{"$error":"#DIV/0!"},{"$error":"#DIV/0!"}," ",3502,"Tony Cingrani",{"$f":"IF(AQ44<>0,VLOOKUP(AQ44,Info!A:B,2,FALSE),\"\")","v":"LAD"},"cingt",2.3529411764705882E-2,0.29411764705882354,1.0470588235294118,2.3529411764705882E-2,0,0,0,0,0,0,null,3502,"Tony Cingrani","Los Angeles Dodgers","cingt",85,2,25,89,2,89,34]
[4154,"Tony Watson","LAD","Buy",null,null,null,null,null,null,null,null,null,null,0,0,0,0,{"$error":"#DIV/0!"},{"$error":"#DIV/0!"},{"$error":"#DIV/0!"},{"$error":"#DIV/0!"},{"$error":"#DIV/0!"},{"$error":"#DIV/0!"}," ",4154,"Tony Watson",{"$f":"IF(AQ45<>0,VLOOKUP(AQ45,Info!A:B,2,FALSE),\"\")","v":"LAD"},"watto",5.8823529411764705E-2,0.29411764705882354,0.71764705882352942,5.8823529411764705E-2,0,0,0,0,0,0,null,4154,"Tony Watson","Los Angeles Dodgers","watto",85,5,25,61,5,109,31]
[2423,"Brad Ziegler","MIA","Buy",null,null,null,null,null,null,null,null,null,null,0,0,0,0,{"$error":"#DIV/0!"},{"$error":"#DIV/0!"},{"$error":"#DIV/0!"},{"$error":"#DIV/0!"},{"$error":"#DIV/0!"},{"$error":"#DIV/0!"}," ",2423,"Brad Ziegler",{"$f":"IF(AQ46<>0,VLOOKUP(AQ46,Info!A:B,2,FALSE),\"\")","v":"MIA"},"ziebr",2.3529411764705882E-2,0.29411764705882354,0.58823529411764708,8.2352941176470587E-2,0,0,0,0,0,0,null,2423,"Brad Ziegler","Miami Marlins","ziebr",85,2,25,50,7,119,41]
[3053,"Javy Guerra","MIA","Buy",null,null,null,null,null,null,null,null,null,null,0,0,0,0,{"$error":"#DIV/0!"},{"$error":"#DIV/0!"},{"$error":"#DIV/0!"},{"$error":"#DIV/0!"},{"$error":"#DIV/0!"},{"$error":"#DIV/0!"}," ",3053,"Javy Guerra",{"$f":"IF(AQ47<>0,VLOOKUP(AQ47,Info!A:B,2,FALSE),\"\")","v":"MIA"},"gueja",5.8823529411764705E-2,0.29411764705882354,0.75294117647058822,7.0588235294117646E-2,0,0,0,0,0,0,null,3053,"Javy Guerra","Miami Marlins","gueja",85,5,25,64,6,165,38]
[3269,"Junichi Tazawa","MIA","Buy",null,null,null,null,null,null,null,null,null,null,0,0,0,0,{"$error":"#DIV/0!"},{"$error":"#DIV/0!"},{"$error":"#DIV/0!"},{"$error":"#DIV/0!"},{"$error":"#DIV/0!"},{"$error":"#DIV/0!"}," ",3269,"Junichi Tazawa",{"$f":"IF(AQ48<>0,VLOOKUP(AQ48,Info!A:B,2,FALSE),\"\")","v":"MIA"},"tazju",5.8823529411764705E-2,0.29411764705882354,0.69411764705882351,9.4117647058823528E-2,0,0,0,0,0,0,null,3269,"Junichi Tazawa","Miami Marlins","tazju",85,5,25,59,8,126,56]
[4184,"Corey Knebel","MIL","Buy",null,null,null,null,null,null,null,null,null,null,0,0,0,0,{"$error":"#DIV/0!"},{"$error":"#DIV/0!"},{"$error":"#DIV/0!"},{"$error":"#DIV/0!"},{"$error":"#DIV/0!"},{"$error":"#DIV/0!"}," ",4184,"Corey Knebel",{"$f":"IF(AQ49<>0,VLOOKUP(AQ49,Info!A:B,2,FALSE),\"\")","v":"MIL"},"kneco",2.3529411764705882E-2,0.51764705882352946,1.6588235294117648,5.8823529411764705E-2,0,0,0,0,0,0,null,4184,"Corey Knebel","Milwaukee Brewers","kneco",85,2,44,141,5,100,20]
[4027,"Jeremy Jeffress","MIL","Buy",null,null,null,null,null,null,null,null,null,null,0,0,0,0,{"$error":"#DIV/0!"},{"$error":"#DIV/0!"},{"$error":"#DIV/0!"},{"$error":"#DIV/0!"},{"$error":"#DIV/0!"},{"$error":"#DIV/0!"}," ",4027,"Jeremy Jeffress",{"$f":"IF(AQ50<>0,VLOOKUP(AQ50,Info!A:B,2,FALSE),\"\")","v":"MIL"},"jefje",5.8823529411764705E-2,0.29411764705882354,0.84705882352941175,3.5294117647058823E-2,0,0,0,0,0,0,null,4027,"Jeremy Jeffress","Milwaukee Brewers","jefje",85,5,25,72,3,152,48]
[2424,"Glen Perkins","MIN","Buy",null,null,null,null,null,null,null,null,null,null,0,0,0,0,{"$error":"#DIV/0!"},{"$error":"#DIV/0!"},{"$error":"#DIV/0!"},{"$error":"#DIV/0!"},{"$error":"#DIV/0!"},{"$error":"#DIV/0!"}," ",2424,"Glen Perkins",{"$f":"IF(AQ51<>0,VLOOKUP(AQ51,Info!A:B,2,FALSE),\"\")","v":"MIN"},"pergl",5.8823529411764705E-2,0.54117647058823526,0.90588235294117647,9.4117647058823528E-2,0,0,0,0,0,0,null,2424,"Glen Perkins","Minnesota Twins","pergl",85,5,46,77,8,97,30]
[3840,"Jeurys Familia","NYM","Buy",null,null,null,null,null,null,null,null,null,null,0,0,0,0,{"$error":"#DIV/0!"},{"$error":"#DIV/0!"},{"$error":"#DIV/0!"},{"$error":"#DIV/0!"},{"$error":"#DIV/0!"},{"$error":"#DIV/0!"}," ",3840,"Jeurys Familia",{"$f":"IF(AQ52<>0,VLOOKUP(AQ52,Info!A:B,2,FALSE),\"\")","v":"NYM"},"famje",5.8823529411764705E-2,0.29411764705882354,0.96470588235294119,8.2352941176470587E-2,0,0,0,0,0,0,null,3840,"Jeurys Familia","New York Mets","famje",85,5,25,82,7,125,40]
[3058,"Aroldis Chapman","NYY","Buy",null,null,null,null,null,null,null,null,null,null,0,0,0,0,{"$error":"#DIV/0!"},{"$error":"#DIV/0!"},{"$error":"#DIV/0!"},{"$error":"#DIV/0!"},{"$error":"#DIV/0!"},{"$error":"#DIV/0!"}," ",3058,"Aroldis Chapman",{"$f":"IF(AQ53<>0,VLOOKUP(AQ53,Info!A:B,2,FALSE),\"\")","v":"NYY"},"chaar",5.8823529411764705E-2,0.42352941176470588,1.4588235294117646,7.0588235294117646E-2,0,0,0,0,0,0,null,3058,"Aroldis Chapman","New York Yankees","chaar",85,5,36,124,6,87,29]
[3054,"David Robertson","NYY","Buy",null,null,null,null,null,null,null,null,null,null,0,0,0,0,{"$error":"#DIV/0!"},{"$error":"#DIV/0!"},{"$error":"#DIV/0!"},{"$error":"#DIV/0!"},{"$error":"#DIV/0!"},{"$error":"#DIV/0!"}," ",3054,"David Robertson",{"$f":"IF(AQ54<>0,VLOOKUP(AQ54,Info!A:B,2,FALSE),\"\")","v":"NYY"},"robda",5.8823529411764705E-2,0.29411764705882354,1.6705882352941177,3.5294117647058823E-2,0,0,0,0,0,0,null,3054,"David Robertson","New York Yankees","robda",85,5,25,142,3,83,20]
[3804,"Dellin Betances","NYY","Buy",null,null,null,null,null,null,null,null,null,null,0,0,0,0,{"$error":"#DIV/0!"},{"$error":"#DIV/0!"},{"$error":"#DIV/0!"},{"$error":"#DIV/0!"},{"$error":"#DIV/0!"},{"$error":"#DIV/0!"}," ",3804,"Dellin Betances",{"$f":"IF(AQ55<>0,VLOOKUP(AQ55,Info!A:B,2,FALSE),\"\")","v":"NYY"},"betde",4.7058823529411764E-2,0.29411764705882354,1.5058823529411764,9.4117647058823528E-2,0,0,0,0,0,0,null,3804,"Dellin Betances","New York Yankees","betde",85,4,25,128,8,89,26]
[4148,"Blake Treinen","OAK","Buy",null,null,null,null,null,null,null,null,null,null,0,0,0,0,{"$error":"#DIV/0!"},{"$error":"#DIV/0!"},{"$error":"#DIV/0!"},{"$error":"#DIV/0!"},{"$error":"#DIV/0!"},{"$error":"#DIV/0!"}," ",4148,"Blake Treinen",{"$f":"IF(AQ56<>0,VLOOKUP(AQ56,Info!A:B,2,FALSE),\"\")","v":"OAK"},"trebl",4.7058823529411764E-2,0.29411764705882354,1.0352941176470589,9.4117647058823528E-2,0,0,0,0,0,0,null,4148,"Blake Treinen","Oakland Athletics","trebl",85,4,25,88,8,127,39]
[2661,"John Axford","OAK","Buy",null,null,null,null,null,null,null,null,null,null,0,0,0,0,{"$error":"#DIV/0!"},{"$error":"#DIV/0!"},{"$error":"#DIV/0!"},{"$error":"#DIV/0!"},{"$error":"#DIV/0!"},{"$error":"#DIV/0!"}," ",2661,"John Axford",{"$f":"IF(AQ57<>0,VLOOKUP(AQ57,Info!A:B,2,FALSE),\"\")","v":"OAK"},"axfjo",2.3529411764705882E-2,0.29411764705882354,0.96470588235294119,4.7058823529411764E-2,0,0,0,0,0,0,null,2661,"John Axford","Oakland Athletics","axfjo",85,2,25,82,4,170,58]
[3056,"Santiago Casilla","OAK","Buy",null,null,null,null,null,null,null,null,null,null,0,0,0,0,{"$error":"#DIV/0!"},{"$error":"#DIV/0!"},{"$error":"#DIV/0!"},{"$error":"#DIV/0!"},{"$error":"#DIV/0!"},{"$error":"#DIV/0!"}," ",3056,"Santiago Casilla",{"$f":"IF(AQ58<>0,VLOOKUP(AQ58,Info!A:B,2,FALSE),\"\")","v":"OAK"},"casis",5.8823529411764705E-2,0.29411764705882354,0.90588235294117647,8.2352941176470587E-2,0,0,0,0,0,0,null,3056,"Santiago Casilla","Oakland Athletics","casis",85,5,25,77,7,108,38]
[4025,"Jeanmar Gomez","PHI","Buy",null,null,null,null,null,null,null,null,null,null,0,0,0,0,{"$error":"#DIV/0!"},{"$error":"#DIV/0!"},{"$error":"#DIV/0!"},{"$error":"#DIV/0!"},{"$error":"#DIV/0!"},{"$error":"#DIV/0!"}," ",4025,"Jeanmar Gomez",{"$f":"IF(AQ59<>0,VLOOKUP(AQ59,Info!A:B,2,FALSE),\"\")","v":"PHI"},"gomje",5.8823529411764705E-2,0.29411764705882354,1.1764705882352942,9.4117647058823528E-2,0,0,0,0,0,0,null,4025,"Jeanmar Gomez","Philadelphia Phillies","gomje",85,5,25,100,8,180,85]
[2951,"Antonio Bastardo","PIT","Buy",null,null,null,null,null,null,null,null,null,null,0,0,0,0,{"$error":"#DIV/0!"},{"$error":"#DIV/0!"},{"$error":"#DIV/0!"},{"$error":"#DIV/0!"},{"$error":"#DIV/0!"},{"$error":"#DIV/0!"}," ",2951,"Antonio Bastardo",{"$f":"IF(AQ60<>0,VLOOKUP(AQ60,Info!A:B,2,FALSE),\"\")","v":"PIT"},"basan",4.7058823529411764E-2,0.29411764705882354,1.0823529411764705,2.3529411764705882E-2,0,0,0,0,0,0,null,2951,"Antonio Bastardo","Pittsburgh Pirates","basan",85,4,25,92,2,115,44]
[3306,"Joaquin Benoit","PIT","Buy",null,null,null,null,null,null,null,null,null,null,0,0,0,0,{"$error":"#DIV/0!"},{"$error":"#DIV/0!"},{"$error":"#DIV/0!"},{"$error":"#DIV/0!"},{"$error":"#DIV/0!"},{"$error":"#DIV/0!"}," ",3306,"Joaquin Benoit",{"$f":"IF(AQ61<>0,VLOOKUP(AQ61,Info!A:B,2,FALSE),\"\")","v":"PIT"},"benjo",2.3529411764705882E-2,0.29411764705882354,0.89411764705882357,9.4117647058823528E-2,0,0,0,0,0,0,null,3306,"Joaquin Benoit","Pittsburgh Pirates","benjo",85,2,25,76,8,107,43]
[4186,"Brad Hand","SDP","Buy",null,null,null,null,null,null,null,null,null,null,0,0,0,0,{"$error":"#DIV/0!"},{"$error":"#DIV/0!"},{"$error":"#DIV/0!"},{"$error":"#DIV/0!"},{"$error":"#DIV/0!"},{"$error":"#DIV/0!"}," ",4186,"Brad Hand",{"$f":"IF(AQ62<>0,VLOOKUP(AQ62,Info!A:B,2,FALSE),\"\")","v":"SDP"},"hanbr",4.7058823529411764E-2,0.29411764705882354,1.4470588235294117,5.8823529411764705E-2,0,0,0,0,0,0,null,4186,"Brad Hand","San Diego Padres","hanbr",85,4,25,123,5,89,23]
[3580,"Mark Melancon","SFG","Buy",null,null,null,null,null,null,null,null,null,null,0,0,0,0,{"$error":"#DIV/0!"},{"$error":"#DIV/0!"},{"$error":"#DIV/0!"},{"$error":"#DIV/0!"},{"$error":"#DIV/0!"},{"$error":"#DIV/0!"}," ",3580,"Mark Melancon",{"$f":"IF(AQ63<>0,VLOOKUP(AQ63,Info!A:B,2,FALSE),\"\")","v":"SFG"},"melma",3.5294117647058823E-2,0.35294117647058826,0.91764705882352937,7.0588235294117646E-2,0,0,0,0,0,0,null,3580,"Mark Melancon","San Francisco Giants","melma",85,3,30,78,6,115,40]
[4155,"Edwin Diaz","SEA","Buy",null,null,null,null,null,null,null,null,null,null,0,0,0,0,{"$error":"#DIV/0!"},{"$error":"#DIV/0!"},{"$error":"#DIV/0!"},{"$error":"#DIV/0!"},{"$error":"#DIV/0!"},{"$error":"#DIV/0!"}," ",4155,"Edwin Diaz",{"$f":"IF(AQ64<>0,VLOOKUP(AQ64,Info!A:B,2,FALSE),\"\")","v":"SEA"},"diaed",5.8823529411764705E-2,0.51764705882352946,1.3529411764705883,9.4117647058823528E-2,0,0,0,0,0,0,null,4155,"Edwin Diaz","Seattle Mariners","diaed",85,5,44,115,8,98,31]
[3093,"Ryan Cook","SEA","Buy",null,null,null,null,null,null,null,null,null,null,0,0,0,0,{"$error":"#DIV/0!"},{"$error":"#DIV/0!"},{"$error":"#DIV/0!"},{"$error":"#DIV/0!"},{"$error":"#DIV/0!"},{"$error":"#DIV/0!"}," ",3093,"Ryan Cook",{"$f":"IF(AQ65<>0,VLOOKUP(AQ65,Info!A:B,2,FALSE),\"\")","v":"SEA"},"coory",2.3529411764705882E-2,0.29411764705882354,0.95294117647058818,5.8823529411764705E-2,0,0,0,0,0,0,null,3093,"Ryan Cook","Seattle Mariners","coory",85,2,25,81,5,84,31]
[2650,"Brett Cecil","STL","Buy",null,null,null,null,null,null,null,null,null,null,{"$f":"VLOOKUP($A66,$A:$N,5,FALSE)/VLOOKUP($A66,$Z:$AM,5,FALSE)","v":0},{"$f":"VLOOKUP($A66,$A:$N,6,FALSE)/VLOOKUP($A66,$Z:$AM,6,FALSE)","v":0},{"$f":"VLOOKUP($A66,$A:$N,7,FALSE)/VLOOKUP($A66,$Z:$AM,7,FALSE)","v":0},{"$f":"VLOOKUP($A66,$A:$N,8,FALSE)/VLOOKUP($A66,$Z:$AM,8,FALSE)","v":0},{"$f":"VLOOKUP($A66,$A:$N,9,FALSE)/VLOOKUP($A66,$Z:$AM,9,FALSE)","v":{"$error":"#DIV/0!"}},{"$f":"VLOOKUP($A66,$A:$N,10,FALSE)/VLOOKUP($A66,$Z:$AM,10,FALSE)","v":{"$error":"#DIV/0!"}},{"$f":"VLOOKUP($A66,$A:$N,11,FALSE)/VLOOKUP($A66,$Z:$AM,11,FALSE)","v":{"$error":"#DIV/0!"}},{"$f":"VLOOKUP($A66,$A:$N,12,FALSE)/VLOOKUP($A66,$Z:$AM,12,FALSE)","v":{"$error":"#DIV/0!"}},{"$f":"VLOOKUP($A66,$A:$N,13,FALSE)/VLOOKUP($A66,$Z:$AM,13,FALSE)","v":{"$error":"#DIV/0!"}},{"$f":"VLOOKUP($A66,$A:$N,14,FALSE)/VLOOKUP($A66,$Z:$AM,14,FALSE)","v":{"$error":"#DIV/0!"}}," ",2650,"Brett Cecil",{"$f":"IF(AQ66<>0,VLOOKUP(AQ66,Info!A:B,2,FALSE),\"\")","v":"STL"},"cecbr",3.5294117647058823E-2,0.29411764705882354,0.90588235294117647,5.8823529411764705E-2,0,0,0,0,0,0,null,2650,"Brett Cecil","St. Louis Cardinals","cecbr",85,3,25,77,5,99,34]
[{"$f":"IF(Z67<>0,Z67,\"\")","v":2419},{"$f":"IF(A67<>0,VLOOKUP(A67,Z:AA,2,FALSE),\"\")","v":"Jonathan Broxton"},{"$f":"IF(A67<>0,VLOOKUP(A67,Z:AB,3,FALSE))","v":"STL"},{"$f":"HYPERLINK(\"http://www.jockstocks.com/buysell.php?action=buymax&plid=\"&A67,\"Buy\")","v":"Buy"},null,null,null,null,null,null,null,null,null,null,0,0,0,0,{"$error":"#DIV/0!"},{"$error":"#DIV/0!"},{"$error":"#DIV/0!"},{"$error":"#DIV/0!"},{"$error":"#DIV/0!"},{"$error":"#DIV/0!"}," ",{"$f":"IF(AO67<>0,AO67,\"\")","v":2419},{"$f":"IF(AP67<>0,VLOOKUP(Z67,AO:AP,2,FALSE),\"\")","v":"Jonathan Broxton"},{"$f":"IF(AQ67<>0,VLOOKUP(AQ67,Info!A:B,2,FALSE),\"\")","v":"STL"},{"$f":"IF(AO67<>0,VLOOKUP(Z67,AO:AR,4,FALSE),\"\")","v":"broxj"},{"$f":"IF($AO67<>0,AT67/$AS67,\"\")","v":2.3529411764705882E-2},{"$f":"IF($AO67<>0,AU67/$AS67,\"\")","v":0.29411764705882354},{"$f":"IF($AO67<>0,AV67/$AS67,\"\")","v":0.8},{"$f":"IF($AO67<>0,AW67/$AS67,\"\")","v":5.8823529411764705E-2},{"$f":"IF($AO67<>0,AZ67/$AS67,\"\")","v":0},{"$f":"IF($AO67<>0,BA67/$AS67,\"\")","v":0},{"$f":"IF($AO67<>0,BB67/$AS67,\"\")","v":0},{"$f":"IF($AO67<>0,BC67/$AS67,\"\")","v":0},{"$f":"IF($AO67<>0,BD67/$AS67,\"\")","v":0},{"$f":"IF($AO67<>0,BE67/$AS67,\"\")","v":0},null,2419,"Jonathan Broxton","St. Louis Cardinals","broxj",85,2,25,68,5,145,51]
[3876,"Kevin Siegrist","STL","Buy",null,null,null,null,null,null,null,null,null,null,0,0,0,0,{"$error":"#DIV/0!"},{"$error":"#DIV/0!"},{"$error":"#DIV/0!"},{"$error":"#DIV/0!"},{"$error":"#DIV/0!"},{"$error":"#DIV/0!"}," ",3876,"Kevin Siegrist",{"$f":"IF(AQ68<>0,VLOOKUP(AQ68,Info!A:B,2,FALSE),\"\")","v":"STL"},"sieke",2.3529411764705882E-2,0.29411764705882354,0.94117647058823528,2.3529411764705882E-2,0,0,0,0,0,0,null,3876,"Kevin Siegrist","St. Louis Cardinals","sieke",85,2,25,80,2,111,36]
[4033,"Seung Hwan Oh","STL","Buy",null,null,null,null,null,null,null,null,null,null,0,0,0,0,{"$error":"#DIV/0!"},{"$error":"#DIV/0!"},{"$error":"#DIV/0!"},{"$error":"#DIV/0!"},{"$error":"#DIV/0!"},{"$error":"#DIV/0!"}," ",4033,"Seung Hwan Oh",{"$f":"IF(AQ69<>0,VLOOKUP(AQ69,Info!A:B,2,FALSE),\"\")","v":"STL"},"ohseu",2.3529411764705882E-2,0.3411764705882353,0.90588235294117647,7.0588235294117646E-2,0,0,0,0,0,0,null,4033,"Seung Hwan Oh","St. Louis Cardinals","ohseu",85,2,29,77,6,114,33]
[3376,"Trevor Rosenthal","STL","Buy",null,null,null,null,null,null,null,null,null,null,0,0,0,0,{"$error":"#DIV/0!"},{"$error":"#DIV/0!"},{"$error":"#DIV/0!"},{"$error":"#DIV/0!"},{"$error":"#DIV/0!"},{"$error":"#DIV/0!"}," ",3376,"Trevor Rosenthal",{"$f":"IF(AQ70<>0,VLOOKUP(AQ70,Info!A:B,2,FALSE),\"\")","v":"STL"},"rostr",5.8823529411764705E-2,0.29411764705882354,1.5294117647058822,8.2352941176470587E-2,0,0,0,0,0,0,null,3376,"Trevor Rosenthal","St. Louis Cardinals","rostr",85,5,25,130,7,97,31]
[4023,"Alex Colome","TAM","Buy",null,null,null,null,null,null,null,null,null,null,0,0,0,0,{"$error":"#DIV/0!"},{"$error":"#DIV/0!"},{"$error":"#DIV/0!"},{"$error":"#DIV/0!"},{"$error":"#DIV/0!"},{"$error":"#DIV/0!"}," ",4023,"Alex Colome",{"$f":"IF(AQ71<>0,VLOOKUP(AQ71,Info!A:B,2,FALSE),\"\")","v":"TAM"},"colal",3.5294117647058823E-2,0.58823529411764708,0.89411764705882357,4.7058823529411764E-2,0,0,0,0,0,0,null,4023,"Alex Colome","Tampa Bay Rays","colal",85,3,50,76,4,105,32]
[{"$f":"IF(Z72<>0,Z72,\"\")","v":3839},{"$f":"IF(A72<>0,VLOOKUP(A72,Z:AA,2,FALSE),\"\")","v":"Brad Boxberger"},{"$f":"IF(A72<>0,VLOOKUP(A72,Z:AB,3,FALSE))","v":"TAM"},{"$f":"HYPERLINK(\"http://www.jockstocks.com/buysell.php?action=buymax&plid=\"&A72,\"Buy\")","v":"Buy"},null,null,null,null,null,null,null,null,null,null,{"$f":"VLOOKUP($A72,$A:$N,5,FALSE)/VLOOKUP($A72,$Z:$AM,5,FALSE)","v":0},{"$f":"VLOOKUP($A72,$A:$N,6,FALSE)/VLOOKUP($A72,$Z:$AM,6,FALSE)","v":0},{"$f":"VLOOKUP($A72,$A:$N,7,FALSE)/VLOOKUP($A72,$Z:$AM,7,FALSE)","v":0},{"$f":"VLOOKUP($A72,$A:$N,8,FALSE)/VLOOKUP($A72,$Z:$AM,8,FALSE)","v":0},{"$f":"VLOOKUP($A72,$A:$N,9,FALSE)/VLOOKUP($A72,$Z:$AM,9,FALSE)","v":{"$error":"#DIV/0!"}},{"$f":"VLOOKUP($A72,$A:$N,10,FALSE)/VLOOKUP($A72,$Z:$AM,10,FALSE)","v":{"$error":"#DIV/0!"}},{"$f":"VLOOKUP($A72,$A:$N,11,FALSE)/VLOOKUP($A72,$Z:$AM,11,FALSE)","v":{"$error":"#DIV/0!"}},{"$f":"VLOOKUP($A72,$A:$N,12,FALSE)/VLOOKUP($A72,$Z:$AM,12,FALSE)","v":{"$error":"#DIV/0!"}},{"$f":"VLOOKUP($A72,$A:$N,13,FALSE)/VLOOKUP($A72,$Z:$AM,13,FALSE)","v":{"$error":"#DIV/0!"}},{"$f":"VLOOKUP($A72,$A:$N,14,FALSE)/VLOOKUP($A72,$Z:$AM,14,FALSE)","v":{"$error":"#DIV/0!"}}," ",{"$f":"IF(AO72<>0,AO72,\"\")","v":3839},{"$f":"IF(AP72<>0,VLOOKUP(Z72,AO:AP,2,FALSE),\"\")","v":"Brad Boxberger"},{"$f":"IF(AQ72<>0,VLOOKUP(AQ72,Info!A:B,2,FALSE),\"\")","v":"TAM"},{"$f":"IF(AO72<>0,VLOOKUP(Z72,AO:AR,4,FALSE),\"\")","v":"boxbr"},{"$f":"IF($AO72<>0,AT72/$AS72,\"\")","v":5.8823529411764705E-2},{"$f":"IF($AO72<>0,AU72/$AS72,\"\")","v":0.29411764705882354},{"$f":"IF($AO72<>0,AV72/$AS72,\"\")","v":1.3411764705882352},{"$f":"IF($AO72<>0,AW72/$AS72,\"\")","v":9.4117647058823528E-2},{"$f":"IF($AO72<>0,AZ72/$AS72,\"\")","v":0},{"$f":"IF($AO72<>0,BA72/$AS72,\"\")","v":0},{"$f":"IF($AO72<>0,BB72/$AS72,\"\")","v":0},{"$f":"IF($AO72<>0,BC72/$AS72,\"\")","v":0},{"$f":"IF($AO72<>0,BD72/$AS72,\"\")","v":0},{"$f":"IF($AO72<>0,BE72/$AS72,\"\")","v":0},null,3839,"Brad Boxberger","Tampa Bay Rays","boxbr",85,5,25,114,8,105,32]
[3251,"Sergio Romo","TAM","Buy",null,null,null,null,null,null,null,null,null,null,0,0,0,0,{"$error":"#DIV/0!"},{"$error":"#DIV/0!"},{"$error":"#DIV/0!"},{"$error":"#DIV/0!"},{"$error":"#DIV/0!"},{"$error":"#DIV/0!"}," ",3251,"Sergio Romo",{"$f":"IF(AQ73<>0,VLOOKUP(AQ73,Info!A:B,2,FALSE),\"\")","v":"TAM"},"romse",5.8823529411764705E-2,0.29411764705882354,1.0823529411764705,2.3529411764705882E-2,0,0,0,0,0,0,null,3251,"Sergio Romo","Tampa Bay Rays","romse",85,5,25,92,2,96,34]
[3841,"Shawn Tolleson","TAM","Buy",null,null,null,null,null,null,null,null,null,null,0,0,0,0,{"$error":"#DIV/0!"},{"$error":"#DIV/0!"},{"$error":"#DIV/0!"},{"$error":"#DIV/0!"},{"$error":"#DIV/0!"},{"$error":"#DIV/0!"}," ",3841,"Shawn Tolleson",{"$f":"IF(AQ74<>0,VLOOKUP(AQ74,Info!A:B,2,FALSE),\"\")","v":"TAM"},"tolsh",5.8823529411764705E-2,0.30588235294117649,0.78823529411764703,5.8823529411764705E-2,0,0,0,0,0,0,null,3841,"Shawn Tolleson","Tampa Bay Rays","tolsh",85,5,26,67,5,145,72]
[3304,"Steve Cishek","TAM","Buy",null,null,null,null,null,null,null,null,null,null,0,0,0,0,{"$error":"#DIV/0!"},{"$error":"#DIV/0!"},{"$error":"#DIV/0!"},{"$error":"#DIV/0!"},{"$error":"#DIV/0!"},{"$error":"#DIV/0!"}," ",{"$f":"IF(AO75<>0,AO75,\"\")","v":3304},"Steve Cishek",{"$f":"IF(AQ75<>0,VLOOKUP(AQ75,Info!A:B,2,FALSE),\"\")","v":"TAM"},"cisst",{"$f":"IF($AO75<>0,AT75/$AS75,\"\")","v":5.8823529411764705E-2},{"$f":"IF($AO75<>0,AU75/$AS75,\"\")","v":0.29411764705882354},{"$f":"IF($AO75<>0,AV75/$AS75,\"\")","v":0.84705882352941175},{"$f":"IF($AO75<>0,AW75/$AS75,\"\")","v":4.7058823529411764E-2},{"$f":"IF($AO75<>0,AZ75/$AS75,\"\")","v":0},{"$f":"IF($AO75<>0,BA75/$AS75,\"\")","v":0},{"$f":"IF($AO75<>0,BB75/$AS75,\"\")","v":0},{"$f":"IF($AO75<>0,BC75/$AS75,\"\")","v":0},{"$f":"IF($AO75<>0,BD75/$AS75,\"\")","v":0},{"$f":"IF($AO75<>0,BE75/$AS75,\"\")","v":0},null,3304,"Steve Cishek","Tampa Bay Rays","cisst",85,5,25,72,4,70,20]
[2663,"Tommy Hunter","TAM","Buy",null,null,null,null,null,null,null,null,null,null,0,0,0,0,{"$error":"#DIV/0!"},{"$error":"#DIV/0!"},{"$error":"#DIV/0!"},{"$error":"#DIV/0!"},{"$error":"#DIV/0!"},{"$error":"#DIV/0!"}," ",2663,"Tommy Hunter",{"$f":"IF(AQ76<>0,VLOOKUP(AQ76,Info!A:B,2,FALSE),\"\")","v":"TAM"},"huntt",5.8823529411764705E-2,0.29411764705882354,1.0588235294117647,8.2352941176470587E-2,0,0,0,0,0,0,null,2663,"Tommy Hunter","Tampa Bay Rays","huntt",85,5,25,90,7,80,24]
[3253,"Jason Grilli","TEX","Buy",null,null,null,null,null,null,null,null,null,null,0,0,0,0,{"$error":"#DIV/0!"},{"$error":"#DIV/0!"},{"$error":"#DIV/0!"},{"$error":"#DIV/0!"},{"$error":"#DIV/0!"},{"$error":"#DIV/0!"}," ",3253,"Jason Grilli",{"$f":"IF(AQ77<>0,VLOOKUP(AQ77,Info!A:B,2,FALSE),\"\")","v":"TEX"},"grija",4.7058823529411764E-2,0.29411764705882354,1.0470588235294118,9.4117647058823528E-2,0,0,0,0,0,0,null,3253,"Jason Grilli","Texas Rangers","grija",85,4,25,89,8,121,54]
[4024,"Sam Dyson","TEX","Buy",null,null,null,null,null,null,null,null,null,null,0,0,0,0,{"$error":"#DIV/0!"},{"$error":"#DIV/0!"},{"$error":"#DIV/0!"},{"$error":"#DIV/0!"},{"$error":"#DIV/0!"},{"$error":"#DIV/0!"}," ",4024,"Sam Dyson",{"$f":"IF(AQ78<>0,VLOOKUP(AQ78,Info!A:B,2,FALSE),\"\")","v":"TEX"},"dyssa",5.8823529411764705E-2,0.29411764705882354,0.61176470588235299,9.4117647058823528E-2,0,0,0,0,0,0,null,4024,"Sam Dyson","Texas Rangers","dyssa",85,5,25,52,8,155,56]
[2469,"J.P. Howell","TOR","Buy",null,null,null,null,null,null,null,null,null,null,0,0,0,0,{"$error":"#DIV/0!"},{"$error":"#DIV/0!"},{"$error":"#DIV/0!"},{"$error":"#DIV/0!"},{"$error":"#DIV/0!"},{"$error":"#DIV/0!"}," ",2469,"J.P. Howell",{"$f":"IF(AQ79<>0,VLOOKUP(AQ79,Info!A:B,2,FALSE),\"\")","v":"TOR"},"howjp",5.8823529411764705E-2,0.29411764705882354,0.58823529411764708,7.0588235294117646E-2,0,0,0,0,0,0,null,2469,"J.P. Howell","Toronto Blue Jays","howjp",85,5,25,50,6,107,48]
[3878,"Roberto Osuna","TOR","Buy",null,null,null,null,null,null,null,null,null,null,0,0,0,0,{"$error":"#DIV/0!"},{"$error":"#DIV/0!"},{"$error":"#DIV/0!"},{"$error":"#DIV/0!"},{"$error":"#DIV/0!"},{"$error":"#DIV/0!"}," ",{"$f":"IF(AO80<>0,AO80,\"\")","v":3878},{"$f":"IF(AP80<>0,VLOOKUP(Z80,AO:AP,2,FALSE),\"\")","v":"Roberto Osuna"},{"$f":"IF(AQ80<>0,VLOOKUP(AQ80,Info!A:B,2,FALSE),\"\")","v":"TOR"},{"$f":"IF(AO80<>0,VLOOKUP(Z80,AO:AR,4,FALSE),\"\")","v":"osuro"},{"$f":"IF($AO80<>0,AT80/$AS80,\"\")","v":4.7058823529411764E-2},{"$f":"IF($AO80<>0,AU80/$AS80,\"\")","v":0.58823529411764708},{"$f":"IF($AO80<>0,AV80/$AS80,\"\")","v":1.2588235294117647},{"$f":"IF($AO80<>0,AW80/$AS80,\"\")","v":7.0588235294117646E-2},{"$f":"IF($AO80<>0,AZ80/$AS80,\"\")","v":0},{"$f":"IF($AO80<>0,BA80/$AS80,\"\")","v":0},{"$f":"IF($AO80<>0,BB80/$AS80,\"\")","v":0},{"$f":"IF($AO80<>0,BC80/$AS80,\"\")","v":0},{"$f":"IF($AO80<>0,BD80/$AS80,\"\")","v":0},{"$f":"IF($AO80<>0,BE80/$AS80,\"\")","v":0},null,3878,"Roberto Osuna","Toronto Blue Jays","osuro",85,4,50,107,6,71,31]
[3877,"A.J. Ramos","WAS","Buy",null,null,null,null,null,null,null,null,null,null,0,0,0,0,{"$error":"#DIV/0!"},{"$error":"#DIV/0!"},{"$error":"#DIV/0!"},{"$error":"#DIV/0!"},{"$error":"#DIV/0!"},{"$error":"#DIV/0!"}," ",3877,"A.J. Ramos",{"$f":"IF(AQ81<>0,VLOOKUP(AQ81,Info!A:B,2,FALSE),\"\")","v":"WAS"},"ramaj",3.5294117647058823E-2,0.44705882352941179,1.1882352941176471,7.0588235294117646E-2,0,0,0,0,0,0,null,3877,"A.J. Ramos","Washington Nationals","ramaj",85,3,38,101,6,116,37]
[{"$f":"IF(Z82<>0,Z82,\"\")","v":4153},{"$f":"IF(A82<>0,VLOOKUP(A82,Z:AA,2,FALSE),\"\")","v":"Brandon Kintzler"},{"$f":"IF(A82<>0,VLOOKUP(A82,Z:AB,3,FALSE))","v":"WAS"},{"$f":"HYPERLINK(\"http://www.jockstocks.com/buysell.php?action=buymax&plid=\"&A82,\"Buy\")","v":"Buy"},null,null,null,null,null,null,null,null,null,null,0,0,0,0,{"$error":"#DIV/0!"},{"$error":"#DIV/0!"},{"$error":"#DIV/0!"},{"$error":"#DIV/0!"},{"$error":"#DIV/0!"},{"$error":"#DIV/0!"}," ",4153,"Brandon Kintzler",{"$f":"IF(AQ82<>0,VLOOKUP(AQ82,Info!A:B,2,FALSE),\"\")","v":"WAS"},"kinbr",5.8823529411764705E-2,0.38823529411764707,0.58823529411764708,5.8823529411764705E-2,0,0,0,0,0,0,null,4153,"Brandon Kintzler","Washington Nationals","kinbr",85,5,33,50,5,95,30]
[2836,"Ryan Madson","WAS","Buy",null,null,null,null,null,null,null,null,null,null,0,0,0,0,{"$error":"#DIV/0!"},{"$error":"#DIV/0!"},{"$error":"#DIV/0!"},{"$error":"#DIV/0!"},{"$error":"#DIV/0!"},{"$error":"#DIV/0!"}," ",2836,"Ryan Madson",{"$f":"IF(AQ83<>0,VLOOKUP(AQ83,Info!A:B,2,FALSE),\"\")","v":"WAS"},"madry",5.8823529411764705E-2,0.29411764705882354,1.3529411764705883,2.3529411764705882E-2,0,0,0,0,0,0,null,2836,"Ryan Madson","Washington Nationals","madry",85,5,25,115,2,51,20]
[3579,"Sean Doolittle","WAS","Buy",null,null,null,null,null,null,null,null,null,null,0,0,0,0,{"$error":"#DIV/0!"},{"$error":"#DIV/0!"},{"$error":"#DIV/0!"},{"$error":"#DIV/0!"},{"$error":"#DIV/0!"},{"$error":"#DIV/0!"}," ",3579,"Sean Doolittle",{"$f":"IF(AQ84<>0,VLOOKUP(AQ84,Info!A:B,2,FALSE),\"\")","v":"WAS"},"doose",4.7058823529411764E-2,0.44705882352941179,1.1882352941176471,2.3529411764705882E-2,0,0,0,0,0,0,null,3579,"Sean Doolittle","Washington Nationals","doose",85,4,38,101,2,69,25]
["","","","Buy",null,null,null,null,null,null,null,null,null,null,{"$error":"#VALUE!"},{"$error":"#VALUE!"},{"$error":"#VALUE!"},{"$error":"#VALUE!"},{"$error":"#VALUE!"},{"$error":"#VALUE!"},{"$error":"#VALUE!"},{"$error":"#VALUE!"},{"$error":"#VALUE!"},{"$error":"#VALUE!"}," ","","",{"$f":"IF(AQ85<>0,VLOOKUP(AQ85,Info!A:B,2,FALSE),\"\")","v":""},"","","","","","","","","","",""]
["","","","Buy",null,null,null,null,null,null,null,null,null,null,{"$error":"#VALUE!"},{"$error":"#VALUE!"},{"$error":"#VALUE!"},{"$error":"#VALUE!"},{"$error":"#VALUE!"},{"$error":"#VALUE!"},{"$error":"#VALUE!"},{"$error":"#VALUE!"},{"$error":"#VALUE!"},{"$error":"#VALUE!"}," ","","",{"$f":"IF(AQ86<>0,VLOOKUP(AQ86,Info!A:B,2,FALSE),\"\")","v":""},"","","","","","","","","","",""]
["","","","Buy",null,null,null,null,null,null,null,null,null,null,{"$error":"#VALUE!"},{"$error":"#VALUE!"},{"$error":"#VALUE!"},{"$error":"#VALUE!"},{"$error":"#VALUE!"},{"$error":"#VALUE!"},{"$error":"#VALUE!"},{"$error":"#VALUE!"},{"$error":"#VALUE!"},{"$error":"#VALUE!"}," ","","",{"$f":"IF(AQ87<>0,VLOOKUP(AQ87,Info!A:B,2,FALSE),\"\")","v":""},"","","","","","","","","","",""]
["","","","Buy",null,null,null,null,null,null,null,null,null,null,{"$error":"#VALUE!"},{"$error":"#VALUE!"},{"$error":"#VALUE!"},{"$error":"#VALUE!"},{"$error":"#VALUE!"},{"$error":"#VALUE!"},{"$error":"#VALUE!"},{"$error":"#VALUE!"},{"$error":"#VALUE!"},{"$error":"#VALUE!"}," ","","",{"$f":"IF(AQ88<>0,VLOOKUP(AQ88,Info!A:B,2,FALSE),\"\")","v":""},"","","","","","","","","","",""]
["","","","Buy",null,null,null,null,null,null,null,null,null,null,{"$error":"#VALUE!"},{"$error":"#VALUE!"},{"$error":"#VALUE!"},{"$error":"#VALUE!"},{"$error":"#VALUE!"},{"$error":"#VALUE!"},{"$error":"#VALUE!"},{"$error":"#VALUE!"},{"$error":"#VALUE!"},{"$error":"#VALUE!"}," ","","",{"$f":"IF(AQ89<>0,VLOOKUP(AQ89,Info!A:B,2,FALSE),\"\")","v":""},"","","","","","","","","","",""]
["","","","Buy",null,null,null,null,null,null,null,null,null,null,{"$error":"#VALUE!"},{"$error":"#VALUE!"},{"$error":"#VALUE!"},{"$error":"#VALUE!"},{"$error":"#VALUE!"},{"$error":"#VALUE!"},{"$error":"#VALUE!"},{"$error":"#VALUE!"},{"$error":"#VALUE!"},{"$error":"#VALUE!"}," ","","",{"$f":"IF(AQ90<>0,VLOOKUP(AQ90,Info!A:B,2,FALSE),\"\")","v":""},"","","","","","","","","","",""]
["","","","Buy",null,null,null,null,null,null,null,null,null,null,{"$error":"#VALUE!"},{"$error":"#VALUE!"},{"$error":"#VALUE!"},{"$error":"#VALUE!"},{"$error":"#VALUE!"},{"$error":"#VALUE!"},{"$error":"#VALUE!"},{"$error":"#VALUE!"},{"$error":"#VALUE!"},{"$error":"#VALUE!"}," ","","",{"$f":"IF(AQ91<>0,VLOOKUP(AQ91,Info!A:B,2,FALSE),\"\")","v":""},"","","","","","","","","","",""]
["","","","Buy",null,null,null,null,null,null,null,null,null,null,{"$error":"#VALUE!"},{"$error":"#VALUE!"},{"$error":"#VALUE!"},{"$error":"#VALUE!"},{"$error":"#VALUE!"},{"$error":"#VALUE!"},{"$error":"#VALUE!"},{"$error":"#VALUE!"},{"$error":"#VALUE!"},{"$error":"#VALUE!"}," ","","",{"$f":"IF(AQ92<>0,VLOOKUP(AQ92,Info!A:B,2,FALSE),\"\")","v":""},"","","","","","","","","","",""]
["","","","Buy",null,null,null,null,null,null,null,null,null,null,{"$error":"#VALUE!"},{"$error":"#VALUE!"},{"$error":"#VALUE!"},{"$error":"#VALUE!"},{"$error":"#VALUE!"},{"$error":"#VALUE!"},{"$error":"#VALUE!"},{"$error":"#VALUE!"},{"$error":"#VALUE!"},{"$error":"#VALUE!"}," ","","",{"$f":"IF(AQ93<>0,VLOOKUP(AQ93,Info!A:B,2,FALSE),\"\")","v":""},"","","","","","","","","","",""]
["","","","Buy",null,null,null,null,null,null,null,null,null,null,{"$error":"#VALUE!"},{"$error":"#VALUE!"},{"$error":"#VALUE!"},{"$error":"#VALUE!"},{"$error":"#VALUE!"},{"$error":"#VALUE!"},{"$error":"#VALUE!"},{"$error":"#VALUE!"},{"$error":"#VALUE!"},{"$error":"#VALUE!"}," ","","",{"$f":"IF(AQ94<>0,VLOOKUP(AQ94,Info!A:B,2,FALSE),\"\")","v":""},"","","","","","","","","","",""]
["","","","Buy",null,null,null,null,null,null,null,null,null,null,{"$error":"#VALUE!"},{"$error":"#VALUE!"},{"$error":"#VALUE!"},{"$error":"#VALUE!"},{"$error":"#VALUE!"},{"$error":"#VALUE!"},{"$error":"#VALUE!"},{"$error":"#VALUE!"},{"$error":"#VALUE!"},{"$error":"#VALUE!"}," ","","",{"$f":"IF(AQ95<>0,VLOOKUP(AQ95,Info!A:B,2,FALSE),\"\")","v":""},"","","","","","","","","","",""]
["","","","Buy",null,null,null,null,null,null,null,null,null,null,{"$error":"#VALUE!"},{"$error":"#VALUE!"},{"$error":"#VALUE!"},{"$error":"#VALUE!"},{"$error":"#VALUE!"},{"$error":"#VALUE!"},{"$error":"#VALUE!"},{"$error":"#VALUE!"},{"$error":"#VALUE!"},{"$error":"#VALUE!"}," ","","",{"$f":"IF(AQ96<>0,VLOOKUP(AQ96,Info!A:B,2,FALSE),\"\")","v":""},"","","","","","","","","","",""]
["","","","Buy",null,null,null,null,null,null,null,null,null,null,{"$error":"#VALUE!"},{"$error":"#VALUE!"},{"$error":"#VALUE!"},{"$error":"#VALUE!"},{"$error":"#VALUE!"},{"$error":"#VALUE!"},{"$error":"#VALUE!"},{"$error":"#VALUE!"},{"$error":"#VALUE!"},{"$error":"#VALUE!"}," ","","",{"$f":"IF(AQ97<>0,VLOOKUP(AQ97,Info!A:B,2,FALSE),\"\")","v":""},"","","","","","","","","","",""]
["","","","Buy",null,null,null,null,null,null,null,null,null,null,{"$error":"#VALUE!"},{"$error":"#VALUE!"},{"$error":"#VALUE!"},{"$error":"#VALUE!"},{"$error":"#VALUE!"},{"$error":"#VALUE!"},{"$error":"#VALUE!"},{"$error":"#VALUE!"},{"$error":"#VALUE!"},{"$error":"#VALUE!"}," ","","",{"$f":"IF(AQ98<>0,VLOOKUP(AQ98,Info!A:B,2,FALSE),\"\")","v":""},"","","","","","","","","","",""]
["","","","Buy",null,null,null,null,null,null,null,null,null,null,{"$error":"#VALUE!"},{"$error":"#VALUE!"},{"$error":"#VALUE!"},{"$error":"#VALUE!"},{"$error":"#VALUE!"},{"$error":"#VALUE!"},{"$error":"#VALUE!"},{"$error":"#VALUE!"},{"$error":"#VALUE!"},{"$error":"#VALUE!"}," ","","",{"$f":"IF(AQ99<>0,VLOOKUP(AQ99,Info!A:B,2,FALSE),\"\")","v":""},"","","","","","","","","","",""]
["","","","Buy",null,null,null,null,null,null,null,null,null,null,{"$error":"#VALUE!"},{"$error":"#VALUE!"},{"$error":"#VALUE!"},{"$error":"#VALUE!"},{"$error":"#VALUE!"},{"$error":"#VALUE!"},{"$error":"#VALUE!"},{"$error":"#VALUE!"},{"$error":"#VALUE!"},{"$error":"#VALUE!"}," ","","",{"$f":"IF(AQ100<>0,VLOOKUP(AQ100,Info!A:B,2,FALSE),\"\")","v":""},"","","","","","","","","","",""]

{"sheet":"NBA","index":4,"n_rows":301,"n_cols":52,"rows_kept":301,"cut":false,"hidden":false,"merged":[]}
["plid","Name","Team",null,"Pts","3s","RBs","Assts","Stls","Blks","TOs",null,null,null,"Pts","3s","RBs","Assts","Stls","Blks","TOs",null,null,null,null,{"$f":"IF(AO1<>0,AO1,\"\")","v":"ID"},{"$f":"IF(AP1<>0,AP1,\"\")","v":"Name"},{"$f":"IF(AQ1<>0,AQ1,\"\")","v":"Team"},{"$f":"IF(AR1<>0,AR1,\"\")","v":"Symbol"},{"$f":"IF(AT1<>0,AT1,\"\")","v":"Points"},{"$f":"IF(AU1<>0,AU1,\"\")","v":"Threes"},"Rebounds","Assists","Steals","Blocks","Turnovers","","","",null,"ID","Name","Team","Symbol","Games","Points","Threes","Rebounds","Assists","Steals","Blocks","Turnovers"]
[{"$f":"IF(Z2<>0,Z2,\"\")","v":3976},{"$f":"IF(A2<>0,VLOOKUP(A2,Z:AA,2,FALSE),\"\")","v":"Dennis Schroder"},{"$f":"IF(A2<>0,VLOOKUP(A2,Z:AB,3,FALSE))","v":"ATL"},{"$f":"HYPERLINK(\"http://www.jockstocks.com/buysell.php?action=buymax&plid=\"&A2,\"Buy\")","v":"Buy"},null,null,null,null,null,null,null,null,null,null,{"$f":"VLOOKUP($A2,$A:$N,5,FALSE)/VLOOKUP($A2,$Z:$AM,5,FALSE)","v":0},{"$f":"VLOOKUP($A2,$A:$N,6,FALSE)/VLOOKUP($A2,$Z:$AM,6,FALSE)","v":0},{"$f":"VLOOKUP($A2,$A:$N,7,FALSE)/VLOOKUP($A2,$Z:$AM,7,FALSE)","v":0},{"$f":"VLOOKUP($A2,$A:$N,8,FALSE)/VLOOKUP($A2,$Z:$AM,8,FALSE)","v":0},{"$f":"VLOOKUP($A2,$A:$N,9,FALSE)/VLOOKUP($A2,$Z:$AM,9,FALSE)","v":0},{"$f":"VLOOKUP($A2,$A:$N,10,FALSE)/VLOOKUP($A2,$Z:$AM,10,FALSE)","v":0},{"$f":"VLOOKUP($A2,$A:$N,11,FALSE)/VLOOKUP($A2,$Z:$AM,11,FALSE)","v":0},{"$f":"VLOOKUP($A2,$A:$N,12,FALSE)/VLOOKUP($A2,$Z:$AM,12,FALSE)","v":{"$error":"#DIV/0!"}},{"$f":"VLOOKUP($A2,$A:$N,13,FALSE)/VLOOKUP($A2,$Z:$AM,13,FALSE)","v":{"$error":"#DIV/0!"}},{"$f":"VLOOKUP($A2,$A:$N,14,FALSE)/VLOOKUP($A2,$Z:$AM,14,FALSE)","v":{"$error":"#DIV/0!"}}," ",{"$f":"IF(AO2<>0,AO2,\"\")","v":3976},{"$f":"IF(AP2<>0,VLOOKUP(Z2,AO:AP,2,FALSE),\"\")","v":"Dennis Schroder"},{"$f":"IF(AQ2<>0,VLOOKUP(AQ2,Info!A:B,2,FALSE),\"\")","v":"ATL"},{"$f":"IF(AO2<>0,VLOOKUP(Z2,AO:AR,4,FALSE),\"\")","v":"schde"},{"$f":"IF($AO2<>0,AT2/$AS2,\"\")","v":17.902439024390244},1.2682926829268293,3.1829268292682928,6.3536585365853657,0.92682926829268297,0.2073170731707317,3.0487804878048781,0,0,0,null,3976,"Dennis Schroder","Atlanta Hawks","schde",82,1468,104,261,521,76,17,250]
[{"$f":"IF(Z3<>0,Z3,\"\")","v":3169},{"$f":"IF(A3<>0,VLOOKUP(A3,Z:AA,2,FALSE),\"\")","v":"Ersan Ilyasova"},{"$f":"IF(A3<>0,VLOOKUP(A3,Z:AB,3,FALSE))","v":"ATL"},{"$f":"HYPERLINK(\"http://www.jockstocks.com/buysell.php?action=buymax&plid=\"&A3,\"Buy\")","v":"Buy"},null,null,null,null,null,null,null,null,null,null,0,0,0,0,0,0,0,{"$error":"#DIV/0!"},{"$error":"#DIV/0!"},{"$error":"#DIV/0!"}," ",{"$f":"IF(AO3<>0,AO3,\"\")","v":3169},{"$f":"IF(AP3<>0,VLOOKUP(Z3,AO:AP,2,FALSE),\"\")","v":"Ersan Ilyasova"},{"$f":"IF(AQ3<>0,VLOOKUP(AQ3,Info!A:B,2,FALSE),\"\")","v":"ATL"},{"$f":"IF(AO3<>0,VLOOKUP(Z3,AO:AR,4,FALSE),\"\")","v":"ilyer"},{"$f":"IF($AO3<>0,AT3/$AS3,\"\")","v":13.085365853658537},{"$f":"IF($AO3<>0,AU3/$AS3,\"\")","v":1.7317073170731707},{"$f":"IF($AO3<>0,AV3/$AS3,\"\")","v":5.8902439024390247},{"$f":"IF($AO3<>0,AW3/$AS3,\"\")","v":1.6829268292682926},{"$f":"IF($AO3<>0,AX3/$AS3,\"\")","v":0.71951219512195119},{"$f":"IF($AO3<>0,AY3/$AS3,\"\")","v":0.3048780487804878},{"$f":"IF($AO3<>0,AZ3/$AS3,\"\")","v":1.4146341463414633},{"$f":"IF($AO3<>0,BA3/$AS3,\"\")","v":0},{"$f":"IF($AO3<>0,BB3/$AS3,\"\")","v":0},{"$f":"IF($AO3<>0,BC3/$AS3,\"\")","v":0},null,3169,"Ersan Ilyasova","Atlanta Hawks","ilyer",82,1073,142,483,138,59,25,116]
[3975,"Kent Bazemore","ATL","Buy",null,null,null,null,null,null,null,null,null,null,0,0,0,0,0,0,0,{"$error":"#DIV/0!"},{"$error":"#DIV/0!"},{"$error":"#DIV/0!"}," ",3975,"Kent Bazemore",{"$f":"IF(AQ4<>0,VLOOKUP(AQ4,Info!A:B,2,FALSE),\"\")","v":"ATL"},"bazke",10.975609756097562,1.2560975609756098,3.1097560975609757,2.4268292682926829,1.2560975609756098,0.73170731707317072,1.6829268292682926,0,0,0,null,3975,"Kent Bazemore","Atlanta Hawks","bazke",82,900,103,255,199,103,60,138]
[2809,"Marco Belinelli","ATL","Buy",null,null,null,null,null,null,null,null,null,null,0,0,0,0,0,0,0,{"$error":"#DIV/0!"},{"$error":"#DIV/0!"},{"$error":"#DIV/0!"}," ",2809,"Marco Belinelli",{"$f":"IF(AQ5<>0,VLOOKUP(AQ5,Info!A:B,2,FALSE),\"\")","v":"ATL"},"bemar",10.536585365853659,1.3780487804878048,2.4390243902439024,2,0.6097560975609756,0.12195121951219512,1.2195121951219512,0,0,0,null,2809,"Marco Belinelli","Atlanta Hawks","bemar",82,864,113,200,164,50,10,100]
[2083,"Al Horford","BOS","Buy",null,null,null,null,null,null,null,null,null,null,0,0,0,0,0,0,0,{"$error":"#DIV/0!"},{"$error":"#DIV/0!"},{"$error":"#DIV/0!"}," ",2083,"Al Horford",{"$f":"IF(AQ6<>0,VLOOKUP(AQ6,Info!A:B,2,FALSE),\"\")","v":"BOS"},"horal",14,1.2682926829268293,6.7926829268292686,4.9512195121951219,0.79268292682926833,1.2926829268292683,1.6951219512195121,0,0,0,null,2083,"Al Horford","Boston Celtics","horal",82,1148,104,557,406,65,106,139]
[3173,"Gordon Hayward","BOS","Buy",null,null,null,null,null,null,null,null,null,null,0,0,0,0,0,0,0,{"$error":"#DIV/0!"},{"$error":"#DIV/0!"},{"$error":"#DIV/0!"}," ",3173,"Gordon Hayward",{"$f":"IF(AQ7<>0,VLOOKUP(AQ7,Info!A:B,2,FALSE),\"\")","v":"BOS"},"haygo",21.926829268292682,2.0365853658536586,5.4024390243902438,3.4512195121951219,1,0.26829268292682928,1.9146341463414633,0,0,0,null,3173,"Gordon Hayward","Boston Celtics","haygo",82,1798,167,443,283,82,22,157]
[3017,"Kyrie Irving","BOS","Buy",null,null,null,null,null,null,null,null,null,null,0,0,0,0,0,0,0,{"$error":"#DIV/0!"},{"$error":"#DIV/0!"},{"$error":"#DIV/0!"}," ",3017,"Kyrie Irving",{"$f":"IF(AQ8<>0,VLOOKUP(AQ8,Info!A:B,2,FALSE),\"\")","v":"BOS"},"irvky",24.390243902439025,2.4390243902439024,3.1341463414634148,5.8170731707317076,1.1707317073170731,0.32926829268292684,2.475609756097561,0,0,0,null,3017,"Kyrie Irving","Boston Celtics","irvky",82,2000,200,257,477,96,27,203]
[3973,"Marcus Morris","BOS","Buy",null,null,null,null,null,null,null,null,null,null,0,0,0,0,0,0,0,{"$error":"#DIV/0!"},{"$error":"#DIV/0!"},{"$error":"#DIV/0!"}," ",3973,"Marcus Morris",{"$f":"IF(AQ9<>0,VLOOKUP(AQ9,Info!A:B,2,FALSE),\"\")","v":"BOS"},"morrm",14.036585365853659,1.5121951219512195,4.6707317073170733,1.9878048780487805,0.65853658536585369,0.31707317073170732,1.2195121951219512,0,0,0,null,3973,"Marcus Morris","Boston Celtics","morrm",82,1151,124,383,163,54,26,100]
[3970,"Marcus Smart","BOS","Buy",null,null,null,null,null,null,null,null,null,null,0,0,0,0,0,0,0,{"$error":"#DIV/0!"},{"$error":"#DIV/0!"},{"$error":"#DIV/0!"}," ",3970,"Marcus Smart",{"$f":"IF(AQ10<>0,VLOOKUP(AQ10,Info!A:B,2,FALSE),\"\")","v":"BOS"},"smama",10.573170731707316,1.1951219512195121,3.8780487804878048,4.6219512195121952,1.5731707317073171,0.41463414634146339,2.0121951219512195,0,0,0,null,3970,"Marcus Smart","Boston Celtics","smama",82,867,98,318,379,129,34,165]
[3972,"D'Angelo Russell","BRO","Buy",null,null,null,null,null,null,null,null,null,null,0,0,0,0,0,0,0,{"$error":"#DIV/0!"},{"$error":"#DIV/0!"},{"$error":"#DIV/0!"}," ",3972,"D'Angelo Russell",{"$f":"IF(AQ11<>0,VLOOKUP(AQ11,Info!A:B,2,FALSE),\"\")","v":"BRO"},"rusda",15.621951219512194,2.1463414634146343,3.5365853658536586,4.7926829268292686,1.3780487804878048,0.26829268292682928,2.7804878048780486,0,0,0,null,3972,"D'Angelo Russell","Brooklyn Nets","rusda",82,1281,176,290,393,113,22,228]
[3777,"DeMarre Carroll","BRO","Buy",null,null,null,null,null,null,null,null,null,null,0,0,0,0,0,0,0,{"$error":"#DIV/0!"},{"$error":"#DIV/0!"},{"$error":"#DIV/0!"}," ",3777,"DeMarre Carroll",{"$f":"IF(AQ12<>0,VLOOKUP(AQ12,Info!A:B,2,FALSE),\"\")","v":"BRO"},"carrd",8.8658536585365848,1.5121951219512195,3.8414634146341462,1.2195121951219512,1.1219512195121952,0.3902439024390244,1.2195121951219512,0,0,0,null,3777,"DeMarre Carroll","Brooklyn Nets","carrd",82,727,124,315,100,92,32,100]
[3962,"Jahlil Okafor","BRO","Buy",null,null,null,null,null,null,null,null,null,null,0,0,0,0,0,0,0,{"$error":"#DIV/0!"},{"$error":"#DIV/0!"},{"$error":"#DIV/0!"}," ",3962,"Jahlil Okafor",{"$f":"IF(AQ13<>0,VLOOKUP(AQ13,Info!A:B,2,FALSE),\"\")","v":"BRO"},"okaja",11.804878048780488,6.097560975609756E-2,4.8170731707317076,1.2195121951219512,0.6097560975609756,1,1.8048780487804879,0,0,0,null,3962,"Jahlil Okafor","Brooklyn Nets","okaja",82,968,5,395,100,50,82,148]
[3024,"Jeremy Lin","BRO","Buy",null,null,null,null,null,null,null,null,null,null,0,0,0,0,0,0,0,{"$error":"#DIV/0!"},{"$error":"#DIV/0!"},{"$error":"#DIV/0!"}," ",3024,"Jeremy Lin",{"$f":"IF(AQ14<>0,VLOOKUP(AQ14,Info!A:B,2,FALSE),\"\")","v":"BRO"},"linje",14.524390243902438,1.6097560975609757,3.7560975609756095,5.0853658536585362,1.1341463414634145,0.3902439024390244,2.3902439024390243,0,0,0,null,3024,"Jeremy Lin","Brooklyn Nets","linje",82,1191,132,308,417,93,32,196]
[3782,"Timofey Mozgov","BRO","Buy",null,null,null,null,null,null,null,null,null,null,0,0,0,0,0,0,0,{"$error":"#DIV/0!"},{"$error":"#DIV/0!"},{"$error":"#DIV/0!"}," ",3782,"Timofey Mozgov",{"$f":"IF(AQ15<>0,VLOOKUP(AQ15,Info!A:B,2,FALSE),\"\")","v":"BRO"},"mozti",7.4268292682926829,6.097560975609756E-2,4.9390243902439028,1.2195121951219512,0.6097560975609756,0.59756097560975607,1.3292682926829269,0,0,0,null,3782,"Timofey Mozgov","Brooklyn Nets","mozti",82,609,5,405,100,50,49,109]
[1363,"Dwight Howard","CHA","Buy",null,null,null,null,null,null,null,null,null,null,0,0,0,0,0,0,0,{"$error":"#DIV/0!"},{"$error":"#DIV/0!"},{"$error":"#DIV/0!"}," ",1363,"Dwight Howard",{"$f":"IF(AQ16<>0,VLOOKUP(AQ16,Info!A:B,2,FALSE),\"\")","v":"CHA"},"howdw",13.536585365853659,6.097560975609756E-2,12.195121951219512,1.3902439024390243,0.8902439024390244,1.2317073170731707,2.2926829268292681,0,0,0,null,1363,"Dwight Howard","Charlotte Hornets","howdw",82,1110,5,1000,114,73,101,188]
[3187,"Kemba Walker","CHA","Buy",null,null,null,null,null,null,null,null,null,null,0,0,0,0,0,0,0,{"$error":"#DIV/0!"},{"$error":"#DIV/0!"},{"$error":"#DIV/0!"}," ",3187,"Kemba Walker",{"$f":"IF(AQ17<>0,VLOOKUP(AQ17,Info!A:B,2,FALSE),\"\")","v":"CHA"},"walke",23.158536585365855,2.4390243902439024,3.9634146341463414,5.4878048780487809,1.0853658536585367,0.25609756097560976,2.1219512195121952,0,0,0,null,3187,"Kemba Walker","Charlotte Hornets","walke",82,1899,200,325,450,89,21,174]
[1738,"Marvin Williams","CHA","Buy",null,null,null,null,null,null,null,null,null,null,0,0,0,0,0,0,0,{"$error":"#DIV/0!"},{"$error":"#DIV/0!"},{"$error":"#DIV/0!"}," ",1738,"Marvin Williams",{"$f":"IF(AQ18<>0,VLOOKUP(AQ18,Info!A:B,2,FALSE),\"\")","v":"CHA"},"wilma",11.170731707317072,1.6341463414634145,6.5,1.3902439024390243,0.76829268292682928,0.71951219512195119,1.2195121951219512,0,0,0,null,1738,"Marvin Williams","Charlotte Hornets","wilma",82,916,134,533,114,63,59,100]
[3462,"Michael Carter-Williams","CHA","Buy",null,null,null,null,null,null,null,null,null,null,0,0,0,0,0,0,0,{"$error":"#DIV/0!"},{"$error":"#DIV/0!"},{"$error":"#DIV/0!"}," ",3462,"Michael Carter-Williams",{"$f":"IF(AQ19<>0,VLOOKUP(AQ19,Info!A:B,2,FALSE),\"\")","v":"CHA"},"cartm",7.3170731707317076,0.32926829268292684,3.3780487804878048,2.5121951219512195,0.84146341463414631,0.53658536585365857,1.4634146341463414,0,0,0,null,3462,"Michael Carter-Williams","Charlotte Hornets","cartm",82,600,27,277,206,69,44,120]
[3180,"Michael Kidd-Gilchrist","CHA","Buy",null,null,null,null,null,null,null,null,null,null,0,0,0,0,0,0,0,{"$error":"#DIV/0!"},{"$error":"#DIV/0!"},{"$error":"#DIV/0!"}," ",3180,"Michael Kidd-Gilchrist",{"$f":"IF(AQ20<>0,VLOOKUP(AQ20,Info!A:B,2,FALSE),\"\")","v":"CHA"},"kidmi",9.1707317073170724,6.097560975609756E-2,6.9512195121951219,1.3902439024390243,0.97560975609756095,0.91463414634146345,1.2195121951219512,0,0,0,null,3180,"Michael Kidd-Gilchrist","Charlotte Hornets","kidmi",82,752,5,570,114,80,75,100]
[2786,"Nicolas Batum","CHA","Buy",null,null,null,null,null,null,null,null,null,null,0,0,0,0,0,0,0,{"$error":"#DIV/0!"},{"$error":"#DIV/0!"},{"$error":"#DIV/0!"}," ",2786,"Nicolas Batum",{"$f":"IF(AQ21<>0,VLOOKUP(AQ21,Info!A:B,2,FALSE),\"\")","v":"CHA"},"batni",15.121951219512194,1.7560975609756098,6.2804878048780486,5.9146341463414638,1.1463414634146341,0.40243902439024393,2.5121951219512195,0,0,0,null,2786,"Nicolas Batum","Charlotte Hornets","batni",82,1240,144,515,485,94,33,206]
[3969,"Nikola Mirotic","CHI","Buy",null,null,null,null,null,null,null,null,null,null,0,0,0,0,0,0,0,{"$error":"#DIV/0!"},{"$error":"#DIV/0!"},{"$error":"#DIV/0!"}," ",3969,"Nikola Mirotic",{"$f":"IF(AQ22<>0,VLOOKUP(AQ22,Info!A:B,2,FALSE),\"\")","v":"CHI"},"mirni",10.634146341463415,1.8414634146341464,5.4512195121951219,1.2195121951219512,0.75609756097560976,0.80487804878048785,1.2195121951219512,0,0,0,null,3969,"Nikola Mirotic","Chicago Bulls","mirni",82,872,151,447,100,62,66,100]
[3189,"Robin Lopez","CHI","Buy",null,null,null,null,null,null,null,null,null,null,0,0,0,0,0,0,0,{"$error":"#DIV/0!"},{"$error":"#DIV/0!"},{"$error":"#DIV/0!"}," ",3189,"Robin Lopez",{"$f":"IF(AQ23<>0,VLOOKUP(AQ23,Info!A:B,2,FALSE),\"\")","v":"CHI"},"lopro",10.353658536585366,6.097560975609756E-2,6.4024390243902438,1.2195121951219512,0.6097560975609756,1.4512195121951219,1.2195121951219512,0,0,0,null,3189,"Robin Lopez","Chicago Bulls","lopro",82,849,5,525,100,50,119,100]
[3966,"Zach LaVine","CHI","Buy",null,null,null,null,null,null,null,null,null,null,0,0,0,0,0,0,0,{"$error":"#DIV/0!"},{"$error":"#DIV/0!"},{"$error":"#DIV/0!"}," ",3966,"Zach LaVine",{"$f":"IF(AQ24<>0,VLOOKUP(AQ24,Info!A:B,2,FALSE),\"\")","v":"CHI"},"lavza",18.914634146341463,2.4390243902439024,3.4024390243902438,2.975609756097561,0.87804878048780488,0.2073170731707317,1.8048780487804879,0,0,0,null,3966,"Zach LaVine","Chicago Bulls","lavza",82,1551,200,279,244,72,17,148]
[1675,"Channing Frye","CLE","Buy",null,null,null,null,null,null,null,null,null,null,0,0,0,0,0,0,0,{"$error":"#DIV/0!"},{"$error":"#DIV/0!"},{"$error":"#DIV/0!"}," ",1675,"Channing Frye",{"$f":"IF(AQ25<>0,VLOOKUP(AQ25,Info!A:B,2,FALSE),\"\")","v":"CLE"},"frych",9.1341463414634152,1.8536585365853659,3.9268292682926829,1.2195121951219512,0.6097560975609756,0.51219512195121952,1.2195121951219512,0,0,0,null,1675,"Channing Frye","Cleveland Cavaliers","frych",82,749,152,322,100,50,42,100]
[2317,"Derrick Rose","CLE","Buy",null,null,null,null,null,null,null,null,null,null,0,0,0,0,0,0,0,{"$error":"#DIV/0!"},{"$error":"#DIV/0!"},{"$error":"#DIV/0!"}," ",2317,"Derrick Rose",{"$f":"IF(AQ26<>0,VLOOKUP(AQ26,Info!A:B,2,FALSE),\"\")","v":"CLE"},"rosde",18.036585365853657,0.2073170731707317,3.8292682926829267,4.4268292682926829,0.68292682926829273,0.26829268292682928,2.2926829268292681,0,0,0,null,2317,"Derrick Rose","Cleveland Cavaliers","rosde",82,1479,17,314,363,56,22,188]
[1054,"Dwyane Wade","CLE","Buy",null,null,null,null,null,null,null,null,null,null,0,0,0,0,0,0,0,{"$error":"#DIV/0!"},{"$error":"#DIV/0!"},{"$error":"#DIV/0!"}," ",1054,"Dwyane Wade",{"$f":"IF(AQ27<>0,VLOOKUP(AQ27,Info!A:B,2,FALSE),\"\")","v":"CLE"},"waddw",18.26829268292683,0.75609756097560976,4.5121951219512191,3.8170731707317072,1.4024390243902438,0.69512195121951215,2.3048780487804876,0,0,0,null,1054,"Dwyane Wade","Cleveland Cavaliers","waddw",82,1498,62,370,313,115,57,189]
[3170,"Isaiah Thomas","CLE","Buy",null,null,null,null,null,null,null,null,null,null,0,0,0,0,0,0,0,{"$error":"#DIV/0!"},{"$error":"#DIV/0!"},{"$error":"#DIV/0!"}," ",3170,"Isaiah Thomas",{"$f":"IF(AQ28<>0,VLOOKUP(AQ28,Info!A:B,2,FALSE),\"\")","v":"CLE"},"thois",24.390243902439025,2.4390243902439024,2.7073170731707319,5.9024390243902438,0.90243902439024393,0.15853658536585366,2.7317073170731709,0,0,0,null,3170,"Isaiah Thomas","Cleveland Cavaliers","thois",82,2000,200,222,484,74,13,224]
[1453,"J.R. Smith","CLE","Buy",null,null,null,null,null,null,null,null,null,null,0,0,0,0,0,0,0,{"$error":"#DIV/0!"},{"$error":"#DIV/0!"},{"$error":"#DIV/0!"}," ",1453,"J.R. Smith",{"$f":"IF(AQ29<>0,VLOOKUP(AQ29,Info!A:B,2,FALSE),\"\")","v":"CLE"},"smijr",8.5609756097560972,2.3170731707317072,2.7560975609756095,1.4634146341463414,1,0.26829268292682928,1.2195121951219512,0,0,0,null,1453,"J.R. Smith","Cleveland Cavaliers","smijr",82,702,190,226,120,82,22,100]
[2380,"Jeff Green","CLE","Buy",null,null,null,null,null,null,null,null,null,null,0,0,0,0,0,0,0,{"$error":"#DIV/0!"},{"$error":"#DIV/0!"},{"$error":"#DIV/0!"}," ",2380,"Jeff Green",{"$f":"IF(AQ30<>0,VLOOKUP(AQ30,Info!A:B,2,FALSE),\"\")","v":"CLE"},"greej",9.2439024390243905,0.76829268292682928,3.0609756097560976,1.2195121951219512,0.6097560975609756,0.21951219512195122,1.2195121951219512,0,0,0,null,2380,"Jeff Green","Cleveland Cavaliers","greej",82,758,63,251,100,50,18,100]
[2328,"Kevin Love","CLE","Buy",null,null,null,null,null,null,null,null,null,null,0,0,0,0,0,0,0,{"$error":"#DIV/0!"},{"$error":"#DIV/0!"},{"$error":"#DIV/0!"}," ",2328,"Kevin Love",{"$f":"IF(AQ31<>0,VLOOKUP(AQ31,Info!A:B,2,FALSE),\"\")","v":"CLE"},"lovke",19.036585365853657,2.4146341463414633,11.134146341463415,1.9512195121951219,0.86585365853658536,0.40243902439024393,2.0365853658536586,0,0,0,null,2328,"Kevin Love","Cleveland Cavaliers","lovke",82,1561,198,913,160,71,33,167]
[1396,"Kyle Korver","CLE","Buy",null,null,null,null,null,null,null,null,null,null,0,0,0,0,0,0,0,{"$error":"#DIV/0!"},{"$error":"#DIV/0!"},{"$error":"#DIV/0!"}," ",1396,"Kyle Korver",{"$f":"IF(AQ32<>0,VLOOKUP(AQ32,Info!A:B,2,FALSE),\"\")","v":"CLE"},"korky",10.121951219512194,2.4146341463414633,2.7926829268292681,1.6463414634146341,0.6097560975609756,0.31707317073170732,1.2195121951219512,0,0,0,null,1396,"Kyle Korver","Cleveland Cavaliers","korky",82,830,198,229,135,50,26,100]
[994,"LeBron James","CLE","Buy",null,null,null,null,null,null,null,null,null,null,0,0,0,0,0,0,0,{"$error":"#DIV/0!"},{"$error":"#DIV/0!"},{"$error":"#DIV/0!"}," ",994,"LeBron James",{"$f":"IF(AQ33<>0,VLOOKUP(AQ33,Info!A:B,2,FALSE),\"\")","v":"CLE"},"jamle",24.390243902439025,1.6707317073170731,8.6585365853658534,8.536585365853659,1.2317073170731707,0.58536585365853655,3.0487804878048781,0,0,0,null,994,"LeBron James","Cleveland Cavaliers","jamle",82,2000,137,710,700,101,48,250]
[3476,"Tristan Thompson","CLE","Buy",null,null,null,null,null,null,null,null,null,null,0,0,0,0,0,0,0,{"$error":"#DIV/0!"},{"$error":"#DIV/0!"},{"$error":"#DIV/0!"}," ",3476,"Tristan Thompson",{"$f":"IF(AQ34<>0,VLOOKUP(AQ34,Info!A:B,2,FALSE),\"\")","v":"CLE"},"thotr",8.0731707317073162,6.097560975609756E-2,9.2317073170731714,1.2195121951219512,0.6097560975609756,1.0853658536585367,1.2195121951219512,0,0,0,null,3476,"Tristan Thompson","Cleveland Cavaliers","thotr",82,662,5,757,100,50,89,100]
[1759,"Devin Harris","DAL","Buy",null,null,null,null,null,null,null,null,null,null,0,0,0,0,0,0,0,{"$error":"#DIV/0!"},{"$error":"#DIV/0!"},{"$error":"#DIV/0!"}," ",1759,"Devin Harris",{"$f":"IF(AQ35<>0,VLOOKUP(AQ35,Info!A:B,2,FALSE),\"\")","v":"DAL"},"harde",7.3170731707317076,0.8902439024390244,2.4390243902439024,2.0975609756097562,0.65853658536585369,9.7560975609756101E-2,1.2195121951219512,0,0,0,null,1759,"Devin Harris","Dallas Mavericks","harde",82,600,73,200,172,54,8,100]
[103,"Dirk Nowitzki","DAL","Buy",null,null,null,null,null,null,null,null,null,null,0,0,0,0,0,0,0,{"$error":"#DIV/0!"},{"$error":"#DIV/0!"},{"$error":"#DIV/0!"}," ",103,"Dirk Nowitzki",{"$f":"IF(AQ36<>0,VLOOKUP(AQ36,Info!A:B,2,FALSE),\"\")","v":"DAL"},"nowdi",14.24390243902439,1.4634146341463414,6.5,1.524390243902439,0.6097560975609756,0.70731707317073167,1.2195121951219512,0,0,0,null,103,"Dirk Nowitzki","Dallas Mavericks","nowdi",82,1168,120,533,125,50,58,100]
[3780,"Harrison Barnes","DAL","Buy",null,null,null,null,null,null,null,null,null,null,0,0,0,0,0,0,0,{"$error":"#DIV/0!"},{"$error":"#DIV/0!"},{"$error":"#DIV/0!"}," ",3780,"Harrison Barnes",{"$f":"IF(AQ37<>0,VLOOKUP(AQ37,Info!A:B,2,FALSE),\"\")","v":"DAL"},"barha",19.219512195121951,0.98780487804878048,5.0487804878048781,1.475609756097561,0.85365853658536583,0.18292682926829268,1.3048780487804879,0,0,0,null,3780,"Harrison Barnes","Dallas Mavericks","barha",82,1576,81,414,121,70,15,107]
[3961,"Nerlens Noel","DAL","Buy",null,null,null,null,null,null,null,null,null,null,0,0,0,0,0,0,0,{"$error":"#DIV/0!"},{"$error":"#DIV/0!"},{"$error":"#DIV/0!"}," ",3961,"Nerlens Noel",{"$f":"IF(AQ38<>0,VLOOKUP(AQ38,Info!A:B,2,FALSE),\"\")","v":"DAL"},"noene",8.7195121951219505,6.097560975609756E-2,5.8048780487804876,1.2195121951219512,1.2560975609756098,1,1.2195121951219512,0,0,0,null,3961,"Nerlens Noel","Dallas Mavericks","noene",82,715,5,476,100,103,82,100]
[4134,"Seth Curry","DAL","Buy",null,null,null,null,null,null,null,null,null,null,0,0,0,0,0,0,0,{"$error":"#DIV/0!"},{"$error":"#DIV/0!"},{"$error":"#DIV/0!"}," ",4134,"Seth Curry",{"$f":"IF(AQ39<>0,VLOOKUP(AQ39,Info!A:B,2,FALSE),\"\")","v":"DAL"},"curse",12.829268292682928,1.9512195121951219,2.5487804878048781,2.6829268292682928,1.1341463414634145,8.5365853658536592E-2,1.3170731707317074,0,0,0,null,4134,"Seth Curry","Dallas Mavericks","curse",82,1052,160,209,220,93,7,108]
[2811,"Wesley Matthews","DAL","Buy",null,null,null,null,null,null,null,null,null,null,0,0,0,0,0,0,0,{"$error":"#DIV/0!"},{"$error":"#DIV/0!"},{"$error":"#DIV/0!"}," ",2811,"Wesley Matthews",{"$f":"IF(AQ40<>0,VLOOKUP(AQ40,Info!A:B,2,FALSE),\"\")","v":"DAL"},"matwe",13.512195121951219,2.3780487804878048,3.5975609756097562,2.8780487804878048,1.0121951219512195,0.21951219512195122,1.4024390243902438,0,0,0,null,2811,"Wesley Matthews","Dallas Mavericks","matwe",82,1108,195,295,236,83,18,115]
[2788,"Darrell Arthur","DEN","Buy",null,null,null,null,null,null,null,null,null,null,0,0,0,0,0,0,0,{"$error":"#DIV/0!"},{"$error":"#DIV/0!"},{"$error":"#DIV/0!"}," ",2788,"Darrell Arthur",{"$f":"IF(AQ41<>0,VLOOKUP(AQ41,Info!A:B,2,FALSE),\"\")","v":"DEN"},"artda",7.3170731707317076,1.2926829268292683,2.7073170731707319,1.2195121951219512,0.6097560975609756,0.51219512195121952,1.2195121951219512,0,0,0,null,2788,"Darrell Arthur","Denver Nuggets","artda",82,600,106,222,100,50,42,100]
[3974,"Emmanuel Mudiay","DEN","Buy",null,null,null,null,null,null,null,null,null,null,0,0,0,0,0,0,0,{"$error":"#DIV/0!"},{"$error":"#DIV/0!"},{"$error":"#DIV/0!"}," ",3974,"Emmanuel Mudiay",{"$f":"IF(AQ42<>0,VLOOKUP(AQ42,Info!A:B,2,FALSE),\"\")","v":"DEN"},"mudem",10.963414634146341,1.0121951219512195,3.2682926829268291,3.9634146341463414,0.76829268292682928,0.23170731707317074,2.2195121951219514,0,0,0,null,3974,"Emmanuel Mudiay","Denver Nuggets","mudem",82,899,83,268,325,63,19,182]
[1454,"Jameer Nelson","DEN","Buy",null,null,null,null,null,null,null,null,null,null,0,0,0,0,0,0,0,{"$error":"#DIV/0!"},{"$error":"#DIV/0!"},{"$error":"#DIV/0!"}," ",1454,"Jameer Nelson",{"$f":"IF(AQ43<>0,VLOOKUP(AQ43,Info!A:B,2,FALSE),\"\")","v":"DEN"},"nelja",9.1585365853658534,1.4146341463414633,2.524390243902439,5.1341463414634143,0.70731707317073167,0.10975609756097561,1.7195121951219512,0,0,0,null,1454,"Jameer Nelson","Denver Nuggets","nelja",82,751,116,207,421,58,9,141]
[3191,"Kenneth Faried","DEN","Buy",null,null,null,null,null,null,null,null,null,null,0,0,0,0,0,0,0,{"$error":"#DIV/0!"},{"$error":"#DIV/0!"},{"$error":"#DIV/0!"}," ",3191,"Kenneth Faried",{"$f":"IF(AQ44<>0,VLOOKUP(AQ44,Info!A:B,2,FALSE),\"\")","v":"DEN"},"farke",9.6219512195121943,6.097560975609756E-2,7.5121951219512191,1.2195121951219512,0.70731707317073167,0.65853658536585369,1.2195121951219512,0,0,0,null,3191,"Kenneth Faried","Denver Nuggets","farke",82,789,5,616,100,58,54,100]
[3779,"Mason Plumlee","DEN","Buy",null,null,null,null,null,null,null,null,null,null,0,0,0,0,0,0,0,{"$error":"#DIV/0!"},{"$error":"#DIV/0!"},{"$error":"#DIV/0!"}," ",3779,"Mason Plumlee",{"$f":"IF(AQ45<>0,VLOOKUP(AQ45,Info!A:B,2,FALSE),\"\")","v":"DEN"},"pluma",10.426829268292684,6.097560975609756E-2,7.5121951219512191,3.4024390243902438,0.86585365853658536,1.1219512195121952,1.6463414634146341,0,0,0,null,3779,"Mason Plumlee","Denver Nuggets","pluma",82,855,5,616,279,71,92,135]
[4119,"Nikola Jokic","DEN","Buy",null,null,null,null,null,null,null,null,null,null,0,0,0,0,0,0,0,{"$error":"#DIV/0!"},{"$error":"#DIV/0!"},{"$error":"#DIV/0!"}," ",4119,"Nikola Jokic",{"$f":"IF(AQ46<>0,VLOOKUP(AQ46,Info!A:B,2,FALSE),\"\")","v":"DEN"},"jokni",16.73170731707317,0.62195121951219512,9.8536585365853657,4.9146341463414638,0.85365853658536583,0.74390243902439024,2.3414634146341462,0,0,0,null,4119,"Nikola Jokic","Denver Nuggets","jokni",82,1372,51,808,403,70,61,192]
[2384,"Paul Millsap","DEN","Buy",null,null,null,null,null,null,null,null,null,null,0,0,0,0,0,0,0,{"$error":"#DIV/0!"},{"$error":"#DIV/0!"},{"$error":"#DIV/0!"}," ",2384,"Paul Millsap",{"$f":"IF(AQ47<>0,VLOOKUP(AQ47,Info!A:B,2,FALSE),\"\")","v":"DEN"},"milpa",18.060975609756099,1.0853658536585367,7.7560975609756095,3.6341463414634148,1.3048780487804879,0.87804878048780488,2.3170731707317072,0,0,0,null,2384,"Paul Millsap","Denver Nuggets","milpa",82,1481,89,636,298,107,72,190]
[494,"Richard Jefferson","DEN","Buy",null,null,null,null,null,null,null,null,null,null,0,0,0,0,0,0,0,{"$error":"#DIV/0!"},{"$error":"#DIV/0!"},{"$error":"#DIV/0!"}," ",494,"Richard Jefferson",{"$f":"IF(AQ48<>0,VLOOKUP(AQ48,Info!A:B,2,FALSE),\"\")","v":"DEN"},"jeffr",7.3170731707317076,0.78048780487804881,2.5487804878048781,1.2195121951219512,0.6097560975609756,0.12195121951219512,1.2195121951219512,0,0,0,null,494,"Richard Jefferson","Denver Nuggets","jeffr",82,600,64,209,100,50,10,100]
[3964,"Will Barton","DEN","Buy",null,null,null,null,null,null,null,null,null,null,0,0,0,0,0,0,0,{"$error":"#DIV/0!"},{"$error":"#DIV/0!"},{"$error":"#DIV/0!"}," ",3964,"Will Barton",{"$f":"IF(AQ49<>0,VLOOKUP(AQ49,Info!A:B,2,FALSE),\"\")","v":"DEN"},"barwi",13.670731707317072,1.4512195121951219,4.3536585365853657,3.4390243902439024,0.75609756097560976,0.5,1.6219512195121952,0,0,0,null,3964,"Will Barton","Denver Nuggets","barwi",82,1121,119,357,282,62,41,133]
[2383,"Wilson Chandler","DEN","Buy",null,null,null,null,null,null,null,null,null,null,0,0,0,0,0,0,0,{"$error":"#DIV/0!"},{"$error":"#DIV/0!"},{"$error":"#DIV/0!"}," ",2383,"Wilson Chandler",{"$f":"IF(AQ50<>0,VLOOKUP(AQ50,Info!A:B,2,FALSE),\"\")","v":"DEN"},"chawi",15.731707317073171,1.5487804878048781,6.4634146341463419,2.0121951219512195,0.74390243902439024,0.45121951219512196,1.5975609756097562,0,0,0,null,2383,"Wilson Chandler","Denver Nuggets","chawi",82,1290,127,530,165,61,37,131]
[3465,"Andre Drummond","DET","Buy",null,null,null,null,null,null,null,null,null,null,0,0,0,0,0,0,0,{"$error":"#DIV/0!"},{"$error":"#DIV/0!"},{"$error":"#DIV/0!"}," ",3465,"Andre Drummond",{"$f":"IF(AQ51<>0,VLOOKUP(AQ51,Info!A:B,2,FALSE),\"\")","v":"DET"},"druan",13.439024390243903,6.097560975609756E-2,12.195121951219512,1.2195121951219512,1.5,1.0853658536585367,1.9146341463414633,0,0,0,null,3465,"Andre Drummond","Detroit Pistons","druan",82,1102,5,1000,100,123,89,157]
[3771,"Avery Bradley","DET","Buy",null,null,null,null,null,null,null,null,null,null,0,0,0,0,0,0,0,{"$error":"#DIV/0!"},{"$error":"#DIV/0!"},{"$error":"#DIV/0!"}," ",3771,"Avery Bradley",{"$f":"IF(AQ52<>0,VLOOKUP(AQ52,Info!A:B,2,FALSE),\"\")","v":"DET"},"braav",16.256097560975611,1.9634146341463414,6.0853658536585362,2.1829268292682928,1.2560975609756098,0.1951219512195122,1.6219512195121952,0,0,0,null,3771,"Avery Bradley","Detroit Pistons","braav",82,1333,161,499,179,103,16,133]
[3472,"Reggie Jackson","DET","Buy",null,null,null,null,null,null,null,null,null,null,0,0,0,0,0,0,0,{"$error":"#DIV/0!"},{"$error":"#DIV/0!"},{"$error":"#DIV/0!"}," ",3472,"Reggie Jackson",{"$f":"IF(AQ53<>0,VLOOKUP(AQ53,Info!A:B,2,FALSE),\"\")","v":"DET"},"jacre",14.134146341463415,1.2560975609756098,2.4390243902439024,5.2560975609756095,0.64634146341463417,9.7560975609756101E-2,2.1951219512195124,0,0,0,null,3472,"Reggie Jackson","Detroit Pistons","jacre",82,1159,103,200,431,53,8,180]
[3471,"Tobias Harris","DET","Buy",null,null,null,null,null,null,null,null,null,null,0,0,0,0,0,0,0,{"$error":"#DIV/0!"},{"$error":"#DIV/0!"},{"$error":"#DIV/0!"}," ",3471,"Tobias Harris",{"$f":"IF(AQ54<>0,VLOOKUP(AQ54,Info!A:B,2,FALSE),\"\")","v":"DET"},"harto",16.134146341463413,1.3414634146341464,5.024390243902439,1.7073170731707317,0.73170731707317072,0.46341463414634149,1.2195121951219512,0,0,0,null,3471,"Tobias Harris","Detroit Pistons","harto",82,1323,110,412,140,60,38,100]
[2389,"Anderson Varejao","XXX","Buy",null,null,null,null,null,null,null,null,null,null,0,0,0,0,0,0,0,{"$error":"#DIV/0!"},{"$error":"#DIV/0!"},{"$error":"#DIV/0!"}," ",2389,"Anderson Varejao",{"$f":"IF(AQ55<>0,VLOOKUP(AQ55,Info!A:B,2,FALSE),\"\")","v":"XXX"},"varan",7.3170731707317076,6.097560975609756E-2,2.6585365853658538,1.2195121951219512,0.6097560975609756,0.18292682926829268,1.2195121951219512,0,0,0,null,2389,"Anderson Varejao","FA/RET/DEC/HON","varan",82,600,5,218,100,50,15,100]
[2554,"Anthony Morrow","XXX","Buy",null,null,null,null,null,null,null,null,null,null,0,0,0,0,0,0,0,{"$error":"#DIV/0!"},{"$error":"#DIV/0!"},{"$error":"#DIV/0!"}," ",2554,"Anthony Morrow",{"$f":"IF(AQ56<>0,VLOOKUP(AQ56,Info!A:B,2,FALSE),\"\")","v":"XXX"},"moran",7.3170731707317076,0.84146341463414631,2.4390243902439024,1.2195121951219512,0.6097560975609756,6.097560975609756E-2,1.2195121951219512,0,0,0,null,2554,"Anthony Morrow","FA/RET/DEC/HON","moran",82,600,69,200,100,50,5,100]
[2392,"Beno Udrih","XXX","Buy",null,null,null,null,null,null,null,null,null,null,0,0,0,0,0,0,0,{"$error":"#DIV/0!"},{"$error":"#DIV/0!"},{"$error":"#DIV/0!"}," ",2392,"Beno Udrih",{"$f":"IF(AQ57<>0,VLOOKUP(AQ57,Info!A:B,2,FALSE),\"\")","v":"XXX"},"udrbe",7.3170731707317076,0.28048780487804881,2.4390243902439024,3.3902439024390243,0.6097560975609756,6.097560975609756E-2,1.2195121951219512,0,0,0,null,2392,"Beno Udrih","FA/RET/DEC/HON","udrbe",82,600,23,200,278,50,5,100]
[1673,"Boris Diaw","XXX","Buy",null,null,null,null,null,null,null,null,null,null,0,0,0,0,0,0,0,{"$error":"#DIV/0!"},{"$error":"#DIV/0!"},{"$error":"#DIV/0!"}," ",1673,"Boris Diaw",{"$f":"IF(AQ58<>0,VLOOKUP(AQ58,Info!A:B,2,FALSE),\"\")","v":"XXX"},"diabo",7.3170731707317076,0.26829268292682928,2.4390243902439024,2.3292682926829267,0.6097560975609756,0.12195121951219512,1.2195121951219512,0,0,0,null,1673,"Boris Diaw","FA/RET/DEC/HON","diabo",82,600,22,200,191,50,10,100]
[2417,"Brandon Bass","XXX","Buy",null,null,null,null,null,null,null,null,null,null,0,0,0,0,0,0,0,{"$error":"#DIV/0!"},{"$error":"#DIV/0!"},{"$error":"#DIV/0!"}," ",2417,"Brandon Bass",{"$f":"IF(AQ59<>0,VLOOKUP(AQ59,Info!A:B,2,FALSE),\"\")","v":"XXX"},"basbr",7.3170731707317076,6.097560975609756E-2,2.4634146341463414,1.2195121951219512,0.6097560975609756,0.2073170731707317,1.2195121951219512,0,0,0,null,2417,"Brandon Bass","FA/RET/DEC/HON","basbr",82,600,5,202,100,50,17,100]
[2549,"Brandon Jennings","XXX","Buy",null,null,null,null,null,null,null,null,null,null,0,0,0,0,0,0,0,{"$error":"#DIV/0!"},{"$error":"#DIV/0!"},{"$error":"#DIV/0!"}," ",2549,"Brandon Jennings",{"$f":"IF(AQ60<>0,VLOOKUP(AQ60,Info!A:B,2,FALSE),\"\")","v":"XXX"},"jenbr",7.3170731707317076,0.97560975609756095,2.4390243902439024,4.8536585365853657,0.85365853658536583,6.097560975609756E-2,1.5853658536585367,0,0,0,null,2549,"Brandon Jennings","FA/RET/DEC/HON","jenbr",82,600,80,200,398,70,5,130]
[2807,"Brandon Rush","XXX","Buy",null,null,null,null,null,null,null,null,null,null,0,0,0,0,0,0,0,{"$error":"#DIV/0!"},{"$error":"#DIV/0!"},{"$error":"#DIV/0!"}," ",2807,"Brandon Rush",{"$f":"IF(AQ61<>0,VLOOKUP(AQ61,Info!A:B,2,FALSE),\"\")","v":"XXX"},"rushb",7.3170731707317076,0.93902439024390238,2.4390243902439024,1.2195121951219512,0.6097560975609756,0.46341463414634149,1.2195121951219512,0,0,0,null,2807,"Brandon Rush","FA/RET/DEC/HON","rushb",82,600,77,200,100,50,38,100]
[2544,"Carl Landry","XXX","Buy",null,null,null,null,null,null,null,null,null,null,0,0,0,0,0,0,0,{"$error":"#DIV/0!"},{"$error":"#DIV/0!"},{"$error":"#DIV/0!"}," ",2544,"Carl Landry",{"$f":"IF(AQ62<>0,VLOOKUP(AQ62,Info!A:B,2,FALSE),\"\")","v":"XXX"},"lanca",9.7560975609756095,0.17073170731707318,4.0609756097560972,1.2195121951219512,0.6097560975609756,0.25609756097560976,1.2195121951219512,0,0,0,null,2544,"Carl Landry","FA/RET/DEC/HON","lanca",82,800,14,333,100,50,21,100]
[1055,"Chris Bosh","XXX","Buy",null,null,null,null,null,null,null,null,null,null,0,0,0,0,0,0,0,{"$error":"#DIV/0!"},{"$error":"#DIV/0!"},{"$error":"#DIV/0!"}," ",1055,"Chris Bosh",{"$f":"IF(AQ63<>0,VLOOKUP(AQ63,Info!A:B,2,FALSE),\"\")","v":"XXX"},"bosch",19.060975609756099,1.524390243902439,7.3536585365853657,2.4390243902439024,0.68292682926829273,0.64634146341463417,1.475609756097561,0,0,0,null,1055,"Chris Bosh","FA/RET/DEC/HON","bosch",82,1563,125,603,200,56,53,121]
[1927,"David Lee","XXX","Buy",null,null,null,null,null,null,null,null,null,null,0,0,0,0,0,0,0,{"$error":"#DIV/0!"},{"$error":"#DIV/0!"},{"$error":"#DIV/0!"}," ",1927,"David Lee",{"$f":"IF(AQ64<>0,VLOOKUP(AQ64,Info!A:B,2,FALSE),\"\")","v":"XXX"},"leeda",7.3170731707317076,6.097560975609756E-2,5.5609756097560972,1.5487804878048781,0.6097560975609756,0.51219512195121952,1.2195121951219512,0,0,0,null,1927,"David Lee","FA/RET/DEC/HON","leeda",82,600,5,456,127,50,42,100]
[3783,"Dean Smith","XXX","Buy",null,null,null,null,null,null,null,null,null,null,0,0,0,0,0,0,0,{"$error":"#DIV/0!"},{"$error":"#DIV/0!"},{"$error":"#DIV/0!"}," ",3783,"Dean Smith",{"$f":"IF(AQ65<>0,VLOOKUP(AQ65,Info!A:B,2,FALSE),\"\")","v":"XXX"},"smide",1,1,1,1,1,1,1,0,0,0,null,3783,"Dean Smith","FA/RET/DEC/HON","smide",1,1,1,1,1,1,1,1]
[1694,"Deron Williams","XXX","Buy",null,null,null,null,null,null,null,null,null,null,{"$f":"VLOOKUP($A66,$A:$N,5,FALSE)/VLOOKUP($A66,$Z:$AM,5,FALSE)","v":0},{"$f":"VLOOKUP($A66,$A:$N,6,FALSE)/VLOOKUP($A66,$Z:$AM,6,FALSE)","v":0},{"$f":"VLOOKUP($A66,$A:$N,7,FALSE)/VLOOKUP($A66,$Z:$AM,7,FALSE)","v":0},{"$f":"VLOOKUP($A66,$A:$N,8,FALSE)/VLOOKUP($A66,$Z:$AM,8,FALSE)","v":0},{"$f":"VLOOKUP($A66,$A:$N,9,FALSE)/VLOOKUP($A66,$Z:$AM,9,FALSE)","v":0},{"$f":"VLOOKUP($A66,$A:$N,10,FALSE)/VLOOKUP($A66,$Z:$AM,10,FALSE)","v":0},{"$f":"VLOOKUP($A66,$A:$N,11,FALSE)/VLOOKUP($A66,$Z:$AM,11,FALSE)","v":0},{"$f":"VLOOKUP($A66,$A:$N,12,FALSE)/VLOOKUP($A66,$Z:$AM,12,FALSE)","v":{"$error":"#DIV/0!"}},{"$f":"VLOOKUP($A66,$A:$N,13,FALSE)/VLOOKUP($A66,$Z:$AM,13,FALSE)","v":{"$error":"#DIV/0!"}},{"$f":"VLOOKUP($A66,$A:$N,14,FALSE)/VLOOKUP($A66,$Z:$AM,14,FALSE)","v":{"$error":"#DIV/0!"}}," ",1694,"Deron Williams",{"$f":"IF(AQ66<>0,VLOOKUP(AQ66,Info!A:B,2,FALSE),\"\")","v":"XXX"},"willd",10.951219512195122,1.3292682926829269,2.4390243902439024,5.6097560975609753,0.6097560975609756,0.12195121951219512,2.1463414634146343,0,0,0,null,1694,"Deron Williams","FA/RET/DEC/HON","willd",82,898,109,200,460,50,10,176]
[{"$f":"IF(Z67<>0,Z67,\"\")","v":3015},{"$f":"IF(A67<>0,VLOOKUP(A67,Z:AA,2,FALSE),\"\")","v":"Derrick Williams"},{"$f":"IF(A67<>0,VLOOKUP(A67,Z:AB,3,FALSE))","v":"XXX"},{"$f":"HYPERLINK(\"http://www.jockstocks.com/buysell.php?action=buymax&plid=\"&A67,\"Buy\")","v":"Buy"},null,null,null,null,null,null,null,null,null,null,0,0,0,0,0,0,0,{"$error":"#DIV/0!"},{"$error":"#DIV/0!"},{"$error":"#DIV/0!"}," ",{"$f":"IF(AO67<>0,AO67,\"\")","v":3015},{"$f":"IF(AP67<>0,VLOOKUP(Z67,AO:AP,2,FALSE),\"\")","v":"Derrick Williams"},{"$f":"IF(AQ67<>0,VLOOKUP(AQ67,Info!A:B,2,FALSE),\"\")","v":"XXX"},{"$f":"IF(AO67<>0,VLOOKUP(Z67,AO:AR,4,FALSE),\"\")","v":"wider"},{"$f":"IF($AO67<>0,AT67/$AS67,\"\")","v":7.3170731707317076},{"$f":"IF($AO67<>0,AU67/$AS67,\"\")","v":0.59756097560975607},{"$f":"IF($AO67<>0,AV67/$AS67,\"\")","v":2.5853658536585367},{"$f":"IF($AO67<>0,AW67/$AS67,\"\")","v":1.2195121951219512},{"$f":"IF($AO67<>0,AX67/$AS67,\"\")","v":0.6097560975609756},{"$f":"IF($AO67<>0,AY67/$AS67,\"\")","v":0.15853658536585366},{"$f":"IF($AO67<>0,AZ67/$AS67,\"\")","v":1.2195121951219512},{"$f":"IF($AO67<>0,BA67/$AS67,\"\")","v":0},{"$f":"IF($AO67<>0,BB67/$AS67,\"\")","v":0},{"$f":"IF($AO67<>0,BC67/$AS67,\"\")","v":0},null,3015,"Derrick Williams","FA/RET/DEC/HON","wider",82,600,49,212,100,50,13,100]
[3774,"Donatas Motiejunas","XXX","Buy",null,null,null,null,null,null,null,null,null,null,0,0,0,0,0,0,0,{"$error":"#DIV/0!"},{"$error":"#DIV/0!"},{"$error":"#DIV/0!"}," ",3774,"Donatas Motiejunas",{"$f":"IF(AQ68<>0,VLOOKUP(AQ68,Info!A:B,2,FALSE),\"\")","v":"XXX"},"motdo",7.3170731707317076,0.32926829268292684,3.0609756097560976,1.2195121951219512,0.6097560975609756,0.32926829268292684,1.2195121951219512,0,0,0,null,3774,"Donatas Motiejunas","FA/RET/DEC/HON","motdo",82,600,27,251,100,50,27,100]
[107,"Elton Brand","XXX","Buy",null,null,null,null,null,null,null,null,null,null,0,0,0,0,0,0,0,{"$error":"#DIV/0!"},{"$error":"#DIV/0!"},{"$error":"#DIV/0!"}," ",107,"Elton Brand",{"$f":"IF(AQ69<>0,VLOOKUP(AQ69,Info!A:B,2,FALSE),\"\")","v":"XXX"},"brael",7.3170731707317076,6.097560975609756E-2,3.7073170731707319,1.2195121951219512,0.6097560975609756,0.47560975609756095,1.2195121951219512,0,0,0,null,107,"Elton Brand","FA/RET/DEC/HON","brael",82,600,5,304,100,50,39,100]
[3469,"Gerald Green","XXX","Buy",null,null,null,null,null,null,null,null,null,null,0,0,0,0,0,0,0,{"$error":"#DIV/0!"},{"$error":"#DIV/0!"},{"$error":"#DIV/0!"}," ",3469,"Gerald Green",{"$f":"IF(AQ70<>0,VLOOKUP(AQ70,Info!A:B,2,FALSE),\"\")","v":"XXX"},"grege",7.3170731707317076,0.82926829268292679,2.4390243902439024,1.2195121951219512,0.6097560975609756,0.14634146341463414,1.2195121951219512,0,0,0,null,3469,"Gerald Green","FA/RET/DEC/HON","grege",82,600,68,200,100,50,12,100]
[3468,"Gerald Henderson","XXX","Buy",null,null,null,null,null,null,null,null,null,null,0,0,0,0,0,0,0,{"$error":"#DIV/0!"},{"$error":"#DIV/0!"},{"$error":"#DIV/0!"}," ",3468,"Gerald Henderson",{"$f":"IF(AQ71<>0,VLOOKUP(AQ71,Info!A:B,2,FALSE),\"\")","v":"XXX"},"henge",9.1951219512195124,0.84146341463414631,2.5853658536585367,1.5609756097560976,0.6097560975609756,0.1951219512195122,1.2195121951219512,0,0,0,null,3468,"Gerald Henderson","FA/RET/DEC/HON","henge",82,754,69,212,128,50,16,100]
[3220,"Greivis Vasquez","XXX","Buy",null,null,null,null,null,null,null,null,null,null,0,0,0,0,0,0,0,{"$error":"#DIV/0!"},{"$error":"#DIV/0!"},{"$error":"#DIV/0!"}," ",3220,"Greivis Vasquez",{"$f":"IF(AQ72<>0,VLOOKUP(AQ72,Info!A:B,2,FALSE),\"\")","v":"XXX"},"vasgr",7.3170731707317076,0.74390243902439024,2.4390243902439024,3.9512195121951219,0.6097560975609756,6.097560975609756E-2,1.7439024390243902,0,0,0,null,3220,"Greivis Vasquez","FA/RET/DEC/HON","vasgr",82,600,61,200,324,50,5,143]
[2782,"J.J. Hickson","XXX","Buy",null,null,null,null,null,null,null,null,null,null,0,0,0,0,0,0,0,{"$error":"#DIV/0!"},{"$error":"#DIV/0!"},{"$error":"#DIV/0!"}," ",2782,"J.J. Hickson",{"$f":"IF(AQ73<>0,VLOOKUP(AQ73,Info!A:B,2,FALSE),\"\")","v":"XXX"},"hicjj",7.3170731707317076,6.097560975609756E-2,3.7682926829268291,1.2195121951219512,0.6097560975609756,0.40243902439024393,1.2195121951219512,0,0,0,null,2782,"J.J. Hickson","FA/RET/DEC/HON","hicjj",82,600,5,309,100,50,33,100]
[3473,"Jared Sullinger","XXX","Buy",null,null,null,null,null,null,null,null,null,null,0,0,0,0,0,0,0,{"$error":"#DIV/0!"},{"$error":"#DIV/0!"},{"$error":"#DIV/0!"}," ",3473,"Jared Sullinger",{"$f":"IF(AQ74<>0,VLOOKUP(AQ74,Info!A:B,2,FALSE),\"\")","v":"XXX"},"sulja",10.292682926829269,0.35365853658536583,8.3048780487804876,2.3048780487804876,0.92682926829268297,0.58536585365853655,1.2560975609756098,0,0,0,null,3473,"Jared Sullinger","FA/RET/DEC/HON","sulja",82,844,29,681,189,76,48,103]
[3785,"Jerome Kersey","XXX","Buy",null,null,null,null,null,null,null,null,null,null,0,0,0,0,0,0,0,{"$error":"#DIV/0!"},{"$error":"#DIV/0!"},{"$error":"#DIV/0!"}," ",3785,"Jerome Kersey",{"$f":"IF(AQ75<>0,VLOOKUP(AQ75,Info!A:B,2,FALSE),\"\")","v":"XXX"},"kersj",1,1,1,1,1,1,1,0,0,0,null,3785,"Jerome Kersey","FA/RET/DEC/HON","kersj",1,1,1,1,1,1,1,1]
[3784,"Jerry Tarkanian","XXX","Buy",null,null,null,null,null,null,null,null,null,null,0,0,0,0,0,0,0,{"$error":"#DIV/0!"},{"$error":"#DIV/0!"},{"$error":"#DIV/0!"}," ",3784,"Jerry Tarkanian",{"$f":"IF(AQ76<>0,VLOOKUP(AQ76,Info!A:B,2,FALSE),\"\")","v":"XXX"},"shark",1,1,1,1,1,1,1,0,0,0,null,3784,"Jerry Tarkanian","FA/RET/DEC/HON","shark",1,1,1,1,1,1,1,1]
[3694,"Jordan Hill","XXX","Buy",null,null,null,null,null,null,null,null,null,null,0,0,0,0,0,0,0,{"$error":"#DIV/0!"},{"$error":"#DIV/0!"},{"$error":"#DIV/0!"}," ",3694,"Jordan Hill",{"$f":"IF(AQ77<>0,VLOOKUP(AQ77,Info!A:B,2,FALSE),\"\")","v":"XXX"},"hillj",8.8414634146341466,6.097560975609756E-2,6.1829268292682924,1.2195121951219512,0.6097560975609756,0.51219512195121952,1.2560975609756098,0,0,0,null,3694,"Jordan Hill","FA/RET/DEC/HON","hillj",82,725,5,507,100,50,42,103]
[2127,"Jose Calderon","XXX","Buy",null,null,null,null,null,null,null,null,null,null,0,0,0,0,0,0,0,{"$error":"#DIV/0!"},{"$error":"#DIV/0!"},{"$error":"#DIV/0!"}," ",2127,"Jose Calderon",{"$f":"IF(AQ78<>0,VLOOKUP(AQ78,Info!A:B,2,FALSE),\"\")","v":"XXX"},"caljo",7.3170731707317076,0.48780487804878048,2.4390243902439024,2.1463414634146343,0.6097560975609756,6.097560975609756E-2,1.2195121951219512,0,0,0,null,2127,"Jose Calderon","FA/RET/DEC/HON","caljo",82,600,40,200,176,50,5,100]
[2390,"Kendrick Perkins","XXX","Buy",null,null,null,null,null,null,null,null,null,null,0,0,0,0,0,0,0,{"$error":"#DIV/0!"},{"$error":"#DIV/0!"},{"$error":"#DIV/0!"}," ",2390,"Kendrick Perkins",{"$f":"IF(AQ79<>0,VLOOKUP(AQ79,Info!A:B,2,FALSE),\"\")","v":"XXX"},"perkk",7.3170731707317076,6.097560975609756E-2,3.4634146341463414,1.2195121951219512,0.6097560975609756,0.29268292682926828,1.2195121951219512,0,0,0,null,2390,"Kendrick Perkins","FA/RET/DEC/HON","perkk",82,600,5,284,100,50,24,100]
[1739,"Kevin Martin","XXX","Buy",null,null,null,null,null,null,null,null,null,null,0,0,0,0,0,0,0,{"$error":"#DIV/0!"},{"$error":"#DIV/0!"},{"$error":"#DIV/0!"}," ",1739,"Kevin Martin",{"$f":"IF(AQ80<>0,VLOOKUP(AQ80,Info!A:B,2,FALSE),\"\")","v":"XXX"},"martk",9.3414634146341466,0.8902439024390244,2.4390243902439024,1.2195121951219512,0.6097560975609756,6.097560975609756E-2,1.2195121951219512,0,0,0,null,1739,"Kevin Martin","FA/RET/DEC/HON","martk",82,766,73,200,100,50,5,100]
[1056,"Kirk Hinrich","XXX","Buy",null,null,null,null,null,null,null,null,null,null,0,0,0,0,0,0,0,{"$error":"#DIV/0!"},{"$error":"#DIV/0!"},{"$error":"#DIV/0!"}," ",1056,"Kirk Hinrich",{"$f":"IF(AQ81<>0,VLOOKUP(AQ81,Info!A:B,2,FALSE),\"\")","v":"XXX"},"hinki",7.3170731707317076,0.52439024390243905,2.4390243902439024,1.5853658536585367,0.6097560975609756,6.097560975609756E-2,1.2195121951219512,0,0,0,null,1056,"Kirk Hinrich","FA/RET/DEC/HON","hinki",82,600,43,200,130,50,5,100]
[2822,"Kris Humphries","XXX","Buy",null,null,null,null,null,null,null,null,null,null,0,0,0,0,0,0,0,{"$error":"#DIV/0!"},{"$error":"#DIV/0!"},{"$error":"#DIV/0!"}," ",2822,"Kris Humphries",{"$f":"IF(AQ82<>0,VLOOKUP(AQ82,Info!A:B,2,FALSE),\"\")","v":"XXX"},"humkr",7.3170731707317076,0.34146341463414637,3.6951219512195124,1.2195121951219512,0.6097560975609756,0.37804878048780488,1.2195121951219512,0,0,0,null,2822,"Kris Humphries","FA/RET/DEC/HON","humkr",82,600,28,303,100,50,31,100]
[1883,"Leandro Barbosa","XXX","Buy",null,null,null,null,null,null,null,null,null,null,0,0,0,0,0,0,0,{"$error":"#DIV/0!"},{"$error":"#DIV/0!"},{"$error":"#DIV/0!"}," ",1883,"Leandro Barbosa",{"$f":"IF(AQ83<>0,VLOOKUP(AQ83,Info!A:B,2,FALSE),\"\")","v":"XXX"},"barle",7.3170731707317076,0.52439024390243905,2.4390243902439024,1.2195121951219512,0.6097560975609756,0.12195121951219512,1.2195121951219512,0,0,0,null,1883,"Leandro Barbosa","FA/RET/DEC/HON","barle",82,600,43,200,100,50,10,100]
[2323,"Luis Scola","XXX","Buy",null,null,null,null,null,null,null,null,null,null,0,0,0,0,0,0,0,{"$error":"#DIV/0!"},{"$error":"#DIV/0!"},{"$error":"#DIV/0!"}," ",2323,"Luis Scola",{"$f":"IF(AQ84<>0,VLOOKUP(AQ84,Info!A:B,2,FALSE),\"\")","v":"XXX"},"scoll",7.3170731707317076,0.47560975609756095,3.8658536585365852,1.2195121951219512,0.6097560975609756,0.10975609756097561,1.2195121951219512,0,0,0,null,2323,"Luis Scola","FA/RET/DEC/HON","scoll",82,600,39,317,100,50,9,100]
[3020,"Marcus Thornton","XXX","Buy",null,null,null,null,null,null,null,null,null,null,0,0,0,0,0,0,0,{"$error":"#DIV/0!"},{"$error":"#DIV/0!"},{"$error":"#DIV/0!"}," ",3020,"Marcus Thornton",{"$f":"IF(AQ85<>0,VLOOKUP(AQ85,Info!A:B,2,FALSE),\"\")","v":"XXX"},"thorm",7.3170731707317076,0.85365853658536583,2.4390243902439024,1.2195121951219512,0.6097560975609756,8.5365853658536592E-2,1.2195121951219512,0,0,0,null,3020,"Marcus Thornton","FA/RET/DEC/HON","thorm",82,600,70,200,100,50,7,100]
[2080,"Martell Webster","XXX","Buy",null,null,null,null,null,null,null,null,null,null,0,0,0,0,0,0,0,{"$error":"#DIV/0!"},{"$error":"#DIV/0!"},{"$error":"#DIV/0!"}," ",2080,"Martell Webster",{"$f":"IF(AQ86<>0,VLOOKUP(AQ86,Info!A:B,2,FALSE),\"\")","v":"XXX"},"webma",7.3170731707317076,0.31707317073170732,2.4390243902439024,1.2195121951219512,0.6097560975609756,6.097560975609756E-2,1.2195121951219512,0,0,0,null,2080,"Martell Webster","FA/RET/DEC/HON","webma",82,600,26,200,100,50,5,100]
[1011,"Mike Dunleavy","XXX","Buy",null,null,null,null,null,null,null,null,null,null,0,0,0,0,0,0,0,{"$error":"#DIV/0!"},{"$error":"#DIV/0!"},{"$error":"#DIV/0!"}," ",1011,"Mike Dunleavy",{"$f":"IF(AQ87<>0,VLOOKUP(AQ87,Info!A:B,2,FALSE),\"\")","v":"XXX"},"dunlm",7.3170731707317076,1,2.4390243902439024,1.2195121951219512,0.6097560975609756,0.13414634146341464,1.2195121951219512,0,0,0,null,1011,"Mike Dunleavy","FA/RET/DEC/HON","dunlm",82,600,82,200,100,50,11,100]
[515,"Mike Miller","XXX","Buy",null,null,null,null,null,null,null,null,null,null,0,0,0,0,0,0,0,{"$error":"#DIV/0!"},{"$error":"#DIV/0!"},{"$error":"#DIV/0!"}," ",515,"Mike Miller",{"$f":"IF(AQ88<>0,VLOOKUP(AQ88,Info!A:B,2,FALSE),\"\")","v":"XXX"},"milmi",7.3170731707317076,0.40243902439024393,2.4390243902439024,1.2195121951219512,0.6097560975609756,6.097560975609756E-2,1.2195121951219512,0,0,0,null,515,"Mike Miller","FA/RET/DEC/HON","milmi",82,600,33,200,100,50,5,100]
[1355,"Mo Williams","XXX","Buy",null,null,null,null,null,null,null,null,null,null,0,0,0,0,0,0,0,{"$error":"#DIV/0!"},{"$error":"#DIV/0!"},{"$error":"#DIV/0!"}," ",1355,"Mo Williams",{"$f":"IF(AQ89<>0,VLOOKUP(AQ89,Info!A:B,2,FALSE),\"\")","v":"XXX"},"willm",8.2439024390243905,0.87804878048780488,2.4390243902439024,2.3902439024390243,0.6097560975609756,0.12195121951219512,1.3902439024390243,0,0,0,null,1355,"Mo Williams","FA/RET/DEC/HON","willm",82,676,72,200,196,50,10,114]
[1919,"Monta Ellis","XXX","Buy",null,null,null,null,null,null,null,null,null,null,0,0,0,0,0,0,0,{"$error":"#DIV/0!"},{"$error":"#DIV/0!"},{"$error":"#DIV/0!"}," ",1919,"Monta Ellis",{"$f":"IF(AQ90<>0,VLOOKUP(AQ90,Info!A:B,2,FALSE),\"\")","v":"XXX"},"ellmo",8.5121951219512191,0.58536585365853655,2.7317073170731709,3.2073170731707319,1.0365853658536586,0.36585365853658536,1.8292682926829269,0,0,0,null,1919,"Monta Ellis","FA/RET/DEC/HON","ellmo",82,698,48,224,263,85,30,150]
[3175,"Nikola Pekovic","XXX","Buy",null,null,null,null,null,null,null,null,null,null,0,0,0,0,0,0,0,{"$error":"#DIV/0!"},{"$error":"#DIV/0!"},{"$error":"#DIV/0!"}," ",3175,"Nikola Pekovic",{"$f":"IF(AQ91<>0,VLOOKUP(AQ91,Info!A:B,2,FALSE),\"\")","v":"XXX"},"pekni",12.451219512195122,6.097560975609756E-2,7.5487804878048781,1.2195121951219512,0.6097560975609756,0.3902439024390244,1.3536585365853659,0,0,0,null,3175,"Nikola Pekovic","FA/RET/DEC/HON","pekni",82,1021,5,619,100,50,32,111]
[3016,"Norris Cole","XXX","Buy",null,null,null,null,null,null,null,null,null,null,0,0,0,0,0,0,0,{"$error":"#DIV/0!"},{"$error":"#DIV/0!"},{"$error":"#DIV/0!"}," ",3016,"Norris Cole",{"$f":"IF(AQ92<>0,VLOOKUP(AQ92,Info!A:B,2,FALSE),\"\")","v":"XXX"},"colno",10.597560975609756,0.73170731707317072,3.3536585365853657,3.7073170731707319,0.81707317073170727,0.10975609756097561,1.6707317073170731,0,0,0,null,3016,"Norris Cole","FA/RET/DEC/HON","colno",82,869,60,275,304,67,9,137]
[1931,"Randy Foye","XXX","Buy",null,null,null,null,null,null,null,null,null,null,0,0,0,0,0,0,0,{"$error":"#DIV/0!"},{"$error":"#DIV/0!"},{"$error":"#DIV/0!"}," ",1931,"Randy Foye",{"$f":"IF(AQ93<>0,VLOOKUP(AQ93,Info!A:B,2,FALSE),\"\")","v":"XXX"},"foyra",7.3170731707317076,0.97560975609756095,2.4390243902439024,1.9512195121951219,0.6097560975609756,0.13414634146341464,1.2195121951219512,0,0,0,null,1931,"Randy Foye","FA/RET/DEC/HON","foyra",82,600,80,200,160,50,11,100]
[2379,"Rodney Stuckey","XXX","Buy",null,null,null,null,null,null,null,null,null,null,0,0,0,0,0,0,0,{"$error":"#DIV/0!"},{"$error":"#DIV/0!"},{"$error":"#DIV/0!"}," ",2379,"Rodney Stuckey",{"$f":"IF(AQ94<>0,VLOOKUP(AQ94,Info!A:B,2,FALSE),\"\")","v":"XXX"},"sturo",7.3170731707317076,0.48780487804878048,2.4390243902439024,2.1585365853658538,0.6097560975609756,6.097560975609756E-2,1.3536585365853659,0,0,0,null,2379,"Rodney Stuckey","FA/RET/DEC/HON","sturo",82,600,40,200,177,50,5,111]
[2543,"Roy Hibbert","XXX","Buy",null,null,null,null,null,null,null,null,null,null,0,0,0,0,0,0,0,{"$error":"#DIV/0!"},{"$error":"#DIV/0!"},{"$error":"#DIV/0!"}," ",2543,"Roy Hibbert",{"$f":"IF(AQ95<>0,VLOOKUP(AQ95,Info!A:B,2,FALSE),\"\")","v":"XXX"},"hibro",7.3170731707317076,6.097560975609756E-2,3.1829268292682928,1.2195121951219512,0.6097560975609756,1,1.2195121951219512,0,0,0,null,2543,"Roy Hibbert","FA/RET/DEC/HON","hibro",82,600,5,261,100,50,82,100]
[2321,"Spencer Hawes","XXX","Buy",null,null,null,null,null,null,null,null,null,null,0,0,0,0,0,0,0,{"$error":"#DIV/0!"},{"$error":"#DIV/0!"},{"$error":"#DIV/0!"}," ",2321,"Spencer Hawes",{"$f":"IF(AQ96<>0,VLOOKUP(AQ96,Info!A:B,2,FALSE),\"\")","v":"XXX"},"hawsp",7.3170731707317076,0.46341463414634149,3.5609756097560976,1.5,0.6097560975609756,0.56097560975609762,1.2195121951219512,0,0,0,null,2321,"Spencer Hawes","FA/RET/DEC/HON","hawsp",82,600,38,292,123,50,46,100]
[3478,"Terrence Jones","XXX","Buy",null,null,null,null,null,null,null,null,null,null,0,0,0,0,0,0,0,{"$error":"#DIV/0!"},{"$error":"#DIV/0!"},{"$error":"#DIV/0!"}," ",3478,"Terrence Jones",{"$f":"IF(AQ97<>0,VLOOKUP(AQ97,Info!A:B,2,FALSE),\"\")","v":"XXX"},"jonte",10.817073170731707,0.35365853658536583,5.6707317073170733,1.2195121951219512,0.68292682926829273,1,1.2195121951219512,0,0,0,null,3478,"Terrence Jones","FA/RET/DEC/HON","jonte",82,887,29,465,100,56,82,100]
[3697,"Tony Wroten","XXX","Buy",null,null,null,null,null,null,null,null,null,null,0,0,0,0,0,0,0,{"$error":"#DIV/0!"},{"$error":"#DIV/0!"},{"$error":"#DIV/0!"}," ",3697,"Tony Wroten",{"$f":"IF(AQ98<>0,VLOOKUP(AQ98,Info!A:B,2,FALSE),\"\")","v":"XXX"},"wroto",16.902439024390244,1.2317073170731707,2.8658536585365852,5.1951219512195124,1.5975609756097562,0.26829268292682928,3.0487804878048781,0,0,0,null,3697,"Tony Wroten","FA/RET/DEC/HON","wroto",82,1386,101,235,426,131,22,250]
[3474,"Trey Burke","XXX","Buy",null,null,null,null,null,null,null,null,null,null,0,0,0,0,0,0,0,{"$error":"#DIV/0!"},{"$error":"#DIV/0!"},{"$error":"#DIV/0!"}," ",3474,"Trey Burke",{"$f":"IF(AQ99<>0,VLOOKUP(AQ99,Info!A:B,2,FALSE),\"\")","v":"XXX"},"burtr",7.3170731707317076,0.54878048780487809,2.4390243902439024,1.7682926829268293,0.6097560975609756,8.5365853658536592E-2,1.2195121951219512,0,0,0,null,3474,"Trey Burke","FA/RET/DEC/HON","burtr",82,600,45,200,145,50,7,100]
[2819,"Ty Lawson","XXX","Buy",null,null,null,null,null,null,null,null,null,null,0,0,0,0,0,0,0,{"$error":"#DIV/0!"},{"$error":"#DIV/0!"},{"$error":"#DIV/0!"}," ",2819,"Ty Lawson",{"$f":"IF(AQ100<>0,VLOOKUP(AQ100,Info!A:B,2,FALSE),\"\")","v":"XXX"},"lawst",9.8658536585365848,0.48780487804878048,2.6219512195121952,4.8536585365853657,1.0731707317073171,8.5365853658536592E-2,1.8780487804878048,0,0,0,null,2819,"Ty Lawson","FA/RET/DEC/HON","lawst",82,809,40,215,398,88,7,154]
[2820,"Tyler Hansbrough","XXX","Buy",null,null,null,null,null,null,null,null,null,null,0,0,0,0,0,0,0,{"$error":"#DIV/0!"},{"$error":"#DIV/0!"},{"$error":"#DIV/0!"}," ",2820,"Tyler Hansbrough",{"$f":"IF(AQ101<>0,VLOOKUP(AQ101,Info!A:B,2,FALSE),\"\")","v":"XXX"},"hanty",7.3170731707317076,6.097560975609756E-2,2.4390243902439024,1.2195121951219512,0.6097560975609756,0.15853658536585366,1.2195121951219512,0,0,0,null,2820,"Tyler Hansbrough","FA/RET/DEC/HON","hanty",82,600,5,200,100,50,13,100]
[1360,"Andre Iguodala","GOL","Buy",null,null,null,null,null,null,null,null,null,null,0,0,0,0,0,0,0,{"$error":"#DIV/0!"},{"$error":"#DIV/0!"},{"$error":"#DIV/0!"}," ",1360,"Andre Iguodala",{"$f":"IF(AQ102<>0,VLOOKUP(AQ102,Info!A:B,2,FALSE),\"\")","v":"GOL"},"iguan",7.5487804878048781,0.84146341463414631,4.024390243902439,3.4390243902439024,1.0121951219512195,0.5,1.2195121951219512,0,0,0,null,1360,"Andre Iguodala","Golden State Warriors","iguan",82,619,69,330,282,83,41,100]
[1674,"David West","GOL","Buy",null,null,null,null,null,null,null,null,null,null,0,0,0,0,0,0,0,{"$error":"#DIV/0!"},{"$error":"#DIV/0!"},{"$error":"#DIV/0!"}," ",1674,"David West",{"$f":"IF(AQ103<>0,VLOOKUP(AQ103,Info!A:B,2,FALSE),\"\")","v":"GOL"},"westd",7.3170731707317076,6.097560975609756E-2,2.975609756097561,2.2317073170731709,0.63414634146341464,0.69512195121951215,1.2195121951219512,0,0,0,null,1674,"David West","Golden State Warriors","westd",82,600,5,244,183,52,57,100]
[3690,"Draymond Green","GOL","Buy",null,null,null,null,null,null,null,null,null,null,0,0,0,0,0,0,0,{"$error":"#DIV/0!"},{"$error":"#DIV/0!"},{"$error":"#DIV/0!"}," ",3690,"Draymond Green",{"$f":"IF(AQ104<>0,VLOOKUP(AQ104,Info!A:B,2,FALSE),\"\")","v":"GOL"},"gredr",10.207317073170731,1.0609756097560976,7.8780487804878048,6.9878048780487809,1.8292682926829269,1.3902439024390243,2.4268292682926829,0,0,0,null,3690,"Draymond Green","Golden State Warriors","gredr",82,837,87,646,573,150,114,199]
[2815,"JaVale McGee","GOL","Buy",null,null,null,null,null,null,null,null,null,null,0,0,0,0,0,0,0,{"$error":"#DIV/0!"},{"$error":"#DIV/0!"},{"$error":"#DIV/0!"}," ",2815,"JaVale McGee",{"$f":"IF(AQ105<>0,VLOOKUP(AQ105,Info!A:B,2,FALSE),\"\")","v":"GOL"},"mcgja",7.3170731707317076,6.097560975609756E-2,3.1585365853658538,1.2195121951219512,0.6097560975609756,0.86585365853658536,1.2195121951219512,0,0,0,null,2815,"JaVale McGee","Golden State Warriors","mcgja",82,600,5,259,100,50,71,100]
[2077,"Kevin Durant","GOL","Buy",null,null,null,null,null,null,null,null,null,null,0,0,0,0,0,0,0,{"$error":"#DIV/0!"},{"$error":"#DIV/0!"},{"$error":"#DIV/0!"}," ",2077,"Kevin Durant",{"$f":"IF(AQ106<>0,VLOOKUP(AQ106,Info!A:B,2,FALSE),\"\")","v":"GOL"},"durke",24.390243902439025,1.8902439024390243,8.2682926829268286,4.8536585365853657,1.0853658536585367,1.5975609756097562,2.2317073170731709,0,0,0,null,2077,"Kevin Durant","Golden State Warriors","durke",82,2000,155,678,398,89,131,183]
[3171,"Klay Thompson","GOL","Buy",null,null,null,null,null,null,null,null,null,null,0,0,0,0,0,0,0,{"$error":"#DIV/0!"},{"$error":"#DIV/0!"},{"$error":"#DIV/0!"}," ",3171,"Klay Thompson",{"$f":"IF(AQ107<>0,VLOOKUP(AQ107,Info!A:B,2,FALSE),\"\")","v":"GOL"},"thokl",22.329268292682926,2.4390243902439024,3.7073170731707319,2.0487804878048781,0.82926829268292679,0.5,1.6463414634146341,0,0,0,null,3171,"Klay Thompson","Golden State Warriors","thokl",82,1831,200,304,168,68,41,135]
[2319,"Nick Young","GOL","Buy",null,null,null,null,null,null,null,null,null,null,0,0,0,0,0,0,0,{"$error":"#DIV/0!"},{"$error":"#DIV/0!"},{"$error":"#DIV/0!"}," ",2319,"Nick Young",{"$f":"IF(AQ108<>0,VLOOKUP(AQ108,Info!A:B,2,FALSE),\"\")","v":"GOL"},"youni",13.182926829268293,2.4390243902439024,2.4390243902439024,1.2195121951219512,0.64634146341463417,0.23170731707317074,1.2195121951219512,0,0,0,null,2319,"Nick Young","Golden State Warriors","youni",82,1081,200,200,100,53,19,100]
[2610,"Omri Casspi","GOL","Buy",null,null,null,null,null,null,null,null,null,null,0,0,0,0,0,0,0,{"$error":"#DIV/0!"},{"$error":"#DIV/0!"},{"$error":"#DIV/0!"}," ",2610,"Omri Casspi",{"$f":"IF(AQ109<>0,VLOOKUP(AQ109,Info!A:B,2,FALSE),\"\")","v":"GOL"},"casom",7.3170731707317076,0.41463414634146339,3.1097560975609757,1.2195121951219512,0.67073170731707321,8.5365853658536592E-2,1.2195121951219512,0,0,0,null,2610,"Omri Casspi","Golden State Warriors","casom",82,600,34,255,100,55,7,100]
[2607,"Stephen Curry","GOL","Buy",null,null,null,null,null,null,null,null,null,null,0,0,0,0,0,0,0,{"$error":"#DIV/0!"},{"$error":"#DIV/0!"},{"$error":"#DIV/0!"}," ",2607,"Stephen Curry",{"$f":"IF(AQ110<>0,VLOOKUP(AQ110,Info!A:B,2,FALSE),\"\")","v":"GOL"},"curst",24.390243902439025,2.4390243902439024,4.475609756097561,6.6219512195121952,1.8048780487804879,0.23170731707317074,3.0121951219512195,0,0,0,null,2607,"Stephen Curry","Golden State Warriors","curst",82,2000,200,367,543,148,19,247]
[1659,"Zaza Pachulia","GOL","Buy",null,null,null,null,null,null,null,null,null,null,0,0,0,0,0,0,0,{"$error":"#DIV/0!"},{"$error":"#DIV/0!"},{"$error":"#DIV/0!"}," ",1659,"Zaza Pachulia",{"$f":"IF(AQ111<>0,VLOOKUP(AQ111,Info!A:B,2,FALSE),\"\")","v":"GOL"},"pacza",7.3170731707317076,6.097560975609756E-2,5.8048780487804876,1.8902439024390243,0.82926829268292679,0.47560975609756095,1.2682926829268293,0,0,0,null,1659,"Zaza Pachulia","Golden State Warriors","pacza",82,600,5,476,155,68,39,104]
[1676,"Chris Paul","HOU","Buy",null,null,null,null,null,null,null,null,null,null,0,0,0,0,0,0,0,{"$error":"#DIV/0!"},{"$error":"#DIV/0!"},{"$error":"#DIV/0!"}," ",1676,"Chris Paul",{"$f":"IF(AQ112<>0,VLOOKUP(AQ112,Info!A:B,2,FALSE),\"\")","v":"HOU"},"pauch",18.097560975609756,2.0365853658536586,5.0121951219512191,8.536585365853659,1.8292682926829269,0.13414634146341464,2.4146341463414633,0,0,0,null,1676,"Chris Paul","Houston Rockets","pauch",82,1484,167,411,700,150,11,198]
[2388,"Eric Gordon","HOU","Buy",null,null,null,null,null,null,null,null,null,null,0,0,0,0,0,0,0,{"$error":"#DIV/0!"},{"$error":"#DIV/0!"},{"$error":"#DIV/0!"}," ",2388,"Eric Gordon",{"$f":"IF(AQ113<>0,VLOOKUP(AQ113,Info!A:B,2,FALSE),\"\")","v":"HOU"},"gorer",16.23170731707317,2.4390243902439024,2.7073170731707319,2.4878048780487805,0.63414634146341464,0.51219512195121952,1.6097560975609757,0,0,0,null,2388,"Eric Gordon","Houston Rockets","gorer",82,1331,200,222,204,52,42,132]
[2810,"James Harden","HOU","Buy",null,null,null,null,null,null,null,null,null,null,0,0,0,0,0,0,0,{"$error":"#DIV/0!"},{"$error":"#DIV/0!"},{"$error":"#DIV/0!"}," ",2810,"James Harden",{"$f":"IF(AQ114<>0,VLOOKUP(AQ114,Info!A:B,2,FALSE),\"\")","v":"HOU"},"hajam",24.390243902439025,2.4390243902439024,8.1707317073170724,8.536585365853659,1.5121951219512195,0.45121951219512196,3.0487804878048781,0,0,0,null,2810,"James Harden","Houston Rockets","hajam",82,2000,200,670,700,124,37,250]
[491,"Nene Hilario","HOU","Buy",null,null,null,null,null,null,null,null,null,null,0,0,0,0,0,0,0,{"$error":"#DIV/0!"},{"$error":"#DIV/0!"},{"$error":"#DIV/0!"}," ",491,"Nene Hilario",{"$f":"IF(AQ115<>0,VLOOKUP(AQ115,Info!A:B,2,FALSE),\"\")","v":"HOU"},"hilan",9.0853658536585371,6.097560975609756E-2,4.1585365853658534,1.2195121951219512,0.80487804878048785,0.6097560975609756,1.2195121951219512,0,0,0,null,491,"Nene Hilario","Houston Rockets","hilan",82,745,5,341,100,66,50,100]
[3019,"Ryan Anderson","HOU","Buy",null,null,null,null,null,null,null,null,null,null,0,0,0,0,0,0,0,{"$error":"#DIV/0!"},{"$error":"#DIV/0!"},{"$error":"#DIV/0!"}," ",3019,"Ryan Anderson",{"$f":"IF(AQ116<>0,VLOOKUP(AQ116,Info!A:B,2,FALSE),\"\")","v":"HOU"},"andry",13.634146341463415,2.4390243902439024,4.5365853658536581,1.2195121951219512,0.6097560975609756,0.1951219512195122,1.2195121951219512,0,0,0,null,3019,"Ryan Anderson","Houston Rockets","andry",82,1118,200,372,100,50,16,100]
[2387,"Trevor Ariza","HOU","Buy",null,null,null,null,null,null,null,null,null,null,0,0,0,0,0,0,0,{"$error":"#DIV/0!"},{"$error":"#DIV/0!"},{"$error":"#DIV/0!"}," ",2387,"Trevor Ariza",{"$f":"IF(AQ117<>0,VLOOKUP(AQ117,Info!A:B,2,FALSE),\"\")","v":"HOU"},"aritr",11.682926829268293,2.3780487804878048,5.7073170731707314,2.1829268292682928,1.8292682926829269,0.25609756097560976,1.2195121951219512,0,0,0,null,2387,"Trevor Ariza","Houston Rockets","aritr",82,958,195,468,179,150,21,100]
[1357,"Al Jefferson","IND","Buy",null,null,null,null,null,null,null,null,null,null,0,0,0,0,0,0,0,{"$error":"#DIV/0!"},{"$error":"#DIV/0!"},{"$error":"#DIV/0!"}," ",1357,"Al Jefferson",{"$f":"IF(AQ118<>0,VLOOKUP(AQ118,Info!A:B,2,FALSE),\"\")","v":"IND"},"jefal",8.1097560975609753,6.097560975609756E-2,4.2073170731707314,1.2195121951219512,0.6097560975609756,0.25609756097560976,1.2195121951219512,0,0,0,null,1357,"Al Jefferson","Indiana Pacers","jefal",82,665,5,345,100,50,21,100]
[2783,"Darren Collison","IND","Buy",null,null,null,null,null,null,null,null,null,null,0,0,0,0,0,0,0,{"$error":"#DIV/0!"},{"$error":"#DIV/0!"},{"$error":"#DIV/0!"}," ",2783,"Darren Collison",{"$f":"IF(AQ119<>0,VLOOKUP(AQ119,Info!A:B,2,FALSE),\"\")","v":"IND"},"colda",13.231707317073171,1.0731707317073171,2.4390243902439024,4.5853658536585362,1.0121951219512195,0.13414634146341464,1.6585365853658536,0,0,0,null,2783,"Darren Collison","Indiana Pacers","colda",82,1085,88,200,376,83,11,136]
[3461,"Lance Stephenson","IND","Buy",null,null,null,null,null,null,null,null,null,null,0,0,0,0,0,0,0,{"$error":"#DIV/0!"},{"$error":"#DIV/0!"},{"$error":"#DIV/0!"}," ",3461,"Lance Stephenson",{"$f":"IF(AQ120<>0,VLOOKUP(AQ120,Info!A:B,2,FALSE),\"\")","v":"IND"},"stela",7.3170731707317076,0.32926829268292684,3,3.2804878048780486,0.6097560975609756,0.17073170731707318,1.4390243902439024,0,0,0,null,3461,"Lance Stephenson","Indiana Pacers","stela",82,600,27,246,269,50,14,118]
[4117,"Myles Turner","IND","Buy",null,null,null,null,null,null,null,null,null,null,0,0,0,0,0,0,0,{"$error":"#DIV/0!"},{"$error":"#DIV/0!"},{"$error":"#DIV/0!"}," ",4117,"Myles Turner",{"$f":"IF(AQ121<>0,VLOOKUP(AQ121,Info!A:B,2,FALSE),\"\")","v":"IND"},"turmy",14.475609756097562,0.48780487804878048,7.2439024390243905,1.3292682926829269,0.8902439024390244,2.1463414634146343,1.2926829268292683,0,0,0,null,4117,"Myles Turner","Indiana Pacers","turmy",82,1187,40,594,109,73,176,106]
[2320,"Thaddeus Young","IND","Buy",null,null,null,null,null,null,null,null,null,null,0,0,0,0,0,0,0,{"$error":"#DIV/0!"},{"$error":"#DIV/0!"},{"$error":"#DIV/0!"}," ",2320,"Thaddeus Young",{"$f":"IF(AQ122<>0,VLOOKUP(AQ122,Info!A:B,2,FALSE),\"\")","v":"IND"},"youth",11,0.6097560975609756,6.0731707317073171,1.6219512195121952,1.5121951219512195,0.3902439024390244,1.2926829268292683,0,0,0,null,2320,"Thaddeus Young","Indiana Pacers","youth",82,902,50,498,133,124,32,106]
[3470,"Victor Oladipo","IND","Buy",null,null,null,null,null,null,null,null,null,null,0,0,0,0,0,0,0,{"$error":"#DIV/0!"},{"$error":"#DIV/0!"},{"$error":"#DIV/0!"}," ",3470,"Victor Oladipo",{"$f":"IF(AQ123<>0,VLOOKUP(AQ123,Info!A:B,2,FALSE),\"\")","v":"IND"},"olavi",15.926829268292684,1.8902439024390243,4.3292682926829267,2.6219512195121952,1.1463414634146341,0.32926829268292684,1.7804878048780488,0,0,0,null,3470,"Victor Oladipo","Indiana Pacers","olavi",82,1306,155,355,215,94,27,146]
[2780,"Blake Griffin","LAC","Buy",null,null,null,null,null,null,null,null,null,null,0,0,0,0,0,0,0,{"$error":"#DIV/0!"},{"$error":"#DIV/0!"},{"$error":"#DIV/0!"}," ",2780,"Blake Griffin",{"$f":"IF(AQ124<>0,VLOOKUP(AQ124,Info!A:B,2,FALSE),\"\")","v":"LAC"},"gribl",21.573170731707318,0.62195121951219512,8.1463414634146343,4.9024390243902438,0.95121951219512191,0.41463414634146339,2.2926829268292681,0,0,0,null,2780,"Blake Griffin","Los Angeles Clippers","gribl",82,1769,51,668,402,78,34,188]
[2551,"Danilo Gallinari","LAC","Buy",null,null,null,null,null,null,null,null,null,null,0,0,0,0,0,0,0,{"$error":"#DIV/0!"},{"$error":"#DIV/0!"},{"$error":"#DIV/0!"}," ",2551,"Danilo Gallinari",{"$f":"IF(AQ125<>0,VLOOKUP(AQ125,Info!A:B,2,FALSE),\"\")","v":"LAC"},"galda",18.170731707317074,2,5.1097560975609753,2.1585365853658538,0.68292682926829273,0.24390243902439024,1.2682926829268293,0,0,0,null,2551,"Danilo Gallinari","Los Angeles Clippers","galda",82,1490,164,419,177,56,20,104]
[3460,"DeAndre Jordan","LAC","Buy",null,null,null,null,null,null,null,null,null,null,0,0,0,0,0,0,0,{"$error":"#DIV/0!"},{"$error":"#DIV/0!"},{"$error":"#DIV/0!"}," ",3460,"DeAndre Jordan",{"$f":"IF(AQ126<>0,VLOOKUP(AQ126,Info!A:B,2,FALSE),\"\")","v":"LAC"},"jorde",12.707317073170731,6.097560975609756E-2,12.195121951219512,1.2195121951219512,0.63414634146341464,1.6585365853658536,1.4390243902439024,0,0,0,null,3460,"DeAndre Jordan","Los Angeles Clippers","jorde",82,1042,5,1000,100,52,136,118]
[2414,"Lou Williams","LAC","Buy",null,null,null,null,null,null,null,null,null,null,0,0,0,0,0,0,0,{"$error":"#DIV/0!"},{"$error":"#DIV/0!"},{"$error":"#DIV/0!"}," ",2414,"Lou Williams",{"$f":"IF(AQ127<>0,VLOOKUP(AQ127,Info!A:B,2,FALSE),\"\")","v":"LAC"},"willo",17.524390243902438,2.0121951219512195,2.5121951219512195,2.9634146341463414,0.98780487804878048,0.24390243902439024,1.9634146341463414,0,0,0,null,2414,"Lou Williams","Los Angeles Clippers","willo",82,1437,165,206,243,81,20,161]
[101,"Paul Pierce","LAC","Buy",null,null,null,null,null,null,null,null,null,null,0,0,0,0,0,0,0,{"$error":"#DIV/0!"},{"$error":"#DIV/0!"},{"$error":"#DIV/0!"}," ",101,"Paul Pierce",{"$f":"IF(AQ128<>0,VLOOKUP(AQ128,Info!A:B,2,FALSE),\"\")","v":"LAC"},"piepa",7.3170731707317076,0.59756097560975607,2.4390243902439024,1.2195121951219512,0.6097560975609756,0.1951219512195122,1.2195121951219512,0,0,0,null,101,"Paul Pierce","Los Angeles Clippers","piepa",82,600,49,200,100,50,16,100]
[1656,"Andrew Bogut","LAL","Buy",null,null,null,null,null,null,null,null,null,null,0,0,0,0,0,0,0,{"$error":"#DIV/0!"},{"$error":"#DIV/0!"},{"$error":"#DIV/0!"}," ",1656,"Andrew Bogut",{"$f":"IF(AQ129<>0,VLOOKUP(AQ129,Info!A:B,2,FALSE),\"\")","v":"LAL"},"bogan",7.3170731707317076,6.097560975609756E-2,8,1.8170731707317074,0.6097560975609756,0.92682926829268297,1.5975609756097562,0,0,0,null,1656,"Andrew Bogut","Los Angeles Lakers","bogan",82,600,5,656,149,50,76,131]
[2391,"Brook Lopez","LAL","Buy",null,null,null,null,null,null,null,null,null,null,{"$f":"VLOOKUP($A130,$A:$N,5,FALSE)/VLOOKUP($A130,$Z:$AM,5,FALSE)","v":0},{"$f":"VLOOKUP($A130,$A:$N,6,FALSE)/VLOOKUP($A130,$Z:$AM,6,FALSE)","v":0},{"$f":"VLOOKUP($A130,$A:$N,7,FALSE)/VLOOKUP($A130,$Z:$AM,7,FALSE)","v":0},{"$f":"VLOOKUP($A130,$A:$N,8,FALSE)/VLOOKUP($A130,$Z:$AM,8,FALSE)","v":0},{"$f":"VLOOKUP($A130,$A:$N,9,FALSE)/VLOOKUP($A130,$Z:$AM,9,FALSE)","v":0},{"$f":"VLOOKUP($A130,$A:$N,10,FALSE)/VLOOKUP($A130,$Z:$AM,10,FALSE)","v":0},{"$f":"VLOOKUP($A130,$A:$N,11,FALSE)/VLOOKUP($A130,$Z:$AM,11,FALSE)","v":0},{"$f":"VLOOKUP($A130,$A:$N,12,FALSE)/VLOOKUP($A130,$Z:$AM,12,FALSE)","v":{"$error":"#DIV/0!"}},{"$f":"VLOOKUP($A130,$A:$N,13,FALSE)/VLOOKUP($A130,$Z:$AM,13,FALSE)","v":{"$error":"#DIV/0!"}},{"$f":"VLOOKUP($A130,$A:$N,14,FALSE)/VLOOKUP($A130,$Z:$AM,14,FALSE)","v":{"$error":"#DIV/0!"}}," ",2391,"Brook Lopez",{"$f":"IF(AQ130<>0,VLOOKUP(AQ130,Info!A:B,2,FALSE),\"\")","v":"LAL"},"lopbr",20.524390243902438,1.7926829268292683,5.3902439024390247,2.3414634146341462,0.6097560975609756,1.6707317073170731,2.4512195121951219,0,0,0,null,2391,"Brook Lopez","Los Angeles Lakers","lopbr",82,1683,147,442,192,50,137,201]
[{"$f":"IF(Z131<>0,Z131,\"\")","v":2609},{"$f":"IF(A131<>0,VLOOKUP(A131,Z:AA,2,FALSE),\"\")","v":"Corey Brewer"},{"$f":"IF(A131<>0,VLOOKUP(A131,Z:AB,3,FALSE))","v":"LAL"},{"$f":"HYPERLINK(\"http://www.jockstocks.com/buysell.php?action=buymax&plid=\"&A131,\"Buy\")","v":"Buy"},null,null,null,null,null,null,null,null,null,null,0,0,0,0,0,0,0,{"$error":"#DIV/0!"},{"$error":"#DIV/0!"},{"$error":"#DIV/0!"}," ",{"$f":"IF(AO131<>0,AO131,\"\")","v":2609},{"$f":"IF(AP131<>0,VLOOKUP(Z131,AO:AP,2,FALSE),\"\")","v":"Corey Brewer"},{"$f":"IF(AQ131<>0,VLOOKUP(AQ131,Info!A:B,2,FALSE),\"\")","v":"LAL"},{"$f":"IF(AO131<>0,VLOOKUP(Z131,AO:AR,4,FALSE),\"\")","v":"breco"},{"$f":"IF($AO131<>0,AT131/$AS131,\"\")","v":7.3170731707317076},{"$f":"IF($AO131<>0,AU131/$AS131,\"\")","v":0.32926829268292684},{"$f":"IF($AO131<>0,AV131/$AS131,\"\")","v":2.4390243902439024},{"$f":"IF($AO131<>0,AW131/$AS131,\"\")","v":1.2195121951219512},{"$f":"IF($AO131<>0,AX131/$AS131,\"\")","v":0.74390243902439024},{"$f":"IF($AO131<>0,AY131/$AS131,\"\")","v":0.23170731707317074},{"$f":"IF($AO131<>0,AZ131/$AS131,\"\")","v":1.2195121951219512},{"$f":"IF($AO131<>0,BA131/$AS131,\"\")","v":0},{"$f":"IF($AO131<>0,BB131/$AS131,\"\")","v":0},{"$f":"IF($AO131<>0,BC131/$AS131,\"\")","v":0},null,2609,"Corey Brewer","Los Angeles Lakers","breco",82,600,27,200,100,61,19,100]
[3968,"Jordan Clarkson","LAL","Buy",null,null,null,null,null,null,null,null,null,null,0,0,0,0,0,0,0,{"$error":"#DIV/0!"},{"$error":"#DIV/0!"},{"$error":"#DIV/0!"}," ",3968,"Jordan Clarkson",{"$f":"IF(AQ132<>0,VLOOKUP(AQ132,Info!A:B,2,FALSE),\"\")","v":"LAL"},"clajo",14.670731707317072,1.4268292682926829,2.9878048780487805,2.5975609756097562,1.0853658536585367,0.10975609756097561,2,0,0,0,null,3968,"Jordan Clarkson","Los Angeles Lakers","clajo",82,1203,117,245,213,89,9,164]
[3963,"Julius Randle","LAL","Buy",null,null,null,null,null,null,null,null,null,null,0,0,0,0,0,0,0,{"$error":"#DIV/0!"},{"$error":"#DIV/0!"},{"$error":"#DIV/0!"}," ",3963,"Julius Randle",{"$f":"IF(AQ133<>0,VLOOKUP(AQ133,Info!A:B,2,FALSE),\"\")","v":"LAL"},"ranju",13.170731707317072,0.23170731707317074,8.5853658536585371,3.5731707317073171,0.65853658536585369,0.5,2.3536585365853657,0,0,0,null,3963,"Julius Randle","Los Angeles Lakers","ranju",82,1080,19,704,293,54,41,193]
[3772,"Kentavious Caldwell-Pope","LAL","Buy",null,null,null,null,null,null,null,null,null,null,0,0,0,0,0,0,0,{"$error":"#DIV/0!"},{"$error":"#DIV/0!"},{"$error":"#DIV/0!"}," ",3772,"Kentavious Caldwell-Pope",{"$f":"IF(AQ134<>0,VLOOKUP(AQ134,Info!A:B,2,FALSE),\"\")","v":"LAL"},"calke",13.609756097560975,1.9878048780487805,3.2439024390243905,2.5487804878048781,1.1341463414634145,0.15853658536585366,1.2195121951219512,0,0,0,null,3772,"Kentavious Caldwell-Pope","Los Angeles Lakers","calke",82,1116,163,266,209,93,13,100]
[1359,"Luol Deng","LAL","Buy",null,null,null,null,null,null,null,null,null,null,0,0,0,0,0,0,0,{"$error":"#DIV/0!"},{"$error":"#DIV/0!"},{"$error":"#DIV/0!"}," ",1359,"Luol Deng",{"$f":"IF(AQ135<>0,VLOOKUP(AQ135,Info!A:B,2,FALSE),\"\")","v":"LAL"},"denlu",7.5853658536585362,0.91463414634146345,5.2317073170731705,1.3170731707317074,0.84146341463414631,0.35365853658536583,1.2195121951219512,0,0,0,null,1359,"Luol Deng","Los Angeles Lakers","denlu",82,622,75,429,108,69,29,100]
[3219,"Chandler Parsons","MEM","Buy",null,null,null,null,null,null,null,null,null,null,0,0,0,0,0,0,0,{"$error":"#DIV/0!"},{"$error":"#DIV/0!"},{"$error":"#DIV/0!"}," ",3219,"Chandler Parsons",{"$f":"IF(AQ136<>0,VLOOKUP(AQ136,Info!A:B,2,FALSE),\"\")","v":"MEM"},"parsc",7.3170731707317076,0.73170731707317072,2.475609756097561,1.6219512195121952,0.6097560975609756,0.17073170731707318,1.2195121951219512,0,0,0,null,3219,"Chandler Parsons","Memphis Grizzlies","parsc",82,600,60,203,133,50,14,100]
[2322,"Marc Gasol","MEM","Buy",null,null,null,null,null,null,null,null,null,null,0,0,0,0,0,0,0,{"$error":"#DIV/0!"},{"$error":"#DIV/0!"},{"$error":"#DIV/0!"}," ",2322,"Marc Gasol",{"$f":"IF(AQ137<>0,VLOOKUP(AQ137,Info!A:B,2,FALSE),\"\")","v":"MEM"},"gasma",19.536585365853657,1.4024390243902438,6.2317073170731705,4.5853658536585362,0.90243902439024393,1.3414634146341464,2.2317073170731709,0,0,0,null,2322,"Marc Gasol","Memphis Grizzlies","gasma",82,1602,115,511,376,74,110,183]
[2413,"Mario Chalmers","MEM","Buy",null,null,null,null,null,null,null,null,null,null,0,0,0,0,0,0,0,{"$error":"#DIV/0!"},{"$error":"#DIV/0!"},{"$error":"#DIV/0!"}," ",2413,"Mario Chalmers",{"$f":"IF(AQ138<>0,VLOOKUP(AQ138,Info!A:B,2,FALSE),\"\")","v":"MEM"},"chama",10.292682926829269,0.75609756097560976,2.5731707317073171,3.7682926829268291,1.4390243902439024,0.2073170731707317,1.8170731707317074,0,0,0,null,2413,"Mario Chalmers","Memphis Grizzlies","chama",82,844,62,211,309,118,17,149]
[2545,"Mike Conley","MEM","Buy",null,null,null,null,null,null,null,null,null,null,0,0,0,0,0,0,0,{"$error":"#DIV/0!"},{"$error":"#DIV/0!"},{"$error":"#DIV/0!"}," ",2545,"Mike Conley",{"$f":"IF(AQ139<>0,VLOOKUP(AQ139,Info!A:B,2,FALSE),\"\")","v":"MEM"},"conmi",20.512195121951219,2.4390243902439024,3.5487804878048781,6.2560975609756095,1.3292682926829269,0.28048780487804881,2.2560975609756095,0,0,0,null,2545,"Mike Conley","Memphis Grizzlies","conmi",82,1682,200,291,513,109,23,185]
[2550,"Tyreke Evans","MEM","Buy",null,null,null,null,null,null,null,null,null,null,0,0,0,0,0,0,0,{"$error":"#DIV/0!"},{"$error":"#DIV/0!"},{"$error":"#DIV/0!"}," ",2550,"Tyreke Evans",{"$f":"IF(AQ140<>0,VLOOKUP(AQ140,Info!A:B,2,FALSE),\"\")","v":"MEM"},"evaty",10.280487804878049,1.0487804878048781,3.4024390243902438,3.1219512195121952,0.87804878048780488,0.1951219512195122,1.524390243902439,0,0,0,null,2550,"Tyreke Evans","Memphis Grizzlies","evaty",82,843,86,279,256,72,16,125]
[3178,"Dion Waiters","MIA","Buy",null,null,null,null,null,null,null,null,null,null,0,0,0,0,0,0,0,{"$error":"#DIV/0!"},{"$error":"#DIV/0!"},{"$error":"#DIV/0!"}," ",3178,"Dion Waiters",{"$f":"IF(AQ141<>0,VLOOKUP(AQ141,Info!A:B,2,FALSE),\"\")","v":"MIA"},"waidi",15.853658536585366,1.8536585365853659,3.3292682926829267,4.3658536585365857,0.86585365853658536,0.43902439024390244,2.2439024390243905,0,0,0,null,3178,"Dion Waiters","Miami Heat","waidi",82,1300,152,273,358,71,36,184]
[3167,"Goran Dragic","MIA","Buy",null,null,null,null,null,null,null,null,null,null,0,0,0,0,0,0,0,{"$error":"#DIV/0!"},{"$error":"#DIV/0!"},{"$error":"#DIV/0!"}," ",3167,"Goran Dragic",{"$f":"IF(AQ142<>0,VLOOKUP(AQ142,Info!A:B,2,FALSE),\"\")","v":"MIA"},"drago",20.317073170731707,1.5975609756097562,3.8170731707317072,5.8048780487804876,1.2317073170731707,0.18292682926829268,2.8902439024390243,0,0,0,null,3167,"Goran Dragic","Miami Heat","drago",82,1666,131,313,476,101,15,237]
[3786,"Hassan Whiteside","MIA","Buy",null,null,null,null,null,null,null,null,null,null,0,0,0,0,0,0,0,{"$error":"#DIV/0!"},{"$error":"#DIV/0!"},{"$error":"#DIV/0!"}," ",3786,"Hassan Whiteside",{"$f":"IF(AQ143<>0,VLOOKUP(AQ143,Info!A:B,2,FALSE),\"\")","v":"MIA"},"whiha",17.024390243902438,6.097560975609756E-2,12.195121951219512,1.2195121951219512,0.73170731707317072,2.1219512195121952,2,0,0,0,null,3786,"Hassan Whiteside","Miami Heat","whiha",82,1396,5,1000,100,60,174,164]
[3695,"Kelly Olynyk","MIA","Buy",null,null,null,null,null,null,null,null,null,null,0,0,0,0,0,0,0,{"$error":"#DIV/0!"},{"$error":"#DIV/0!"},{"$error":"#DIV/0!"}," ",3695,"Kelly Olynyk",{"$f":"IF(AQ144<>0,VLOOKUP(AQ144,Info!A:B,2,FALSE),\"\")","v":"MIA"},"olyke",9.036585365853659,0.90243902439024393,4.8048780487804876,1.975609756097561,0.6097560975609756,0.37804878048780488,1.2804878048780488,0,0,0,null,3695,"Kelly Olynyk","Miami Heat","olyke",82,741,74,394,162,50,31,105]
[4136,"Tyler Johnson","MIA","Buy",null,null,null,null,null,null,null,null,null,null,0,0,0,0,0,0,0,{"$error":"#DIV/0!"},{"$error":"#DIV/0!"},{"$error":"#DIV/0!"}," ",4136,"Tyler Johnson",{"$f":"IF(AQ145<>0,VLOOKUP(AQ145,Info!A:B,2,FALSE),\"\")","v":"MIA"},"johnt",13.731707317073171,1.2682926829268293,4.0121951219512191,3.1951219512195124,1.1585365853658536,0.59756097560975607,1.2439024390243902,0,0,0,null,4136,"Tyler Johnson","Miami Heat","johnt",82,1126,104,329,262,95,49,102]
[1361,"Udonis Haslem","MIA","Buy",null,null,null,null,null,null,null,null,null,null,0,0,0,0,0,0,0,{"$error":"#DIV/0!"},{"$error":"#DIV/0!"},{"$error":"#DIV/0!"}," ",1361,"Udonis Haslem",{"$f":"IF(AQ146<>0,VLOOKUP(AQ146,Info!A:B,2,FALSE),\"\")","v":"MIA"},"hasud",7.3170731707317076,6.097560975609756E-2,2.4390243902439024,1.2195121951219512,0.6097560975609756,6.097560975609756E-2,1.2195121951219512,0,0,0,null,1361,"Udonis Haslem","Miami Heat","hasud",82,600,5,200,100,50,5,100]
[3464,"Eric Bledsoe","MIL","Buy",null,null,null,null,null,null,null,null,null,null,0,0,0,0,0,0,0,{"$error":"#DIV/0!"},{"$error":"#DIV/0!"},{"$error":"#DIV/0!"}," ",3464,"Eric Bledsoe",{"$f":"IF(AQ147<>0,VLOOKUP(AQ147,Info!A:B,2,FALSE),\"\")","v":"MIL"},"bleer",21.060975609756099,1.5731707317073171,4.8780487804878048,6.3536585365853657,1.3780487804878048,0.47560975609756095,3.0487804878048781,0,0,0,null,3464,"Eric Bledsoe","Milwaukee Bucks","bleer",82,1727,129,400,521,113,39,250]
[3692,"Giannis Antetokounmpo","MIL","Buy",null,null,null,null,null,null,null,null,null,null,0,0,0,0,0,0,0,{"$error":"#DIV/0!"},{"$error":"#DIV/0!"},{"$error":"#DIV/0!"}," ",3692,"Giannis Antetokounmpo",{"$f":"IF(AQ148<>0,VLOOKUP(AQ148,Info!A:B,2,FALSE),\"\")","v":"MIL"},"antgi",22.902439024390244,0.6097560975609756,8.7560975609756095,5.4268292682926829,1.6463414634146341,1.8658536585365855,2.9146341463414633,0,0,0,null,3692,"Giannis Antetokounmpo","Milwaukee Bucks","antgi",82,1878,50,718,445,135,153,239]
[3693,"Jabari Parker","MIL","Buy",null,null,null,null,null,null,null,null,null,null,0,0,0,0,0,0,0,{"$error":"#DIV/0!"},{"$error":"#DIV/0!"},{"$error":"#DIV/0!"}," ",3693,"Jabari Parker",{"$f":"IF(AQ149<>0,VLOOKUP(AQ149,Info!A:B,2,FALSE),\"\")","v":"MIL"},"parkj",20.097560975609756,1.2804878048780488,6.1585365853658534,2.7804878048780486,0.96341463414634143,0.42682926829268292,1.8292682926829269,0,0,0,null,3693,"Jabari Parker","Milwaukee Bucks","parkj",82,1648,105,505,228,79,35,150]
[487,"Jason Terry","MIL","Buy",null,null,null,null,null,null,null,null,null,null,0,0,0,0,0,0,0,{"$error":"#DIV/0!"},{"$error":"#DIV/0!"},{"$error":"#DIV/0!"}," ",487,"Jason Terry",{"$f":"IF(AQ150<>0,VLOOKUP(AQ150,Info!A:B,2,FALSE),\"\")","v":"MIL"},"terja",7.3170731707317076,0.98780487804878048,2.4390243902439024,1.3414634146341464,0.6097560975609756,0.26829268292682928,1.2195121951219512,0,0,0,null,487,"Jason Terry","Milwaukee Bucks","terja",82,600,81,200,110,50,22,100]
[3477,"John Henson","MIL","Buy",null,null,null,null,null,null,null,null,null,null,0,0,0,0,0,0,0,{"$error":"#DIV/0!"},{"$error":"#DIV/0!"},{"$error":"#DIV/0!"}," ",3477,"John Henson",{"$f":"IF(AQ151<>0,VLOOKUP(AQ151,Info!A:B,2,FALSE),\"\")","v":"MIL"},"henjo",7.3170731707317076,6.097560975609756E-2,5.0731707317073171,1.2195121951219512,0.6097560975609756,1.4146341463414633,1.2195121951219512,0,0,0,null,3477,"John Henson","Milwaukee Bucks","henjo",82,600,5,416,100,50,116,100]
[3776,"Khris Middleton","MIL","Buy",null,null,null,null,null,null,null,null,null,null,0,0,0,0,0,0,0,{"$error":"#DIV/0!"},{"$error":"#DIV/0!"},{"$error":"#DIV/0!"}," ",3776,"Khris Middleton",{"$f":"IF(AQ152<>0,VLOOKUP(AQ152,Info!A:B,2,FALSE),\"\")","v":"MIL"},"midkh",14.695121951219512,1.5487804878048781,4.2073170731707314,3.3780487804878048,1.4146341463414633,0.24390243902439024,2.2439024390243905,0,0,0,null,3776,"Khris Middleton","Milwaukee Bucks","midkh",82,1205,127,345,277,116,20,184]
[2411,"Aaron Brooks","MIN","Buy",null,null,null,null,null,null,null,null,null,null,0,0,0,0,0,0,0,{"$error":"#DIV/0!"},{"$error":"#DIV/0!"},{"$error":"#DIV/0!"}," ",2411,"Aaron Brooks",{"$f":"IF(AQ153<>0,VLOOKUP(AQ153,Info!A:B,2,FALSE),\"\")","v":"MIN"},"brooa",7.3170731707317076,0.74390243902439024,2.4390243902439024,1.9268292682926829,0.6097560975609756,0.13414634146341464,1.2195121951219512,0,0,0,null,2411,"Aaron Brooks","Minnesota Timberwolves","brooa",82,600,61,200,158,50,11,100]
[3689,"Andrew Wiggins","MIN","Buy",null,null,null,null,null,null,null,null,null,null,0,0,0,0,0,0,0,{"$error":"#DIV/0!"},{"$error":"#DIV/0!"},{"$error":"#DIV/0!"}," ",3689,"Andrew Wiggins",{"$f":"IF(AQ154<>0,VLOOKUP(AQ154,Info!A:B,2,FALSE),\"\")","v":"MIN"},"wigan",23.573170731707318,1.2560975609756098,4.0121951219512191,2.3170731707317072,0.98780487804878048,0.34146341463414637,2.2926829268292681,0,0,0,null,3689,"Andrew Wiggins","Minnesota Timberwolves","wigan",82,1933,103,329,190,81,28,188]
[3781,"Gorgui Dieng","MIN","Buy",null,null,null,null,null,null,null,null,null,null,0,0,0,0,0,0,0,{"$error":"#DIV/0!"},{"$error":"#DIV/0!"},{"$error":"#DIV/0!"}," ",3781,"Gorgui Dieng",{"$f":"IF(AQ155<>0,VLOOKUP(AQ155,Info!A:B,2,FALSE),\"\")","v":"MIN"},"diego",9.9512195121951219,0.1951219512195122,7.9024390243902438,1.9390243902439024,1.0731707317073171,1.1585365853658536,1.3292682926829269,0,0,0,null,3781,"Gorgui Dieng","Minnesota Timberwolves","diego",82,816,16,648,159,88,95,109]
[979,"Jamal Crawford","MIN","Buy",null,null,null,null,null,null,null,null,null,null,0,0,0,0,0,0,0,{"$error":"#DIV/0!"},{"$error":"#DIV/0!"},{"$error":"#DIV/0!"}," ",979,"Jamal Crawford",{"$f":"IF(AQ156<>0,VLOOKUP(AQ156,Info!A:B,2,FALSE),\"\")","v":"MIN"},"craja",12.292682926829269,1.4146341463414633,2.4390243902439024,2.5975609756097562,0.74390243902439024,0.15853658536585366,1.6219512195121952,0,0,0,null,979,"Jamal Crawford","Minnesota Timberwolves","craja",82,1008,116,200,213,61,13,133]
[3172,"Jeff Teague","MIN","Buy",null,null,null,null,null,null,null,null,null,null,0,0,0,0,0,0,0,{"$error":"#DIV/0!"},{"$error":"#DIV/0!"},{"$error":"#DIV/0!"}," ",3172,"Jeff Teague",{"$f":"IF(AQ157<>0,VLOOKUP(AQ157,Info!A:B,2,FALSE),\"\")","v":"MIN"},"teaje",15.292682926829269,1.0975609756097562,4.0487804878048781,7.7804878048780486,1.2439024390243902,0.3902439024390244,2.6341463414634148,0,0,0,null,3172,"Jeff Teague","Minnesota Timberwolves","teaje",82,1254,90,332,638,102,32,216]
[3475,"Jimmy Butler","MIN","Buy",null,null,null,null,null,null,null,null,null,null,0,0,0,0,0,0,0,{"$error":"#DIV/0!"},{"$error":"#DIV/0!"},{"$error":"#DIV/0!"}," ",3475,"Jimmy Butler",{"$f":"IF(AQ158<>0,VLOOKUP(AQ158,Info!A:B,2,FALSE),\"\")","v":"MIN"},"butji",23.890243902439025,1.1951219512195121,6.1707317073170733,5.5,1.8292682926829269,0.40243902439024393,2.0731707317073171,0,0,0,null,3475,"Jimmy Butler","Minnesota Timberwolves","butji",82,1959,98,506,451,150,33,170]
[3957,"Karl-Anthony Towns","MIN","Buy",null,null,null,null,null,null,null,null,null,null,0,0,0,0,0,0,0,{"$error":"#DIV/0!"},{"$error":"#DIV/0!"},{"$error":"#DIV/0!"}," ",3957,"Karl-Anthony Towns",{"$f":"IF(AQ159<>0,VLOOKUP(AQ159,Info!A:B,2,FALSE),\"\")","v":"MIN"},"towka",24.390243902439025,1.2317073170731707,12.195121951219512,2.6829268292682928,0.71951219512195119,1.2560975609756098,2.5853658536585367,0,0,0,null,3957,"Karl-Anthony Towns","Minnesota Timberwolves","towka",82,2000,101,1000,220,59,103,212]
[2785,"Taj Gibson","MIN","Buy",null,null,null,null,null,null,null,null,null,null,0,0,0,0,0,0,0,{"$error":"#DIV/0!"},{"$error":"#DIV/0!"},{"$error":"#DIV/0!"}," ",2785,"Taj Gibson",{"$f":"IF(AQ160<>0,VLOOKUP(AQ160,Info!A:B,2,FALSE),\"\")","v":"MIN"},"gibta",10.841463414634147,6.097560975609756E-2,6.2317073170731705,1.2195121951219512,0.6097560975609756,0.8902439024390244,1.3536585365853659,0,0,0,null,2785,"Taj Gibson","Minnesota Timberwolves","gibta",82,889,5,511,100,50,73,111]
[3177,"Anthony Davis","NOP","Buy",null,null,null,null,null,null,null,null,null,null,0,0,0,0,0,0,0,{"$error":"#DIV/0!"},{"$error":"#DIV/0!"},{"$error":"#DIV/0!"}," ",3177,"Anthony Davis",{"$f":"IF(AQ161<>0,VLOOKUP(AQ161,Info!A:B,2,FALSE),\"\")","v":"NOP"},"davan",24.390243902439025,0.53658536585365857,11.975609756097562,2.1097560975609757,1.3048780487804879,2.2439024390243905,2.4146341463414633,0,0,0,null,3177,"Anthony Davis","New Orleans Pelicans","davan",82,2000,44,982,173,107,184,198]
[2787,"DeMarcus Cousins","NOP","Buy",null,null,null,null,null,null,null,null,null,null,0,0,0,0,0,0,0,{"$error":"#DIV/0!"},{"$error":"#DIV/0!"},{"$error":"#DIV/0!"}," ",2787,"DeMarcus Cousins",{"$f":"IF(AQ162<>0,VLOOKUP(AQ162,Info!A:B,2,FALSE),\"\")","v":"NOP"},"coude",24.390243902439025,1.8170731707317074,11.060975609756097,4.6219512195121952,1.3902439024390243,1.3170731707317074,3.0487804878048781,0,0,0,null,2787,"DeMarcus Cousins","New Orleans Pelicans","coude",82,2000,149,907,379,114,108,250]
[1427,"Josh Smith","NOP","Buy",null,null,null,null,null,null,null,null,null,null,0,0,0,0,0,0,0,{"$error":"#DIV/0!"},{"$error":"#DIV/0!"},{"$error":"#DIV/0!"}," ",1427,"Josh Smith",{"$f":"IF(AQ163<>0,VLOOKUP(AQ163,Info!A:B,2,FALSE),\"\")","v":"NOP"},"smitj",7.3170731707317076,0.74390243902439024,3.5121951219512195,1.6219512195121952,0.62195121951219512,0.85365853658536583,1.4024390243902438,0,0,0,null,1427,"Josh Smith","New Orleans Pelicans","smitj",82,600,61,288,133,51,70,115]
[2781,"Jrue Holiday","NOP","Buy",null,null,null,null,null,null,null,null,null,null,0,0,0,0,0,0,0,{"$error":"#DIV/0!"},{"$error":"#DIV/0!"},{"$error":"#DIV/0!"}," ",2781,"Jrue Holiday",{"$f":"IF(AQ164<>0,VLOOKUP(AQ164,Info!A:B,2,FALSE),\"\")","v":"NOP"},"holjr",15.353658536585366,1.4878048780487805,3.8780487804878048,7.3170731707317076,1.4878048780487805,0.62195121951219512,2.8658536585365852,0,0,0,null,2781,"Jrue Holiday","New Orleans Pelicans","holjr",82,1259,122,318,600,122,51,235]
[3182,"Omer Asik","NOP","Buy",null,null,null,null,null,null,null,null,null,null,0,0,0,0,0,0,0,{"$error":"#DIV/0!"},{"$error":"#DIV/0!"},{"$error":"#DIV/0!"}," ",3182,"Omer Asik",{"$f":"IF(AQ165<>0,VLOOKUP(AQ165,Info!A:B,2,FALSE),\"\")","v":"NOP"},"asiom",7.3170731707317076,6.097560975609756E-2,5.2317073170731705,1.2195121951219512,0.6097560975609756,0.3902439024390244,1.2195121951219512,0,0,0,null,3182,"Omer Asik","New Orleans Pelicans","asiom",82,600,5,429,100,50,32,100]
[2124,"Rajon Rondo","NOP","Buy",null,null,null,null,null,null,null,null,null,null,0,0,0,0,0,0,0,{"$error":"#DIV/0!"},{"$error":"#DIV/0!"},{"$error":"#DIV/0!"}," ",2124,"Rajon Rondo",{"$f":"IF(AQ166<>0,VLOOKUP(AQ166,Info!A:B,2,FALSE),\"\")","v":"NOP"},"ronra",7.7926829268292686,0.71951219512195119,5.2073170731707314,6.6463414634146343,1.4512195121951219,0.15853658536585366,2.4390243902439024,0,0,0,null,2124,"Rajon Rondo","New Orleans Pelicans","ronra",82,639,59,427,545,119,13,200]
[3463,"Enes Kanter","NYK","Buy",null,null,null,null,null,null,null,null,null,null,0,0,0,0,0,0,0,{"$error":"#DIV/0!"},{"$error":"#DIV/0!"},{"$error":"#DIV/0!"}," ",3463,"Enes Kanter",{"$f":"IF(AQ167<>0,VLOOKUP(AQ167,Info!A:B,2,FALSE),\"\")","v":"NYK"},"kanen",14.341463414634147,7.3170731707317069E-2,6.7073170731707314,1.2195121951219512,0.6097560975609756,0.53658536585365857,1.7073170731707317,0,0,0,null,3463,"Enes Kanter","New York Knicks","kanen",82,1176,6,550,100,50,44,140]
[1920,"Jarrett Jack","NYK","Buy",null,null,null,null,null,null,null,null,null,null,0,0,0,0,0,0,0,{"$error":"#DIV/0!"},{"$error":"#DIV/0!"},{"$error":"#DIV/0!"}," ",1920,"Jarrett Jack",{"$f":"IF(AQ168<>0,VLOOKUP(AQ168,Info!A:B,2,FALSE),\"\")","v":"NYK"},"jacja",12.841463414634147,0.96341463414634143,4.2195121951219514,7.3780487804878048,1.0609756097560976,0.21951219512195122,2.9390243902439024,0,0,0,null,1920,"Jarrett Jack","New York Knicks","jacja",82,1053,79,346,605,87,18,241]
[2542,"Joakim Noah","NYK","Buy",null,null,null,null,null,null,null,null,null,null,0,0,0,0,0,0,0,{"$error":"#DIV/0!"},{"$error":"#DIV/0!"},{"$error":"#DIV/0!"}," ",2542,"Joakim Noah",{"$f":"IF(AQ169<>0,VLOOKUP(AQ169,Info!A:B,2,FALSE),\"\")","v":"NYK"},"noajo",7.3170731707317076,6.097560975609756E-2,8.6707317073170724,2.2439024390243905,0.64634146341463417,0.80487804878048785,1.2560975609756098,0,0,0,null,2542,"Joakim Noah","New York Knicks","noajo",82,600,5,711,184,53,66,103]
[3958,"Kristaps Porzingis","NYK","Buy",null,null,null,null,null,null,null,null,null,null,0,0,0,0,0,0,0,{"$error":"#DIV/0!"},{"$error":"#DIV/0!"},{"$error":"#DIV/0!"}," ",3958,"Kristaps Porzingis",{"$f":"IF(AQ170<>0,VLOOKUP(AQ170,Info!A:B,2,FALSE),\"\")","v":"NYK"},"porkr",18.121951219512194,1.6951219512195121,7.1463414634146343,1.475609756097561,0.70731707317073167,1.9512195121951219,1.7926829268292683,0,0,0,null,3958,"Kristaps Porzingis","New York Knicks","porkr",82,1486,139,586,121,58,160,147]
[2318,"Michael Beasley","NYK","Buy",null,null,null,null,null,null,null,null,null,null,0,0,0,0,0,0,0,{"$error":"#DIV/0!"},{"$error":"#DIV/0!"},{"$error":"#DIV/0!"}," ",2318,"Michael Beasley",{"$f":"IF(AQ171<>0,VLOOKUP(AQ171,Info!A:B,2,FALSE),\"\")","v":"NYK"},"beami",9.4268292682926838,0.31707317073170732,3.4878048780487805,1.2195121951219512,0.6097560975609756,0.51219512195121952,1.2195121951219512,0,0,0,null,2318,"Michael Beasley","New York Knicks","beami",82,773,26,286,100,50,42,100]
[2804,"Ramon Sessions","NYK","Buy",null,null,null,null,null,null,null,null,null,null,0,0,0,0,0,0,0,{"$error":"#DIV/0!"},{"$error":"#DIV/0!"},{"$error":"#DIV/0!"}," ",2804,"Ramon Sessions",{"$f":"IF(AQ172<>0,VLOOKUP(AQ172,Info!A:B,2,FALSE),\"\")","v":"NYK"},"sesra",7.3170731707317076,0.41463414634146339,2.4390243902439024,2.5853658536585367,0.6097560975609756,6.097560975609756E-2,1.2195121951219512,0,0,0,null,2804,"Ramon Sessions","New York Knicks","sesra",82,600,34,200,212,50,5,100]
[3775,"Tim Hardaway Jr","NYK","Buy",null,null,null,null,null,null,null,null,null,null,0,0,0,0,0,0,0,{"$error":"#DIV/0!"},{"$error":"#DIV/0!"},{"$error":"#DIV/0!"}," ",3775,"Tim Hardaway Jr",{"$f":"IF(AQ173<>0,VLOOKUP(AQ173,Info!A:B,2,FALSE),\"\")","v":"NYK"},"harti",14.463414634146341,1.8902439024390243,2.8414634146341462,2.3170731707317072,0.69512195121951215,0.2073170731707317,1.3536585365853659,0,0,0,null,3775,"Tim Hardaway Jr","New York Knicks","harti",82,1186,155,233,190,57,17,111]
[993,"Carmelo Anthony","OKC","Buy",null,null,null,null,null,null,null,null,null,null,0,0,0,0,0,0,0,{"$error":"#DIV/0!"},{"$error":"#DIV/0!"},{"$error":"#DIV/0!"}," ",993,"Carmelo Anthony",{"$f":"IF(AQ174<>0,VLOOKUP(AQ174,Info!A:B,2,FALSE),\"\")","v":"OKC"},"antca",22.414634146341463,2.0365853658536586,5.9024390243902438,2.8658536585365852,0.85365853658536583,0.40243902439024393,2.0487804878048781,0,0,0,null,993,"Carmelo Anthony","Oklahoma City Thunder","antca",82,1838,167,484,235,70,33,168]
[1929,"Nick Collison","OKC","Buy",null,null,null,null,null,null,null,null,null,null,0,0,0,0,0,0,0,{"$error":"#DIV/0!"},{"$error":"#DIV/0!"},{"$error":"#DIV/0!"}," ",1929,"Nick Collison",{"$f":"IF(AQ175<>0,VLOOKUP(AQ175,Info!A:B,2,FALSE),\"\")","v":"OKC"},"colni",7.3170731707317076,6.097560975609756E-2,2.4390243902439024,1.2195121951219512,0.6097560975609756,9.7560975609756101E-2,1.2195121951219512,0,0,0,null,1929,"Nick Collison","Oklahoma City Thunder","colni",82,600,5,200,100,50,8,100]
[3168,"Paul George","OKC","Buy",null,null,null,null,null,null,null,null,null,null,0,0,0,0,0,0,0,{"$error":"#DIV/0!"},{"$error":"#DIV/0!"},{"$error":"#DIV/0!"}," ",3168,"Paul George",{"$f":"IF(AQ176<>0,VLOOKUP(AQ176,Info!A:B,2,FALSE),\"\")","v":"OKC"},"geopa",23.670731707317074,2.4390243902439024,6.5975609756097562,3.3414634146341462,1.5975609756097562,0.34146341463414637,2.8902439024390243,0,0,0,null,3168,"Paul George","Oklahoma City Thunder","geopa",82,1941,200,541,274,131,28,237]
[1928,"Raymond Felton","OKC","Buy",null,null,null,null,null,null,null,null,null,null,0,0,0,0,0,0,0,{"$error":"#DIV/0!"},{"$error":"#DIV/0!"},{"$error":"#DIV/0!"}," ",1928,"Raymond Felton",{"$f":"IF(AQ177<>0,VLOOKUP(AQ177,Info!A:B,2,FALSE),\"\")","v":"OKC"},"felra",7.3170731707317076,0.57317073170731703,2.7195121951219514,2.4024390243902438,0.82926829268292679,0.28048780487804881,1.2195121951219512,0,0,0,null,1928,"Raymond Felton","Oklahoma City Thunder","felra",82,600,47,223,197,68,23,100]
[2381,"Russell Westbrook","OKC","Buy",null,null,null,null,null,null,null,null,null,null,0,0,0,0,0,0,0,{"$error":"#DIV/0!"},{"$error":"#DIV/0!"},{"$error":"#DIV/0!"}," ",2381,"Russell Westbrook",{"$f":"IF(AQ178<>0,VLOOKUP(AQ178,Info!A:B,2,FALSE),\"\")","v":"OKC"},"wesru",24.390243902439025,2.4390243902439024,10.719512195121951,8.536585365853659,1.6707317073170731,0.37804878048780488,3.0487804878048781,0,0,0,null,2381,"Russell Westbrook","Oklahoma City Thunder","wesru",82,2000,200,879,700,137,31,250]
[4118,"Steven Adams","OKC","Buy",null,null,null,null,null,null,null,null,null,null,0,0,0,0,0,0,0,{"$error":"#DIV/0!"},{"$error":"#DIV/0!"},{"$error":"#DIV/0!"}," ",4118,"Steven Adams",{"$f":"IF(AQ179<>0,VLOOKUP(AQ179,Info!A:B,2,FALSE),\"\")","v":"OKC"},"adast",11.231707317073171,6.097560975609756E-2,7.6097560975609753,1.2195121951219512,1.0853658536585367,0.98780487804878048,1.8414634146341464,0,0,0,null,4118,"Steven Adams","Oklahoma City Thunder","adast",82,921,5,624,100,89,81,151]
[2805,"Arron Afflalo","ORL","Buy",null,null,null,null,null,null,null,null,null,null,0,0,0,0,0,0,0,{"$error":"#DIV/0!"},{"$error":"#DIV/0!"},{"$error":"#DIV/0!"}," ",2805,"Arron Afflalo",{"$f":"IF(AQ180<>0,VLOOKUP(AQ180,Info!A:B,2,FALSE),\"\")","v":"ORL"},"affar",8.4390243902439028,1.0121951219512195,2.4390243902439024,1.2804878048780488,0.6097560975609756,0.10975609756097561,1.2195121951219512,0,0,0,null,2805,"Arron Afflalo","Orlando Magic","affar",82,692,83,200,105,50,9,100]
[2803,"D.J. Augustin","ORL","Buy",null,null,null,null,null,null,null,null,null,null,0,0,0,0,0,0,0,{"$error":"#DIV/0!"},{"$error":"#DIV/0!"},{"$error":"#DIV/0!"}," ",2803,"D.J. Augustin",{"$f":"IF(AQ181<>0,VLOOKUP(AQ181,Info!A:B,2,FALSE),\"\")","v":"ORL"},"augdj",7.9024390243902438,1.2195121951219512,2.4390243902439024,2.6951219512195124,0.6097560975609756,6.097560975609756E-2,1.2195121951219512,0,0,0,null,2803,"D.J. Augustin","Orlando Magic","augdj",82,648,100,200,221,50,5,100]
[3965,"Elfrid Payton","ORL","Buy",null,null,null,null,null,null,null,null,null,null,0,0,0,0,0,0,0,{"$error":"#DIV/0!"},{"$error":"#DIV/0!"},{"$error":"#DIV/0!"}," ",3965,"Elfrid Payton",{"$f":"IF(AQ182<>0,VLOOKUP(AQ182,Info!A:B,2,FALSE),\"\")","v":"ORL"},"payel",12.75609756097561,0.48780487804878048,4.7560975609756095,6.4512195121951219,1.0487804878048781,0.48780487804878048,2.1829268292682928,0,0,0,null,3965,"Elfrid Payton","Orlando Magic","payel",82,1046,40,390,529,86,40,179]
[3691,"Evan Fournier","ORL","Buy",null,null,null,null,null,null,null,null,null,null,0,0,0,0,0,0,0,{"$error":"#DIV/0!"},{"$error":"#DIV/0!"},{"$error":"#DIV/0!"}," ",3691,"Evan Fournier",{"$f":"IF(AQ183<>0,VLOOKUP(AQ183,Info!A:B,2,FALSE),\"\")","v":"ORL"},"fouev",16.914634146341463,1.8536585365853659,3.024390243902439,2.9146341463414633,0.97560975609756095,6.097560975609756E-2,2.0487804878048781,0,0,0,null,3691,"Evan Fournier","Orlando Magic","fouev",82,1387,152,248,239,80,5,168]
[2547,"Marreese Speights","ORL","Buy",null,null,null,null,null,null,null,null,null,null,0,0,0,0,0,0,0,{"$error":"#DIV/0!"},{"$error":"#DIV/0!"},{"$error":"#DIV/0!"}," ",2547,"Marreese Speights",{"$f":"IF(AQ184<>0,VLOOKUP(AQ184,Info!A:B,2,FALSE),\"\")","v":"ORL"},"spema",8.6707317073170724,1.2560975609756098,4.5609756097560972,1.2195121951219512,0.6097560975609756,0.5,1.2195121951219512,0,0,0,null,2547,"Marreese Speights","Orlando Magic","spema",82,711,103,374,100,50,41,100]
[3188,"Nikola Vucevic","ORL","Buy",null,null,null,null,null,null,null,null,null,null,0,0,0,0,0,0,0,{"$error":"#DIV/0!"},{"$error":"#DIV/0!"},{"$error":"#DIV/0!"}," ",3188,"Nikola Vucevic",{"$f":"IF(AQ185<>0,VLOOKUP(AQ185,Info!A:B,2,FALSE),\"\")","v":"ORL"},"vucni",14.609756097560975,0.3048780487804878,10.378048780487806,2.7926829268292681,1.024390243902439,1,1.5731707317073171,0,0,0,null,3188,"Nikola Vucevic","Orlando Magic","vucni",82,1198,25,851,229,84,82,129]
[4137,"Dario Saric","PHI","Buy",null,null,null,null,null,null,null,null,null,null,0,0,0,0,0,0,0,{"$error":"#DIV/0!"},{"$error":"#DIV/0!"},{"$error":"#DIV/0!"}," ",4137,"Dario Saric",{"$f":"IF(AQ186<>0,VLOOKUP(AQ186,Info!A:B,2,FALSE),\"\")","v":"PHI"},"sarda",12.841463414634147,1.3048780487804879,6.2926829268292686,2.2439024390243905,0.71951219512195119,0.36585365853658536,2.2560975609756095,0,0,0,null,4137,"Dario Saric","Philadelphia 76ers","sarda",82,1053,107,516,184,59,30,185]
[3021,"J.J. Redick","PHI","Buy",null,null,null,null,null,null,null,null,null,null,0,0,0,0,0,0,0,{"$error":"#DIV/0!"},{"$error":"#DIV/0!"},{"$error":"#DIV/0!"}," ",3021,"J.J. Redick",{"$f":"IF(AQ187<>0,VLOOKUP(AQ187,Info!A:B,2,FALSE),\"\")","v":"PHI"},"redjj",15.036585365853659,2.4390243902439024,2.4390243902439024,1.4146341463414633,0.71951219512195119,0.17073170731707318,1.2560975609756098,0,0,0,null,3021,"J.J. Redick","Philadelphia 76ers","redjj",82,1233,200,200,116,59,14,103]
[4121,"Joel Embiid","PHI","Buy",null,null,null,null,null,null,null,null,null,null,0,0,0,0,0,0,0,{"$error":"#DIV/0!"},{"$error":"#DIV/0!"},{"$error":"#DIV/0!"}," ",4121,"Joel Embiid",{"$f":"IF(AQ188<>0,VLOOKUP(AQ188,Info!A:B,2,FALSE),\"\")","v":"PHI"},"embjo",20.23170731707317,1.1585365853658536,7.8048780487804876,2.1341463414634148,0.86585365853658536,2.4512195121951219,3.0487804878048781,0,0,0,null,4121,"Joel Embiid","Philadelphia 76ers","embjo",82,1659,95,640,175,71,201,250]
[3778,"Robert Covington","PHI","Buy",null,null,null,null,null,null,null,null,null,null,0,0,0,0,0,0,0,{"$error":"#DIV/0!"},{"$error":"#DIV/0!"},{"$error":"#DIV/0!"}," ",3778,"Robert Covington",{"$f":"IF(AQ189<>0,VLOOKUP(AQ189,Info!A:B,2,FALSE),\"\")","v":"PHI"},"covro",12.890243902439025,2.0487804878048781,6.475609756097561,1.5365853658536586,1.8292682926829269,1.024390243902439,1.9390243902439024,0,0,0,null,3778,"Robert Covington","Philadelphia 76ers","covro",82,1057,168,531,126,150,84,159]
[4135,"Trevor Booker","PHI","Buy",null,null,null,null,null,null,null,null,null,null,0,0,0,0,0,0,0,{"$error":"#DIV/0!"},{"$error":"#DIV/0!"},{"$error":"#DIV/0!"}," ",4135,"Trevor Booker",{"$f":"IF(AQ190<>0,VLOOKUP(AQ190,Info!A:B,2,FALSE),\"\")","v":"PHI"},"boote",9.9878048780487809,0.35365853658536583,8.0243902439024382,1.9390243902439024,1.0731707317073171,0.3902439024390244,1.7926829268292683,0,0,0,null,4135,"Trevor Booker","Philadelphia 76ers","boote",82,819,29,658,159,88,32,147]
[3174,"Brandon Knight","PHO","Buy",null,null,null,null,null,null,null,null,null,null,0,0,0,0,0,0,0,{"$error":"#DIV/0!"},{"$error":"#DIV/0!"},{"$error":"#DIV/0!"}," ",3174,"Brandon Knight",{"$f":"IF(AQ191<>0,VLOOKUP(AQ191,Info!A:B,2,FALSE),\"\")","v":"PHO"},"knibr",11.024390243902438,0.82926829268292679,2.4390243902439024,2.3902439024390243,0.6097560975609756,9.7560975609756101E-2,1.6341463414634145,0,0,0,null,3174,"Brandon Knight","Phoenix Suns","knibr",82,904,68,200,196,50,8,134]
[4133,"Devin Booker","PHO","Buy",null,null,null,null,null,null,null,null,null,null,0,0,0,0,0,0,0,{"$error":"#DIV/0!"},{"$error":"#DIV/0!"},{"$error":"#DIV/0!"}," ",4133,"Devin Booker",{"$f":"IF(AQ192<>0,VLOOKUP(AQ192,Info!A:B,2,FALSE),\"\")","v":"PHO"},"bookd",22.134146341463413,1.8902439024390243,3.1951219512195124,3.4390243902439024,0.92682926829268297,0.26829268292682928,3.0487804878048781,0,0,0,null,4133,"Devin Booker","Phoenix Suns","bookd",82,1815,155,262,282,76,22,250]
[3037,"Greg Monroe","PHO","Buy",null,null,null,null,null,null,null,null,null,null,0,0,0,0,0,0,0,{"$error":"#DIV/0!"},{"$error":"#DIV/0!"},{"$error":"#DIV/0!"}," ",3037,"Greg Monroe",{"$f":"IF(AQ193<>0,VLOOKUP(AQ193,Info!A:B,2,FALSE),\"\")","v":"PHO"},"mongr",11.74390243902439,6.097560975609756E-2,6.5609756097560972,2.2926829268292681,1.1097560975609757,0.45121951219512196,1.7439024390243902,0,0,0,null,3037,"Greg Monroe","Phoenix Suns","mongr",82,963,5,538,188,91,37,143]
[501,"Tyson Chandler","PHO","Buy",null,null,null,null,null,null,null,null,null,null,{"$f":"VLOOKUP($A194,$A:$N,5,FALSE)/VLOOKUP($A194,$Z:$AM,5,FALSE)","v":0},{"$f":"VLOOKUP($A194,$A:$N,6,FALSE)/VLOOKUP($A194,$Z:$AM,6,FALSE)","v":0},{"$f":"VLOOKUP($A194,$A:$N,7,FALSE)/VLOOKUP($A194,$Z:$AM,7,FALSE)","v":0},{"$f":"VLOOKUP($A194,$A:$N,8,FALSE)/VLOOKUP($A194,$Z:$AM,8,FALSE)","v":0},{"$f":"VLOOKUP($A194,$A:$N,9,FALSE)/VLOOKUP($A194,$Z:$AM,9,FALSE)","v":0},{"$f":"VLOOKUP($A194,$A:$N,10,FALSE)/VLOOKUP($A194,$Z:$AM,10,FALSE)","v":0},{"$f":"VLOOKUP($A194,$A:$N,11,FALSE)/VLOOKUP($A194,$Z:$AM,11,FALSE)","v":0},{"$f":"VLOOKUP($A194,$A:$N,12,FALSE)/VLOOKUP($A194,$Z:$AM,12,FALSE)","v":{"$error":"#DIV/0!"}},{"$f":"VLOOKUP($A194,$A:$N,13,FALSE)/VLOOKUP($A194,$Z:$AM,13,FALSE)","v":{"$error":"#DIV/0!"}},{"$f":"VLOOKUP($A194,$A:$N,14,FALSE)/VLOOKUP($A194,$Z:$AM,14,FALSE)","v":{"$error":"#DIV/0!"}}," ",501,"Tyson Chandler",{"$f":"IF(AQ194<>0,VLOOKUP(AQ194,Info!A:B,2,FALSE),\"\")","v":"PHO"},"chant",8.4512195121951219,6.097560975609756E-2,11.451219512195122,1.2195121951219512,0.71951219512195119,0.53658536585365857,1.4268292682926829,0,0,0,null,501,"Tyson Chandler","Phoenix Suns","chant",82,693,5,939,100,59,44,117]
[{"$f":"IF(Z195<>0,Z195,\"\")","v":3971},{"$f":"IF(A195<>0,VLOOKUP(A195,Z:AA,2,FALSE),\"\")","v":"Al-Farouq Aminu"},{"$f":"IF(A195<>0,VLOOKUP(A195,Z:AB,3,FALSE))","v":"POR"},{"$f":"HYPERLINK(\"http://www.jockstocks.com/buysell.php?action=buymax&plid=\"&A195,\"Buy\")","v":"Buy"},null,null,null,null,null,null,null,null,null,null,0,0,0,0,0,0,0,{"$error":"#DIV/0!"},{"$error":"#DIV/0!"},{"$error":"#DIV/0!"}," ",{"$f":"IF(AO195<>0,AO195,\"\")","v":3971},{"$f":"IF(AP195<>0,VLOOKUP(Z195,AO:AP,2,FALSE),\"\")","v":"Al-Farouq Aminu"},{"$f":"IF(AQ195<>0,VLOOKUP(AQ195,Info!A:B,2,FALSE),\"\")","v":"POR"},{"$f":"IF(AO195<>0,VLOOKUP(Z195,AO:AR,4,FALSE),\"\")","v":"amial"},{"$f":"IF($AO195<>0,AT195/$AS195,\"\")","v":8.5975609756097562},{"$f":"IF($AO195<>0,AU195/$AS195,\"\")","v":1.1463414634146341},{"$f":"IF($AO195<>0,AV195/$AS195,\"\")","v":7.3780487804878048},{"$f":"IF($AO195<>0,AW195/$AS195,\"\")","v":1.6341463414634145},{"$f":"IF($AO195<>0,AX195/$AS195,\"\")","v":1},{"$f":"IF($AO195<>0,AY195/$AS195,\"\")","v":0.73170731707317072},{"$f":"IF($AO195<>0,AZ195/$AS195,\"\")","v":1.5487804878048781},{"$f":"IF($AO195<>0,BA195/$AS195,\"\")","v":0},{"$f":"IF($AO195<>0,BB195/$AS195,\"\")","v":0},{"$f":"IF($AO195<>0,BC195/$AS195,\"\")","v":0},null,3971,"Al-Farouq Aminu","Portland Trail Blazers","amial",82,705,94,605,134,82,60,127]
[3959,"C.J. McCollum","POR","Buy",null,null,null,null,null,null,null,null,null,null,0,0,0,0,0,0,0,{"$error":"#DIV/0!"},{"$error":"#DIV/0!"},{"$error":"#DIV/0!"}," ",3959,"C.J. McCollum",{"$f":"IF(AQ196<>0,VLOOKUP(AQ196,Info!A:B,2,FALSE),\"\")","v":"POR"},"mcccj",22.804878048780488,2.3048780487804876,3.6829268292682928,3.5487804878048781,0.90243902439024393,0.56097560975609762,2.1585365853658538,0,0,0,null,3959,"C.J. McCollum","Portland Trail Blazers","mcccj",82,1870,189,302,291,74,46,177]
[3176,"Damian Lillard","POR","Buy",null,null,null,null,null,null,null,null,null,null,0,0,0,0,0,0,0,{"$error":"#DIV/0!"},{"$error":"#DIV/0!"},{"$error":"#DIV/0!"}," ",3176,"Damian Lillard",{"$f":"IF(AQ197<>0,VLOOKUP(AQ197,Info!A:B,2,FALSE),\"\")","v":"POR"},"lilda",24.390243902439025,2.4390243902439024,4.8414634146341466,5.8536585365853657,0.95121951219512191,0.25609756097560976,2.5853658536585367,0,0,0,null,3176,"Damian Lillard","Portland Trail Blazers","lilda",82,2000,200,397,480,78,21,212]
[3192,"Evan Turner","POR","Buy",null,null,null,null,null,null,null,null,null,null,0,0,0,0,0,0,0,{"$error":"#DIV/0!"},{"$error":"#DIV/0!"},{"$error":"#DIV/0!"}," ",3192,"Evan Turner",{"$f":"IF(AQ198<>0,VLOOKUP(AQ198,Info!A:B,2,FALSE),\"\")","v":"POR"},"turev",9.0975609756097562,0.48780487804878048,3.7926829268292681,3.1219512195121952,0.82926829268292679,0.37804878048780488,1.5,0,0,0,null,3192,"Evan Turner","Portland Trail Blazers","turev",82,746,40,311,256,68,31,123]
[4132,"Jusuf Nurkic","POR","Buy",null,null,null,null,null,null,null,null,null,null,0,0,0,0,0,0,0,{"$error":"#DIV/0!"},{"$error":"#DIV/0!"},{"$error":"#DIV/0!"}," ",4132,"Jusuf Nurkic",{"$f":"IF(AQ199<>0,VLOOKUP(AQ199,Info!A:B,2,FALSE),\"\")","v":"POR"},"nurju",10.182926829268293,6.097560975609756E-2,7.1829268292682924,1.8780487804878048,0.75609756097560976,1.1585365853658536,2.1829268292682928,0,0,0,null,4132,"Jusuf Nurkic","Portland Trail Blazers","nurju",82,835,5,589,154,62,95,179]
[4120,"Maurice Harkless","POR","Buy",null,null,null,null,null,null,null,null,null,null,0,0,0,0,0,0,0,{"$error":"#DIV/0!"},{"$error":"#DIV/0!"},{"$error":"#DIV/0!"}," ",4120,"Maurice Harkless",{"$f":"IF(AQ200<>0,VLOOKUP(AQ200,Info!A:B,2,FALSE),\"\")","v":"POR"},"harkm",10.109756097560975,0.86585365853658536,4.4390243902439028,1.2195121951219512,1.0975609756097562,0.87804878048780488,1.2195121951219512,0,0,0,null,4120,"Maurice Harkless","Portland Trail Blazers","harkm",82,829,71,364,100,90,72,100]
[2812,"George Hill","SAC","Buy",null,null,null,null,null,null,null,null,null,null,0,0,0,0,0,0,0,{"$error":"#DIV/0!"},{"$error":"#DIV/0!"},{"$error":"#DIV/0!"}," ",2812,"George Hill",{"$f":"IF(AQ201<>0,VLOOKUP(AQ201,Info!A:B,2,FALSE),\"\")","v":"SAC"},"hilge",16.914634146341463,1.9146341463414633,3.4024390243902438,4.1463414634146343,1,0.21951219512195122,1.7317073170731707,0,0,0,null,2812,"George Hill","Sacramento Kings","hilge",82,1387,157,279,340,82,18,142]
[452,"Vince Carter","SAC","Buy",null,null,null,null,null,null,null,null,null,null,0,0,0,0,0,0,0,{"$error":"#DIV/0!"},{"$error":"#DIV/0!"},{"$error":"#DIV/0!"}," ",452,"Vince Carter",{"$f":"IF(AQ202<>0,VLOOKUP(AQ202,Info!A:B,2,FALSE),\"\")","v":"SAC"},"carvi",8.0243902439024382,1.5365853658536586,3.0975609756097562,1.8170731707317074,0.81707317073170727,0.48780487804878048,1.2195121951219512,0,0,0,null,452,"Vince Carter","Sacramento Kings","carvi",82,658,126,254,149,67,40,100]
[975,"Zach Randolph","SAC","Buy",null,null,null,null,null,null,null,null,null,null,0,0,0,0,0,0,0,{"$error":"#DIV/0!"},{"$error":"#DIV/0!"},{"$error":"#DIV/0!"}," ",975,"Zach Randolph",{"$f":"IF(AQ203<>0,VLOOKUP(AQ203,Info!A:B,2,FALSE),\"\")","v":"SAC"},"ranza",14.085365853658537,0.29268292682926828,8.1951219512195124,1.6707317073170731,0.6097560975609756,0.14634146341463414,1.3658536585365855,0,0,0,null,975,"Zach Randolph","Sacramento Kings","ranza",82,1155,24,672,137,50,12,112]
[3773,"Danny Green","SAN","Buy",null,null,null,null,null,null,null,null,null,null,0,0,0,0,0,0,0,{"$error":"#DIV/0!"},{"$error":"#DIV/0!"},{"$error":"#DIV/0!"}," ",3773,"Danny Green",{"$f":"IF(AQ204<>0,VLOOKUP(AQ204,Info!A:B,2,FALSE),\"\")","v":"SAN"},"greda",7.3170731707317076,1.7317073170731707,3.2560975609756095,1.8292682926829269,1.0609756097560976,0.84146341463414631,1.2195121951219512,0,0,0,null,3773,"Danny Green","San Antonio Spurs","greda",82,600,142,267,150,87,69,100]
[3181,"Kawhi Leonard","SAN","Buy",null,null,null,null,null,null,null,null,null,null,0,0,0,0,0,0,0,{"$error":"#DIV/0!"},{"$error":"#DIV/0!"},{"$error":"#DIV/0!"}," ",3181,"Kawhi Leonard",{"$f":"IF(AQ205<>0,VLOOKUP(AQ205,Info!A:B,2,FALSE),\"\")","v":"SAN"},"leoka",24.390243902439025,1.9878048780487805,5.7804878048780486,3.5,1.7560975609756098,0.73170731707317072,2.0731707317073171,0,0,0,null,3181,"Kawhi Leonard","San Antonio Spurs","leoka",82,2000,163,474,287,144,60,170]
[2079,"LaMarcus Aldridge","SAN","Buy",null,null,null,null,null,null,null,null,null,null,0,0,0,0,0,0,0,{"$error":"#DIV/0!"},{"$error":"#DIV/0!"},{"$error":"#DIV/0!"}," ",2079,"LaMarcus Aldridge",{"$f":"IF(AQ206<>0,VLOOKUP(AQ206,Info!A:B,2,FALSE),\"\")","v":"SAN"},"aldla",17.26829268292683,0.31707317073170732,7.3292682926829267,1.9268292682926829,0.63414634146341464,1.2073170731707317,1.3658536585365855,0,0,0,null,2079,"LaMarcus Aldridge","San Antonio Spurs","aldla",82,1416,26,601,158,52,99,112]
[995,"Manu Ginobili","SAN","Buy",null,null,null,null,null,null,null,null,null,null,0,0,0,0,0,0,0,{"$error":"#DIV/0!"},{"$error":"#DIV/0!"},{"$error":"#DIV/0!"}," ",995,"Manu Ginobili",{"$f":"IF(AQ207<>0,VLOOKUP(AQ207,Info!A:B,2,FALSE),\"\")","v":"SAN"},"ginma",7.4878048780487809,1.2926829268292683,2.4390243902439024,2.6463414634146343,1.1707317073170731,0.21951219512195122,1.3902439024390243,0,0,0,null,995,"Manu Ginobili","San Antonio Spurs","ginma",82,614,106,200,217,96,18,114]
[480,"Pau Gasol","SAN","Buy",null,null,null,null,null,null,null,null,null,null,0,0,0,0,0,0,0,{"$error":"#DIV/0!"},{"$error":"#DIV/0!"},{"$error":"#DIV/0!"}," ",480,"Pau Gasol",{"$f":"IF(AQ208<>0,VLOOKUP(AQ208,Info!A:B,2,FALSE),\"\")","v":"SAN"},"gaspa",12.378048780487806,0.87804878048780488,7.8292682926829267,2.3536585365853657,0.6097560975609756,1.1097560975609757,1.2682926829268293,0,0,0,null,480,"Pau Gasol","San Antonio Spurs","gaspa",82,1015,72,642,193,50,91,104]
[2088,"Rudy Gay","SAN","Buy",null,null,null,null,null,null,null,null,null,null,0,0,0,0,0,0,0,{"$error":"#DIV/0!"},{"$error":"#DIV/0!"},{"$error":"#DIV/0!"}," ",2088,"Rudy Gay",{"$f":"IF(AQ209<>0,VLOOKUP(AQ209,Info!A:B,2,FALSE),\"\")","v":"SAN"},"gayru",18.73170731707317,1.4024390243902438,6.3048780487804876,2.7317073170731709,1.5,0.86585365853658536,2.4634146341463414,0,0,0,null,2088,"Rudy Gay","San Antonio Spurs","gayru",82,1536,115,517,224,123,71,202]
[482,"Tony Parker","SAN","Buy",null,null,null,null,null,null,null,null,null,null,0,0,0,0,0,0,0,{"$error":"#DIV/0!"},{"$error":"#DIV/0!"},{"$error":"#DIV/0!"}," ",482,"Tony Parker",{"$f":"IF(AQ210<>0,VLOOKUP(AQ210,Info!A:B,2,FALSE),\"\")","v":"SAN"},"parto",10.121951219512194,0.36585365853658536,2.4390243902439024,4.524390243902439,0.6097560975609756,6.097560975609756E-2,1.4146341463414633,0,0,0,null,482,"Tony Parker","San Antonio Spurs","parto",82,830,30,200,371,50,5,116]
[2814,"C.J. Miles","TOR","Buy",null,null,null,null,null,null,null,null,null,null,0,0,0,0,0,0,0,{"$error":"#DIV/0!"},{"$error":"#DIV/0!"},{"$error":"#DIV/0!"}," ",2814,"C.J. Miles",{"$f":"IF(AQ211<>0,VLOOKUP(AQ211,Info!A:B,2,FALSE),\"\")","v":"TOR"},"milcj",10.719512195121951,2.2195121951219514,3,1.2195121951219512,0.6097560975609756,0.34146341463414637,1.2195121951219512,0,0,0,null,2814,"C.J. Miles","Toronto Raptors","milcj",82,879,182,246,100,50,28,100]
[2813,"DeMar DeRozan","TOR","Buy",null,null,null,null,null,null,null,null,null,null,0,0,0,0,0,0,0,{"$error":"#DIV/0!"},{"$error":"#DIV/0!"},{"$error":"#DIV/0!"}," ",2813,"DeMar DeRozan",{"$f":"IF(AQ212<>0,VLOOKUP(AQ212,Info!A:B,2,FALSE),\"\")","v":"TOR"},"derde",24.390243902439025,0.45121951219512196,5.2317073170731705,3.9146341463414633,1,0.17073170731707318,2.4512195121951219,0,0,0,null,2813,"DeMar DeRozan","Toronto Raptors","derde",82,2000,37,429,321,82,14,201]
[3479,"Jonas Valanciunas","TOR","Buy",null,null,null,null,null,null,null,null,null,null,0,0,0,0,0,0,0,{"$error":"#DIV/0!"},{"$error":"#DIV/0!"},{"$error":"#DIV/0!"}," ",3479,"Jonas Valanciunas",{"$f":"IF(AQ213<>0,VLOOKUP(AQ213,Info!A:B,2,FALSE),\"\")","v":"TOR"},"valjo",11.817073170731707,6.097560975609756E-2,9.5,1.2195121951219512,0.6097560975609756,0.68292682926829273,1.4634146341463414,0,0,0,null,3479,"Jonas Valanciunas","Toronto Raptors","valjo",82,969,5,779,100,50,56,120]
[2806,"Kyle Lowry","TOR","Buy",null,null,null,null,null,null,null,null,null,null,0,0,0,0,0,0,0,{"$error":"#DIV/0!"},{"$error":"#DIV/0!"},{"$error":"#DIV/0!"}," ",2806,"Kyle Lowry",{"$f":"IF(AQ214<>0,VLOOKUP(AQ214,Info!A:B,2,FALSE),\"\")","v":"TOR"},"lowky",22.402439024390244,2.4390243902439024,4.8170731707317076,6.9512195121951219,1.4634146341463414,0.32926829268292684,2.8658536585365852,0,0,0,null,2806,"Kyle Lowry","Toronto Raptors","lowky",82,1837,200,395,570,120,27,235]
[2823,"Serge Ibaka","TOR","Buy",null,null,null,null,null,null,null,null,null,null,0,0,0,0,0,0,0,{"$error":"#DIV/0!"},{"$error":"#DIV/0!"},{"$error":"#DIV/0!"}," ",2823,"Serge Ibaka",{"$f":"IF(AQ215<>0,VLOOKUP(AQ215,Info!A:B,2,FALSE),\"\")","v":"TOR"},"ibase",14.853658536585366,1.5731707317073171,6.7926829268292686,1.2195121951219512,0.6097560975609756,1.5731707317073171,1.3292682926829269,0,0,0,null,2823,"Serge Ibaka","Toronto Raptors","ibase",82,1218,129,557,100,50,129,109]
[3466,"Derrick Favors","UTA","Buy",null,null,null,null,null,null,null,null,null,null,0,0,0,0,0,0,0,{"$error":"#DIV/0!"},{"$error":"#DIV/0!"},{"$error":"#DIV/0!"}," ",3466,"Derrick Favors",{"$f":"IF(AQ216<>0,VLOOKUP(AQ216,Info!A:B,2,FALSE),\"\")","v":"UTA"},"favde",9.5243902439024382,6.097560975609756E-2,6.0975609756097562,1.2195121951219512,0.87804878048780488,0.80487804878048785,1.2195121951219512,0,0,0,null,3466,"Derrick Favors","Utah Jazz","favde",82,781,5,500,100,72,66,100]
[1024,"Joe Johnson","UTA","Buy",null,null,null,null,null,null,null,null,null,null,0,0,0,0,0,0,0,{"$error":"#DIV/0!"},{"$error":"#DIV/0!"},{"$error":"#DIV/0!"}," ",1024,"Joe Johnson",{"$f":"IF(AQ217<>0,VLOOKUP(AQ217,Info!A:B,2,FALSE),\"\")","v":"UTA"},"johjo",9.1707317073170724,1.3536585365853659,3.0975609756097562,1.8414634146341464,0.6097560975609756,0.23170731707317074,1.2195121951219512,0,0,0,null,1024,"Joe Johnson","Utah Jazz","johjo",82,752,111,254,151,50,19,100]
[3014,"Ricky Rubio","UTA","Buy",null,null,null,null,null,null,null,null,null,null,0,0,0,0,0,0,0,{"$error":"#DIV/0!"},{"$error":"#DIV/0!"},{"$error":"#DIV/0!"}," ",3014,"Ricky Rubio",{"$f":"IF(AQ218<>0,VLOOKUP(AQ218,Info!A:B,2,FALSE),\"\")","v":"UTA"},"rubri",11.146341463414634,0.80487804878048785,4.0975609756097562,8.536585365853659,1.6951219512195121,0.13414634146341464,2.6097560975609757,0,0,0,null,3014,"Ricky Rubio","Utah Jazz","rubri",82,914,66,336,700,139,11,214]
[3977,"Rodney Hood","UTA","Buy",null,null,null,null,null,null,null,null,null,null,0,0,0,0,0,0,0,{"$error":"#DIV/0!"},{"$error":"#DIV/0!"},{"$error":"#DIV/0!"}," ",3977,"Rodney Hood",{"$f":"IF(AQ219<>0,VLOOKUP(AQ219,Info!A:B,2,FALSE),\"\")","v":"UTA"},"hooro",12.682926829268293,1.9268292682926829,3.4268292682926829,1.6219512195121952,0.64634146341463417,0.18292682926829268,1.2195121951219512,0,0,0,null,3977,"Rodney Hood","Utah Jazz","hooro",82,1040,158,281,133,53,15,100]
[3960,"Rudy Gobert","UTA","Buy",null,null,null,null,null,null,null,null,null,null,0,0,0,0,0,0,0,{"$error":"#DIV/0!"},{"$error":"#DIV/0!"},{"$error":"#DIV/0!"}," ",3960,"Rudy Gobert",{"$f":"IF(AQ220<>0,VLOOKUP(AQ220,Info!A:B,2,FALSE),\"\")","v":"UTA"},"gobru",14.036585365853659,6.097560975609756E-2,12.195121951219512,1.2195121951219512,0.62195121951219512,2.6463414634146343,1.8292682926829269,0,0,0,null,3960,"Rudy Gobert","Utah Jazz","gobru",82,1151,5,1000,100,51,217,150]
[3179,"Bradley Beal","WAS","Buy",null,null,null,null,null,null,null,null,null,null,0,0,0,0,0,0,0,{"$error":"#DIV/0!"},{"$error":"#DIV/0!"},{"$error":"#DIV/0!"}," ",3179,"Bradley Beal",{"$f":"IF(AQ221<>0,VLOOKUP(AQ221,Info!A:B,2,FALSE),\"\")","v":"WAS"},"bealb",23.109756097560975,2.4390243902439024,3.0731707317073171,3.4512195121951219,1.1219512195121952,0.26829268292682928,2.024390243902439,0,0,0,null,3179,"Bradley Beal","Washington Wizards","bealb",82,1895,200,252,283,92,22,166]
[2779,"John Wall","WAS","Buy",null,null,null,null,null,null,null,null,null,null,0,0,0,0,0,0,0,{"$error":"#DIV/0!"},{"$error":"#DIV/0!"},{"$error":"#DIV/0!"}," ",2779,"John Wall",{"$f":"IF(AQ222<>0,VLOOKUP(AQ222,Info!A:B,2,FALSE),\"\")","v":"WAS"},"waljo",23.146341463414632,1.1463414634146341,4.2439024390243905,8.536585365853659,1.8292682926829269,0.64634146341463417,3.0487804878048781,0,0,0,null,2779,"John Wall","Washington Wizards","waljo",82,1898,94,348,700,150,53,250]
[3038,"Marcin Gortat","WAS","Buy",null,null,null,null,null,null,null,null,null,null,0,0,0,0,0,0,0,{"$error":"#DIV/0!"},{"$error":"#DIV/0!"},{"$error":"#DIV/0!"}," ",3038,"Marcin Gortat",{"$f":"IF(AQ223<>0,VLOOKUP(AQ223,Info!A:B,2,FALSE),\"\")","v":"WAS"},"gorma",10.768292682926829,6.097560975609756E-2,10.292682926829269,1.5,0.6097560975609756,0.80487804878048785,1.4390243902439024,0,0,0,null,3038,"Marcin Gortat","Washington Wizards","gorma",82,883,5,844,123,50,66,118]
[3696,"Markieff Morris","WAS","Buy",null,null,null,null,null,null,null,null,null,null,0,0,0,0,0,0,0,{"$error":"#DIV/0!"},{"$error":"#DIV/0!"},{"$error":"#DIV/0!"}," ",3696,"Markieff Morris",{"$f":"IF(AQ224<>0,VLOOKUP(AQ224,Info!A:B,2,FALSE),\"\")","v":"WAS"},"morma",13.987804878048781,0.93902439024390238,6.475609756097561,1.6707317073170731,1.0731707317073171,0.57317073170731703,1.7073170731707317,0,0,0,null,3696,"Markieff Morris","Washington Wizards","morma",82,1147,77,531,137,88,47,140]
[3967,"Otto Porter","WAS","Buy",null,null,null,null,null,null,null,null,null,null,0,0,0,0,0,0,0,{"$error":"#DIV/0!"},{"$error":"#DIV/0!"},{"$error":"#DIV/0!"}," ",3967,"Otto Porter",{"$f":"IF(AQ225<>0,VLOOKUP(AQ225,Info!A:B,2,FALSE),\"\")","v":"WAS"},"porot",13.439024390243903,1.8536585365853659,6.4268292682926829,1.5121951219512195,1.4512195121951219,0.51219512195121952,1.2195121951219512,0,0,0,null,3967,"Otto Porter","Washington Wizards","porot",82,1102,152,527,124,119,42,100]
["","","","Buy",null,null,null,null,null,null,null,null,null,null,{"$error":"#VALUE!"},{"$error":"#VALUE!"},{"$error":"#VALUE!"},{"$error":"#VALUE!"},{"$error":"#VALUE!"},{"$error":"#VALUE!"},{"$error":"#VALUE!"},{"$error":"#VALUE!"},{"$error":"#VALUE!"},{"$error":"#VALUE!"}," ","","",{"$f":"IF(AQ226<>0,VLOOKUP(AQ226,Info!A:B,2,FALSE),\"\")","v":""},"","","","","","","","","","",""]
["","","","Buy",null,null,null,null,null,null,null,null,null,null,{"$error":"#VALUE!"},{"$error":"#VALUE!"},{"$error":"#VALUE!"},{"$error":"#VALUE!"},{"$error":"#VALUE!"},{"$error":"#VALUE!"},{"$error":"#VALUE!"},{"$error":"#VALUE!"},{"$error":"#VALUE!"},{"$error":"#VALUE!"}," ","","",{"$f":"IF(AQ227<>0,VLOOKUP(AQ227,Info!A:B,2,FALSE),\"\")","v":""},"","","","","","","","","","",""]
["","","","Buy",null,null,null,null,null,null,null,null,null,null,{"$error":"#VALUE!"},{"$error":"#VALUE!"},{"$error":"#VALUE!"},{"$error":"#VALUE!"},{"$error":"#VALUE!"},{"$error":"#VALUE!"},{"$error":"#VALUE!"},{"$error":"#VALUE!"},{"$error":"#VALUE!"},{"$error":"#VALUE!"}," ","","",{"$f":"IF(AQ228<>0,VLOOKUP(AQ228,Info!A:B,2,FALSE),\"\")","v":""},"","","","","","","","","","",""]
["","","","Buy",null,null,null,null,null,null,null,null,null,null,{"$error":"#VALUE!"},{"$error":"#VALUE!"},{"$error":"#VALUE!"},{"$error":"#VALUE!"},{"$error":"#VALUE!"},{"$error":"#VALUE!"},{"$error":"#VALUE!"},{"$error":"#VALUE!"},{"$error":"#VALUE!"},{"$error":"#VALUE!"}," ","","",{"$f":"IF(AQ229<>0,VLOOKUP(AQ229,Info!A:B,2,FALSE),\"\")","v":""},"","","","","","","","","","",""]
["","","","Buy",null,null,null,null,null,null,null,null,null,null,{"$error":"#VALUE!"},{"$error":"#VALUE!"},{"$error":"#VALUE!"},{"$error":"#VALUE!"},{"$error":"#VALUE!"},{"$error":"#VALUE!"},{"$error":"#VALUE!"},{"$error":"#VALUE!"},{"$error":"#VALUE!"},{"$error":"#VALUE!"}," ","","",{"$f":"IF(AQ230<>0,VLOOKUP(AQ230,Info!A:B,2,FALSE),\"\")","v":""},"","","","","","","","","","",""]
["","","","Buy",null,null,null,null,null,null,null,null,null,null,{"$error":"#VALUE!"},{"$error":"#VALUE!"},{"$error":"#VALUE!"},{"$error":"#VALUE!"},{"$error":"#VALUE!"},{"$error":"#VALUE!"},{"$error":"#VALUE!"},{"$error":"#VALUE!"},{"$error":"#VALUE!"},{"$error":"#VALUE!"}," ","","",{"$f":"IF(AQ231<>0,VLOOKUP(AQ231,Info!A:B,2,FALSE),\"\")","v":""},"","","","","","","","","","",""]
["","","","Buy",null,null,null,null,null,null,null,null,null,null,{"$error":"#VALUE!"},{"$error":"#VALUE!"},{"$error":"#VALUE!"},{"$error":"#VALUE!"},{"$error":"#VALUE!"},{"$error":"#VALUE!"},{"$error":"#VALUE!"},{"$error":"#VALUE!"},{"$error":"#VALUE!"},{"$error":"#VALUE!"}," ","","",{"$f":"IF(AQ232<>0,VLOOKUP(AQ232,Info!A:B,2,FALSE),\"\")","v":""},"","","","","","","","","","",""]
["","","","Buy",null,null,null,null,null,null,null,null,null,null,{"$error":"#VALUE!"},{"$error":"#VALUE!"},{"$error":"#VALUE!"},{"$error":"#VALUE!"},{"$error":"#VALUE!"},{"$error":"#VALUE!"},{"$error":"#VALUE!"},{"$error":"#VALUE!"},{"$error":"#VALUE!"},{"$error":"#VALUE!"}," ","","",{"$f":"IF(AQ233<>0,VLOOKUP(AQ233,Info!A:B,2,FALSE),\"\")","v":""},"","","","","","","","","","",""]
["","","","Buy",null,null,null,null,null,null,null,null,null,null,{"$error":"#VALUE!"},{"$error":"#VALUE!"},{"$error":"#VALUE!"},{"$error":"#VALUE!"},{"$error":"#VALUE!"},{"$error":"#VALUE!"},{"$error":"#VALUE!"},{"$error":"#VALUE!"},{"$error":"#VALUE!"},{"$error":"#VALUE!"}," ","","",{"$f":"IF(AQ234<>0,VLOOKUP(AQ234,Info!A:B,2,FALSE),\"\")","v":""},"","","","","","","","","","",""]
["","","","Buy",null,null,null,null,null,null,null,null,null,null,{"$error":"#VALUE!"},{"$error":"#VALUE!"},{"$error":"#VALUE!"},{"$error":"#VALUE!"},{"$error":"#VALUE!"},{"$error":"#VALUE!"},{"$error":"#VALUE!"},{"$error":"#VALUE!"},{"$error":"#VALUE!"},{"$error":"#VALUE!"}," ","","",{"$f":"IF(AQ235<>0,VLOOKUP(AQ235,Info!A:B,2,FALSE),\"\")","v":""},"","","","","","","","","","",""]
["","","","Buy",null,null,null,null,null,null,null,null,null,null,{"$error":"#VALUE!"},{"$error":"#VALUE!"},{"$error":"#VALUE!"},{"$error":"#VALUE!"},{"$error":"#VALUE!"},{"$error":"#VALUE!"},{"$error":"#VALUE!"},{"$error":"#VALUE!"},{"$error":"#VALUE!"},{"$error":"#VALUE!"}," ","","",{"$f":"IF(AQ236<>0,VLOOKUP(AQ236,Info!A:B,2,FALSE),\"\")","v":""},"","","","","","","","","","",""]
["","","","Buy",null,null,null,null,null,null,null,null,null,null,{"$error":"#VALUE!"},{"$error":"#VALUE!"},{"$error":"#VALUE!"},{"$error":"#VALUE!"},{"$error":"#VALUE!"},{"$error":"#VALUE!"},{"$error":"#VALUE!"},{"$error":"#VALUE!"},{"$error":"#VALUE!"},{"$error":"#VALUE!"}," ","","",{"$f":"IF(AQ237<>0,VLOOKUP(AQ237,Info!A:B,2,FALSE),\"\")","v":""},"","","","","","","","","","",""]
["","","","Buy",null,null,null,null,null,null,null,null,null,null,{"$error":"#VALUE!"},{"$error":"#VALUE!"},{"$error":"#VALUE!"},{"$error":"#VALUE!"},{"$error":"#VALUE!"},{"$error":"#VALUE!"},{"$error":"#VALUE!"},{"$error":"#VALUE!"},{"$error":"#VALUE!"},{"$error":"#VALUE!"}," ","","",{"$f":"IF(AQ238<>0,VLOOKUP(AQ238,Info!A:B,2,FALSE),\"\")","v":""},"","","","","","","","","","",""]
["","","","Buy",null,null,null,null,null,null,null,null,null,null,{"$error":"#VALUE!"},{"$error":"#VALUE!"},{"$error":"#VALUE!"},{"$error":"#VALUE!"},{"$error":"#VALUE!"},{"$error":"#VALUE!"},{"$error":"#VALUE!"},{"$error":"#VALUE!"},{"$error":"#VALUE!"},{"$error":"#VALUE!"}," ","","",{"$f":"IF(AQ239<>0,VLOOKUP(AQ239,Info!A:B,2,FALSE),\"\")","v":""},"","","","","","","","","","",""]
["","","","Buy",null,null,null,null,null,null,null,null,null,null,{"$error":"#VALUE!"},{"$error":"#VALUE!"},{"$error":"#VALUE!"},{"$error":"#VALUE!"},{"$error":"#VALUE!"},{"$error":"#VALUE!"},{"$error":"#VALUE!"},{"$error":"#VALUE!"},{"$error":"#VALUE!"},{"$error":"#VALUE!"}," ","","",{"$f":"IF(AQ240<>0,VLOOKUP(AQ240,Info!A:B,2,FALSE),\"\")","v":""},"","","","","","","","","","",""]
["","","","Buy",null,null,null,null,null,null,null,null,null,null,{"$error":"#VALUE!"},{"$error":"#VALUE!"},{"$error":"#VALUE!"},{"$error":"#VALUE!"},{"$error":"#VALUE!"},{"$error":"#VALUE!"},{"$error":"#VALUE!"},{"$error":"#VALUE!"},{"$error":"#VALUE!"},{"$error":"#VALUE!"}," ","","",{"$f":"IF(AQ241<>0,VLOOKUP(AQ241,Info!A:B,2,FALSE),\"\")","v":""},"","","","","","","","","","",""]
["","","","Buy",null,null,null,null,null,null,null,null,null,null,{"$error":"#VALUE!"},{"$error":"#VALUE!"},{"$error":"#VALUE!"},{"$error":"#VALUE!"},{"$error":"#VALUE!"},{"$error":"#VALUE!"},{"$error":"#VALUE!"},{"$error":"#VALUE!"},{"$error":"#VALUE!"},{"$error":"#VALUE!"}," ","","",{"$f":"IF(AQ242<>0,VLOOKUP(AQ242,Info!A:B,2,FALSE),\"\")","v":""},"","","","","","","","","","",""]
["","","","Buy",null,null,null,null,null,null,null,null,null,null,{"$error":"#VALUE!"},{"$error":"#VALUE!"},{"$error":"#VALUE!"},{"$error":"#VALUE!"},{"$error":"#VALUE!"},{"$error":"#VALUE!"},{"$error":"#VALUE!"},{"$error":"#VALUE!"},{"$error":"#VALUE!"},{"$error":"#VALUE!"}," ","","",{"$f":"IF(AQ243<>0,VLOOKUP(AQ243,Info!A:B,2,FALSE),\"\")","v":""},"","","","","","","","","","",""]
["","","","Buy",null,null,null,null,null,null,null,null,null,null,{"$error":"#VALUE!"},{"$error":"#VALUE!"},{"$error":"#VALUE!"},{"$error":"#VALUE!"},{"$error":"#VALUE!"},{"$error":"#VALUE!"},{"$error":"#VALUE!"},{"$error":"#VALUE!"},{"$error":"#VALUE!"},{"$error":"#VALUE!"}," ","","",{"$f":"IF(AQ244<>0,VLOOKUP(AQ244,Info!A:B,2,FALSE),\"\")","v":""},"","","","","","","","","","",""]
["","","","Buy",null,null,null,null,null,null,null,null,null,null,{"$error":"#VALUE!"},{"$error":"#VALUE!"},{"$error":"#VALUE!"},{"$error":"#VALUE!"},{"$error":"#VALUE!"},{"$error":"#VALUE!"},{"$error":"#VALUE!"},{"$error":"#VALUE!"},{"$error":"#VALUE!"},{"$error":"#VALUE!"}," ","","",{"$f":"IF(AQ245<>0,VLOOKUP(AQ245,Info!A:B,2,FALSE),\"\")","v":""},"","","","","","","","","","",""]
["","","","Buy",null,null,null,null,null,null,null,null,null,null,{"$error":"#VALUE!"},{"$error":"#VALUE!"},{"$error":"#VALUE!"},{"$error":"#VALUE!"},{"$error":"#VALUE!"},{"$error":"#VALUE!"},{"$error":"#VALUE!"},{"$error":"#VALUE!"},{"$error":"#VALUE!"},{"$error":"#VALUE!"}," ","","",{"$f":"IF(AQ246<>0,VLOOKUP(AQ246,Info!A:B,2,FALSE),\"\")","v":""},"","","","","","","","","","",""]
["","","","Buy",null,null,null,null,null,null,null,null,null,null,{"$error":"#VALUE!"},{"$error":"#VALUE!"},{"$error":"#VALUE!"},{"$error":"#VALUE!"},{"$error":"#VALUE!"},{"$error":"#VALUE!"},{"$error":"#VALUE!"},{"$error":"#VALUE!"},{"$error":"#VALUE!"},{"$error":"#VALUE!"}," ","","",{"$f":"IF(AQ247<>0,VLOOKUP(AQ247,Info!A:B,2,FALSE),\"\")","v":""},"","","","","","","","","","",""]
["","","","Buy",null,null,null,null,null,null,null,null,null,null,{"$error":"#VALUE!"},{"$error":"#VALUE!"},{"$error":"#VALUE!"},{"$error":"#VALUE!"},{"$error":"#VALUE!"},{"$error":"#VALUE!"},{"$error":"#VALUE!"},{"$error":"#VALUE!"},{"$error":"#VALUE!"},{"$error":"#VALUE!"}," ","","",{"$f":"IF(AQ248<>0,VLOOKUP(AQ248,Info!A:B,2,FALSE),\"\")","v":""},"","","","","","","","","","",""]
["","","","Buy",null,null,null,null,null,null,null,null,null,null,{"$error":"#VALUE!"},{"$error":"#VALUE!"},{"$error":"#VALUE!"},{"$error":"#VALUE!"},{"$error":"#VALUE!"},{"$error":"#VALUE!"},{"$error":"#VALUE!"},{"$error":"#VALUE!"},{"$error":"#VALUE!"},{"$error":"#VALUE!"}," ","","",{"$f":"IF(AQ249<>0,VLOOKUP(AQ249,Info!A:B,2,FALSE),\"\")","v":""},"","","","","","","","","","",""]
["","","","Buy",null,null,null,null,null,null,null,null,null,null,{"$error":"#VALUE!"},{"$error":"#VALUE!"},{"$error":"#VALUE!"},{"$error":"#VALUE!"},{"$error":"#VALUE!"},{"$error":"#VALUE!"},{"$error":"#VALUE!"},{"$error":"#VALUE!"},{"$error":"#VALUE!"},{"$error":"#VALUE!"}," ","","",{"$f":"IF(AQ250<>0,VLOOKUP(AQ250,Info!A:B,2,FALSE),\"\")","v":""},"","","","","","","","","","",""]
["","","","Buy",null,null,null,null,null,null,null,null,null,null,{"$error":"#VALUE!"},{"$error":"#VALUE!"},{"$error":"#VALUE!"},{"$error":"#VALUE!"},{"$error":"#VALUE!"},{"$error":"#VALUE!"},{"$error":"#VALUE!"},{"$error":"#VALUE!"},{"$error":"#VALUE!"},{"$error":"#VALUE!"}," ","","",{"$f":"IF(AQ251<>0,VLOOKUP(AQ251,Info!A:B,2,FALSE),\"\")","v":""},"","","","","","","","","","",""]
["","","","Buy",null,null,null,null,null,null,null,null,null,null,{"$error":"#VALUE!"},{"$error":"#VALUE!"},{"$error":"#VALUE!"},{"$error":"#VALUE!"},{"$error":"#VALUE!"},{"$error":"#VALUE!"},{"$error":"#VALUE!"},{"$error":"#VALUE!"},{"$error":"#VALUE!"},{"$error":"#VALUE!"}," ","","",{"$f":"IF(AQ252<>0,VLOOKUP(AQ252,Info!A:B,2,FALSE),\"\")","v":""},"","","","","","","","","","",""]
["","","","Buy",null,null,null,null,null,null,null,null,null,null,{"$error":"#VALUE!"},{"$error":"#VALUE!"},{"$error":"#VALUE!"},{"$error":"#VALUE!"},{"$error":"#VALUE!"},{"$error":"#VALUE!"},{"$error":"#VALUE!"},{"$error":"#VALUE!"},{"$error":"#VALUE!"},{"$error":"#VALUE!"}," ","","",{"$f":"IF(AQ253<>0,VLOOKUP(AQ253,Info!A:B,2,FALSE),\"\")","v":""},"","","","","","","","","","",""]
["","","","Buy",null,null,null,null,null,null,null,null,null,null,{"$error":"#VALUE!"},{"$error":"#VALUE!"},{"$error":"#VALUE!"},{"$error":"#VALUE!"},{"$error":"#VALUE!"},{"$error":"#VALUE!"},{"$error":"#VALUE!"},{"$error":"#VALUE!"},{"$error":"#VALUE!"},{"$error":"#VALUE!"}," ","","",{"$f":"IF(AQ254<>0,VLOOKUP(AQ254,Info!A:B,2,FALSE),\"\")","v":""},"","","","","","","","","","",""]
["","","","Buy",null,null,null,null,null,null,null,null,null,null,{"$error":"#VALUE!"},{"$error":"#VALUE!"},{"$error":"#VALUE!"},{"$error":"#VALUE!"},{"$error":"#VALUE!"},{"$error":"#VALUE!"},{"$error":"#VALUE!"},{"$error":"#VALUE!"},{"$error":"#VALUE!"},{"$error":"#VALUE!"}," ","","",{"$f":"IF(AQ255<>0,VLOOKUP(AQ255,Info!A:B,2,FALSE),\"\")","v":""},"","","","","","","","","","",""]
["","","","Buy",null,null,null,null,null,null,null,null,null,null,{"$error":"#VALUE!"},{"$error":"#VALUE!"},{"$error":"#VALUE!"},{"$error":"#VALUE!"},{"$error":"#VALUE!"},{"$error":"#VALUE!"},{"$error":"#VALUE!"},{"$error":"#VALUE!"},{"$error":"#VALUE!"},{"$error":"#VALUE!"}," ","","",{"$f":"IF(AQ256<>0,VLOOKUP(AQ256,Info!A:B,2,FALSE),\"\")","v":""},"","","","","","","","","","",""]
["","","","Buy",null,null,null,null,null,null,null,null,null,null,{"$error":"#VALUE!"},{"$error":"#VALUE!"},{"$error":"#VALUE!"},{"$error":"#VALUE!"},{"$error":"#VALUE!"},{"$error":"#VALUE!"},{"$error":"#VALUE!"},{"$error":"#VALUE!"},{"$error":"#VALUE!"},{"$error":"#VALUE!"}," ","","",{"$f":"IF(AQ257<>0,VLOOKUP(AQ257,Info!A:B,2,FALSE),\"\")","v":""},"","","","","","","","","","",""]
["","","","Buy",null,null,null,null,null,null,null,null,null,null,{"$f":"VLOOKUP($A258,$A:$N,5,FALSE)/VLOOKUP($A258,$Z:$AM,5,FALSE)","v":{"$error":"#VALUE!"}},{"$f":"VLOOKUP($A258,$A:$N,6,FALSE)/VLOOKUP($A258,$Z:$AM,6,FALSE)","v":{"$error":"#VALUE!"}},{"$f":"VLOOKUP($A258,$A:$N,7,FALSE)/VLOOKUP($A258,$Z:$AM,7,FALSE)","v":{"$error":"#VALUE!"}},{"$f":"VLOOKUP($A258,$A:$N,8,FALSE)/VLOOKUP($A258,$Z:$AM,8,FALSE)","v":{"$error":"#VALUE!"}},{"$f":"VLOOKUP($A258,$A:$N,9,FALSE)/VLOOKUP($A258,$Z:$AM,9,FALSE)","v":{"$error":"#VALUE!"}},{"$f":"VLOOKUP($A258,$A:$N,10,FALSE)/VLOOKUP($A258,$Z:$AM,10,FALSE)","v":{"$error":"#VALUE!"}},{"$f":"VLOOKUP($A258,$A:$N,11,FALSE)/VLOOKUP($A258,$Z:$AM,11,FALSE)","v":{"$error":"#VALUE!"}},{"$f":"VLOOKUP($A258,$A:$N,12,FALSE)/VLOOKUP($A258,$Z:$AM,12,FALSE)","v":{"$error":"#VALUE!"}},{"$f":"VLOOKUP($A258,$A:$N,13,FALSE)/VLOOKUP($A258,$Z:$AM,13,FALSE)","v":{"$error":"#VALUE!"}},{"$f":"VLOOKUP($A258,$A:$N,14,FALSE)/VLOOKUP($A258,$Z:$AM,14,FALSE)","v":{"$error":"#VALUE!"}}," ","","",{"$f":"IF(AQ258<>0,VLOOKUP(AQ258,Info!A:B,2,FALSE),\"\")","v":""},"","","","","","","","","","",""]
[{"$f":"IF(Z259<>0,Z259,\"\")","v":""},{"$f":"IF(A259<>0,VLOOKUP(A259,Z:AA,2,FALSE),\"\")","v":""},{"$f":"IF(A259<>0,VLOOKUP(A259,Z:AB,3,FALSE))","v":""},{"$f":"HYPERLINK(\"http://www.jockstocks.com/buysell.php?action=buymax&plid=\"&A259,\"Buy\")","v":"Buy"},null,null,null,null,null,null,null,null,null,null,{"$error":"#VALUE!"},{"$error":"#VALUE!"},{"$error":"#VALUE!"},{"$error":"#VALUE!"},{"$error":"#VALUE!"},{"$error":"#VALUE!"},{"$error":"#VALUE!"},{"$error":"#VALUE!"},{"$error":"#VALUE!"},{"$error":"#VALUE!"}," ",{"$f":"IF(AO259<>0,AO259,\"\")","v":""},{"$f":"IF(AP259<>0,VLOOKUP(Z259,AO:AP,2,FALSE),\"\")","v":""},{"$f":"IF(AQ259<>0,VLOOKUP(AQ259,Info!A:B,2,FALSE),\"\")","v":""},{"$f":"IF(AO259<>0,VLOOKUP(Z259,AO:AR,4,FALSE),\"\")","v":""},{"$f":"IF($AO259<>0,AT259/$AS259,\"\")","v":""},{"$f":"IF($AO259<>0,AU259/$AS259,\"\")","v":""},{"$f":"IF($AO259<>0,AV259/$AS259,\"\")","v":""},{"$f":"IF($AO259<>0,AW259/$AS259,\"\")","v":""},{"$f":"IF($AO259<>0,AX259/$AS259,\"\")","v":""},{"$f":"IF($AO259<>0,AY259/$AS259,\"\")","v":""},{"$f":"IF($AO259<>0,AZ259/$AS259,\"\")","v":""},{"$f":"IF($AO259<>0,BA259/$AS259,\"\")","v":""},{"$f":"IF($AO259<>0,BB259/$AS259,\"\")","v":""},{"$f":"IF($AO259<>0,BC259/$AS259,\"\")","v":""}]
["","","","Buy",null,null,null,null,null,null,null,null,null,null,{"$error":"#VALUE!"},{"$error":"#VALUE!"},{"$error":"#VALUE!"},{"$error":"#VALUE!"},{"$error":"#VALUE!"},{"$error":"#VALUE!"},{"$error":"#VALUE!"},{"$error":"#VALUE!"},{"$error":"#VALUE!"},{"$error":"#VALUE!"}," ","","",{"$f":"IF(AQ260<>0,VLOOKUP(AQ260,Info!A:B,2,FALSE),\"\")","v":""},"","","","","","","","","","",""]
["","","","Buy",null,null,null,null,null,null,null,null,null,null,{"$error":"#VALUE!"},{"$error":"#VALUE!"},{"$error":"#VALUE!"},{"$error":"#VALUE!"},{"$error":"#VALUE!"},{"$error":"#VALUE!"},{"$error":"#VALUE!"},{"$error":"#VALUE!"},{"$error":"#VALUE!"},{"$error":"#VALUE!"}," ","","",{"$f":"IF(AQ261<>0,VLOOKUP(AQ261,Info!A:B,2,FALSE),\"\")","v":""},"","","","","","","","","","",""]
["","","","Buy",null,null,null,null,null,null,null,null,null,null,{"$error":"#VALUE!"},{"$error":"#VALUE!"},{"$error":"#VALUE!"},{"$error":"#VALUE!"},{"$error":"#VALUE!"},{"$error":"#VALUE!"},{"$error":"#VALUE!"},{"$error":"#VALUE!"},{"$error":"#VALUE!"},{"$error":"#VALUE!"}," ","","",{"$f":"IF(AQ262<>0,VLOOKUP(AQ262,Info!A:B,2,FALSE),\"\")","v":""},"","","","","","","","","","",""]
["","","","Buy",null,null,null,null,null,null,null,null,null,null,{"$error":"#VALUE!"},{"$error":"#VALUE!"},{"$error":"#VALUE!"},{"$error":"#VALUE!"},{"$error":"#VALUE!"},{"$error":"#VALUE!"},{"$error":"#VALUE!"},{"$error":"#VALUE!"},{"$error":"#VALUE!"},{"$error":"#VALUE!"}," ","","",{"$f":"IF(AQ263<>0,VLOOKUP(AQ263,Info!A:B,2,FALSE),\"\")","v":""},"","","","","","","","","","",""]
["","","","Buy",null,null,null,null,null,null,null,null,null,null,{"$error":"#VALUE!"},{"$error":"#VALUE!"},{"$error":"#VALUE!"},{"$error":"#VALUE!"},{"$error":"#VALUE!"},{"$error":"#VALUE!"},{"$error":"#VALUE!"},{"$error":"#VALUE!"},{"$error":"#VALUE!"},{"$error":"#VALUE!"}," ","","",{"$f":"IF(AQ264<>0,VLOOKUP(AQ264,Info!A:B,2,FALSE),\"\")","v":""},"","","","","","","","","","",""]
["","","","Buy",null,null,null,null,null,null,null,null,null,null,{"$error":"#VALUE!"},{"$error":"#VALUE!"},{"$error":"#VALUE!"},{"$error":"#VALUE!"},{"$error":"#VALUE!"},{"$error":"#VALUE!"},{"$error":"#VALUE!"},{"$error":"#VALUE!"},{"$error":"#VALUE!"},{"$error":"#VALUE!"}," ","","",{"$f":"IF(AQ265<>0,VLOOKUP(AQ265,Info!A:B,2,FALSE),\"\")","v":""},"","","","","","","","","","",""]
["","","","Buy",null,null,null,null,null,null,null,null,null,null,{"$error":"#VALUE!"},{"$error":"#VALUE!"},{"$error":"#VALUE!"},{"$error":"#VALUE!"},{"$error":"#VALUE!"},{"$error":"#VALUE!"},{"$error":"#VALUE!"},{"$error":"#VALUE!"},{"$error":"#VALUE!"},{"$error":"#VALUE!"}," ","","",{"$f":"IF(AQ266<>0,VLOOKUP(AQ266,Info!A:B,2,FALSE),\"\")","v":""},"","","","","","","","","","",""]
["","","","Buy",null,null,null,null,null,null,null,null,null,null,{"$error":"#VALUE!"},{"$error":"#VALUE!"},{"$error":"#VALUE!"},{"$error":"#VALUE!"},{"$error":"#VALUE!"},{"$error":"#VALUE!"},{"$error":"#VALUE!"},{"$error":"#VALUE!"},{"$error":"#VALUE!"},{"$error":"#VALUE!"}," ","","",{"$f":"IF(AQ267<>0,VLOOKUP(AQ267,Info!A:B,2,FALSE),\"\")","v":""},"","","","","","","","","","",""]
["","","","Buy",null,null,null,null,null,null,null,null,null,null,{"$error":"#VALUE!"},{"$error":"#VALUE!"},{"$error":"#VALUE!"},{"$error":"#VALUE!"},{"$error":"#VALUE!"},{"$error":"#VALUE!"},{"$error":"#VALUE!"},{"$error":"#VALUE!"},{"$error":"#VALUE!"},{"$error":"#VALUE!"}," ","","",{"$f":"IF(AQ268<>0,VLOOKUP(AQ268,Info!A:B,2,FALSE),\"\")","v":""},"","","","","","","","","","",""]
["","","","Buy",null,null,null,null,null,null,null,null,null,null,{"$error":"#VALUE!"},{"$error":"#VALUE!"},{"$error":"#VALUE!"},{"$error":"#VALUE!"},{"$error":"#VALUE!"},{"$error":"#VALUE!"},{"$error":"#VALUE!"},{"$error":"#VALUE!"},{"$error":"#VALUE!"},{"$error":"#VALUE!"}," ","","",{"$f":"IF(AQ269<>0,VLOOKUP(AQ269,Info!A:B,2,FALSE),\"\")","v":""},"","","","","","","","","","",""]
["","","","Buy",null,null,null,null,null,null,null,null,null,null,{"$error":"#VALUE!"},{"$error":"#VALUE!"},{"$error":"#VALUE!"},{"$error":"#VALUE!"},{"$error":"#VALUE!"},{"$error":"#VALUE!"},{"$error":"#VALUE!"},{"$error":"#VALUE!"},{"$error":"#VALUE!"},{"$error":"#VALUE!"}," ","","",{"$f":"IF(AQ270<>0,VLOOKUP(AQ270,Info!A:B,2,FALSE),\"\")","v":""},"","","","","","","","","","",""]
["","","","Buy",null,null,null,null,null,null,null,null,null,null,{"$error":"#VALUE!"},{"$error":"#VALUE!"},{"$error":"#VALUE!"},{"$error":"#VALUE!"},{"$error":"#VALUE!"},{"$error":"#VALUE!"},{"$error":"#VALUE!"},{"$error":"#VALUE!"},{"$error":"#VALUE!"},{"$error":"#VALUE!"}," ","","",{"$f":"IF(AQ271<>0,VLOOKUP(AQ271,Info!A:B,2,FALSE),\"\")","v":""},"","","","","","","","","","",""]
["","","","Buy",null,null,null,null,null,null,null,null,null,null,{"$error":"#VALUE!"},{"$error":"#VALUE!"},{"$error":"#VALUE!"},{"$error":"#VALUE!"},{"$error":"#VALUE!"},{"$error":"#VALUE!"},{"$error":"#VALUE!"},{"$error":"#VALUE!"},{"$error":"#VALUE!"},{"$error":"#VALUE!"}," ","","",{"$f":"IF(AQ272<>0,VLOOKUP(AQ272,Info!A:B,2,FALSE),\"\")","v":""},"","","","","","","","","","",""]
["","","","Buy",null,null,null,null,null,null,null,null,null,null,{"$error":"#VALUE!"},{"$error":"#VALUE!"},{"$error":"#VALUE!"},{"$error":"#VALUE!"},{"$error":"#VALUE!"},{"$error":"#VALUE!"},{"$error":"#VALUE!"},{"$error":"#VALUE!"},{"$error":"#VALUE!"},{"$error":"#VALUE!"}," ","","",{"$f":"IF(AQ273<>0,VLOOKUP(AQ273,Info!A:B,2,FALSE),\"\")","v":""},"","","","","","","","","","",""]
["","","","Buy",null,null,null,null,null,null,null,null,null,null,{"$error":"#VALUE!"},{"$error":"#VALUE!"},{"$error":"#VALUE!"},{"$error":"#VALUE!"},{"$error":"#VALUE!"},{"$error":"#VALUE!"},{"$error":"#VALUE!"},{"$error":"#VALUE!"},{"$error":"#VALUE!"},{"$error":"#VALUE!"}," ","","",{"$f":"IF(AQ274<>0,VLOOKUP(AQ274,Info!A:B,2,FALSE),\"\")","v":""},"","","","","","","","","","",""]
["","","","Buy",null,null,null,null,null,null,null,null,null,null,{"$error":"#VALUE!"},{"$error":"#VALUE!"},{"$error":"#VALUE!"},{"$error":"#VALUE!"},{"$error":"#VALUE!"},{"$error":"#VALUE!"},{"$error":"#VALUE!"},{"$error":"#VALUE!"},{"$error":"#VALUE!"},{"$error":"#VALUE!"}," ","","",{"$f":"IF(AQ275<>0,VLOOKUP(AQ275,Info!A:B,2,FALSE),\"\")","v":""},"","","","","","","","","","",""]
["","","","Buy",null,null,null,null,null,null,null,null,null,null,{"$error":"#VALUE!"},{"$error":"#VALUE!"},{"$error":"#VALUE!"},{"$error":"#VALUE!"},{"$error":"#VALUE!"},{"$error":"#VALUE!"},{"$error":"#VALUE!"},{"$error":"#VALUE!"},{"$error":"#VALUE!"},{"$error":"#VALUE!"}," ","","",{"$f":"IF(AQ276<>0,VLOOKUP(AQ276,Info!A:B,2,FALSE),\"\")","v":""},"","","","","","","","","","",""]
["","","","Buy",null,null,null,null,null,null,null,null,null,null,{"$error":"#VALUE!"},{"$error":"#VALUE!"},{"$error":"#VALUE!"},{"$error":"#VALUE!"},{"$error":"#VALUE!"},{"$error":"#VALUE!"},{"$error":"#VALUE!"},{"$error":"#VALUE!"},{"$error":"#VALUE!"},{"$error":"#VALUE!"}," ","","",{"$f":"IF(AQ277<>0,VLOOKUP(AQ277,Info!A:B,2,FALSE),\"\")","v":""},"","","","","","","","","","",""]
["","","","Buy",null,null,null,null,null,null,null,null,null,null,{"$error":"#VALUE!"},{"$error":"#VALUE!"},{"$error":"#VALUE!"},{"$error":"#VALUE!"},{"$error":"#VALUE!"},{"$error":"#VALUE!"},{"$error":"#VALUE!"},{"$error":"#VALUE!"},{"$error":"#VALUE!"},{"$error":"#VALUE!"}," ","","",{"$f":"IF(AQ278<>0,VLOOKUP(AQ278,Info!A:B,2,FALSE),\"\")","v":""},"","","","","","","","","","",""]
["","","","Buy",null,null,null,null,null,null,null,null,null,null,{"$error":"#VALUE!"},{"$error":"#VALUE!"},{"$error":"#VALUE!"},{"$error":"#VALUE!"},{"$error":"#VALUE!"},{"$error":"#VALUE!"},{"$error":"#VALUE!"},{"$error":"#VALUE!"},{"$error":"#VALUE!"},{"$error":"#VALUE!"}," ","","",{"$f":"IF(AQ279<>0,VLOOKUP(AQ279,Info!A:B,2,FALSE),\"\")","v":""},"","","","","","","","","","",""]
["","","","Buy",null,null,null,null,null,null,null,null,null,null,{"$error":"#VALUE!"},{"$error":"#VALUE!"},{"$error":"#VALUE!"},{"$error":"#VALUE!"},{"$error":"#VALUE!"},{"$error":"#VALUE!"},{"$error":"#VALUE!"},{"$error":"#VALUE!"},{"$error":"#VALUE!"},{"$error":"#VALUE!"}," ","","",{"$f":"IF(AQ280<>0,VLOOKUP(AQ280,Info!A:B,2,FALSE),\"\")","v":""},"","","","","","","","","","",""]
["","","","Buy",null,null,null,null,null,null,null,null,null,null,{"$error":"#VALUE!"},{"$error":"#VALUE!"},{"$error":"#VALUE!"},{"$error":"#VALUE!"},{"$error":"#VALUE!"},{"$error":"#VALUE!"},{"$error":"#VALUE!"},{"$error":"#VALUE!"},{"$error":"#VALUE!"},{"$error":"#VALUE!"}," ","","",{"$f":"IF(AQ281<>0,VLOOKUP(AQ281,Info!A:B,2,FALSE),\"\")","v":""},"","","","","","","","","","",""]
["","","","Buy",null,null,null,null,null,null,null,null,null,null,{"$error":"#VALUE!"},{"$error":"#VALUE!"},{"$error":"#VALUE!"},{"$error":"#VALUE!"},{"$error":"#VALUE!"},{"$error":"#VALUE!"},{"$error":"#VALUE!"},{"$error":"#VALUE!"},{"$error":"#VALUE!"},{"$error":"#VALUE!"}," ","","",{"$f":"IF(AQ282<>0,VLOOKUP(AQ282,Info!A:B,2,FALSE),\"\")","v":""},"","","","","","","","","","",""]
["","","","Buy",null,null,null,null,null,null,null,null,null,null,{"$error":"#VALUE!"},{"$error":"#VALUE!"},{"$error":"#VALUE!"},{"$error":"#VALUE!"},{"$error":"#VALUE!"},{"$error":"#VALUE!"},{"$error":"#VALUE!"},{"$error":"#VALUE!"},{"$error":"#VALUE!"},{"$error":"#VALUE!"}," ","","",{"$f":"IF(AQ283<>0,VLOOKUP(AQ283,Info!A:B,2,FALSE),\"\")","v":""},"","","","","","","","","","",""]
["","","","Buy",null,null,null,null,null,null,null,null,null,null,{"$error":"#VALUE!"},{"$error":"#VALUE!"},{"$error":"#VALUE!"},{"$error":"#VALUE!"},{"$error":"#VALUE!"},{"$error":"#VALUE!"},{"$error":"#VALUE!"},{"$error":"#VALUE!"},{"$error":"#VALUE!"},{"$error":"#VALUE!"}," ","","",{"$f":"IF(AQ284<>0,VLOOKUP(AQ284,Info!A:B,2,FALSE),\"\")","v":""},"","","","","","","","","","",""]
["","","","Buy",null,null,null,null,null,null,null,null,null,null,{"$error":"#VALUE!"},{"$error":"#VALUE!"},{"$error":"#VALUE!"},{"$error":"#VALUE!"},{"$error":"#VALUE!"},{"$error":"#VALUE!"},{"$error":"#VALUE!"},{"$error":"#VALUE!"},{"$error":"#VALUE!"},{"$error":"#VALUE!"}," ","","",{"$f":"IF(AQ285<>0,VLOOKUP(AQ285,Info!A:B,2,FALSE),\"\")","v":""},"","","","","","","","","","",""]
["","","","Buy",null,null,null,null,null,null,null,null,null,null,{"$error":"#VALUE!"},{"$error":"#VALUE!"},{"$error":"#VALUE!"},{"$error":"#VALUE!"},{"$error":"#VALUE!"},{"$error":"#VALUE!"},{"$error":"#VALUE!"},{"$error":"#VALUE!"},{"$error":"#VALUE!"},{"$error":"#VALUE!"}," ","","",{"$f":"IF(AQ286<>0,VLOOKUP(AQ286,Info!A:B,2,FALSE),\"\")","v":""},"","","","","","","","","","",""]
["","","","Buy",null,null,null,null,null,null,null,null,null,null,{"$error":"#VALUE!"},{"$error":"#VALUE!"},{"$error":"#VALUE!"},{"$error":"#VALUE!"},{"$error":"#VALUE!"},{"$error":"#VALUE!"},{"$error":"#VALUE!"},{"$error":"#VALUE!"},{"$error":"#VALUE!"},{"$error":"#VALUE!"}," ","","",{"$f":"IF(AQ287<>0,VLOOKUP(AQ287,Info!A:B,2,FALSE),\"\")","v":""},"","","","","","","","","","",""]
["","","","Buy",null,null,null,null,null,null,null,null,null,null,{"$error":"#VALUE!"},{"$error":"#VALUE!"},{"$error":"#VALUE!"},{"$error":"#VALUE!"},{"$error":"#VALUE!"},{"$error":"#VALUE!"},{"$error":"#VALUE!"},{"$error":"#VALUE!"},{"$error":"#VALUE!"},{"$error":"#VALUE!"}," ","","",{"$f":"IF(AQ288<>0,VLOOKUP(AQ288,Info!A:B,2,FALSE),\"\")","v":""},"","","","","","","","","","",""]
["","","","Buy",null,null,null,null,null,null,null,null,null,null,{"$error":"#VALUE!"},{"$error":"#VALUE!"},{"$error":"#VALUE!"},{"$error":"#VALUE!"},{"$error":"#VALUE!"},{"$error":"#VALUE!"},{"$error":"#VALUE!"},{"$error":"#VALUE!"},{"$error":"#VALUE!"},{"$error":"#VALUE!"}," ","","",{"$f":"IF(AQ289<>0,VLOOKUP(AQ289,Info!A:B,2,FALSE),\"\")","v":""},"","","","","","","","","","",""]
["","","","Buy",null,null,null,null,null,null,null,null,null,null,{"$error":"#VALUE!"},{"$error":"#VALUE!"},{"$error":"#VALUE!"},{"$error":"#VALUE!"},{"$error":"#VALUE!"},{"$error":"#VALUE!"},{"$error":"#VALUE!"},{"$error":"#VALUE!"},{"$error":"#VALUE!"},{"$error":"#VALUE!"}," ","","",{"$f":"IF(AQ290<>0,VLOOKUP(AQ290,Info!A:B,2,FALSE),\"\")","v":""},"","","","","","","","","","",""]
["","","","Buy",null,null,null,null,null,null,null,null,null,null,{"$error":"#VALUE!"},{"$error":"#VALUE!"},{"$error":"#VALUE!"},{"$error":"#VALUE!"},{"$error":"#VALUE!"},{"$error":"#VALUE!"},{"$error":"#VALUE!"},{"$error":"#VALUE!"},{"$error":"#VALUE!"},{"$error":"#VALUE!"}," ","","",{"$f":"IF(AQ291<>0,VLOOKUP(AQ291,Info!A:B,2,FALSE),\"\")","v":""},"","","","","","","","","","",""]
["","","","Buy",null,null,null,null,null,null,null,null,null,null,{"$error":"#VALUE!"},{"$error":"#VALUE!"},{"$error":"#VALUE!"},{"$error":"#VALUE!"},{"$error":"#VALUE!"},{"$error":"#VALUE!"},{"$error":"#VALUE!"},{"$error":"#VALUE!"},{"$error":"#VALUE!"},{"$error":"#VALUE!"}," ","","",{"$f":"IF(AQ292<>0,VLOOKUP(AQ292,Info!A:B,2,FALSE),\"\")","v":""},"","","","","","","","","","",""]
["","","","Buy",null,null,null,null,null,null,null,null,null,null,{"$error":"#VALUE!"},{"$error":"#VALUE!"},{"$error":"#VALUE!"},{"$error":"#VALUE!"},{"$error":"#VALUE!"},{"$error":"#VALUE!"},{"$error":"#VALUE!"},{"$error":"#VALUE!"},{"$error":"#VALUE!"},{"$error":"#VALUE!"}," ","","",{"$f":"IF(AQ293<>0,VLOOKUP(AQ293,Info!A:B,2,FALSE),\"\")","v":""},"","","","","","","","","","",""]
["","","","Buy",null,null,null,null,null,null,null,null,null,null,{"$error":"#VALUE!"},{"$error":"#VALUE!"},{"$error":"#VALUE!"},{"$error":"#VALUE!"},{"$error":"#VALUE!"},{"$error":"#VALUE!"},{"$error":"#VALUE!"},{"$error":"#VALUE!"},{"$error":"#VALUE!"},{"$error":"#VALUE!"}," ","","",{"$f":"IF(AQ294<>0,VLOOKUP(AQ294,Info!A:B,2,FALSE),\"\")","v":""},"","","","","","","","","","",""]
["","","","Buy",null,null,null,null,null,null,null,null,null,null,{"$error":"#VALUE!"},{"$error":"#VALUE!"},{"$error":"#VALUE!"},{"$error":"#VALUE!"},{"$error":"#VALUE!"},{"$error":"#VALUE!"},{"$error":"#VALUE!"},{"$error":"#VALUE!"},{"$error":"#VALUE!"},{"$error":"#VALUE!"}," ","","",{"$f":"IF(AQ295<>0,VLOOKUP(AQ295,Info!A:B,2,FALSE),\"\")","v":""},"","","","","","","","","","",""]
["","","","Buy",null,null,null,null,null,null,null,null,null,null,{"$error":"#VALUE!"},{"$error":"#VALUE!"},{"$error":"#VALUE!"},{"$error":"#VALUE!"},{"$error":"#VALUE!"},{"$error":"#VALUE!"},{"$error":"#VALUE!"},{"$error":"#VALUE!"},{"$error":"#VALUE!"},{"$error":"#VALUE!"}," ","","",{"$f":"IF(AQ296<>0,VLOOKUP(AQ296,Info!A:B,2,FALSE),\"\")","v":""},"","","","","","","","","","",""]
["","","","Buy",null,null,null,null,null,null,null,null,null,null,{"$error":"#VALUE!"},{"$error":"#VALUE!"},{"$error":"#VALUE!"},{"$error":"#VALUE!"},{"$error":"#VALUE!"},{"$error":"#VALUE!"},{"$error":"#VALUE!"},{"$error":"#VALUE!"},{"$error":"#VALUE!"},{"$error":"#VALUE!"}," ","","",{"$f":"IF(AQ297<>0,VLOOKUP(AQ297,Info!A:B,2,FALSE),\"\")","v":""},"","","","","","","","","","",""]
["","","","Buy",null,null,null,null,null,null,null,null,null,null,{"$error":"#VALUE!"},{"$error":"#VALUE!"},{"$error":"#VALUE!"},{"$error":"#VALUE!"},{"$error":"#VALUE!"},{"$error":"#VALUE!"},{"$error":"#VALUE!"},{"$error":"#VALUE!"},{"$error":"#VALUE!"},{"$error":"#VALUE!"}," ","","",{"$f":"IF(AQ298<>0,VLOOKUP(AQ298,Info!A:B,2,FALSE),\"\")","v":""},"","","","","","","","","","",""]
["","","","Buy",null,null,null,null,null,null,null,null,null,null,{"$error":"#VALUE!"},{"$error":"#VALUE!"},{"$error":"#VALUE!"},{"$error":"#VALUE!"},{"$error":"#VALUE!"},{"$error":"#VALUE!"},{"$error":"#VALUE!"},{"$error":"#VALUE!"},{"$error":"#VALUE!"},{"$error":"#VALUE!"}," ","","",{"$f":"IF(AQ299<>0,VLOOKUP(AQ299,Info!A:B,2,FALSE),\"\")","v":""},"","","","","","","","","","",""]
["","","","Buy",null,null,null,null,null,null,null,null,null,null,{"$error":"#VALUE!"},{"$error":"#VALUE!"},{"$error":"#VALUE!"},{"$error":"#VALUE!"},{"$error":"#VALUE!"},{"$error":"#VALUE!"},{"$error":"#VALUE!"},{"$error":"#VALUE!"},{"$error":"#VALUE!"},{"$error":"#VALUE!"}," ","","",{"$f":"IF(AQ300<>0,VLOOKUP(AQ300,Info!A:B,2,FALSE),\"\")","v":""},"","","","","","","","","","",""]
["","","","Buy",null,null,null,null,null,null,null,null,null,null,{"$error":"#VALUE!"},{"$error":"#VALUE!"},{"$error":"#VALUE!"},{"$error":"#VALUE!"},{"$error":"#VALUE!"},{"$error":"#VALUE!"},{"$error":"#VALUE!"},{"$error":"#VALUE!"},{"$error":"#VALUE!"},{"$error":"#VALUE!"}," ","","",{"$f":"IF(AQ301<>0,VLOOKUP(AQ301,Info!A:B,2,FALSE),\"\")","v":""},"","","","","","","","","","",""]

{"sheet":"NHLS","index":5,"n_rows":375,"n_cols":52,"rows_kept":375,"cut":false,"hidden":false,"merged":[]}
["plid","Name","Team",null,"Goals","Assts","Shots","+/-","PIMs","PPG","SHG",null,null,null,"Goals","Assts","Shots","+/-","PIMs","PPG","SHG",null,null,null,null,{"$f":"IF(AO1<>0,AO1,\"\")","v":"ID"},{"$f":"IF(AP1<>0,AP1,\"\")","v":"Name"},{"$f":"IF(AQ1<>0,AQ1,\"\")","v":"Team"},{"$f":"IF(AR1<>0,AR1,\"\")","v":"Symbol"},{"$f":"IF(AT1<>0,AT1,\"\")","v":"Goals"},{"$f":"IF(AU1<>0,AU1,\"\")","v":"Assists"},"Shots","+/-","PIMs","PP Goals","SH Goals","","","",null,"ID","Name","Team","Symbol","Games","Goals","Assists","Shots","+/-","PIMs","PP Goals","SH Goals"]
[{"$f":"IF(Z2<>0,Z2,\"\")","v":3439},{"$f":"IF(A2<>0,VLOOKUP(A2,Z:AA,2,FALSE),\"\")","v":"Andrew Cogliano"},{"$f":"IF(A2<>0,VLOOKUP(A2,Z:AB,3,FALSE))","v":"ANA"},{"$f":"HYPERLINK(\"http://www.jockstocks.com/buysell.php?action=buymax&plid=\"&A2,\"Buy\")","v":"Buy"},null,null,null,null,null,null,null,null,null,null,{"$f":"VLOOKUP($A2,$A:$N,5,FALSE)/VLOOKUP($A2,$Z:$AM,5,FALSE)","v":0},{"$f":"VLOOKUP($A2,$A:$N,6,FALSE)/VLOOKUP($A2,$Z:$AM,6,FALSE)","v":0},{"$f":"VLOOKUP($A2,$A:$N,7,FALSE)/VLOOKUP($A2,$Z:$AM,7,FALSE)","v":0},{"$f":"VLOOKUP($A2,$A:$N,8,FALSE)/VLOOKUP($A2,$Z:$AM,8,FALSE)","v":0},{"$f":"VLOOKUP($A2,$A:$N,9,FALSE)/VLOOKUP($A2,$Z:$AM,9,FALSE)","v":0},{"$f":"VLOOKUP($A2,$A:$N,10,FALSE)/VLOOKUP($A2,$Z:$AM,10,FALSE)","v":0},{"$f":"VLOOKUP($A2,$A:$N,11,FALSE)/VLOOKUP($A2,$Z:$AM,11,FALSE)","v":0},{"$f":"VLOOKUP($A2,$A:$N,12,FALSE)/VLOOKUP($A2,$Z:$AM,12,FALSE)","v":{"$error":"#DIV/0!"}},{"$f":"VLOOKUP($A2,$A:$N,13,FALSE)/VLOOKUP($A2,$Z:$AM,13,FALSE)","v":{"$error":"#DIV/0!"}},{"$f":"VLOOKUP($A2,$A:$N,14,FALSE)/VLOOKUP($A2,$Z:$AM,14,FALSE)","v":{"$error":"#DIV/0!"}}," ",{"$f":"IF(AO2<>0,AO2,\"\")","v":3439},{"$f":"IF(AP2<>0,VLOOKUP(Z2,AO:AP,2,FALSE),\"\")","v":"Andrew Cogliano"},{"$f":"IF(AQ2<>0,VLOOKUP(AQ2,Info!A:B,2,FALSE),\"\")","v":"ANA"},{"$f":"IF(AO2<>0,VLOOKUP(Z2,AO:AR,4,FALSE),\"\")","v":"cogan"},{"$f":"IF($AO2<>0,AT2/$AS2,\"\")","v":0.1951219512195122},0.23170731707317074,2.1707317073170733,0.13414634146341464,0.31707317073170732,2.4390243902439025E-2,3.6585365853658534E-2,0,0,0,null,3439,"Andrew Cogliano","Anaheim Ducks","cogan",82,16,19,178,11,26,2,3]
[{"$f":"IF(Z3<>0,Z3,\"\")","v":1734},{"$f":"IF(A3<>0,VLOOKUP(A3,Z:AA,2,FALSE),\"\")","v":"Antoine Vermette"},{"$f":"IF(A3<>0,VLOOKUP(A3,Z:AB,3,FALSE))","v":"ANA"},{"$f":"HYPERLINK(\"http://www.jockstocks.com/buysell.php?action=buymax&plid=\"&A3,\"Buy\")","v":"Buy"},null,null,null,null,null,null,null,null,null,null,0,0,0,0,0,0,0,{"$error":"#DIV/0!"},{"$error":"#DIV/0!"},{"$error":"#DIV/0!"}," ",{"$f":"IF(AO3<>0,AO3,\"\")","v":1734},{"$f":"IF(AP3<>0,VLOOKUP(Z3,AO:AP,2,FALSE),\"\")","v":"Antoine Vermette"},{"$f":"IF(AQ3<>0,VLOOKUP(AQ3,Info!A:B,2,FALSE),\"\")","v":"ANA"},{"$f":"IF(AO3<>0,VLOOKUP(Z3,AO:AR,4,FALSE),\"\")","v":"veran"},{"$f":"IF($AO3<>0,AT3/$AS3,\"\")","v":0.12195121951219512},{"$f":"IF($AO3<>0,AU3/$AS3,\"\")","v":0.26829268292682928},{"$f":"IF($AO3<>0,AV3/$AS3,\"\")","v":1.2195121951219512},{"$f":"IF($AO3<>0,AW3/$AS3,\"\")","v":-9.7560975609756101E-2},{"$f":"IF($AO3<>0,AX3/$AS3,\"\")","v":0.58536585365853655},{"$f":"IF($AO3<>0,AY3/$AS3,\"\")","v":7.3170731707317069E-2},{"$f":"IF($AO3<>0,AZ3/$AS3,\"\")","v":1.2195121951219513E-2},{"$f":"IF($AO3<>0,BA3/$AS3,\"\")","v":0},{"$f":"IF($AO3<>0,BB3/$AS3,\"\")","v":0},{"$f":"IF($AO3<>0,BC3/$AS3,\"\")","v":0},null,1734,"Antoine Vermette","Anaheim Ducks","veran",82,10,22,100,-8,48,6,1]
[3665,"Cam Fowler","ANA","Buy",null,null,null,null,null,null,null,null,null,null,0,0,0,0,0,0,0,{"$error":"#DIV/0!"},{"$error":"#DIV/0!"},{"$error":"#DIV/0!"}," ",3665,"Cam Fowler",{"$f":"IF(AQ4<>0,VLOOKUP(AQ4,Info!A:B,2,FALSE),\"\")","v":"ANA"},"fowca",0.13414634146341464,0.36585365853658536,2.3292682926829267,7.3170731707317069E-2,0.25609756097560976,6.097560975609756E-2,1.2195121951219513E-2,0,0,0,null,3665,"Cam Fowler","Anaheim Ducks","fowca",82,11,30,191,6,21,5,1]
[1880,"Corey Perry","ANA","Buy",null,null,null,null,null,null,null,null,null,null,0,0,0,0,0,0,0,{"$error":"#DIV/0!"},{"$error":"#DIV/0!"},{"$error":"#DIV/0!"}," ",1880,"Corey Perry",{"$f":"IF(AQ5<>0,VLOOKUP(AQ5,Info!A:B,2,FALSE),\"\")","v":"ANA"},"perco",0.23170731707317074,0.40243902439024393,2.6219512195121952,2.4390243902439025E-2,0.92682926829268297,6.097560975609756E-2,1.2195121951219513E-2,0,0,0,null,1880,"Corey Perry","Anaheim Ducks","perco",82,19,33,215,2,76,5,1]
[3738,"Hampus Lindholm","ANA","Buy",null,null,null,null,null,null,null,null,null,null,0,0,0,0,0,0,0,{"$error":"#DIV/0!"},{"$error":"#DIV/0!"},{"$error":"#DIV/0!"}," ",3738,"Hampus Lindholm",{"$f":"IF(AQ6<>0,VLOOKUP(AQ6,Info!A:B,2,FALSE),\"\")","v":"ANA"},"linha",0.12195121951219512,0.2073170731707317,1.4268292682926829,0.2073170731707317,0.54878048780487809,2.4390243902439025E-2,1.2195121951219513E-2,0,0,0,null,3738,"Hampus Lindholm","Anaheim Ducks","linha",82,10,17,117,17,45,2,1]
[3381,"Jakob Silfverberg","ANA","Buy",null,null,null,null,null,null,null,null,null,null,0,0,0,0,0,0,0,{"$error":"#DIV/0!"},{"$error":"#DIV/0!"},{"$error":"#DIV/0!"}," ",3381,"Jakob Silfverberg",{"$f":"IF(AQ7<>0,VLOOKUP(AQ7,Info!A:B,2,FALSE),\"\")","v":"ANA"},"silja",0.29268292682926828,0.32926829268292684,2.8780487804878048,0.12195121951219512,0.25609756097560976,6.097560975609756E-2,1.2195121951219513E-2,0,0,0,null,3381,"Jakob Silfverberg","Anaheim Ducks","silja",82,24,27,236,10,21,5,1]
[1953,"Kevin Bieksa","ANA","Buy",null,null,null,null,null,null,null,null,null,null,0,0,0,{"$error":"#DIV/0!"},0,0,0,{"$error":"#DIV/0!"},{"$error":"#DIV/0!"},{"$error":"#DIV/0!"}," ",1953,"Kevin Bieksa",{"$f":"IF(AQ8<>0,VLOOKUP(AQ8,Info!A:B,2,FALSE),\"\")","v":"ANA"},"bieke",0.12195121951219512,0.18292682926829268,1.1585365853658536,0,0.78048780487804881,2.4390243902439025E-2,1.2195121951219513E-2,0,0,0,null,1953,"Kevin Bieksa","Anaheim Ducks","bieke",82,10,15,95,0,64,2,1]
[4126,"Rickard Rakell","ANA","Buy",null,null,null,null,null,null,null,null,null,null,0,0,0,0,0,0,0,{"$error":"#DIV/0!"},{"$error":"#DIV/0!"},{"$error":"#DIV/0!"}," ",4126,"Rickard Rakell",{"$f":"IF(AQ9<>0,VLOOKUP(AQ9,Info!A:B,2,FALSE),\"\")","v":"ANA"},"rakri",0.46341463414634149,0.25609756097560976,2.4878048780487805,0.14634146341463414,0.17073170731707318,7.3170731707317069E-2,1.2195121951219513E-2,0,0,0,null,4126,"Rickard Rakell","Anaheim Ducks","rakri",82,38,21,204,12,14,6,1]
[1922,"Ryan Getzlaf","ANA","Buy",null,null,null,null,null,null,null,null,null,null,0,0,0,0,0,0,0,{"$error":"#DIV/0!"},{"$error":"#DIV/0!"},{"$error":"#DIV/0!"}," ",1922,"Ryan Getzlaf",{"$f":"IF(AQ10<>0,VLOOKUP(AQ10,Info!A:B,2,FALSE),\"\")","v":"ANA"},"getry",0.2073170731707317,0.6097560975609756,1.8658536585365855,9.7560975609756101E-2,0.65853658536585369,8.5365853658536592E-2,2.4390243902439025E-2,0,0,0,null,1922,"Ryan Getzlaf","Anaheim Ducks","getry",82,17,50,153,8,54,7,2]
[2300,"Ryan Kesler","ANA","Buy",null,null,null,null,null,null,null,null,null,null,0,0,0,0,0,0,0,{"$error":"#DIV/0!"},{"$error":"#DIV/0!"},{"$error":"#DIV/0!"}," ",2300,"Ryan Kesler",{"$f":"IF(AQ11<>0,VLOOKUP(AQ11,Info!A:B,2,FALSE),\"\")","v":"ANA"},"kesry",0.26829268292682928,0.43902439024390244,2.2682926829268291,9.7560975609756101E-2,1.0121951219512195,9.7560975609756101E-2,1.2195121951219513E-2,0,0,0,null,2300,"Ryan Kesler","Anaheim Ducks","kesry",82,22,36,186,8,83,8,1]
[3698,"Sami Vatanen","ANA","Buy",null,null,null,null,null,null,null,null,null,null,0,0,0,0,0,0,0,{"$error":"#DIV/0!"},{"$error":"#DIV/0!"},{"$error":"#DIV/0!"}," ",3698,"Sami Vatanen",{"$f":"IF(AQ12<>0,VLOOKUP(AQ12,Info!A:B,2,FALSE),\"\")","v":"ANA"},"vatsa",0.12195121951219512,0.29268292682926828,1.6463414634146341,3.6585365853658534E-2,0.42682926829268292,2.4390243902439025E-2,1.2195121951219513E-2,0,0,0,null,3698,"Sami Vatanen","Anaheim Ducks","vatsa",82,10,24,135,3,35,2,1]
[2372,"Alex Goligoski","ARI","Buy",null,null,null,null,null,null,null,null,null,null,0,0,0,0,0,0,0,{"$error":"#DIV/0!"},{"$error":"#DIV/0!"},{"$error":"#DIV/0!"}," ",2372,"Alex Goligoski",{"$f":"IF(AQ13<>0,VLOOKUP(AQ13,Info!A:B,2,FALSE),\"\")","v":"ARI"},"golal",0.12195121951219512,0.36585365853658536,1.3658536585365855,-0.10975609756097561,0.34146341463414637,2.4390243902439025E-2,1.2195121951219513E-2,0,0,0,null,2372,"Alex Goligoski","Arizona Coyotes","golal",82,10,30,112,-9,28,2,1]
[3933,"Anthony Duclair","ARI","Buy",null,null,null,null,null,null,null,null,null,null,0,0,0,0,0,0,0,{"$error":"#DIV/0!"},{"$error":"#DIV/0!"},{"$error":"#DIV/0!"}," ",3933,"Anthony Duclair",{"$f":"IF(AQ14<>0,VLOOKUP(AQ14,Info!A:B,2,FALSE),\"\")","v":"ARI"},"ducan",0.12195121951219512,0.18292682926829268,1.3048780487804879,-0.12195121951219512,0.24390243902439024,2.4390243902439025E-2,1.2195121951219513E-2,0,0,0,null,3933,"Anthony Duclair","Arizona Coyotes","ducan",82,10,15,107,-10,20,2,1]
[1861,"Brad Richardson","ARI","Buy",null,null,null,null,null,null,null,null,null,null,0,0,0,0,0,0,0,{"$error":"#DIV/0!"},{"$error":"#DIV/0!"},{"$error":"#DIV/0!"}," ",1861,"Brad Richardson",{"$f":"IF(AQ15<>0,VLOOKUP(AQ15,Info!A:B,2,FALSE),\"\")","v":"ARI"},"richb",0.31707317073170732,0.25609756097560976,1.5609756097560976,-6.097560975609756E-2,0.93902439024390238,2.4390243902439025E-2,4.878048780487805E-2,0,0,0,null,1861,"Brad Richardson","Arizona Coyotes","richb",82,26,21,128,-5,77,2,4]
[4229,"Clayton Keller","ARI","Buy",null,null,null,null,null,null,null,null,null,null,0,0,0,0,0,0,0,{"$error":"#DIV/0!"},{"$error":"#DIV/0!"},{"$error":"#DIV/0!"}," ",4229,"Clayton Keller",{"$f":"IF(AQ16<>0,VLOOKUP(AQ16,Info!A:B,2,FALSE),\"\")","v":"ARI"},"kelcl",0.42682926829268292,0.42682926829268292,2.6829268292682928,-0.24390243902439024,0.18292682926829268,0.14634146341463414,2.4390243902439025E-2,0,0,0,null,4229,"Clayton Keller","Arizona Coyotes","kelcl",82,35,35,220,-20,15,12,2]
[3380,"Dave Bolland","ARI","Buy",null,null,null,null,null,null,null,null,null,null,0,0,0,0,0,0,0,{"$error":"#DIV/0!"},{"$error":"#DIV/0!"},{"$error":"#DIV/0!"}," ",3380,"Dave Bolland",{"$f":"IF(AQ17<>0,VLOOKUP(AQ17,Info!A:B,2,FALSE),\"\")","v":"ARI"},"bolda",0.12195121951219512,0.18292682926829268,1.0365853658536586,-8.5365853658536592E-2,0.63414634146341464,2.4390243902439025E-2,1.2195121951219513E-2,0,0,0,null,3380,"Dave Bolland","Arizona Coyotes","bolda",82,10,15,85,-7,52,2,1]
[3029,"Derek Stepan","ARI","Buy",null,null,null,null,null,null,null,null,null,null,0,0,0,0,0,0,0,{"$error":"#DIV/0!"},{"$error":"#DIV/0!"},{"$error":"#DIV/0!"}," ",3029,"Derek Stepan",{"$f":"IF(AQ18<>0,VLOOKUP(AQ18,Info!A:B,2,FALSE),\"\")","v":"ARI"},"stepd",0.2073170731707317,0.46341463414634149,2.5853658536585367,0.23170731707317074,0.1951219512195122,4.878048780487805E-2,1.2195121951219513E-2,0,0,0,null,3029,"Derek Stepan","Arizona Coyotes","stepd",82,17,38,212,19,16,4,1]
[3930,"Max Domi","ARI","Buy",null,null,null,null,null,null,null,null,null,null,0,0,0,0,0,0,0,{"$error":"#DIV/0!"},{"$error":"#DIV/0!"},{"$error":"#DIV/0!"}," ",3930,"Max Domi",{"$f":"IF(AQ19<>0,VLOOKUP(AQ19,Info!A:B,2,FALSE),\"\")","v":"ARI"},"domim",0.15853658536585366,0.47560975609756095,1.8292682926829269,-0.15853658536585366,0.68292682926829273,2.4390243902439025E-2,1.2195121951219513E-2,0,0,0,null,3930,"Max Domi","Arizona Coyotes","domim",82,13,39,150,-13,56,2,1]
[3246,"Oliver Ekman-Larsson","ARI","Buy",null,null,null,null,null,null,null,null,null,null,0,0,0,0,0,0,0,{"$error":"#DIV/0!"},{"$error":"#DIV/0!"},{"$error":"#DIV/0!"}," ",3246,"Oliver Ekman-Larsson",{"$f":"IF(AQ20<>0,VLOOKUP(AQ20,Info!A:B,2,FALSE),\"\")","v":"ARI"},"ekmol",0.14634146341463414,0.34146341463414637,1.8414634146341464,-0.31707317073170732,0.6097560975609756,9.7560975609756101E-2,1.2195121951219513E-2,0,0,0,null,3246,"Oliver Ekman-Larsson","Arizona Coyotes","ekmol",82,12,28,151,-26,50,8,1]
[2965,"Brad Marchand","BOS","Buy",null,null,null,null,null,null,null,null,null,null,0,0,0,0,0,0,0,{"$error":"#DIV/0!"},{"$error":"#DIV/0!"},{"$error":"#DIV/0!"}," ",2965,"Brad Marchand",{"$f":"IF(AQ21<>0,VLOOKUP(AQ21,Info!A:B,2,FALSE),\"\")","v":"BOS"},"marcb",0.48780487804878048,0.57317073170731703,2.8292682926829267,0.25609756097560976,1.0121951219512195,0.10975609756097561,3.6585365853658534E-2,0,0,0,null,2965,"Brad Marchand","Boston Bruins","marcb",82,40,47,232,21,83,9,3]
[4230,"Charlie McAvoy","BOS","Buy",null,null,null,null,null,null,null,null,null,null,0,0,0,0,0,0,0,{"$error":"#DIV/0!"},{"$error":"#DIV/0!"},{"$error":"#DIV/0!"}," ",4230,"Charlie McAvoy",{"$f":"IF(AQ22<>0,VLOOKUP(AQ22,Info!A:B,2,FALSE),\"\")","v":"BOS"},"mcach",0.18292682926829268,0.42682926829268292,1.8292682926829269,-0.12195121951219512,0.6097560975609756,4.878048780487805E-2,1.2195121951219513E-2,0,0,0,null,4230,"Charlie McAvoy","Boston Bruins","mcach",82,15,35,150,-10,50,4,1]
[2376,"David Backes","BOS","Buy",null,null,null,null,null,null,null,null,null,null,0,0,0,0,0,0,0,{"$error":"#DIV/0!"},{"$error":"#DIV/0!"},{"$error":"#DIV/0!"}," ",2376,"David Backes",{"$f":"IF(AQ23<>0,VLOOKUP(AQ23,Info!A:B,2,FALSE),\"\")","v":"BOS"},"bacda",0.21951219512195122,0.28048780487804881,2.3536585365853657,2.4390243902439025E-2,0.92682926829268297,2.4390243902439025E-2,1.2195121951219513E-2,0,0,0,null,2376,"David Backes","Boston Bruins","bacda",82,18,23,193,2,76,2,1]
[2363,"David Krejci","BOS","Buy",null,null,null,null,null,null,null,null,null,null,0,0,0,0,0,0,0,{"$error":"#DIV/0!"},{"$error":"#DIV/0!"},{"$error":"#DIV/0!"}," ",2363,"David Krejci",{"$f":"IF(AQ24<>0,VLOOKUP(AQ24,Info!A:B,2,FALSE),\"\")","v":"BOS"},"kreda",0.28048780487804881,0.3902439024390244,1.9268292682926829,-0.14634146341463414,0.31707317073170732,9.7560975609756101E-2,1.2195121951219513E-2,0,0,0,null,2363,"David Krejci","Boston Bruins","kreda",82,23,32,158,-12,26,8,1]
[3811,"David Pastrnak","BOS","Buy",null,null,null,null,null,null,null,null,null,null,0,0,0,0,0,0,0,{"$error":"#DIV/0!"},{"$error":"#DIV/0!"},{"$error":"#DIV/0!"}," ",3811,"David Pastrnak",{"$f":"IF(AQ25<>0,VLOOKUP(AQ25,Info!A:B,2,FALSE),\"\")","v":"BOS"},"pasda",0.45121951219512196,0.47560975609756095,3.4878048780487805,0.14634146341463414,0.45121951219512196,0.13414634146341464,1.2195121951219513E-2,0,0,0,null,3811,"David Pastrnak","Boston Bruins","pasda",82,37,39,286,12,37,11,1]
[3727,"Matt Beleskey","BOS","Buy",null,null,null,null,null,null,null,null,null,null,0,0,0,0,0,0,0,{"$error":"#DIV/0!"},{"$error":"#DIV/0!"},{"$error":"#DIV/0!"}," ",3727,"Matt Beleskey",{"$f":"IF(AQ26<>0,VLOOKUP(AQ26,Info!A:B,2,FALSE),\"\")","v":"BOS"},"belma",0.12195121951219512,0.18292682926829268,1.6097560975609757,-0.21951219512195122,0.96341463414634143,2.4390243902439025E-2,1.2195121951219513E-2,0,0,0,null,3727,"Matt Beleskey","Boston Bruins","belma",82,10,15,132,-18,79,2,1]
[1043,"Patrice Bergeron","BOS","Buy",null,null,null,null,null,null,null,null,null,null,0,0,0,0,0,0,0,{"$error":"#DIV/0!"},{"$error":"#DIV/0!"},{"$error":"#DIV/0!"}," ",1043,"Patrice Bergeron",{"$f":"IF(AQ27<>0,VLOOKUP(AQ27,Info!A:B,2,FALSE),\"\")","v":"BOS"},"berpa",0.26829268292682928,0.40243902439024393,3.6585365853658538,0.14634146341463414,0.3048780487804878,9.7560975609756101E-2,1.2195121951219513E-2,0,0,0,null,1043,"Patrice Bergeron","Boston Bruins","berpa",82,22,33,300,12,25,8,1]
[2995,"Teddy Purcell","BOS","Buy",null,null,null,null,null,null,null,null,null,null,0,0,0,0,0,0,0,{"$error":"#DIV/0!"},{"$error":"#DIV/0!"},{"$error":"#DIV/0!"}," ",2995,"Teddy Purcell",{"$f":"IF(AQ28<>0,VLOOKUP(AQ28,Info!A:B,2,FALSE),\"\")","v":"BOS"},"purct",0.18292682926829268,0.37804878048780488,1.9634146341463414,-0.15853658536585366,0.15853658536585366,2.4390243902439025E-2,1.2195121951219513E-2,0,0,0,null,2995,"Teddy Purcell","Boston Bruins","purct",82,15,31,161,-13,13,2,1]
[3445,"Torey Krug","BOS","Buy",null,null,null,null,null,null,null,null,null,null,0,0,0,0,0,0,0,{"$error":"#DIV/0!"},{"$error":"#DIV/0!"},{"$error":"#DIV/0!"}," ",3445,"Torey Krug",{"$f":"IF(AQ29<>0,VLOOKUP(AQ29,Info!A:B,2,FALSE),\"\")","v":"BOS"},"kruto",0.12195121951219512,0.51219512195121952,2.5853658536585367,-0.13414634146341464,0.45121951219512196,7.3170731707317069E-2,1.2195121951219513E-2,0,0,0,null,3445,"Torey Krug","Boston Bruins","kruto",82,10,42,212,-11,37,6,1]
[1597,"Zdeno Chara","BOS","Buy",null,null,null,null,null,null,null,null,null,null,0,0,0,0,0,0,0,{"$error":"#DIV/0!"},{"$error":"#DIV/0!"},{"$error":"#DIV/0!"}," ",1597,"Zdeno Chara",{"$f":"IF(AQ30<>0,VLOOKUP(AQ30,Info!A:B,2,FALSE),\"\")","v":"BOS"},"chazd",0.12195121951219512,0.26829268292682928,1.8048780487804879,0.25609756097560976,0.79268292682926833,2.4390243902439025E-2,2.4390243902439025E-2,0,0,0,null,1597,"Zdeno Chara","Boston Bruins","chazd",82,10,22,148,21,65,2,2]
[2759,"Evander Kane","BUF","Buy",null,null,null,null,null,null,null,null,null,null,0,0,0,0,0,0,0,{"$error":"#DIV/0!"},{"$error":"#DIV/0!"},{"$error":"#DIV/0!"}," ",2759,"Evander Kane",{"$f":"IF(AQ31<>0,VLOOKUP(AQ31,Info!A:B,2,FALSE),\"\")","v":"BUF"},"kanev",0.40243902439024393,0.21951219512195122,3.6585365853658538,-0.24390243902439024,1.6097560975609757,4.878048780487805E-2,1.2195121951219513E-2,0,0,0,null,2759,"Evander Kane","Buffalo Sabres","kanev",82,33,18,300,-20,132,4,1]
[3927,"Jack Eichel","BUF","Buy",null,null,null,null,null,null,null,null,null,null,0,0,0,0,0,0,0,{"$error":"#DIV/0!"},{"$error":"#DIV/0!"},{"$error":"#DIV/0!"}," ",3927,"Jack Eichel",{"$f":"IF(AQ32<>0,VLOOKUP(AQ32,Info!A:B,2,FALSE),\"\")","v":"BUF"},"eicja",0.41463414634146339,0.52439024390243905,3.6585365853658538,-0.2073170731707317,0.36585365853658536,0.15853658536585366,1.2195121951219513E-2,0,0,0,null,3927,"Jack Eichel","Buffalo Sabres","eicja",82,34,43,300,-17,30,13,1]
[1876,"Jason Pominville","BUF","Buy",null,null,null,null,null,null,null,null,null,null,0,0,0,0,0,0,0,{"$error":"#DIV/0!"},{"$error":"#DIV/0!"},{"$error":"#DIV/0!"}," ",1876,"Jason Pominville",{"$f":"IF(AQ33<>0,VLOOKUP(AQ33,Info!A:B,2,FALSE),\"\")","v":"BUF"},"pomja",0.17073170731707318,0.43902439024390244,2.2560975609756095,2.4390243902439025E-2,0.12195121951219512,2.4390243902439025E-2,1.2195121951219513E-2,0,0,0,null,1876,"Jason Pominville","Buffalo Sabres","pomja",82,14,36,185,2,10,2,1]
[2604,"Kyle Okposo","BUF","Buy",null,null,null,null,null,null,null,null,null,null,0,0,0,0,0,0,0,{"$error":"#DIV/0!"},{"$error":"#DIV/0!"},{"$error":"#DIV/0!"}," ",2604,"Kyle Okposo",{"$f":"IF(AQ34<>0,VLOOKUP(AQ34,Info!A:B,2,FALSE),\"\")","v":"BUF"},"okpky",0.28048780487804881,0.40243902439024393,2.3902439024390243,-0.10975609756097561,0.36585365853658536,0.10975609756097561,1.2195121951219513E-2,0,0,0,null,2604,"Kyle Okposo","Buffalo Sabres","okpky",82,23,33,196,-9,30,9,1]
[2538,"Matt Moulson","BUF","Buy",null,null,null,null,null,null,null,null,null,null,0,0,0,0,0,0,0,{"$error":"#DIV/0!"},{"$error":"#DIV/0!"},{"$error":"#DIV/0!"}," ",2538,"Matt Moulson",{"$f":"IF(AQ35<>0,VLOOKUP(AQ35,Info!A:B,2,FALSE),\"\")","v":"BUF"},"mouma",0.17073170731707318,0.21951219512195122,1.6585365853658536,-4.878048780487805E-2,0.12195121951219512,0.13414634146341464,1.2195121951219513E-2,0,0,0,null,2538,"Matt Moulson","Buffalo Sabres","mouma",82,14,18,136,-4,10,11,1]
[3991,"Rasmus Ristolainen","BUF","Buy",null,null,null,null,null,null,null,null,null,null,0,0,0,0,0,0,0,{"$error":"#DIV/0!"},{"$error":"#DIV/0!"},{"$error":"#DIV/0!"}," ",3991,"Rasmus Ristolainen",{"$f":"IF(AQ36<>0,VLOOKUP(AQ36,Info!A:B,2,FALSE),\"\")","v":"BUF"},"risra",0.12195121951219512,0.48780487804878048,2.3536585365853657,-0.10975609756097561,0.73170731707317072,2.4390243902439025E-2,1.2195121951219513E-2,0,0,0,null,3991,"Rasmus Ristolainen","Buffalo Sabres","risra",82,10,40,193,-9,60,2,1]
[3026,"Ryan O'Reilly","BUF","Buy",null,null,null,null,null,null,null,null,null,null,0,0,0,0,0,0,0,{"$error":"#DIV/0!"},{"$error":"#DIV/0!"},{"$error":"#DIV/0!"}," ",3026,"Ryan O'Reilly",{"$f":"IF(AQ37<>0,VLOOKUP(AQ37,Info!A:B,2,FALSE),\"\")","v":"BUF"},"orery",0.28048780487804881,0.48780487804878048,2.6219512195121952,-1.2195121951219513E-2,0.13414634146341464,0.10975609756097561,1.2195121951219513E-2,0,0,0,null,3026,"Ryan O'Reilly","Buffalo Sabres","orery",82,23,40,215,-1,11,9,1]
[3992,"Sam Reinhart","BUF","Buy",null,null,null,null,null,null,null,null,null,null,0,0,0,0,0,0,0,{"$error":"#DIV/0!"},{"$error":"#DIV/0!"},{"$error":"#DIV/0!"}," ",3992,"Sam Reinhart",{"$f":"IF(AQ38<>0,VLOOKUP(AQ38,Info!A:B,2,FALSE),\"\")","v":"BUF"},"reisa",0.2073170731707317,0.3902439024390244,2.2195121951219514,-0.13414634146341464,0.12195121951219512,0.10975609756097561,1.2195121951219513E-2,0,0,0,null,3992,"Sam Reinhart","Buffalo Sabres","reisa",82,17,32,182,-11,10,9,1]
[3728,"Zemgus Girgensons","BUF","Buy",null,null,null,null,null,null,null,null,null,null,0,0,0,0,0,0,0,{"$error":"#DIV/0!"},{"$error":"#DIV/0!"},{"$error":"#DIV/0!"}," ",3728,"Zemgus Girgensons",{"$f":"IF(AQ39<>0,VLOOKUP(AQ39,Info!A:B,2,FALSE),\"\")","v":"BUF"},"girze",0.12195121951219512,0.18292682926829268,1.4878048780487805,-9.7560975609756101E-2,0.24390243902439024,2.4390243902439025E-2,1.2195121951219513E-2,0,0,0,null,3728,"Zemgus Girgensons","Buffalo Sabres","girze",82,10,15,122,-8,20,2,1]
[3248,"Dougie Hamilton","CAL","Buy",null,null,null,null,null,null,null,null,null,null,0,0,0,0,0,0,0,{"$error":"#DIV/0!"},{"$error":"#DIV/0!"},{"$error":"#DIV/0!"}," ",3248,"Dougie Hamilton",{"$f":"IF(AQ40<>0,VLOOKUP(AQ40,Info!A:B,2,FALSE),\"\")","v":"CAL"},"hamdo",0.15853658536585366,0.45121951219512196,2.7439024390243905,0.14634146341463414,0.79268292682926833,2.4390243902439025E-2,1.2195121951219513E-2,0,0,0,null,3248,"Dougie Hamilton","Calgary Flames","hamdo",82,13,37,225,12,65,2,1]
[3729,"Johnny Gaudreau","CAL","Buy",null,null,null,null,null,null,null,null,null,null,0,0,0,0,0,0,0,{"$error":"#DIV/0!"},{"$error":"#DIV/0!"},{"$error":"#DIV/0!"}," ",3729,"Johnny Gaudreau",{"$f":"IF(AQ41<>0,VLOOKUP(AQ41,Info!A:B,2,FALSE),\"\")","v":"CAL"},"gaujo",0.25609756097560976,0.59756097560975607,2.524390243902439,-9.7560975609756101E-2,0.12195121951219512,3.6585365853658534E-2,1.2195121951219513E-2,0,0,0,null,3729,"Johnny Gaudreau","Calgary Flames","gaujo",82,21,49,207,-8,10,3,1]
[2367,"Kris Versteeg","CAL","Buy",null,null,null,null,null,null,null,null,null,null,0,0,0,0,0,0,0,{"$error":"#DIV/0!"},{"$error":"#DIV/0!"},{"$error":"#DIV/0!"}," ",2367,"Kris Versteeg",{"$f":"IF(AQ42<>0,VLOOKUP(AQ42,Info!A:B,2,FALSE),\"\")","v":"CAL"},"verkr",0.21951219512195122,0.31707317073170732,1.975609756097561,-6.097560975609756E-2,0.67073170731707321,0.12195121951219512,1.2195121951219513E-2,0,0,0,null,2367,"Kris Versteeg","Calgary Flames","verkr",82,18,26,162,-5,55,10,1]
[3702,"Mark Giordano","CAL","Buy",null,null,null,null,null,null,null,null,null,null,0,0,0,0,0,0,0,{"$error":"#DIV/0!"},{"$error":"#DIV/0!"},{"$error":"#DIV/0!"}," ",3702,"Mark Giordano",{"$f":"IF(AQ43<>0,VLOOKUP(AQ43,Info!A:B,2,FALSE),\"\")","v":"CAL"},"gioma",0.14634146341463414,0.34146341463414637,1.8658536585365855,0.28048780487804881,0.73170731707317072,3.6585365853658534E-2,2.4390243902439025E-2,0,0,0,null,3702,"Mark Giordano","Calgary Flames","gioma",82,12,28,153,23,60,3,2]
[1881,"Matt Stajan","CAL","Buy",null,null,null,null,null,null,null,null,null,null,0,0,0,0,0,0,0,{"$error":"#DIV/0!"},{"$error":"#DIV/0!"},{"$error":"#DIV/0!"}," ",1881,"Matt Stajan",{"$f":"IF(AQ44<>0,VLOOKUP(AQ44,Info!A:B,2,FALSE),\"\")","v":"CAL"},"stama",0.12195121951219512,0.2073170731707317,0.91463414634146345,3.6585365853658534E-2,0.48780487804878048,2.4390243902439025E-2,1.2195121951219513E-2,0,0,0,null,1881,"Matt Stajan","Calgary Flames","stama",82,10,17,75,3,40,2,1]
[2771,"Michael Frolik","CAL","Buy",null,null,null,null,null,null,null,null,null,null,0,0,0,0,0,0,0,{"$error":"#DIV/0!"},{"$error":"#DIV/0!"},{"$error":"#DIV/0!"}," ",2771,"Michael Frolik",{"$f":"IF(AQ45<>0,VLOOKUP(AQ45,Info!A:B,2,FALSE),\"\")","v":"CAL"},"fromi",0.2073170731707317,0.32926829268292684,2.4634146341463414,0.17073170731707318,0.70731707317073167,3.6585365853658534E-2,2.4390243902439025E-2,0,0,0,null,2771,"Michael Frolik","Calgary Flames","fromi",82,17,27,202,14,58,3,2]
[3812,"Mikael Backlund","CAL","Buy",null,null,null,null,null,null,null,null,null,null,0,0,0,0,0,0,0,{"$error":"#DIV/0!"},{"$error":"#DIV/0!"},{"$error":"#DIV/0!"}," ",3812,"Mikael Backlund",{"$f":"IF(AQ46<>0,VLOOKUP(AQ46,Info!A:B,2,FALSE),\"\")","v":"CAL"},"bacmi",0.26829268292682928,0.37804878048780488,2.4268292682926829,9.7560975609756101E-2,0.43902439024390244,8.5365853658536592E-2,1.2195121951219513E-2,0,0,0,null,3812,"Mikael Backlund","Calgary Flames","bacmi",82,22,31,199,8,36,7,1]
[4000,"Sam Bennett","CAL","Buy",null,null,null,null,null,null,null,null,null,null,0,0,0,0,0,0,0,{"$error":"#DIV/0!"},{"$error":"#DIV/0!"},{"$error":"#DIV/0!"}," ",4000,"Sam Bennett",{"$f":"IF(AQ47<>0,VLOOKUP(AQ47,Info!A:B,2,FALSE),\"\")","v":"CAL"},"bensa",0.15853658536585366,0.18292682926829268,1.5121951219512195,-0.17073170731707318,0.92682926829268297,4.878048780487805E-2,1.2195121951219513E-2,0,0,0,null,4000,"Sam Bennett","Calgary Flames","bensa",82,13,15,124,-14,76,4,1]
[3384,"Sean Monahan","CAL","Buy",null,null,null,null,null,null,null,null,null,null,0,0,0,0,0,0,0,{"$error":"#DIV/0!"},{"$error":"#DIV/0!"},{"$error":"#DIV/0!"}," ",3384,"Sean Monahan",{"$f":"IF(AQ48<>0,VLOOKUP(AQ48,Info!A:B,2,FALSE),\"\")","v":"CAL"},"monse",0.32926829268292684,0.37804878048780488,2.4268292682926829,-2.4390243902439025E-2,0.24390243902439024,9.7560975609756101E-2,1.2195121951219513E-2,0,0,0,null,3384,"Sean Monahan","Calgary Flames","monse",82,27,31,199,-2,20,8,1]
[3701,"TJ Brodie","CAL","Buy",null,null,null,null,null,null,null,null,null,null,0,0,0,0,0,0,0,{"$error":"#DIV/0!"},{"$error":"#DIV/0!"},{"$error":"#DIV/0!"}," ",3701,"TJ Brodie",{"$f":"IF(AQ49<>0,VLOOKUP(AQ49,Info!A:B,2,FALSE),\"\")","v":"CAL"},"brotj",0.12195121951219512,0.35365853658536583,0.95121951219512191,-0.2073170731707317,0.29268292682926828,2.4390243902439025E-2,1.2195121951219513E-2,0,0,0,null,3701,"TJ Brodie","Calgary Flames","brotj",82,10,29,78,-17,24,2,1]
[3815,"Travis Hamonic","CAL","Buy",null,null,null,null,null,null,null,null,null,null,0,0,0,0,0,0,0,{"$error":"#DIV/0!"},{"$error":"#DIV/0!"},{"$error":"#DIV/0!"}," ",3815,"Travis Hamonic",{"$f":"IF(AQ50<>0,VLOOKUP(AQ50,Info!A:B,2,FALSE),\"\")","v":"CAL"},"hamtr",0.12195121951219512,0.21951219512195122,1.5121951219512195,-0.36585365853658536,1.2195121951219512,2.4390243902439025E-2,1.2195121951219513E-2,0,0,0,null,3815,"Travis Hamonic","Calgary Flames","hamtr",82,10,18,124,-30,100,2,1]
[2762,"Troy Brouwer","CAL","Buy",null,null,null,null,null,null,null,null,null,null,0,0,0,0,0,0,0,{"$error":"#DIV/0!"},{"$error":"#DIV/0!"},{"$error":"#DIV/0!"}," ",2762,"Troy Brouwer",{"$f":"IF(AQ51<>0,VLOOKUP(AQ51,Info!A:B,2,FALSE),\"\")","v":"CAL"},"brout",0.17073170731707318,0.18292682926829268,1.1585365853658536,-0.14634146341463414,0.41463414634146339,7.3170731707317069E-2,1.2195121951219513E-2,0,0,0,null,2762,"Troy Brouwer","Calgary Flames","brout",82,14,15,95,-12,34,6,1]
[3666,"Elias Lindholm","CAR","Buy",null,null,null,null,null,null,null,null,null,null,0,0,0,0,0,0,0,{"$error":"#DIV/0!"},{"$error":"#DIV/0!"},{"$error":"#DIV/0!"}," ",3666,"Elias Lindholm",{"$f":"IF(AQ52<>0,VLOOKUP(AQ52,Info!A:B,2,FALSE),\"\")","v":"CAR"},"linel",0.15853658536585366,0.48780487804878048,2.0731707317073171,-2.4390243902439025E-2,0.21951219512195122,2.4390243902439025E-2,1.2195121951219513E-2,0,0,0,null,3666,"Elias Lindholm","Carolina Hurricanes","linel",82,13,40,170,-2,18,2,1]
[2753,"Jeff Skinner","CAR","Buy",null,null,null,null,null,null,null,null,null,null,0,0,0,0,0,0,0,{"$error":"#DIV/0!"},{"$error":"#DIV/0!"},{"$error":"#DIV/0!"}," ",2753,"Jeff Skinner",{"$f":"IF(AQ53<>0,VLOOKUP(AQ53,Info!A:B,2,FALSE),\"\")","v":"CAR"},"skije",0.45121951219512196,0.32926829268292684,3.4512195121951219,-4.878048780487805E-2,0.35365853658536583,8.5365853658536592E-2,1.2195121951219513E-2,0,0,0,null,2753,"Jeff Skinner","Carolina Hurricanes","skije",82,37,27,283,-4,29,7,1]
[1932,"Jordan Staal","CAR","Buy",null,null,null,null,null,null,null,null,null,null,0,0,0,0,0,0,0,{"$error":"#DIV/0!"},{"$error":"#DIV/0!"},{"$error":"#DIV/0!"}," ",1932,"Jordan Staal",{"$f":"IF(AQ54<>0,VLOOKUP(AQ54,Info!A:B,2,FALSE),\"\")","v":"CAR"},"stajo",0.2073170731707317,0.3902439024390244,2.1463414634146343,1.2195121951219513E-2,0.47560975609756095,4.878048780487805E-2,1.2195121951219513E-2,0,0,0,null,1932,"Jordan Staal","Carolina Hurricanes","stajo",82,17,32,176,1,39,4,1]
[3378,"Justin Faulk","CAR","Buy",null,null,null,null,null,null,null,null,null,null,0,0,0,0,0,0,0,{"$error":"#DIV/0!"},{"$error":"#DIV/0!"},{"$error":"#DIV/0!"}," ",3378,"Justin Faulk",{"$f":"IF(AQ55<>0,VLOOKUP(AQ55,Info!A:B,2,FALSE),\"\")","v":"CAR"},"fauju",0.1951219512195122,0.26829268292682928,2.8780487804878048,-0.25609756097560976,0.42682926829268292,4.878048780487805E-2,1.2195121951219513E-2,0,0,0,null,3378,"Justin Faulk","Carolina Hurricanes","fauju",82,16,22,236,-21,35,4,1]
[1610,"Justin Williams","CAR","Buy",null,null,null,null,null,null,null,null,null,null,0,0,0,0,0,0,0,{"$error":"#DIV/0!"},{"$error":"#DIV/0!"},{"$error":"#DIV/0!"}," ",1610,"Justin Williams",{"$f":"IF(AQ56<>0,VLOOKUP(AQ56,Info!A:B,2,FALSE),\"\")","v":"CAR"},"wilju",0.3048780487804878,0.3048780487804878,2.0853658536585367,0.17073170731707318,0.62195121951219512,6.097560975609756E-2,1.2195121951219513E-2,0,0,0,null,1610,"Justin Williams","Carolina Hurricanes","wilju",82,25,25,171,14,51,5,1]
[1869,"Lee Stempniak","CAR","Buy",null,null,null,null,null,null,null,null,null,null,0,0,0,{"$error":"#DIV/0!"},0,0,0,{"$error":"#DIV/0!"},{"$error":"#DIV/0!"},{"$error":"#DIV/0!"}," ",1869,"Lee Stempniak",{"$f":"IF(AQ57<>0,VLOOKUP(AQ57,Info!A:B,2,FALSE),\"\")","v":"CAR"},"stele",0.1951219512195122,0.28048780487804881,1.5487804878048781,0,0.3902439024390244,2.4390243902439025E-2,1.2195121951219513E-2,0,0,0,null,1869,"Lee Stempniak","Carolina Hurricanes","stele",82,16,23,127,0,32,2,1]
[4127,"Sebastian Aho","CAR","Buy",null,null,null,null,null,null,null,null,null,null,0,0,0,0,0,0,0,{"$error":"#DIV/0!"},{"$error":"#DIV/0!"},{"$error":"#DIV/0!"}," ",4127,"Sebastian Aho",{"$f":"IF(AQ58<>0,VLOOKUP(AQ58,Info!A:B,2,FALSE),\"\")","v":"CAR"},"ahose",0.29268292682926828,0.3048780487804878,2.6341463414634148,-1.2195121951219513E-2,0.31707317073170732,7.3170731707317069E-2,1.2195121951219513E-2,0,0,0,null,4127,"Sebastian Aho","Carolina Hurricanes","ahose",82,24,25,216,-1,26,6,1]
[3935,"Teuvo Teravainen","CAR","Buy",null,null,null,null,null,null,null,null,null,null,0,0,0,0,0,0,0,{"$error":"#DIV/0!"},{"$error":"#DIV/0!"},{"$error":"#DIV/0!"}," ",3935,"Teuvo Teravainen",{"$f":"IF(AQ59<>0,VLOOKUP(AQ59,Info!A:B,2,FALSE),\"\")","v":"CAR"},"terte",0.18292682926829268,0.32926829268292684,2.024390243902439,-6.097560975609756E-2,0.17073170731707318,6.097560975609756E-2,1.2195121951219513E-2,0,0,0,null,3935,"Teuvo Teravainen","Carolina Hurricanes","terte",82,15,27,166,-5,14,5,1]
[3993,"Victor Rask","CAR","Buy",null,null,null,null,null,null,null,null,null,null,0,0,0,0,0,0,0,{"$error":"#DIV/0!"},{"$error":"#DIV/0!"},{"$error":"#DIV/0!"}," ",3993,"Victor Rask",{"$f":"IF(AQ60<>0,VLOOKUP(AQ60,Info!A:B,2,FALSE),\"\")","v":"CAR"},"rasvi",0.1951219512195122,0.34146341463414637,2.2560975609756095,-0.12195121951219512,0.1951219512195122,4.878048780487805E-2,1.2195121951219513E-2,0,0,0,null,3993,"Victor Rask","Carolina Hurricanes","rasvi",82,16,28,185,-10,16,4,1]
[2778,"Artem Anisimov","CHI","Buy",null,null,null,null,null,null,null,null,null,null,0,0,0,0,0,0,0,{"$error":"#DIV/0!"},{"$error":"#DIV/0!"},{"$error":"#DIV/0!"}," ",2778,"Artem Anisimov",{"$f":"IF(AQ61<>0,VLOOKUP(AQ61,Info!A:B,2,FALSE),\"\")","v":"CHI"},"aniar",0.34146341463414637,0.35365853658536583,1.6463414634146341,0.14634146341463414,0.46341463414634149,6.097560975609756E-2,1.2195121951219513E-2,0,0,0,null,2778,"Artem Anisimov","Chicago Blackhawks","aniar",82,28,29,135,12,38,5,1]
[3237,"Brandon Saad","CHI","Buy",null,null,null,null,null,null,null,null,null,null,0,0,0,0,0,0,0,{"$error":"#DIV/0!"},{"$error":"#DIV/0!"},{"$error":"#DIV/0!"}," ",3237,"Brandon Saad",{"$f":"IF(AQ62<>0,VLOOKUP(AQ62,Info!A:B,2,FALSE),\"\")","v":"CHI"},"saabr",0.29268292682926828,0.35365853658536583,2.5609756097560976,0.29268292682926828,0.12195121951219512,2.4390243902439025E-2,1.2195121951219513E-2,0,0,0,null,3237,"Brandon Saad","Chicago Blackhawks","saabr",82,24,29,210,24,10,2,1]
[2075,"Brent Seabrook","CHI","Buy",null,null,null,null,null,null,null,null,null,null,0,0,0,0,0,0,0,{"$error":"#DIV/0!"},{"$error":"#DIV/0!"},{"$error":"#DIV/0!"}," ",2075,"Brent Seabrook",{"$f":"IF(AQ63<>0,VLOOKUP(AQ63,Info!A:B,2,FALSE),\"\")","v":"CHI"},"seabr",0.12195121951219512,0.43902439024390244,1.6585365853658536,7.3170731707317069E-2,0.32926829268292684,2.4390243902439025E-2,1.2195121951219513E-2,0,0,0,null,2075,"Brent Seabrook","Chicago Blackhawks","seabr",82,10,36,136,6,27,2,1]
[3240,"Cody Franson","CHI","Buy",null,null,null,null,null,null,null,null,null,null,0,0,0,0,0,0,0,{"$error":"#DIV/0!"},{"$error":"#DIV/0!"},{"$error":"#DIV/0!"}," ",3240,"Cody Franson",{"$f":"IF(AQ64<>0,VLOOKUP(AQ64,Info!A:B,2,FALSE),\"\")","v":"CHI"},"fraco",0.12195121951219512,0.23170731707317074,1.3658536585365855,-7.3170731707317069E-2,0.5,2.4390243902439025E-2,1.2195121951219513E-2,0,0,0,null,3240,"Cody Franson","Chicago Blackhawks","fraco",82,10,19,112,-6,41,2,1]
[2600,"Duncan Keith","CHI","Buy",null,null,null,null,null,null,null,null,null,null,0,0,0,0,0,0,0,{"$error":"#DIV/0!"},{"$error":"#DIV/0!"},{"$error":"#DIV/0!"}," ",2600,"Duncan Keith",{"$f":"IF(AQ65<>0,VLOOKUP(AQ65,Info!A:B,2,FALSE),\"\")","v":"CHI"},"keidu",0.12195121951219512,0.58536585365853655,2.2926829268292681,0.28048780487804881,0.1951219512195122,2.4390243902439025E-2,1.2195121951219513E-2,0,0,0,null,2600,"Duncan Keith","Chicago Blackhawks","keidu",82,10,48,188,23,16,2,1]
[2290,"Jonathan Toews","CHI","Buy",null,null,null,null,null,null,null,null,null,null,{"$f":"VLOOKUP($A66,$A:$N,5,FALSE)/VLOOKUP($A66,$Z:$AM,5,FALSE)","v":0},{"$f":"VLOOKUP($A66,$A:$N,6,FALSE)/VLOOKUP($A66,$Z:$AM,6,FALSE)","v":0},{"$f":"VLOOKUP($A66,$A:$N,7,FALSE)/VLOOKUP($A66,$Z:$AM,7,FALSE)","v":0},{"$f":"VLOOKUP($A66,$A:$N,8,FALSE)/VLOOKUP($A66,$Z:$AM,8,FALSE)","v":0},{"$f":"VLOOKUP($A66,$A:$N,9,FALSE)/VLOOKUP($A66,$Z:$AM,9,FALSE)","v":0},{"$f":"VLOOKUP($A66,$A:$N,10,FALSE)/VLOOKUP($A66,$Z:$AM,10,FALSE)","v":0},{"$f":"VLOOKUP($A66,$A:$N,11,FALSE)/VLOOKUP($A66,$Z:$AM,11,FALSE)","v":0},{"$f":"VLOOKUP($A66,$A:$N,12,FALSE)/VLOOKUP($A66,$Z:$AM,12,FALSE)","v":{"$error":"#DIV/0!"}},{"$f":"VLOOKUP($A66,$A:$N,13,FALSE)/VLOOKUP($A66,$Z:$AM,13,FALSE)","v":{"$error":"#DIV/0!"}},{"$f":"VLOOKUP($A66,$A:$N,14,FALSE)/VLOOKUP($A66,$Z:$AM,14,FALSE)","v":{"$error":"#DIV/0!"}}," ",2290,"Jonathan Toews",{"$f":"IF(AQ66<>0,VLOOKUP(AQ66,Info!A:B,2,FALSE),\"\")","v":"CHI"},"toejo",0.28048780487804881,0.53658536585365857,2.7560975609756095,9.7560975609756101E-2,0.48780487804878048,7.3170731707317069E-2,1.2195121951219513E-2,0,0,0,null,2290,"Jonathan Toews","Chicago Blackhawks","toejo",82,23,44,226,8,40,6,1]
[{"$f":"IF(Z67<>0,Z67,\"\")","v":290},{"$f":"IF(A67<>0,VLOOKUP(A67,Z:AA,2,FALSE),\"\")","v":"Marian Hossa"},{"$f":"IF(A67<>0,VLOOKUP(A67,Z:AB,3,FALSE))","v":"CHI"},{"$f":"HYPERLINK(\"http://www.jockstocks.com/buysell.php?action=buymax&plid=\"&A67,\"Buy\")","v":"Buy"},null,null,null,null,null,null,null,null,null,null,0,0,0,0,0,0,0,{"$error":"#DIV/0!"},{"$error":"#DIV/0!"},{"$error":"#DIV/0!"}," ",{"$f":"IF(AO67<>0,AO67,\"\")","v":290},{"$f":"IF(AP67<>0,VLOOKUP(Z67,AO:AP,2,FALSE),\"\")","v":"Marian Hossa"},{"$f":"IF(AQ67<>0,VLOOKUP(AQ67,Info!A:B,2,FALSE),\"\")","v":"CHI"},{"$f":"IF(AO67<>0,VLOOKUP(Z67,AO:AR,4,FALSE),\"\")","v":"hosma"},{"$f":"IF($AO67<>0,AT67/$AS67,\"\")","v":0.35365853658536583},{"$f":"IF($AO67<>0,AU67/$AS67,\"\")","v":0.25609756097560976},{"$f":"IF($AO67<>0,AV67/$AS67,\"\")","v":2.2926829268292681},{"$f":"IF($AO67<>0,AW67/$AS67,\"\")","v":8.5365853658536592E-2},{"$f":"IF($AO67<>0,AX67/$AS67,\"\")","v":0.12195121951219512},{"$f":"IF($AO67<>0,AY67/$AS67,\"\")","v":4.878048780487805E-2},{"$f":"IF($AO67<>0,AZ67/$AS67,\"\")","v":1.2195121951219513E-2},{"$f":"IF($AO67<>0,BA67/$AS67,\"\")","v":0},{"$f":"IF($AO67<>0,BB67/$AS67,\"\")","v":0},{"$f":"IF($AO67<>0,BC67/$AS67,\"\")","v":0},null,290,"Marian Hossa","Chicago Blackhawks","hosma",82,29,21,188,7,10,4,1]
[2371,"Michal Rozsival","CHI","Buy",null,null,null,null,null,null,null,null,null,null,0,0,0,0,0,0,0,{"$error":"#DIV/0!"},{"$error":"#DIV/0!"},{"$error":"#DIV/0!"}," ",2371,"Michal Rozsival",{"$f":"IF(AQ68<>0,VLOOKUP(AQ68,Info!A:B,2,FALSE),\"\")","v":"CHI"},"rozmi",0.12195121951219512,0.18292682926829268,0.91463414634146345,-0.13414634146341464,0.63414634146341464,2.4390243902439025E-2,1.2195121951219513E-2,0,0,0,null,2371,"Michal Rozsival","Chicago Blackhawks","rozmi",82,10,15,75,-11,52,2,1]
[2076,"Patrick Kane","CHI","Buy",null,null,null,null,null,null,null,null,null,null,0,0,0,0,0,0,0,{"$error":"#DIV/0!"},{"$error":"#DIV/0!"},{"$error":"#DIV/0!"}," ",2076,"Patrick Kane",{"$f":"IF(AQ69<>0,VLOOKUP(AQ69,Info!A:B,2,FALSE),\"\")","v":"CHI"},"kanpa",0.41463414634146339,0.6097560975609756,3.5609756097560976,0.14634146341463414,0.3902439024390244,8.5365853658536592E-2,1.2195121951219513E-2,0,0,0,null,2076,"Patrick Kane","Chicago Blackhawks","kanpa",82,34,50,292,12,32,7,1]
[2129,"Patrick Sharp","CHI","Buy",null,null,null,null,null,null,null,null,null,null,0,0,0,0,0,0,0,{"$error":"#DIV/0!"},{"$error":"#DIV/0!"},{"$error":"#DIV/0!"}," ",2129,"Patrick Sharp",{"$f":"IF(AQ70<>0,VLOOKUP(AQ70,Info!A:B,2,FALSE),\"\")","v":"CHI"},"shapa",0.17073170731707318,0.2073170731707317,3.0365853658536586,-0.36585365853658536,0.64634146341463417,2.4390243902439025E-2,2.4390243902439025E-2,0,0,0,null,2129,"Patrick Sharp","Chicago Blackhawks","shapa",82,14,17,249,-30,53,2,2]
[4097,"Richard Panik","CHI","Buy",null,null,null,null,null,null,null,null,null,null,0,0,0,0,0,0,0,{"$error":"#DIV/0!"},{"$error":"#DIV/0!"},{"$error":"#DIV/0!"}," ",4097,"Richard Panik",{"$f":"IF(AQ71<>0,VLOOKUP(AQ71,Info!A:B,2,FALSE),\"\")","v":"CHI"},"panri",0.28048780487804881,0.25609756097560976,1.9024390243902438,0.17073170731707318,0.69512195121951215,4.878048780487805E-2,1.2195121951219513E-2,0,0,0,null,4097,"Richard Panik","Chicago Blackhawks","panri",82,23,21,156,14,57,4,1]
[3440,"Tommy Wingels","CHI","Buy",null,null,null,null,null,null,null,null,null,null,0,0,0,0,0,0,0,{"$error":"#DIV/0!"},{"$error":"#DIV/0!"},{"$error":"#DIV/0!"}," ",3440,"Tommy Wingels",{"$f":"IF(AQ72<>0,VLOOKUP(AQ72,Info!A:B,2,FALSE),\"\")","v":"CHI"},"winto",0.12195121951219512,0.18292682926829268,1.1097560975609757,-0.14634146341463414,0.36585365853658536,2.4390243902439025E-2,1.2195121951219513E-2,0,0,0,null,3440,"Tommy Wingels","Chicago Blackhawks","winto",82,10,15,91,-12,30,2,1]
[3700,"Carl Soderberg","COL","Buy",null,null,null,null,null,null,null,null,null,null,0,0,0,0,0,0,0,{"$error":"#DIV/0!"},{"$error":"#DIV/0!"},{"$error":"#DIV/0!"}," ",3700,"Carl Soderberg",{"$f":"IF(AQ73<>0,VLOOKUP(AQ73,Info!A:B,2,FALSE),\"\")","v":"COL"},"sodca",0.12195121951219512,0.18292682926829268,1.5731707317073171,-0.32926829268292684,0.28048780487804881,2.4390243902439025E-2,1.2195121951219513E-2,0,0,0,null,3700,"Carl Soderberg","Colorado Avalanche","sodca",82,10,15,129,-27,23,2,1]
[3480,"Colin Wilson","COL","Buy",null,null,null,null,null,null,null,null,null,null,0,0,0,0,0,0,0,{"$error":"#DIV/0!"},{"$error":"#DIV/0!"},{"$error":"#DIV/0!"}," ",3480,"Colin Wilson",{"$f":"IF(AQ74<>0,VLOOKUP(AQ74,Info!A:B,2,FALSE),\"\")","v":"COL"},"wilco",0.17073170731707318,0.32926829268292684,1.6097560975609757,9.7560975609756101E-2,0.25609756097560976,8.5365853658536592E-2,1.2195121951219513E-2,0,0,0,null,3480,"Colin Wilson","Colorado Avalanche","wilco",82,14,27,132,8,21,7,1]
[2776,"Erik Johnson","COL","Buy",null,null,null,null,null,null,null,null,null,null,0,0,0,0,0,0,0,{"$error":"#DIV/0!"},{"$error":"#DIV/0!"},{"$error":"#DIV/0!"}," ",2776,"Erik Johnson",{"$f":"IF(AQ75<>0,VLOOKUP(AQ75,Info!A:B,2,FALSE),\"\")","v":"COL"},"johne",0.12195121951219512,0.32926829268292684,2.0853658536585367,-0.10975609756097561,0.1951219512195122,2.4390243902439025E-2,1.2195121951219513E-2,0,0,0,null,2776,"Erik Johnson","Colorado Avalanche","johne",82,10,27,171,-9,16,2,1]
[3244,"Gabriel Bourque","COL","Buy",null,null,null,null,null,null,null,null,null,null,0,0,0,{"$error":"#DIV/0!"},0,0,0,{"$error":"#DIV/0!"},{"$error":"#DIV/0!"},{"$error":"#DIV/0!"}," ",3244,"Gabriel Bourque",{"$f":"IF(AQ76<>0,VLOOKUP(AQ76,Info!A:B,2,FALSE),\"\")","v":"COL"},"bouga",0.12195121951219512,0.18292682926829268,1.1341463414634145,0,0.81707317073170727,2.4390243902439025E-2,1.2195121951219513E-2,0,0,0,null,3244,"Gabriel Bourque","Colorado Avalanche","bouga",82,10,15,93,0,67,2,1]
[3031,"Gabriel Landeskog","COL","Buy",null,null,null,null,null,null,null,null,null,null,0,0,0,0,0,0,0,{"$error":"#DIV/0!"},{"$error":"#DIV/0!"},{"$error":"#DIV/0!"}," ",3031,"Gabriel Landeskog",{"$f":"IF(AQ77<>0,VLOOKUP(AQ77,Info!A:B,2,FALSE),\"\")","v":"COL"},"langa",0.25609756097560976,0.2073170731707317,2.3414634146341462,-0.34146341463414637,0.86585365853658536,7.3170731707317069E-2,1.2195121951219513E-2,0,0,0,null,3031,"Gabriel Landeskog","Colorado Avalanche","langa",82,21,17,192,-28,71,6,1]
[2605,"Matt Duchene","COL","Buy",null,null,null,null,null,null,null,null,null,null,0,0,0,0,0,0,0,{"$error":"#DIV/0!"},{"$error":"#DIV/0!"},{"$error":"#DIV/0!"}," ",2605,"Matt Duchene",{"$f":"IF(AQ78<>0,VLOOKUP(AQ78,Info!A:B,2,FALSE),\"\")","v":"COL"},"ducma",0.23170731707317074,0.29268292682926828,2.0731707317073171,-0.36585365853658536,0.15853658536585366,3.6585365853658534E-2,1.2195121951219513E-2,0,0,0,null,2605,"Matt Duchene","Colorado Avalanche","ducma",82,19,24,170,-30,13,3,1]
[3200,"Nail Yakupov","COL","Buy",null,null,null,null,null,null,null,null,null,null,0,0,0,0,0,0,0,{"$error":"#DIV/0!"},{"$error":"#DIV/0!"},{"$error":"#DIV/0!"}," ",3200,"Nail Yakupov",{"$f":"IF(AQ79<>0,VLOOKUP(AQ79,Info!A:B,2,FALSE),\"\")","v":"COL"},"yakna",0.12195121951219512,0.18292682926829268,0.91463414634146345,-9.7560975609756101E-2,0.35365853658536583,2.4390243902439025E-2,1.2195121951219513E-2,0,0,0,null,3200,"Nail Yakupov","Colorado Avalanche","yakna",82,10,15,75,-8,29,2,1]
[3383,"Nathan MacKinnon","COL","Buy",null,null,null,null,null,null,null,null,null,null,0,0,0,0,0,0,0,{"$error":"#DIV/0!"},{"$error":"#DIV/0!"},{"$error":"#DIV/0!"}," ",3383,"Nathan MacKinnon",{"$f":"IF(AQ80<>0,VLOOKUP(AQ80,Info!A:B,2,FALSE),\"\")","v":"COL"},"macna",0.2073170731707317,0.43902439024390244,3.0731707317073171,-0.17073170731707318,0.1951219512195122,3.6585365853658534E-2,2.4390243902439025E-2,0,0,0,null,3383,"Nathan MacKinnon","Colorado Avalanche","macna",82,17,36,252,-14,16,3,2]
[3703,"Tyson Barrie","COL","Buy",null,null,null,null,null,null,null,null,null,null,0,0,0,0,0,0,0,{"$error":"#DIV/0!"},{"$error":"#DIV/0!"},{"$error":"#DIV/0!"}," ",3703,"Tyson Barrie",{"$f":"IF(AQ81<>0,VLOOKUP(AQ81,Info!A:B,2,FALSE),\"\")","v":"COL"},"barty",0.12195121951219512,0.42682926829268292,2.4268292682926829,-0.36585365853658536,0.24390243902439024,2.4390243902439025E-2,1.2195121951219513E-2,0,0,0,null,3703,"Tyson Barrie","Colorado Avalanche","barty",82,10,35,199,-30,20,2,1]
[4128,"Alexander Wennberg","CBJ","Buy",null,null,null,null,null,null,null,null,null,null,0,0,0,0,0,0,0,{"$error":"#DIV/0!"},{"$error":"#DIV/0!"},{"$error":"#DIV/0!"}," ",4128,"Alexander Wennberg",{"$f":"IF(AQ82<>0,VLOOKUP(AQ82,Info!A:B,2,FALSE),\"\")","v":"CBJ"},"wenal",0.15853658536585366,0.56097560975609762,1.3658536585365855,0.10975609756097561,0.26829268292682928,2.4390243902439025E-2,1.2195121951219513E-2,0,0,0,null,4128,"Alexander Wennberg","Columbus Blue Jackets","wenal",82,13,46,112,9,22,2,1]
[3928,"Artemi Panarin","CBJ","Buy",null,null,null,null,null,null,null,null,null,null,0,0,0,0,0,0,0,{"$error":"#DIV/0!"},{"$error":"#DIV/0!"},{"$error":"#DIV/0!"}," ",3928,"Artemi Panarin",{"$f":"IF(AQ83<>0,VLOOKUP(AQ83,Info!A:B,2,FALSE),\"\")","v":"CBJ"},"panar",0.37804878048780488,0.51219512195121952,2.5731707317073171,0.21951219512195122,0.25609756097560976,0.10975609756097561,1.2195121951219513E-2,0,0,0,null,3928,"Artemi Panarin","Columbus Blue Jackets","panar",82,31,42,211,18,21,9,1]
[2296,"Brandon Dubinsky","CBJ","Buy",null,null,null,null,null,null,null,null,null,null,0,0,0,0,0,0,0,{"$error":"#DIV/0!"},{"$error":"#DIV/0!"},{"$error":"#DIV/0!"}," ",2296,"Brandon Dubinsky",{"$f":"IF(AQ84<>0,VLOOKUP(AQ84,Info!A:B,2,FALSE),\"\")","v":"CBJ"},"dubbr",0.14634146341463414,0.36585365853658536,1.4390243902439024,0.1951219512195122,1.1341463414634145,2.4390243902439025E-2,1.2195121951219513E-2,0,0,0,null,2296,"Brandon Dubinsky","Columbus Blue Jackets","dubbr",82,12,30,118,16,93,2,1]
[3448,"Cam Atkinson","CBJ","Buy",null,null,null,null,null,null,null,null,null,null,0,0,0,0,0,0,0,{"$error":"#DIV/0!"},{"$error":"#DIV/0!"},{"$error":"#DIV/0!"}," ",3448,"Cam Atkinson",{"$f":"IF(AQ85<>0,VLOOKUP(AQ85,Info!A:B,2,FALSE),\"\")","v":"CBJ"},"atkca",0.42682926829268292,0.32926829268292684,2.9268292682926829,0.15853658536585366,0.26829268292682928,0.12195121951219512,3.6585365853658534E-2,0,0,0,null,3448,"Cam Atkinson","Columbus Blue Jackets","atkca",82,35,27,240,13,22,10,3]
[2840,"Jack Johnson","CBJ","Buy",null,null,null,null,null,null,null,null,null,null,0,0,0,0,0,0,0,{"$error":"#DIV/0!"},{"$error":"#DIV/0!"},{"$error":"#DIV/0!"}," ",2840,"Jack Johnson",{"$f":"IF(AQ86<>0,VLOOKUP(AQ86,Info!A:B,2,FALSE),\"\")","v":"CBJ"},"jojac",0.12195121951219512,0.21951219512195122,1.4146341463414633,0.28048780487804881,0.3902439024390244,2.4390243902439025E-2,1.2195121951219513E-2,0,0,0,null,2840,"Jack Johnson","Columbus Blue Jackets","jojac",82,10,18,116,23,32,2,1]
[3036,"Nick Foligno","CBJ","Buy",null,null,null,null,null,null,null,null,null,null,0,0,0,0,0,0,0,{"$error":"#DIV/0!"},{"$error":"#DIV/0!"},{"$error":"#DIV/0!"}," ",3036,"Nick Foligno",{"$f":"IF(AQ87<>0,VLOOKUP(AQ87,Info!A:B,2,FALSE),\"\")","v":"CBJ"},"folin",0.32926829268292684,0.3048780487804878,2.3414634146341462,-4.878048780487805E-2,0.69512195121951215,0.13414634146341464,1.2195121951219513E-2,0,0,0,null,3036,"Nick Foligno","Columbus Blue Jackets","folin",82,27,25,192,-4,57,11,1]
[3658,"Seth Jones","CBJ","Buy",null,null,null,null,null,null,null,null,null,null,0,0,0,0,0,0,0,{"$error":"#DIV/0!"},{"$error":"#DIV/0!"},{"$error":"#DIV/0!"}," ",3658,"Seth Jones",{"$f":"IF(AQ88<>0,VLOOKUP(AQ88,Info!A:B,2,FALSE),\"\")","v":"CBJ"},"jones",0.15853658536585366,0.40243902439024393,2.024390243902439,8.5365853658536592E-2,0.31707317073170732,2.4390243902439025E-2,1.2195121951219513E-2,0,0,0,null,3658,"Seth Jones","Columbus Blue Jackets","jones",82,13,33,166,7,26,2,1]
[4091,"Zach Werenski","CBJ","Buy",null,null,null,null,null,null,null,null,null,null,0,0,0,0,0,0,0,{"$error":"#DIV/0!"},{"$error":"#DIV/0!"},{"$error":"#DIV/0!"}," ",4091,"Zach Werenski",{"$f":"IF(AQ89<>0,VLOOKUP(AQ89,Info!A:B,2,FALSE),\"\")","v":"CBJ"},"werza",0.14634146341463414,0.46341463414634149,2.4146341463414633,0.21951219512195122,0.17073170731707318,4.878048780487805E-2,1.2195121951219513E-2,0,0,0,null,4091,"Zach Werenski","Columbus Blue Jackets","werza",82,12,38,198,18,14,4,1]
[2767,"Jamie Benn","DAL","Buy",null,null,null,null,null,null,null,null,null,null,0,0,0,0,0,0,0,{"$error":"#DIV/0!"},{"$error":"#DIV/0!"},{"$error":"#DIV/0!"}," ",2767,"Jamie Benn",{"$f":"IF(AQ90<>0,VLOOKUP(AQ90,Info!A:B,2,FALSE),\"\")","v":"DAL"},"benja",0.36585365853658536,0.6097560975609756,2.6097560975609757,-0.12195121951219512,0.85365853658536583,0.15853658536585366,1.2195121951219513E-2,0,0,0,null,2767,"Jamie Benn","Dallas Stars","benja",82,30,50,214,-10,70,13,1]
[1017,"Jason Spezza","DAL","Buy",null,null,null,null,null,null,null,null,null,null,0,0,0,0,0,0,0,{"$error":"#DIV/0!"},{"$error":"#DIV/0!"},{"$error":"#DIV/0!"}," ",1017,"Jason Spezza",{"$f":"IF(AQ91<>0,VLOOKUP(AQ91,Info!A:B,2,FALSE),\"\")","v":"DAL"},"speja",0.21951219512195122,0.51219512195121952,2.1951219512195124,-0.26829268292682928,0.42682926829268292,2.4390243902439025E-2,1.2195121951219513E-2,0,0,0,null,1017,"Jason Spezza","Dallas Stars","speja",82,18,42,180,-22,35,2,1]
[4092,"John Klingberg","DAL","Buy",null,null,null,null,null,null,null,null,null,null,0,0,0,0,0,0,0,{"$error":"#DIV/0!"},{"$error":"#DIV/0!"},{"$error":"#DIV/0!"}," ",4092,"John Klingberg",{"$f":"IF(AQ92<>0,VLOOKUP(AQ92,Info!A:B,2,FALSE),\"\")","v":"DAL"},"klijo",0.15853658536585366,0.45121951219512196,1.5487804878048781,2.4390243902439025E-2,0.42682926829268292,4.878048780487805E-2,1.2195121951219513E-2,0,0,0,null,4092,"John Klingberg","Dallas Stars","klijo",82,13,37,127,2,35,4,1]
[3205,"Martin Hanzal","DAL","Buy",null,null,null,null,null,null,null,null,null,null,0,0,0,0,0,0,0,{"$error":"#DIV/0!"},{"$error":"#DIV/0!"},{"$error":"#DIV/0!"}," ",3205,"Martin Hanzal",{"$f":"IF(AQ93<>0,VLOOKUP(AQ93,Info!A:B,2,FALSE),\"\")","v":"DAL"},"hanma",0.28048780487804881,0.28048780487804881,2.3780487804878048,-0.24390243902439024,0.74390243902439024,7.3170731707317069E-2,1.2195121951219513E-2,0,0,0,null,3205,"Martin Hanzal","Dallas Stars","hanma",82,23,23,195,-20,61,6,1]
[3932,"Mattias Janmark","DAL","Buy",null,null,null,null,null,null,null,null,null,null,0,0,0,0,0,0,0,{"$error":"#DIV/0!"},{"$error":"#DIV/0!"},{"$error":"#DIV/0!"}," ",3932,"Mattias Janmark",{"$f":"IF(AQ94<>0,VLOOKUP(AQ94,Info!A:B,2,FALSE),\"\")","v":"DAL"},"janma",0.21951219512195122,0.18292682926829268,1.4634146341463414,0.14634146341463414,0.21951219512195122,2.4390243902439025E-2,2.4390243902439025E-2,0,0,0,null,3932,"Mattias Janmark","Dallas Stars","janma",82,18,15,120,12,18,2,2]
[2992,"Tyler Seguin","DAL","Buy",null,null,null,null,null,null,null,null,null,null,0,0,0,0,0,0,0,{"$error":"#DIV/0!"},{"$error":"#DIV/0!"},{"$error":"#DIV/0!"}," ",2992,"Tyler Seguin",{"$f":"IF(AQ95<>0,VLOOKUP(AQ95,Info!A:B,2,FALSE),\"\")","v":"DAL"},"segty",0.31707317073170732,0.56097560975609762,3.6585365853658538,-0.18292682926829268,0.26829268292682928,0.13414634146341464,1.2195121951219513E-2,0,0,0,null,2992,"Tyler Seguin","Dallas Stars","segty",82,26,46,300,-15,22,11,1]
[4131,"Anthony Mantha","DET","Buy",null,null,null,null,null,null,null,null,null,null,0,0,0,0,0,0,0,{"$error":"#DIV/0!"},{"$error":"#DIV/0!"},{"$error":"#DIV/0!"}," ",4131,"Anthony Mantha",{"$f":"IF(AQ96<>0,VLOOKUP(AQ96,Info!A:B,2,FALSE),\"\")","v":"DET"},"manan",0.25609756097560976,0.31707317073170732,2.1829268292682928,0.15853658536585366,0.90243902439024393,2.4390243902439025E-2,1.2195121951219513E-2,0,0,0,null,4131,"Anthony Mantha","Detroit Red Wings","manan",82,21,26,179,13,74,2,1]
[4099,"Darren Helm","DET","Buy",null,null,null,null,null,null,null,null,null,null,0,0,0,0,0,0,0,{"$error":"#DIV/0!"},{"$error":"#DIV/0!"},{"$error":"#DIV/0!"}," ",4099,"Darren Helm",{"$f":"IF(AQ97<>0,VLOOKUP(AQ97,Info!A:B,2,FALSE),\"\")","v":"DET"},"helda",0.15853658536585366,0.18292682926829268,1.9634146341463414,-0.12195121951219512,0.40243902439024393,3.6585365853658534E-2,1.2195121951219513E-2,0,0,0,null,4099,"Darren Helm","Detroit Red Wings","helda",82,13,15,161,-10,33,3,1]
[3929,"Dylan Larkin","DET","Buy",null,null,null,null,null,null,null,null,null,null,0,0,0,0,0,0,0,{"$error":"#DIV/0!"},{"$error":"#DIV/0!"},{"$error":"#DIV/0!"}," ",3929,"Dylan Larkin",{"$f":"IF(AQ98<>0,VLOOKUP(AQ98,Info!A:B,2,FALSE),\"\")","v":"DET"},"lardy",0.2073170731707317,0.18292682926829268,2.2073170731707319,-0.36585365853658536,0.41463414634146339,6.097560975609756E-2,1.2195121951219513E-2,0,0,0,null,3929,"Dylan Larkin","Detroit Red Wings","lardy",82,17,15,181,-30,34,5,1]
[3437,"Frans Nielsen","DET","Buy",null,null,null,null,null,null,null,null,null,null,0,0,0,0,0,0,0,{"$error":"#DIV/0!"},{"$error":"#DIV/0!"},{"$error":"#DIV/0!"}," ",3437,"Frans Nielsen",{"$f":"IF(AQ99<>0,VLOOKUP(AQ99,Info!A:B,2,FALSE),\"\")","v":"DET"},"niefr",0.21951219512195122,0.29268292682926828,2.0487804878048781,-0.25609756097560976,0.23170731707317074,4.878048780487805E-2,2.4390243902439025E-2,0,0,0,null,3437,"Frans Nielsen","Detroit Red Wings","niefr",82,18,24,168,-21,19,4,2]
[3705,"Gustav Nyquist","DET","Buy",null,null,null,null,null,null,null,null,null,null,0,0,0,0,0,0,0,{"$error":"#DIV/0!"},{"$error":"#DIV/0!"},{"$error":"#DIV/0!"}," ",3705,"Gustav Nyquist",{"$f":"IF(AQ100<>0,VLOOKUP(AQ100,Info!A:B,2,FALSE),\"\")","v":"DET"},"nyqgu",0.15853658536585366,0.43902439024390244,2.1463414634146343,1.2195121951219513E-2,0.23170731707317074,2.4390243902439025E-2,1.2195121951219513E-2,0,0,0,null,3705,"Gustav Nyquist","Detroit Red Wings","nyqgu",82,13,36,176,1,19,2,1]
[587,"Henrik Zetterberg","DET","Buy",null,null,null,null,null,null,null,null,null,null,0,0,0,0,0,0,0,{"$error":"#DIV/0!"},{"$error":"#DIV/0!"},{"$error":"#DIV/0!"}," ",587,"Henrik Zetterberg",{"$f":"IF(AQ101<>0,VLOOKUP(AQ101,Info!A:B,2,FALSE),\"\")","v":"DET"},"zethe",0.2073170731707317,0.6097560975609756,2.3536585365853657,0.1951219512195122,0.26829268292682928,2.4390243902439025E-2,1.2195121951219513E-2,0,0,0,null,587,"Henrik Zetterberg","Detroit Red Wings","zethe",82,17,50,193,16,22,2,1]
[2159,"Johan Franzen","DET","Buy",null,null,null,null,null,null,null,null,null,null,0,0,0,0,0,0,0,{"$error":"#DIV/0!"},{"$error":"#DIV/0!"},{"$error":"#DIV/0!"}," ",2159,"Johan Franzen",{"$f":"IF(AQ102<>0,VLOOKUP(AQ102,Info!A:B,2,FALSE),\"\")","v":"DET"},"frajo",0.2073170731707317,0.45121951219512196,2.2439024390243905,-0.36585365853658536,0.91463414634146345,0.12195121951219512,1.2195121951219513E-2,0,0,0,null,2159,"Johan Franzen","Detroit Red Wings","frajo",82,17,37,184,-30,75,10,1]
[3704,"Justin Abdelkader","DET","Buy",null,null,null,null,null,null,null,null,null,null,0,0,0,0,0,0,0,{"$error":"#DIV/0!"},{"$error":"#DIV/0!"},{"$error":"#DIV/0!"}," ",3704,"Justin Abdelkader",{"$f":"IF(AQ103<>0,VLOOKUP(AQ103,Info!A:B,2,FALSE),\"\")","v":"DET"},"abdju",0.12195121951219512,0.21951219512195122,1.6219512195121952,-0.32926829268292684,0.79268292682926833,8.5365853658536592E-2,1.2195121951219513E-2,0,0,0,null,3704,"Justin Abdelkader","Detroit Red Wings","abdju",82,10,18,133,-27,65,7,1]
[2308,"Mike Green","DET","Buy",null,null,null,null,null,null,null,null,null,null,0,0,0,0,0,0,0,{"$error":"#DIV/0!"},{"$error":"#DIV/0!"},{"$error":"#DIV/0!"}," ",2308,"Mike Green",{"$f":"IF(AQ104<>0,VLOOKUP(AQ104,Info!A:B,2,FALSE),\"\")","v":"DET"},"gremi",0.1951219512195122,0.3048780487804878,1.7195121951219512,-0.23170731707317074,0.56097560975609762,3.6585365853658534E-2,1.2195121951219513E-2,0,0,0,null,2308,"Mike Green","Detroit Red Wings","gremi",82,16,25,141,-19,46,3,1]
[3739,"Niklas Kronwall","DET","Buy",null,null,null,null,null,null,null,null,null,null,0,0,0,0,0,0,0,{"$error":"#DIV/0!"},{"$error":"#DIV/0!"},{"$error":"#DIV/0!"}," ",3739,"Niklas Kronwall",{"$f":"IF(AQ105<>0,VLOOKUP(AQ105,Info!A:B,2,FALSE),\"\")","v":"DET"},"kroni",0.12195121951219512,0.1951219512195122,1.1585365853658536,-0.13414634146341464,0.54878048780487809,2.4390243902439025E-2,1.2195121951219513E-2,0,0,0,null,3739,"Niklas Kronwall","Detroit Red Wings","kroni",82,10,16,95,-11,45,2,1]
[2993,"P.A. Parenteau","DET","Buy",null,null,null,null,null,null,null,null,null,null,0,0,0,0,0,0,0,{"$error":"#DIV/0!"},{"$error":"#DIV/0!"},{"$error":"#DIV/0!"}," ",2993,"P.A. Parenteau",{"$f":"IF(AQ106<>0,VLOOKUP(AQ106,Info!A:B,2,FALSE),\"\")","v":"DET"},"parpa",0.1951219512195122,0.21951219512195122,1.8414634146341464,-0.25609756097560976,0.52439024390243905,4.878048780487805E-2,1.2195121951219513E-2,0,0,0,null,2993,"P.A. Parenteau","Detroit Red Wings","parpa",82,16,18,151,-21,43,4,1]
[3813,"Riley Sheahan","DET","Buy",null,null,null,null,null,null,null,null,null,null,0,0,0,0,0,0,0,{"$error":"#DIV/0!"},{"$error":"#DIV/0!"},{"$error":"#DIV/0!"}," ",3813,"Riley Sheahan",{"$f":"IF(AQ107<>0,VLOOKUP(AQ107,Info!A:B,2,FALSE),\"\")","v":"DET"},"shear",0.12195121951219512,0.18292682926829268,1.3536585365853659,-0.35365853658536583,0.17073170731707318,2.4390243902439025E-2,1.2195121951219513E-2,0,0,0,null,3813,"Riley Sheahan","Detroit Red Wings","shear",82,10,15,111,-29,14,2,1]
[3730,"Tomas Tatar","DET","Buy",null,null,null,null,null,null,null,null,null,null,0,0,0,0,0,0,0,{"$error":"#DIV/0!"},{"$error":"#DIV/0!"},{"$error":"#DIV/0!"}," ",3730,"Tomas Tatar",{"$f":"IF(AQ108<>0,VLOOKUP(AQ108,Info!A:B,2,FALSE),\"\")","v":"DET"},"tatto",0.29268292682926828,0.25609756097560976,1.9878048780487805,-8.5365853658536592E-2,0.31707317073170732,4.878048780487805E-2,1.2195121951219513E-2,0,0,0,null,3730,"Tomas Tatar","Detroit Red Wings","tatto",82,24,21,163,-7,26,4,1]
[3482,"Andrej Sekera","EDM","Buy",null,null,null,null,null,null,null,null,null,null,0,0,0,0,0,0,0,{"$error":"#DIV/0!"},{"$error":"#DIV/0!"},{"$error":"#DIV/0!"}," ",3482,"Andrej Sekera",{"$f":"IF(AQ109<>0,VLOOKUP(AQ109,Info!A:B,2,FALSE),\"\")","v":"EDM"},"sekan",0.12195121951219512,0.34146341463414637,1.5975609756097562,0.15853658536585366,0.21951219512195122,2.4390243902439025E-2,1.2195121951219513E-2,0,0,0,null,3482,"Andrej Sekera","Edmonton Oilers","sekan",82,10,28,131,13,18,2,1]
[3926,"Connor McDavid","EDM","Buy",null,null,null,null,null,null,null,null,null,null,0,0,0,0,0,0,0,{"$error":"#DIV/0!"},{"$error":"#DIV/0!"},{"$error":"#DIV/0!"}," ",3926,"Connor McDavid",{"$f":"IF(AQ110<>0,VLOOKUP(AQ110,Info!A:B,2,FALSE),\"\")","v":"EDM"},"mcdco",0.36585365853658536,0.6097560975609756,3.0609756097560976,0.31707317073170732,0.31707317073170732,3.6585365853658534E-2,1.2195121951219513E-2,0,0,0,null,3926,"Connor McDavid","Edmonton Oilers","mcdco",82,30,50,251,26,26,3,1]
[1678,"Jussi Jokinen","EDM","Buy",null,null,null,null,null,null,null,null,null,null,0,0,0,0,0,0,0,{"$error":"#DIV/0!"},{"$error":"#DIV/0!"},{"$error":"#DIV/0!"}," ",1678,"Jussi Jokinen",{"$f":"IF(AQ111<>0,VLOOKUP(AQ111,Info!A:B,2,FALSE),\"\")","v":"EDM"},"jokju",0.15853658536585366,0.24390243902439024,1.7073170731707317,-0.21951219512195122,0.56097560975609762,6.097560975609756E-2,1.2195121951219513E-2,0,0,0,null,1678,"Jussi Jokinen","Edmonton Oilers","jokju",82,13,20,140,-18,46,5,1]
[3667,"Leon Draisaitl","EDM","Buy",null,null,null,null,null,null,null,null,null,null,0,0,0,0,0,0,0,{"$error":"#DIV/0!"},{"$error":"#DIV/0!"},{"$error":"#DIV/0!"}," ",3667,"Leon Draisaitl",{"$f":"IF(AQ112<>0,VLOOKUP(AQ112,Info!A:B,2,FALSE),\"\")","v":"EDM"},"drale",0.35365853658536583,0.58536585365853655,2.0975609756097562,7.3170731707317069E-2,0.24390243902439024,0.12195121951219512,1.2195121951219513E-2,0,0,0,null,3667,"Leon Draisaitl","Edmonton Oilers","drale",82,29,48,172,6,20,10,1]
[2364,"Milan Lucic","EDM","Buy",null,null,null,null,null,null,null,null,null,null,0,0,0,0,0,0,0,{"$error":"#DIV/0!"},{"$error":"#DIV/0!"},{"$error":"#DIV/0!"}," ",2364,"Milan Lucic",{"$f":"IF(AQ113<>0,VLOOKUP(AQ113,Info!A:B,2,FALSE),\"\")","v":"EDM"},"lucmi",0.28048780487804881,0.32926829268292684,2.1341463414634148,-4.878048780487805E-2,0.6097560975609756,0.14634146341463414,1.2195121951219513E-2,0,0,0,null,2364,"Milan Lucic","Edmonton Oilers","lucmi",82,23,27,175,-4,50,12,1]
[2964,"Ryan Nugent-Hopkins","EDM","Buy",null,null,null,null,null,null,null,null,null,null,0,0,0,0,0,0,0,{"$error":"#DIV/0!"},{"$error":"#DIV/0!"},{"$error":"#DIV/0!"}," ",2964,"Ryan Nugent-Hopkins",{"$f":"IF(AQ114<>0,VLOOKUP(AQ114,Info!A:B,2,FALSE),\"\")","v":"EDM"},"nugry",0.21951219512195122,0.29268292682926828,2.4390243902439024,-0.10975609756097561,0.35365853658536583,6.097560975609756E-2,1.2195121951219513E-2,0,0,0,null,2964,"Ryan Nugent-Hopkins","Edmonton Oilers","nugry",82,18,24,200,-9,29,5,1]
[3709,"Ryan Strome","EDM","Buy",null,null,null,null,null,null,null,null,null,null,0,0,0,0,0,0,0,{"$error":"#DIV/0!"},{"$error":"#DIV/0!"},{"$error":"#DIV/0!"}," ",3709,"Ryan Strome",{"$f":"IF(AQ115<>0,VLOOKUP(AQ115,Info!A:B,2,FALSE),\"\")","v":"EDM"},"strry",0.18292682926829268,0.24390243902439024,1.6463414634146341,-0.12195121951219512,0.58536585365853655,2.4390243902439025E-2,1.2195121951219513E-2,0,0,0,null,3709,"Ryan Strome","Edmonton Oilers","strry",82,15,20,135,-10,48,2,1]
[3217,"Zack Kassian","EDM","Buy",null,null,null,null,null,null,null,null,null,null,0,0,0,0,0,0,0,{"$error":"#DIV/0!"},{"$error":"#DIV/0!"},{"$error":"#DIV/0!"}," ",3217,"Zack Kassian",{"$f":"IF(AQ116<>0,VLOOKUP(AQ116,Info!A:B,2,FALSE),\"\")","v":"EDM"},"kasza",0.12195121951219512,0.21951219512195122,1.4024390243902438,4.878048780487805E-2,1.2804878048780488,2.4390243902439025E-2,1.2195121951219513E-2,0,0,0,null,3217,"Zack Kassian","Edmonton Oilers","kasza",82,10,18,115,4,105,2,1]
[1859,"Alexander Semin","XXX","Buy",null,null,null,null,null,null,null,null,null,null,0,0,0,0,0,0,0,{"$error":"#DIV/0!"},{"$error":"#DIV/0!"},{"$error":"#DIV/0!"}," ",1859,"Alexander Semin",{"$f":"IF(AQ117<>0,VLOOKUP(AQ117,Info!A:B,2,FALSE),\"\")","v":"XXX"},"semal",0.12195121951219512,0.23170731707317074,1.6341463414634145,-0.17073170731707318,0.56097560975609762,2.4390243902439025E-2,1.2195121951219513E-2,0,0,0,null,1859,"Alexander Semin","FA/RET/DEC/HON","semal",82,10,19,134,-14,46,2,1]
[667,"Andrei Markov","XXX","Buy",null,null,null,null,null,null,null,null,null,null,0,0,0,0,0,0,0,{"$error":"#DIV/0!"},{"$error":"#DIV/0!"},{"$error":"#DIV/0!"}," ",667,"Andrei Markov",{"$f":"IF(AQ118<>0,VLOOKUP(AQ118,Info!A:B,2,FALSE),\"\")","v":"XXX"},"maran",0.12195121951219512,0.48780487804878048,1.5853658536585367,0.29268292682926828,0.25609756097560976,2.4390243902439025E-2,1.2195121951219513E-2,0,0,0,null,667,"Andrei Markov","FA/RET/DEC/HON","maran",82,10,40,130,24,21,2,1]
[1924,"Brian Campbell","XXX","Buy",null,null,null,null,null,null,null,null,null,null,0,0,0,0,0,0,0,{"$error":"#DIV/0!"},{"$error":"#DIV/0!"},{"$error":"#DIV/0!"}," ",1924,"Brian Campbell",{"$f":"IF(AQ119<>0,VLOOKUP(AQ119,Info!A:B,2,FALSE),\"\")","v":"XXX"},"cambr",0.12195121951219512,0.18292682926829268,0.92682926829268297,0.14634146341463414,0.3048780487804878,2.4390243902439025E-2,1.2195121951219513E-2,0,0,0,null,1924,"Brian Campbell","FA/RET/DEC/HON","cambr",82,10,15,76,12,25,2,1]
[1635,"Brian Gionta","XXX","Buy",null,null,null,null,null,null,null,null,null,null,0,0,0,0,0,0,0,{"$error":"#DIV/0!"},{"$error":"#DIV/0!"},{"$error":"#DIV/0!"}," ",1635,"Brian Gionta",{"$f":"IF(AQ120<>0,VLOOKUP(AQ120,Info!A:B,2,FALSE),\"\")","v":"XXX"},"giobr",0.18292682926829268,0.24390243902439024,1.8170731707317074,-0.13414634146341464,0.26829268292682928,3.6585365853658534E-2,1.2195121951219513E-2,0,0,0,null,1635,"Brian Gionta","FA/RET/DEC/HON","giobr",82,15,20,149,-11,22,3,1]
[1867,"Chris Higgins","XXX","Buy",null,null,null,null,null,null,null,null,null,null,0,0,0,0,0,0,0,{"$error":"#DIV/0!"},{"$error":"#DIV/0!"},{"$error":"#DIV/0!"}," ",1867,"Chris Higgins",{"$f":"IF(AQ121<>0,VLOOKUP(AQ121,Info!A:B,2,FALSE),\"\")","v":"XXX"},"higch",0.12195121951219512,0.18292682926829268,1.5487804878048781,-0.36585365853658536,0.12195121951219512,2.4390243902439025E-2,2.4390243902439025E-2,0,0,0,null,1867,"Chris Higgins","FA/RET/DEC/HON","higch",82,10,15,127,-30,10,2,2]
[3216,"Cody Hodgson","XXX","Buy",null,null,null,null,null,null,null,null,null,null,0,0,0,0,0,0,0,{"$error":"#DIV/0!"},{"$error":"#DIV/0!"},{"$error":"#DIV/0!"}," ",3216,"Cody Hodgson",{"$f":"IF(AQ122<>0,VLOOKUP(AQ122,Info!A:B,2,FALSE),\"\")","v":"XXX"},"hodco",0.12195121951219512,0.18292682926829268,1.6707317073170731,4.878048780487805E-2,0.15853658536585366,2.4390243902439025E-2,1.2195121951219513E-2,0,0,0,null,3216,"Cody Hodgson","FA/RET/DEC/HON","hodco",82,10,15,137,4,13,2,1]
[3208,"Damien Brunner","XXX","Buy",null,null,null,null,null,null,null,null,null,null,0,0,0,0,0,0,0,{"$error":"#DIV/0!"},{"$error":"#DIV/0!"},{"$error":"#DIV/0!"}," ",3208,"Damien Brunner",{"$f":"IF(AQ123<>0,VLOOKUP(AQ123,Info!A:B,2,FALSE),\"\")","v":"XXX"},"bruda",0.12195121951219512,0.29268292682926828,1.7073170731707317,-6.097560975609756E-2,0.47560975609756095,2.4390243902439025E-2,1.2195121951219513E-2,0,0,0,null,3208,"Damien Brunner","FA/RET/DEC/HON","bruda",82,10,24,140,-5,39,2,1]
[1923,"Danny Cleary","XXX","Buy",null,null,null,null,null,null,null,null,null,null,0,0,0,0,0,0,0,{"$error":"#DIV/0!"},{"$error":"#DIV/0!"},{"$error":"#DIV/0!"}," ",1923,"Danny Cleary",{"$f":"IF(AQ124<>0,VLOOKUP(AQ124,Info!A:B,2,FALSE),\"\")","v":"XXX"},"cleda",0.12195121951219512,0.18292682926829268,1,-0.23170731707317074,0.35365853658536583,2.4390243902439025E-2,1.2195121951219513E-2,0,0,0,null,1923,"Danny Cleary","FA/RET/DEC/HON","cleda",82,10,15,82,-19,29,2,1]
[3204,"Dennis Wideman","XXX","Buy",null,null,null,null,null,null,null,null,null,null,0,0,0,0,0,0,0,{"$error":"#DIV/0!"},{"$error":"#DIV/0!"},{"$error":"#DIV/0!"}," ",3204,"Dennis Wideman",{"$f":"IF(AQ125<>0,VLOOKUP(AQ125,Info!A:B,2,FALSE),\"\")","v":"XXX"},"widde",0.12195121951219512,0.23170731707317074,1.524390243902439,-0.12195121951219512,0.56097560975609762,3.6585365853658534E-2,1.2195121951219513E-2,0,0,0,null,3204,"Dennis Wideman","FA/RET/DEC/HON","widde",82,10,19,125,-10,46,3,1]
[3446,"Dwight King","XXX","Buy",null,null,null,null,null,null,null,null,null,null,0,0,0,0,0,0,0,{"$error":"#DIV/0!"},{"$error":"#DIV/0!"},{"$error":"#DIV/0!"}," ",3446,"Dwight King",{"$f":"IF(AQ126<>0,VLOOKUP(AQ126,Info!A:B,2,FALSE),\"\")","v":"XXX"},"kindw",0.12195121951219512,0.18292682926829268,1.3780487804878048,-2.4390243902439025E-2,0.14634146341463414,2.4390243902439025E-2,1.2195121951219513E-2,0,0,0,null,3446,"Dwight King","FA/RET/DEC/HON","kindw",82,10,15,113,-2,12,2,1]
[2758,"James Wisniewski","XXX","Buy",null,null,null,null,null,null,null,null,null,null,0,0,0,0,0,0,0,{"$error":"#DIV/0!"},{"$error":"#DIV/0!"},{"$error":"#DIV/0!"}," ",2758,"James Wisniewski",{"$f":"IF(AQ127<>0,VLOOKUP(AQ127,Info!A:B,2,FALSE),\"\")","v":"XXX"},"wisja",0.12195121951219512,0.37804878048780488,2.1341463414634148,-0.2073170731707317,0.63414634146341464,9.7560975609756101E-2,1.2195121951219513E-2,0,0,0,null,2758,"James Wisniewski","FA/RET/DEC/HON","wisja",82,10,31,175,-17,52,8,1]
[82,"Jarome Iginla","XXX","Buy",null,null,null,null,null,null,null,null,null,null,0,0,0,0,0,0,0,{"$error":"#DIV/0!"},{"$error":"#DIV/0!"},{"$error":"#DIV/0!"}," ",82,"Jarome Iginla",{"$f":"IF(AQ128<>0,VLOOKUP(AQ128,Info!A:B,2,FALSE),\"\")","v":"XXX"},"igija",0.17073170731707318,0.18292682926829268,1.9146341463414633,-0.36585365853658536,0.87804878048780488,8.5365853658536592E-2,1.2195121951219513E-2,0,0,0,null,82,"Jarome Iginla","FA/RET/DEC/HON","igija",82,14,15,157,-30,72,7,1]
[347,"Jaromir Jagr","XXX","Buy",null,null,null,null,null,null,null,null,null,null,0,0,0,0,0,0,0,{"$error":"#DIV/0!"},{"$error":"#DIV/0!"},{"$error":"#DIV/0!"}," ",347,"Jaromir Jagr",{"$f":"IF(AQ129<>0,VLOOKUP(AQ129,Info!A:B,2,FALSE),\"\")","v":"XXX"},"jagja",0.1951219512195122,0.36585365853658536,2.2073170731707319,3.6585365853658534E-2,0.68292682926829273,9.7560975609756101E-2,1.2195121951219513E-2,0,0,0,null,347,"Jaromir Jagr","FA/RET/DEC/HON","jagja",82,16,30,181,3,56,8,1]
[1661,"Jarret Stoll","XXX","Buy",null,null,null,null,null,null,null,null,null,null,{"$f":"VLOOKUP($A130,$A:$N,5,FALSE)/VLOOKUP($A130,$Z:$AM,5,FALSE)","v":0},{"$f":"VLOOKUP($A130,$A:$N,6,FALSE)/VLOOKUP($A130,$Z:$AM,6,FALSE)","v":0},{"$f":"VLOOKUP($A130,$A:$N,7,FALSE)/VLOOKUP($A130,$Z:$AM,7,FALSE)","v":0},{"$f":"VLOOKUP($A130,$A:$N,8,FALSE)/VLOOKUP($A130,$Z:$AM,8,FALSE)","v":0},{"$f":"VLOOKUP($A130,$A:$N,9,FALSE)/VLOOKUP($A130,$Z:$AM,9,FALSE)","v":0},{"$f":"VLOOKUP($A130,$A:$N,10,FALSE)/VLOOKUP($A130,$Z:$AM,10,FALSE)","v":0},{"$f":"VLOOKUP($A130,$A:$N,11,FALSE)/VLOOKUP($A130,$Z:$AM,11,FALSE)","v":0},{"$f":"VLOOKUP($A130,$A:$N,12,FALSE)/VLOOKUP($A130,$Z:$AM,12,FALSE)","v":{"$error":"#DIV/0!"}},{"$f":"VLOOKUP($A130,$A:$N,13,FALSE)/VLOOKUP($A130,$Z:$AM,13,FALSE)","v":{"$error":"#DIV/0!"}},{"$f":"VLOOKUP($A130,$A:$N,14,FALSE)/VLOOKUP($A130,$Z:$AM,14,FALSE)","v":{"$error":"#DIV/0!"}}," ",1661,"Jarret Stoll",{"$f":"IF(AQ130<>0,VLOOKUP(AQ130,Info!A:B,2,FALSE),\"\")","v":"XXX"},"stoja",0.12195121951219512,0.18292682926829268,0.91463414634146345,-2.4390243902439025E-2,0.45121951219512196,2.4390243902439025E-2,1.2195121951219513E-2,0,0,0,null,1661,"Jarret Stoll","FA/RET/DEC/HON","stoja",82,10,15,75,-2,37,2,1]
[{"$f":"IF(Z131<>0,Z131,\"\")","v":2369},{"$f":"IF(A131<>0,VLOOKUP(A131,Z:AA,2,FALSE),\"\")","v":"Jiri Hudler"},{"$f":"IF(A131<>0,VLOOKUP(A131,Z:AB,3,FALSE))","v":"XXX"},{"$f":"HYPERLINK(\"http://www.jockstocks.com/buysell.php?action=buymax&plid=\"&A131,\"Buy\")","v":"Buy"},null,null,null,null,null,null,null,null,null,null,0,0,0,0,0,0,0,{"$error":"#DIV/0!"},{"$error":"#DIV/0!"},{"$error":"#DIV/0!"}," ",{"$f":"IF(AO131<>0,AO131,\"\")","v":2369},{"$f":"IF(AP131<>0,VLOOKUP(Z131,AO:AP,2,FALSE),\"\")","v":"Jiri Hudler"},{"$f":"IF(AQ131<>0,VLOOKUP(AQ131,Info!A:B,2,FALSE),\"\")","v":"XXX"},{"$f":"IF(AO131<>0,VLOOKUP(Z131,AO:AR,4,FALSE),\"\")","v":"hudji"},{"$f":"IF($AO131<>0,AT131/$AS131,\"\")","v":0.12195121951219512},{"$f":"IF($AO131<>0,AU131/$AS131,\"\")","v":0.25609756097560976},{"$f":"IF($AO131<>0,AV131/$AS131,\"\")","v":0.91463414634146345},{"$f":"IF($AO131<>0,AW131/$AS131,\"\")","v":-9.7560975609756101E-2},{"$f":"IF($AO131<>0,AX131/$AS131,\"\")","v":0.12195121951219512},{"$f":"IF($AO131<>0,AY131/$AS131,\"\")","v":3.6585365853658534E-2},{"$f":"IF($AO131<>0,AZ131/$AS131,\"\")","v":1.2195121951219513E-2},{"$f":"IF($AO131<>0,BA131/$AS131,\"\")","v":0},{"$f":"IF($AO131<>0,BB131/$AS131,\"\")","v":0},{"$f":"IF($AO131<>0,BC131/$AS131,\"\")","v":0},null,2369,"Jiri Hudler","FA/RET/DEC/HON","hudji",82,10,21,75,-8,10,3,1]
[3228,"Jiri Tlusty","XXX","Buy",null,null,null,null,null,null,null,null,null,null,0,0,0,0,0,0,0,{"$error":"#DIV/0!"},{"$error":"#DIV/0!"},{"$error":"#DIV/0!"}," ",3228,"Jiri Tlusty",{"$f":"IF(AQ132<>0,VLOOKUP(AQ132,Info!A:B,2,FALSE),\"\")","v":"XXX"},"tluji",0.12195121951219512,0.18292682926829268,1.2682926829268293,-3.6585365853658534E-2,0.1951219512195122,3.6585365853658534E-2,1.2195121951219513E-2,0,0,0,null,3228,"Jiri Tlusty","FA/RET/DEC/HON","tluji",82,10,15,104,-3,16,3,1]
[1638,"John-Michael Liles","XXX","Buy",null,null,null,null,null,null,null,null,null,null,0,0,0,0,0,0,0,{"$error":"#DIV/0!"},{"$error":"#DIV/0!"},{"$error":"#DIV/0!"}," ",1638,"John-Michael Liles",{"$f":"IF(AQ133<>0,VLOOKUP(AQ133,Info!A:B,2,FALSE),\"\")","v":"XXX"},"liljo",0.12195121951219512,0.18292682926829268,1,2.4390243902439025E-2,0.12195121951219512,2.4390243902439025E-2,1.2195121951219513E-2,0,0,0,null,1638,"John-Michael Liles","FA/RET/DEC/HON","liljo",82,10,15,82,2,10,2,1]
[2602,"Mason Raymond","XXX","Buy",null,null,null,null,null,null,null,null,null,null,0,0,0,0,0,0,0,{"$error":"#DIV/0!"},{"$error":"#DIV/0!"},{"$error":"#DIV/0!"}," ",2602,"Mason Raymond",{"$f":"IF(AQ134<>0,VLOOKUP(AQ134,Info!A:B,2,FALSE),\"\")","v":"XXX"},"rayma",0.13414634146341464,0.18292682926829268,1.8292682926829269,-9.7560975609756101E-2,0.28048780487804881,2.4390243902439025E-2,1.2195121951219513E-2,0,0,0,null,2602,"Mason Raymond","FA/RET/DEC/HON","rayma",82,11,15,150,-8,23,2,1]
[1866,"Matt Carle","XXX","Buy",null,null,null,null,null,null,null,null,null,null,0,0,0,0,0,0,0,{"$error":"#DIV/0!"},{"$error":"#DIV/0!"},{"$error":"#DIV/0!"}," ",1866,"Matt Carle",{"$f":"IF(AQ135<>0,VLOOKUP(AQ135,Info!A:B,2,FALSE),\"\")","v":"XXX"},"carma",0.12195121951219512,0.18292682926829268,0.91463414634146345,6.097560975609756E-2,0.40243902439024393,2.4390243902439025E-2,1.2195121951219513E-2,0,0,0,null,1866,"Matt Carle","FA/RET/DEC/HON","carma",82,10,15,75,5,33,2,1]
[1949,"Mike Fisher","XXX","Buy",null,null,null,null,null,null,null,null,null,null,0,0,0,0,0,0,0,{"$error":"#DIV/0!"},{"$error":"#DIV/0!"},{"$error":"#DIV/0!"}," ",1949,"Mike Fisher",{"$f":"IF(AQ136<>0,VLOOKUP(AQ136,Info!A:B,2,FALSE),\"\")","v":"XXX"},"fismi",0.25609756097560976,0.32926829268292684,1.6707317073170731,1.2195121951219513E-2,0.76829268292682928,9.7560975609756101E-2,1.2195121951219513E-2,0,0,0,null,1949,"Mike Fisher","FA/RET/DEC/HON","fismi",82,21,27,137,1,63,8,1]
[3483,"Nathan Gerbe","XXX","Buy",null,null,null,null,null,null,null,null,null,null,0,0,0,0,0,0,0,{"$error":"#DIV/0!"},{"$error":"#DIV/0!"},{"$error":"#DIV/0!"}," ",3483,"Nathan Gerbe",{"$f":"IF(AQ137<>0,VLOOKUP(AQ137,Info!A:B,2,FALSE),\"\")","v":"XXX"},"gerna",0.12195121951219512,0.18292682926829268,1.5609756097560976,-0.31707317073170732,0.29268292682926828,2.4390243902439025E-2,1.2195121951219513E-2,0,0,0,null,3483,"Nathan Gerbe","FA/RET/DEC/HON","gerna",82,10,15,128,-26,24,2,1]
[668,"Pascal Dupuis","XXX","Buy",null,null,null,null,null,null,null,null,null,null,0,0,0,0,0,0,0,{"$error":"#DIV/0!"},{"$error":"#DIV/0!"},{"$error":"#DIV/0!"}," ",668,"Pascal Dupuis",{"$f":"IF(AQ138<>0,VLOOKUP(AQ138,Info!A:B,2,FALSE),\"\")","v":"XXX"},"duppa",0.12195121951219512,0.18292682926829268,1.5609756097560976,-6.097560975609756E-2,0.67073170731707321,2.4390243902439025E-2,1.2195121951219513E-2,0,0,0,null,668,"Pascal Dupuis","FA/RET/DEC/HON","duppa",82,10,15,128,-5,55,2,1]
[1680,"Raffi Torres","XXX","Buy",null,null,null,null,null,null,null,null,null,null,0,0,0,{"$error":"#DIV/0!"},0,0,0,{"$error":"#DIV/0!"},{"$error":"#DIV/0!"},{"$error":"#DIV/0!"}," ",1680,"Raffi Torres",{"$f":"IF(AQ139<>0,VLOOKUP(AQ139,Info!A:B,2,FALSE),\"\")","v":"XXX"},"torra",0.18292682926829268,0.28048780487804881,1.5365853658536586,0,0.43902439024390244,2.4390243902439025E-2,1.2195121951219513E-2,0,0,0,null,1680,"Raffi Torres","FA/RET/DEC/HON","torra",82,15,23,126,0,36,2,1]
[2366,"Rene Bourque","XXX","Buy",null,null,null,null,null,null,null,null,null,null,0,0,0,0,0,0,0,{"$error":"#DIV/0!"},{"$error":"#DIV/0!"},{"$error":"#DIV/0!"}," ",2366,"Rene Bourque",{"$f":"IF(AQ140<>0,VLOOKUP(AQ140,Info!A:B,2,FALSE),\"\")","v":"XXX"},"boure",0.18292682926829268,0.18292682926829268,1.7073170731707317,-0.29268292682926828,0.86585365853658536,3.6585365853658534E-2,1.2195121951219513E-2,0,0,0,null,2366,"Rene Bourque","FA/RET/DEC/HON","boure",82,15,15,140,-24,71,3,1]
[2070,"Ryane Clowe","XXX","Buy",null,null,null,null,null,null,null,null,null,null,0,0,0,0,0,0,0,{"$error":"#DIV/0!"},{"$error":"#DIV/0!"},{"$error":"#DIV/0!"}," ",2070,"Ryane Clowe",{"$f":"IF(AQ141<>0,VLOOKUP(AQ141,Info!A:B,2,FALSE),\"\")","v":"XXX"},"clory",0.14634146341463414,0.35365853658536583,1.6829268292682926,-0.35365853658536583,0.85365853658536583,7.3170731707317069E-2,1.2195121951219513E-2,0,0,0,null,2070,"Ryane Clowe","FA/RET/DEC/HON","clory",82,12,29,138,-29,70,6,1]
[604,"Shane Doan","XXX","Buy",null,null,null,null,null,null,null,null,null,null,0,0,0,0,0,0,0,{"$error":"#DIV/0!"},{"$error":"#DIV/0!"},{"$error":"#DIV/0!"}," ",604,"Shane Doan",{"$f":"IF(AQ142<>0,VLOOKUP(AQ142,Info!A:B,2,FALSE),\"\")","v":"XXX"},"doash",0.12195121951219512,0.28048780487804881,1.9512195121951219,-3.6585365853658534E-2,0.64634146341463417,2.4390243902439025E-2,1.2195121951219513E-2,0,0,0,null,604,"Shane Doan","FA/RET/DEC/HON","doash",82,10,23,160,-3,53,2,1]
[2766,"Steve Ott","XXX","Buy",null,null,null,null,null,null,null,null,null,null,0,0,0,0,0,0,0,{"$error":"#DIV/0!"},{"$error":"#DIV/0!"},{"$error":"#DIV/0!"}," ",2766,"Steve Ott",{"$f":"IF(AQ143<>0,VLOOKUP(AQ143,Info!A:B,2,FALSE),\"\")","v":"XXX"},"ottst",0.12195121951219512,0.18292682926829268,0.91463414634146345,-0.14634146341463414,1.475609756097561,2.4390243902439025E-2,1.2195121951219513E-2,0,0,0,null,2766,"Steve Ott","FA/RET/DEC/HON","ottst",82,10,15,75,-12,121,2,1]
[2764,"T.J. Galiardi","XXX","Buy",null,null,null,null,null,null,null,null,null,null,0,0,0,0,0,0,0,{"$error":"#DIV/0!"},{"$error":"#DIV/0!"},{"$error":"#DIV/0!"}," ",2764,"T.J. Galiardi",{"$f":"IF(AQ144<>0,VLOOKUP(AQ144,Info!A:B,2,FALSE),\"\")","v":"XXX"},"galtj",0.12195121951219512,0.18292682926829268,0.92682926829268297,-0.2073170731707317,0.12195121951219512,2.4390243902439025E-2,1.2195121951219513E-2,0,0,0,null,2764,"T.J. Galiardi","FA/RET/DEC/HON","galtj",82,10,15,76,-17,10,2,1]
[2378,"Tomas Fleischmann","XXX","Buy",null,null,null,null,null,null,null,null,null,null,0,0,0,0,0,0,0,{"$error":"#DIV/0!"},{"$error":"#DIV/0!"},{"$error":"#DIV/0!"}," ",2378,"Tomas Fleischmann",{"$f":"IF(AQ145<>0,VLOOKUP(AQ145,Info!A:B,2,FALSE),\"\")","v":"XXX"},"fleto",0.18292682926829268,0.18292682926829268,1.6219512195121952,-0.10975609756097561,0.42682926829268292,2.4390243902439025E-2,1.2195121951219513E-2,0,0,0,null,2378,"Tomas Fleischmann","FA/RET/DEC/HON","fleto",82,15,15,133,-9,35,2,1]
[1596,"Tuomo Ruutu","XXX","Buy",null,null,null,null,null,null,null,null,null,null,0,0,0,0,0,0,0,{"$error":"#DIV/0!"},{"$error":"#DIV/0!"},{"$error":"#DIV/0!"}," ",1596,"Tuomo Ruutu",{"$f":"IF(AQ146<>0,VLOOKUP(AQ146,Info!A:B,2,FALSE),\"\")","v":"XXX"},"ruutu",0.12195121951219512,0.18292682926829268,1.024390243902439,-0.24390243902439024,0.24390243902439024,2.4390243902439025E-2,1.2195121951219513E-2,0,0,0,null,1596,"Tuomo Ruutu","FA/RET/DEC/HON","ruutu",82,10,15,84,-20,20,2,1]
[3481,"Valeri Nichushkin","XXX","Buy",null,null,null,null,null,null,null,null,null,null,0,0,0,{"$error":"#DIV/0!"},0,0,0,{"$error":"#DIV/0!"},{"$error":"#DIV/0!"},{"$error":"#DIV/0!"}," ",3481,"Valeri Nichushkin",{"$f":"IF(AQ147<>0,VLOOKUP(AQ147,Info!A:B,2,FALSE),\"\")","v":"XXX"},"nicva",0.12195121951219512,0.25609756097560976,1.7317073170731707,0,0.14634146341463414,2.4390243902439025E-2,1.2195121951219513E-2,0,0,0,null,3481,"Valeri Nichushkin","FA/RET/DEC/HON","nicva",82,10,21,142,0,12,2,1]
[3731,"Aaron Ekblad","FLA","Buy",null,null,null,null,null,null,null,null,null,null,0,0,0,0,0,0,0,{"$error":"#DIV/0!"},{"$error":"#DIV/0!"},{"$error":"#DIV/0!"}," ",3731,"Aaron Ekblad",{"$f":"IF(AQ148<>0,VLOOKUP(AQ148,Info!A:B,2,FALSE),\"\")","v":"FLA"},"ekbaa",0.14634146341463414,0.18292682926829268,3.3048780487804876,-0.34146341463414637,0.85365853658536583,6.097560975609756E-2,1.2195121951219513E-2,0,0,0,null,3731,"Aaron Ekblad","Florida Panthers","ekbaa",82,12,15,271,-28,70,5,1]
[3385,"Aleksander Barkov","FLA","Buy",null,null,null,null,null,null,null,null,null,null,0,0,0,0,0,0,0,{"$error":"#DIV/0!"},{"$error":"#DIV/0!"},{"$error":"#DIV/0!"}," ",3385,"Aleksander Barkov",{"$f":"IF(AQ149<>0,VLOOKUP(AQ149,Info!A:B,2,FALSE),\"\")","v":"FLA"},"baral",0.34146341463414637,0.51219512195121952,2.3292682926829267,0.1951219512195122,0.15853658536585366,4.878048780487805E-2,1.2195121951219513E-2,0,0,0,null,3385,"Aleksander Barkov","Florida Panthers","baral",82,28,42,191,16,13,4,1]
[3213,"Jonathan Huberdeau","FLA","Buy",null,null,null,null,null,null,null,null,null,null,0,0,0,0,0,0,0,{"$error":"#DIV/0!"},{"$error":"#DIV/0!"},{"$error":"#DIV/0!"}," ",3213,"Jonathan Huberdeau",{"$f":"IF(AQ150<>0,VLOOKUP(AQ150,Info!A:B,2,FALSE),\"\")","v":"FLA"},"hubjo",0.31707317073170732,0.51219512195121952,2.7682926829268291,-6.097560975609756E-2,0.41463414634146339,9.7560975609756101E-2,1.2195121951219513E-2,0,0,0,null,3213,"Jonathan Huberdeau","Florida Panthers","hubjo",82,26,42,227,-5,34,8,1]
[2825,"Keith Yandle","FLA","Buy",null,null,null,null,null,null,null,null,null,null,0,0,0,0,0,0,0,{"$error":"#DIV/0!"},{"$error":"#DIV/0!"},{"$error":"#DIV/0!"}," ",2825,"Keith Yandle",{"$f":"IF(AQ151<>0,VLOOKUP(AQ151,Info!A:B,2,FALSE),\"\")","v":"FLA"},"yanke",0.12195121951219512,0.43902439024390244,2.1829268292682928,-7.3170731707317069E-2,0.47560975609756095,2.4390243902439025E-2,1.2195121951219513E-2,0,0,0,null,2825,"Keith Yandle","Florida Panthers","yanke",82,10,36,179,-6,39,2,1]
[3732,"Nick Bjugstad","FLA","Buy",null,null,null,null,null,null,null,null,null,null,0,0,0,0,0,0,0,{"$error":"#DIV/0!"},{"$error":"#DIV/0!"},{"$error":"#DIV/0!"}," ",3732,"Nick Bjugstad",{"$f":"IF(AQ152<>0,VLOOKUP(AQ152,Info!A:B,2,FALSE),\"\")","v":"FLA"},"bjuni",0.13414634146341464,0.18292682926829268,1.6829268292682926,-0.35365853658536583,0.40243902439024393,2.4390243902439025E-2,1.2195121951219513E-2,0,0,0,null,3732,"Nick Bjugstad","Florida Panthers","bjuni",82,11,15,138,-29,33,2,1]
[1864,"Radim Vrbata","FLA","Buy",null,null,null,null,null,null,null,null,null,null,0,0,0,0,0,0,0,{"$error":"#DIV/0!"},{"$error":"#DIV/0!"},{"$error":"#DIV/0!"}," ",1864,"Radim Vrbata",{"$f":"IF(AQ153<>0,VLOOKUP(AQ153,Info!A:B,2,FALSE),\"\")","v":"FLA"},"vrbra",0.24390243902439024,0.42682926829268292,2.8780487804878048,-0.21951219512195122,0.1951219512195122,4.878048780487805E-2,1.2195121951219513E-2,0,0,0,null,1864,"Radim Vrbata","Florida Panthers","vrbra",82,20,35,236,-18,16,4,1]
[1145,"Doug Solomon","XXX","Buy",null,null,null,null,null,null,null,null,null,null,0,0,0,0,0,0,0,{"$error":"#DIV/0!"},{"$error":"#DIV/0!"},{"$error":"#DIV/0!"}," ",1145,"Doug Solomon",{"$f":"IF(AQ154<>0,VLOOKUP(AQ154,Info!A:B,2,FALSE),\"\")","v":"XXX"},"truck",1,1,1,1,1,1,1,0,0,0,null,1145,"Doug Solomon","Hall of Fame","truck",1,1,1,1,1,1,1,1]
[1863,"Anze Kopitar","LAK","Buy",null,null,null,null,null,null,null,null,null,null,0,0,0,0,0,0,0,{"$error":"#DIV/0!"},{"$error":"#DIV/0!"},{"$error":"#DIV/0!"}," ",1863,"Anze Kopitar",{"$f":"IF(AQ155<>0,VLOOKUP(AQ155,Info!A:B,2,FALSE),\"\")","v":"LAK"},"kopan",0.15853658536585366,0.52439024390243905,1.975609756097561,-0.12195121951219512,0.36585365853658536,6.097560975609756E-2,1.2195121951219513E-2,0,0,0,null,1863,"Anze Kopitar","Los Angeles Kings","kopan",82,13,43,162,-10,30,5,1]
[2307,"Brooks Laich","LAK","Buy",null,null,null,null,null,null,null,null,null,null,0,0,0,0,0,0,0,{"$error":"#DIV/0!"},{"$error":"#DIV/0!"},{"$error":"#DIV/0!"}," ",2307,"Brooks Laich",{"$f":"IF(AQ156<>0,VLOOKUP(AQ156,Info!A:B,2,FALSE),\"\")","v":"LAK"},"laibr",0.12195121951219512,0.18292682926829268,1.2439024390243902,-0.15853658536585366,0.21951219512195122,2.4390243902439025E-2,1.2195121951219513E-2,0,0,0,null,2307,"Brooks Laich","Los Angeles Kings","laibr",82,10,15,102,-13,18,2,1]
[2539,"Drew Doughty","LAK","Buy",null,null,null,null,null,null,null,null,null,null,0,0,0,0,0,0,0,{"$error":"#DIV/0!"},{"$error":"#DIV/0!"},{"$error":"#DIV/0!"}," ",2539,"Drew Doughty",{"$f":"IF(AQ157<>0,VLOOKUP(AQ157,Info!A:B,2,FALSE),\"\")","v":"LAK"},"doudr",0.14634146341463414,0.3902439024390244,2.2073170731707319,0.10975609756097561,0.56097560975609762,6.097560975609756E-2,1.2195121951219513E-2,0,0,0,null,2539,"Drew Doughty","Los Angeles Kings","doudr",82,12,32,181,9,46,5,1]
[1958,"Dustin Brown","LAK","Buy",null,null,null,null,null,null,null,null,null,null,0,0,0,0,0,0,0,{"$error":"#DIV/0!"},{"$error":"#DIV/0!"},{"$error":"#DIV/0!"}," ",1958,"Dustin Brown",{"$f":"IF(AQ158<>0,VLOOKUP(AQ158,Info!A:B,2,FALSE),\"\")","v":"LAK"},"brodu",0.17073170731707318,0.28048780487804881,2.1829268292682928,-4.878048780487805E-2,0.28048780487804881,4.878048780487805E-2,1.2195121951219513E-2,0,0,0,null,1958,"Dustin Brown","Los Angeles Kings","brodu",82,14,23,179,-4,23,4,1]
[3740,"Jake Muzzin","LAK","Buy",null,null,null,null,null,null,null,null,null,null,0,0,0,0,0,0,0,{"$error":"#DIV/0!"},{"$error":"#DIV/0!"},{"$error":"#DIV/0!"}," ",3740,"Jake Muzzin",{"$f":"IF(AQ159<>0,VLOOKUP(AQ159,Info!A:B,2,FALSE),\"\")","v":"LAK"},"muzja",0.12195121951219512,0.23170731707317074,2.2439024390243905,-0.26829268292682928,0.56097560975609762,4.878048780487805E-2,1.2195121951219513E-2,0,0,0,null,3740,"Jake Muzzin","Los Angeles Kings","muzja",82,10,19,184,-22,46,4,1]
[1685,"Jeff Carter","LAK","Buy",null,null,null,null,null,null,null,null,null,null,0,0,0,0,0,0,0,{"$error":"#DIV/0!"},{"$error":"#DIV/0!"},{"$error":"#DIV/0!"}," ",1685,"Jeff Carter",{"$f":"IF(AQ160<>0,VLOOKUP(AQ160,Info!A:B,2,FALSE),\"\")","v":"LAK"},"carje",0.3902439024390244,0.41463414634146339,3.0487804878048781,1.2195121951219513E-2,0.5,0.10975609756097561,1.2195121951219513E-2,0,0,0,null,1685,"Jeff Carter","Los Angeles Kings","carje",82,32,34,250,1,41,9,1]
[354,"Marian Gaborik","LAK","Buy",null,null,null,null,null,null,null,null,null,null,0,0,0,0,0,0,0,{"$error":"#DIV/0!"},{"$error":"#DIV/0!"},{"$error":"#DIV/0!"}," ",354,"Marian Gaborik",{"$f":"IF(AQ161<>0,VLOOKUP(AQ161,Info!A:B,2,FALSE),\"\")","v":"LAK"},"gabma",0.18292682926829268,0.1951219512195122,2.1951219512195124,-7.3170731707317069E-2,0.31707317073170732,4.878048780487805E-2,1.2195121951219513E-2,0,0,0,null,354,"Marian Gaborik","Los Angeles Kings","gabma",82,15,16,180,-6,26,4,1]
[1730,"Michael Cammalleri","LAK","Buy",null,null,null,null,null,null,null,null,null,null,0,0,0,0,0,0,0,{"$error":"#DIV/0!"},{"$error":"#DIV/0!"},{"$error":"#DIV/0!"}," ",1730,"Michael Cammalleri",{"$f":"IF(AQ162<>0,VLOOKUP(AQ162,Info!A:B,2,FALSE),\"\")","v":"LAK"},"cammm",0.15853658536585366,0.34146341463414637,2.3414634146341462,-0.13414634146341464,0.34146341463414637,2.4390243902439025E-2,1.2195121951219513E-2,0,0,0,null,1730,"Michael Cammalleri","Los Angeles Kings","cammm",82,13,28,192,-11,28,2,1]
[3706,"Tanner Pearson","LAK","Buy",null,null,null,null,null,null,null,null,null,null,0,0,0,0,0,0,0,{"$error":"#DIV/0!"},{"$error":"#DIV/0!"},{"$error":"#DIV/0!"}," ",3706,"Tanner Pearson",{"$f":"IF(AQ163<>0,VLOOKUP(AQ163,Info!A:B,2,FALSE),\"\")","v":"LAK"},"peata",0.3048780487804878,0.23170731707317074,2.3414634146341462,6.097560975609756E-2,0.15853658536585366,3.6585365853658534E-2,1.2195121951219513E-2,0,0,0,null,3706,"Tanner Pearson","Los Angeles Kings","peata",82,25,19,192,5,13,3,1]
[3447,"Tyler Toffoli","LAK","Buy",null,null,null,null,null,null,null,null,null,null,0,0,0,0,0,0,0,{"$error":"#DIV/0!"},{"$error":"#DIV/0!"},{"$error":"#DIV/0!"}," ",3447,"Tyler Toffoli",{"$f":"IF(AQ164<>0,VLOOKUP(AQ164,Info!A:B,2,FALSE),\"\")","v":"LAK"},"tofty",0.25609756097560976,0.28048780487804881,2.6219512195121952,8.5365853658536592E-2,0.35365853658536583,6.097560975609756E-2,1.2195121951219513E-2,0,0,0,null,3447,"Tyler Toffoli","Los Angeles Kings","tofty",82,21,23,215,7,29,5,1]
[2603,"Chris Stewart","MIN","Buy",null,null,null,null,null,null,null,null,null,null,0,0,0,0,0,0,0,{"$error":"#DIV/0!"},{"$error":"#DIV/0!"},{"$error":"#DIV/0!"}," ",2603,"Chris Stewart",{"$f":"IF(AQ165<>0,VLOOKUP(AQ165,Info!A:B,2,FALSE),\"\")","v":"MIN"},"stech",0.15853658536585366,0.18292682926829268,1.0365853658536586,3.6585365853658534E-2,1.1951219512195121,2.4390243902439025E-2,1.2195121951219513E-2,0,0,0,null,2603,"Chris Stewart","Minnesota Wild","stech",82,13,15,85,3,98,2,1]
[1016,"Eric Staal","MIN","Buy",null,null,null,null,null,null,null,null,null,null,0,0,0,0,0,0,0,{"$error":"#DIV/0!"},{"$error":"#DIV/0!"},{"$error":"#DIV/0!"}," ",1016,"Eric Staal",{"$f":"IF(AQ166<>0,VLOOKUP(AQ166,Info!A:B,2,FALSE),\"\")","v":"MIN"},"staer",0.34146341463414637,0.45121951219512196,2.5731707317073171,0.2073170731707317,0.41463414634146339,4.878048780487805E-2,1.2195121951219513E-2,0,0,0,null,1016,"Eric Staal","Minnesota Wild","staer",82,28,37,211,17,34,4,1]
[3238,"Jared Spurgeon","MIN","Buy",null,null,null,null,null,null,null,null,null,null,0,0,0,0,0,0,0,{"$error":"#DIV/0!"},{"$error":"#DIV/0!"},{"$error":"#DIV/0!"}," ",3238,"Jared Spurgeon",{"$f":"IF(AQ167<>0,VLOOKUP(AQ167,Info!A:B,2,FALSE),\"\")","v":"MIN"},"spuja",0.13414634146341464,0.36585365853658536,1.8902439024390243,0.36585365853658536,0.26829268292682928,2.4390243902439025E-2,1.2195121951219513E-2,0,0,0,null,3238,"Jared Spurgeon","Minnesota Wild","spuja",82,11,30,155,30,22,2,1]
[3206,"Marcus Foligno","MIN","Buy",null,null,null,null,null,null,null,null,null,null,0,0,0,0,0,0,0,{"$error":"#DIV/0!"},{"$error":"#DIV/0!"},{"$error":"#DIV/0!"}," ",3206,"Marcus Foligno",{"$f":"IF(AQ168<>0,VLOOKUP(AQ168,Info!A:B,2,FALSE),\"\")","v":"MIN"},"folma",0.15853658536585366,0.18292682926829268,1.2073170731707317,-1.2195121951219513E-2,0.91463414634146345,2.4390243902439025E-2,1.2195121951219513E-2,0,0,0,null,3206,"Marcus Foligno","Minnesota Wild","folma",82,13,15,99,-1,75,2,1]
[1788,"Matt Cullen","MIN","Buy",null,null,null,null,null,null,null,null,null,null,0,0,0,0,0,0,0,{"$error":"#DIV/0!"},{"$error":"#DIV/0!"},{"$error":"#DIV/0!"}," ",1788,"Matt Cullen",{"$f":"IF(AQ169<>0,VLOOKUP(AQ169,Info!A:B,2,FALSE),\"\")","v":"MIN"},"culma",0.18292682926829268,0.25609756097560976,1.2926829268292683,6.097560975609756E-2,0.41463414634146339,2.4390243902439025E-2,2.4390243902439025E-2,0,0,0,null,1788,"Matt Cullen","Minnesota Wild","culma",82,15,21,106,5,34,2,2]
[3207,"Mikael Granlund","MIN","Buy",null,null,null,null,null,null,null,null,null,null,0,0,0,0,0,0,0,{"$error":"#DIV/0!"},{"$error":"#DIV/0!"},{"$error":"#DIV/0!"}," ",3207,"Mikael Granlund",{"$f":"IF(AQ170<>0,VLOOKUP(AQ170,Info!A:B,2,FALSE),\"\")","v":"MIN"},"granm",0.31707317073170732,0.53658536585365857,2.1829268292682928,0.28048780487804881,0.14634146341463414,8.5365853658536592E-2,3.6585365853658534E-2,0,0,0,null,3207,"Mikael Granlund","Minnesota Wild","granm",82,26,44,179,23,12,7,3]
[1946,"Mikko Koivu","MIN","Buy",null,null,null,null,null,null,null,null,null,null,0,0,0,0,0,0,0,{"$error":"#DIV/0!"},{"$error":"#DIV/0!"},{"$error":"#DIV/0!"}," ",1946,"Mikko Koivu",{"$f":"IF(AQ171<>0,VLOOKUP(AQ171,Info!A:B,2,FALSE),\"\")","v":"MIN"},"koimi",0.21951219512195122,0.5,1.7317073170731707,0.34146341463414637,0.42682926829268292,2.4390243902439025E-2,1.2195121951219513E-2,0,0,0,null,1946,"Mikko Koivu","Minnesota Wild","koimi",82,18,41,142,28,35,2,1]
[3707,"Nino Niederreiter","MIN","Buy",null,null,null,null,null,null,null,null,null,null,0,0,0,0,0,0,0,{"$error":"#DIV/0!"},{"$error":"#DIV/0!"},{"$error":"#DIV/0!"}," ",3707,"Nino Niederreiter",{"$f":"IF(AQ172<>0,VLOOKUP(AQ172,Info!A:B,2,FALSE),\"\")","v":"MIN"},"nieni",0.3048780487804878,0.3902439024390244,2.2682926829268291,0.2073170731707317,0.64634146341463417,9.7560975609756101E-2,1.2195121951219513E-2,0,0,0,null,3707,"Nino Niederreiter","Minnesota Wild","nieni",82,25,32,186,17,53,8,1]
[2844,"Ryan Suter","MIN","Buy",null,null,null,null,null,null,null,null,null,null,0,0,0,0,0,0,0,{"$error":"#DIV/0!"},{"$error":"#DIV/0!"},{"$error":"#DIV/0!"}," ",2844,"Ryan Suter",{"$f":"IF(AQ173<>0,VLOOKUP(AQ173,Info!A:B,2,FALSE),\"\")","v":"MIN"},"sutry",0.12195121951219512,0.35365853658536583,2,0.36585365853658536,0.43902439024390244,4.878048780487805E-2,1.2195121951219513E-2,0,0,0,null,2844,"Ryan Suter","Minnesota Wild","sutry",82,10,29,164,30,36,4,1]
[2830,"Tyler Ennis","MIN","Buy",null,null,null,null,null,null,null,null,null,null,0,0,0,0,0,0,0,{"$error":"#DIV/0!"},{"$error":"#DIV/0!"},{"$error":"#DIV/0!"}," ",2830,"Tyler Ennis",{"$f":"IF(AQ174<>0,VLOOKUP(AQ174,Info!A:B,2,FALSE),\"\")","v":"MIN"},"ennty",0.12195121951219512,0.18292682926829268,1.7439024390243902,-0.1951219512195122,0.23170731707317074,2.4390243902439025E-2,1.2195121951219513E-2,0,0,0,null,2830,"Tyler Ennis","Minnesota Wild","ennty",82,10,15,143,-16,19,2,1]
[1879,"Zach Parise","MIN","Buy",null,null,null,null,null,null,null,null,null,null,0,0,0,0,0,0,0,{"$error":"#DIV/0!"},{"$error":"#DIV/0!"},{"$error":"#DIV/0!"}," ",1879,"Zach Parise",{"$f":"IF(AQ175<>0,VLOOKUP(AQ175,Info!A:B,2,FALSE),\"\")","v":"MIN"},"parza",0.28048780487804881,0.32926829268292684,2.8170731707317072,-4.878048780487805E-2,0.43902439024390244,8.5365853658536592E-2,1.2195121951219513E-2,0,0,0,null,1879,"Zach Parise","Minnesota Wild","parza",82,23,27,231,-4,36,7,1]
[992,"Ales Hemsky","MON","Buy",null,null,null,null,null,null,null,null,null,null,0,0,0,0,0,0,0,{"$error":"#DIV/0!"},{"$error":"#DIV/0!"},{"$error":"#DIV/0!"}," ",992,"Ales Hemsky",{"$f":"IF(AQ176<>0,VLOOKUP(AQ176,Info!A:B,2,FALSE),\"\")","v":"MON"},"hemal",0.15853658536585366,0.34146341463414637,2.024390243902439,1.2195121951219513E-2,0.29268292682926828,2.4390243902439025E-2,1.2195121951219513E-2,0,0,0,null,992,"Ales Hemsky","Montreal Canadiens","hemal",82,13,28,166,1,24,2,1]
[3215,"Alex Galchenyuk","MON","Buy",null,null,null,null,null,null,null,null,null,null,0,0,0,0,0,0,0,{"$error":"#DIV/0!"},{"$error":"#DIV/0!"},{"$error":"#DIV/0!"}," ",3215,"Alex Galchenyuk",{"$f":"IF(AQ177<>0,VLOOKUP(AQ177,Info!A:B,2,FALSE),\"\")","v":"MON"},"galal",0.28048780487804881,0.43902439024390244,1.7073170731707317,-8.5365853658536592E-2,0.3902439024390244,9.7560975609756101E-2,1.2195121951219513E-2,0,0,0,null,3215,"Alex Galchenyuk","Montreal Canadiens","galal",82,23,36,140,-7,32,8,1]
[3441,"Andrew Shaw","MON","Buy",null,null,null,null,null,null,null,null,null,null,0,0,0,0,0,0,0,{"$error":"#DIV/0!"},{"$error":"#DIV/0!"},{"$error":"#DIV/0!"}," ",3441,"Andrew Shaw",{"$f":"IF(AQ178<>0,VLOOKUP(AQ178,Info!A:B,2,FALSE),\"\")","v":"MON"},"shaan",0.17073170731707318,0.25609756097560976,1.8658536585365855,6.097560975609756E-2,1.6219512195121952,2.4390243902439025E-2,1.2195121951219513E-2,0,0,0,null,3441,"Andrew Shaw","Montreal Canadiens","shaan",82,14,21,153,5,133,2,1]
[3247,"Brendan Gallagher","MON","Buy",null,null,null,null,null,null,null,null,null,null,0,0,0,0,0,0,0,{"$error":"#DIV/0!"},{"$error":"#DIV/0!"},{"$error":"#DIV/0!"}," ",3247,"Brendan Gallagher",{"$f":"IF(AQ179<>0,VLOOKUP(AQ179,Info!A:B,2,FALSE),\"\")","v":"MON"},"galbr",0.15853658536585366,0.29268292682926828,2.9268292682926829,0.12195121951219512,0.6097560975609756,2.4390243902439025E-2,1.2195121951219513E-2,0,0,0,null,3247,"Brendan Gallagher","Montreal Canadiens","galbr",82,13,24,240,10,50,2,1]
[3657,"Jonathan Drouin","MON","Buy",null,null,null,null,null,null,null,null,null,null,0,0,0,0,0,0,0,{"$error":"#DIV/0!"},{"$error":"#DIV/0!"},{"$error":"#DIV/0!"}," ",3657,"Jonathan Drouin",{"$f":"IF(AQ180<>0,VLOOKUP(AQ180,Info!A:B,2,FALSE),\"\")","v":"MON"},"drojo",0.29268292682926828,0.43902439024390244,2.5121951219512195,-0.18292682926829268,0.21951219512195122,0.12195121951219512,1.2195121951219513E-2,0,0,0,null,3657,"Jonathan Drouin","Montreal Canadiens","drojo",82,24,36,206,-15,18,10,1]
[2160,"Mark Streit","MON","Buy",null,null,null,null,null,null,null,null,null,null,0,0,0,0,0,0,0,{"$error":"#DIV/0!"},{"$error":"#DIV/0!"},{"$error":"#DIV/0!"}," ",2160,"Mark Streit",{"$f":"IF(AQ181<>0,VLOOKUP(AQ181,Info!A:B,2,FALSE),\"\")","v":"MON"},"strem",0.12195121951219512,0.28048780487804881,1.6707317073170731,-0.17073170731707318,0.41463414634146339,2.4390243902439025E-2,1.2195121951219513E-2,0,0,0,null,2160,"Mark Streit","Montreal Canadiens","strem",82,10,23,137,-14,34,2,1]
[2963,"Max Pacioretty","MON","Buy",null,null,null,null,null,null,null,null,null,null,0,0,0,0,0,0,0,{"$error":"#DIV/0!"},{"$error":"#DIV/0!"},{"$error":"#DIV/0!"}," ",2963,"Max Pacioretty",{"$f":"IF(AQ182<>0,VLOOKUP(AQ182,Info!A:B,2,FALSE),\"\")","v":"MON"},"pacma",0.42682926829268292,0.3902439024390244,3.3048780487804876,0.18292682926829268,0.46341463414634149,9.7560975609756101E-2,1.2195121951219513E-2,0,0,0,null,2963,"Max Pacioretty","Montreal Canadiens","pacma",82,35,32,271,15,38,8,1]
[2297,"Shea Weber","MON","Buy",null,null,null,null,null,null,null,null,null,null,0,0,0,0,0,0,0,{"$error":"#DIV/0!"},{"$error":"#DIV/0!"},{"$error":"#DIV/0!"}," ",2297,"Shea Weber",{"$f":"IF(AQ183<>0,VLOOKUP(AQ183,Info!A:B,2,FALSE),\"\")","v":"MON"},"websh",0.21951219512195122,0.31707317073170732,2.3414634146341462,0.25609756097560976,0.48780487804878048,0.15853658536585366,1.2195121951219513E-2,0,0,0,null,2297,"Shea Weber","Montreal Canadiens","websh",82,18,26,192,21,40,13,1]
[1950,"Tomas Plekanec","MON","Buy",null,null,null,null,null,null,null,null,null,null,0,0,0,0,0,0,0,{"$error":"#DIV/0!"},{"$error":"#DIV/0!"},{"$error":"#DIV/0!"}," ",1950,"Tomas Plekanec",{"$f":"IF(AQ184<>0,VLOOKUP(AQ184,Info!A:B,2,FALSE),\"\")","v":"MON"},"pleto",0.13414634146341464,0.23170731707317074,1.7804878048780488,0.13414634146341464,0.3048780487804878,3.6585365853658534E-2,2.4390243902439025E-2,0,0,0,null,1950,"Tomas Plekanec","Montreal Canadiens","pleto",82,11,19,146,11,25,3,2]
[3741,"Craig Smith","NAS","Buy",null,null,null,null,null,null,null,null,null,null,0,0,0,0,0,0,0,{"$error":"#DIV/0!"},{"$error":"#DIV/0!"},{"$error":"#DIV/0!"}," ",3741,"Craig Smith",{"$f":"IF(AQ185<>0,VLOOKUP(AQ185,Info!A:B,2,FALSE),\"\")","v":"NAS"},"smicr",0.15853658536585366,0.21951219512195122,1.9878048780487805,8.5365853658536592E-2,0.3902439024390244,2.4390243902439025E-2,1.2195121951219513E-2,0,0,0,null,3741,"Craig Smith","Nashville Predators","smicr",82,13,18,163,7,32,2,1]
[3668,"Filip Forsberg","NAS","Buy",null,null,null,null,null,null,null,null,null,null,0,0,0,0,0,0,0,{"$error":"#DIV/0!"},{"$error":"#DIV/0!"},{"$error":"#DIV/0!"}," ",3668,"Filip Forsberg",{"$f":"IF(AQ186<>0,VLOOKUP(AQ186,Info!A:B,2,FALSE),\"\")","v":"NAS"},"forfi",0.3902439024390244,0.31707317073170732,2.8658536585365852,-4.878048780487805E-2,0.3902439024390244,4.878048780487805E-2,3.6585365853658534E-2,0,0,0,null,3668,"Filip Forsberg","Nashville Predators","forfi",82,32,26,235,-4,32,4,3]
[4096,"Mattias Ekholm","NAS","Buy",null,null,null,null,null,null,null,null,null,null,0,0,0,0,0,0,0,{"$error":"#DIV/0!"},{"$error":"#DIV/0!"},{"$error":"#DIV/0!"}," ",4096,"Mattias Ekholm",{"$f":"IF(AQ187<>0,VLOOKUP(AQ187,Info!A:B,2,FALSE),\"\")","v":"NAS"},"ekhma",0.12195121951219512,0.24390243902439024,1.4634146341463414,4.878048780487805E-2,0.41463414634146339,2.4390243902439025E-2,1.2195121951219513E-2,0,0,0,null,4096,"Mattias Ekholm","Nashville Predators","ekhma",82,10,20,120,4,34,2,1]
[1021,"Mike Ribeiro","NAS","Buy",null,null,null,null,null,null,null,null,null,null,0,0,0,0,0,0,0,{"$error":"#DIV/0!"},{"$error":"#DIV/0!"},{"$error":"#DIV/0!"}," ",1021,"Mike Ribeiro",{"$f":"IF(AQ188<>0,VLOOKUP(AQ188,Info!A:B,2,FALSE),\"\")","v":"NAS"},"ribmi",0.12195121951219512,0.45121951219512196,0.91463414634146345,-0.10975609756097561,0.3048780487804878,4.878048780487805E-2,1.2195121951219513E-2,0,0,0,null,1021,"Mike Ribeiro","Nashville Predators","ribmi",82,10,37,75,-9,25,4,1]
[3444,"Nick Bonino","NAS","Buy",null,null,null,null,null,null,null,null,null,null,0,0,0,0,0,0,0,{"$error":"#DIV/0!"},{"$error":"#DIV/0!"},{"$error":"#DIV/0!"}," ",3444,"Nick Bonino",{"$f":"IF(AQ189<>0,VLOOKUP(AQ189,Info!A:B,2,FALSE),\"\")","v":"NAS"},"bonni",0.21951219512195122,0.23170731707317074,1.7804878048780488,-6.097560975609756E-2,0.1951219512195122,7.3170731707317069E-2,1.2195121951219513E-2,0,0,0,null,3444,"Nick Bonino","Nashville Predators","bonni",82,18,19,146,-5,16,6,1]
[3218,"P.K. Subban","NAS","Buy",null,null,null,null,null,null,null,null,null,null,0,0,0,0,0,0,0,{"$error":"#DIV/0!"},{"$error":"#DIV/0!"},{"$error":"#DIV/0!"}," ",3218,"P.K. Subban",{"$f":"IF(AQ190<>0,VLOOKUP(AQ190,Info!A:B,2,FALSE),\"\")","v":"NAS"},"subpk",0.17073170731707318,0.43902439024390244,2.1707317073170733,-0.12195121951219512,0.67073170731707321,4.878048780487805E-2,1.2195121951219513E-2,0,0,0,null,3218,"P.K. Subban","Nashville Predators","subpk",82,14,36,178,-10,55,4,1]
[3241,"Roman Josi","NAS","Buy",null,null,null,null,null,null,null,null,null,null,0,0,0,0,0,0,0,{"$error":"#DIV/0!"},{"$error":"#DIV/0!"},{"$error":"#DIV/0!"}," ",3241,"Roman Josi",{"$f":"IF(AQ191<>0,VLOOKUP(AQ191,Info!A:B,2,FALSE),\"\")","v":"NAS"},"josro",0.17073170731707318,0.52439024390243905,3.0121951219512195,9.7560975609756101E-2,0.25609756097560976,9.7560975609756101E-2,1.2195121951219513E-2,0,0,0,null,3241,"Roman Josi","Nashville Predators","josro",82,14,43,247,8,21,8,1]
[3438,"Ryan Johansen","NAS","Buy",null,null,null,null,null,null,null,null,null,null,0,0,0,0,0,0,0,{"$error":"#DIV/0!"},{"$error":"#DIV/0!"},{"$error":"#DIV/0!"}," ",3438,"Ryan Johansen",{"$f":"IF(AQ192<>0,VLOOKUP(AQ192,Info!A:B,2,FALSE),\"\")","v":"NAS"},"johry",0.17073170731707318,0.57317073170731703,1.8780487804878048,1.2195121951219513E-2,0.73170731707317072,4.878048780487805E-2,1.2195121951219513E-2,0,0,0,null,3438,"Ryan Johansen","Nashville Predators","johry",82,14,47,154,1,60,4,1]
[1595,"Scott Hartnell","NAS","Buy",null,null,null,null,null,null,null,null,null,null,0,0,0,0,0,0,0,{"$error":"#DIV/0!"},{"$error":"#DIV/0!"},{"$error":"#DIV/0!"}," ",1595,"Scott Hartnell",{"$f":"IF(AQ193<>0,VLOOKUP(AQ193,Info!A:B,2,FALSE),\"\")","v":"NAS"},"harsc",0.17073170731707318,0.3048780487804878,1.3292682926829269,0.18292682926829268,0.80487804878048785,2.4390243902439025E-2,1.2195121951219513E-2,0,0,0,null,1595,"Scott Hartnell","Nashville Predators","harsc",82,14,25,109,15,66,2,1]
[4129,"Viktor Arvidsson","NAS","Buy",null,null,null,null,null,null,null,null,null,null,{"$f":"VLOOKUP($A194,$A:$N,5,FALSE)/VLOOKUP($A194,$Z:$AM,5,FALSE)","v":0},{"$f":"VLOOKUP($A194,$A:$N,6,FALSE)/VLOOKUP($A194,$Z:$AM,6,FALSE)","v":0},{"$f":"VLOOKUP($A194,$A:$N,7,FALSE)/VLOOKUP($A194,$Z:$AM,7,FALSE)","v":0},{"$f":"VLOOKUP($A194,$A:$N,8,FALSE)/VLOOKUP($A194,$Z:$AM,8,FALSE)","v":0},{"$f":"VLOOKUP($A194,$A:$N,9,FALSE)/VLOOKUP($A194,$Z:$AM,9,FALSE)","v":0},{"$f":"VLOOKUP($A194,$A:$N,10,FALSE)/VLOOKUP($A194,$Z:$AM,10,FALSE)","v":0},{"$f":"VLOOKUP($A194,$A:$N,11,FALSE)/VLOOKUP($A194,$Z:$AM,11,FALSE)","v":0},{"$f":"VLOOKUP($A194,$A:$N,12,FALSE)/VLOOKUP($A194,$Z:$AM,12,FALSE)","v":{"$error":"#DIV/0!"}},{"$f":"VLOOKUP($A194,$A:$N,13,FALSE)/VLOOKUP($A194,$Z:$AM,13,FALSE)","v":{"$error":"#DIV/0!"}},{"$f":"VLOOKUP($A194,$A:$N,14,FALSE)/VLOOKUP($A194,$Z:$AM,14,FALSE)","v":{"$error":"#DIV/0!"}}," ",4129,"Viktor Arvidsson",{"$f":"IF(AQ194<>0,VLOOKUP(AQ194,Info!A:B,2,FALSE),\"\")","v":"NAS"},"arvvi",0.3902439024390244,0.37804878048780488,3.0731707317073171,0.31707317073170732,0.42682926829268292,4.878048780487805E-2,4.878048780487805E-2,0,0,0,null,4129,"Viktor Arvidsson","Nashville Predators","arvvi",82,32,31,252,26,35,4,4]
[{"$f":"IF(Z195<>0,Z195,\"\")","v":3028},{"$f":"IF(A195<>0,VLOOKUP(A195,Z:AA,2,FALSE),\"\")","v":"Adam Henrique"},{"$f":"IF(A195<>0,VLOOKUP(A195,Z:AB,3,FALSE))","v":"NJD"},{"$f":"HYPERLINK(\"http://www.jockstocks.com/buysell.php?action=buymax&plid=\"&A195,\"Buy\")","v":"Buy"},null,null,null,null,null,null,null,null,null,null,0,0,0,0,0,0,0,{"$error":"#DIV/0!"},{"$error":"#DIV/0!"},{"$error":"#DIV/0!"}," ",{"$f":"IF(AO195<>0,AO195,\"\")","v":3028},{"$f":"IF(AP195<>0,VLOOKUP(Z195,AO:AP,2,FALSE),\"\")","v":"Adam Henrique"},{"$f":"IF(AQ195<>0,VLOOKUP(AQ195,Info!A:B,2,FALSE),\"\")","v":"NJD"},{"$f":"IF(AO195<>0,VLOOKUP(Z195,AO:AR,4,FALSE),\"\")","v":"henad"},{"$f":"IF($AO195<>0,AT195/$AS195,\"\")","v":0.24390243902439024},{"$f":"IF($AO195<>0,AU195/$AS195,\"\")","v":0.24390243902439024},{"$f":"IF($AO195<>0,AV195/$AS195,\"\")","v":1.7560975609756098},{"$f":"IF($AO195<>0,AW195/$AS195,\"\")","v":-0.2073170731707317},{"$f":"IF($AO195<>0,AX195/$AS195,\"\")","v":0.46341463414634149},{"$f":"IF($AO195<>0,AY195/$AS195,\"\")","v":7.3170731707317069E-2},{"$f":"IF($AO195<>0,AZ195/$AS195,\"\")","v":2.4390243902439025E-2},{"$f":"IF($AO195<>0,BA195/$AS195,\"\")","v":0},{"$f":"IF($AO195<>0,BB195/$AS195,\"\")","v":0},{"$f":"IF($AO195<>0,BC195/$AS195,\"\")","v":0},null,3028,"Adam Henrique","New Jersey Devils","henad",82,20,20,144,-17,38,6,2]
[3669,"Damon Severson","NJD","Buy",null,null,null,null,null,null,null,null,null,null,0,0,0,0,0,0,0,{"$error":"#DIV/0!"},{"$error":"#DIV/0!"},{"$error":"#DIV/0!"}," ",3669,"Damon Severson",{"$f":"IF(AQ196<>0,VLOOKUP(AQ196,Info!A:B,2,FALSE),\"\")","v":"NJD"},"sevda",0.12195121951219512,0.34146341463414637,1.5731707317073171,-0.36585365853658536,0.73170731707317072,2.4390243902439025E-2,1.2195121951219513E-2,0,0,0,null,3669,"Damon Severson","New Jersey Devils","sevda",82,10,28,129,-30,60,2,1]
[2365,"Drew Stafford","NJD","Buy",null,null,null,null,null,null,null,null,null,null,0,0,0,0,0,0,0,{"$error":"#DIV/0!"},{"$error":"#DIV/0!"},{"$error":"#DIV/0!"}," ",2365,"Drew Stafford",{"$f":"IF(AQ197<>0,VLOOKUP(AQ197,Info!A:B,2,FALSE),\"\")","v":"NJD"},"stadr",0.13414634146341464,0.24390243902439024,1.8780487804878048,8.5365853658536592E-2,0.41463414634146339,4.878048780487805E-2,1.2195121951219513E-2,0,0,0,null,2365,"Drew Stafford","New Jersey Devils","stadr",82,11,20,154,7,34,4,1]
[3995,"Kyle Palmieri","NJD","Buy",null,null,null,null,null,null,null,null,null,null,0,0,0,0,0,0,0,{"$error":"#DIV/0!"},{"$error":"#DIV/0!"},{"$error":"#DIV/0!"}," ",3995,"Kyle Palmieri",{"$f":"IF(AQ198<>0,VLOOKUP(AQ198,Info!A:B,2,FALSE),\"\")","v":"NJD"},"palky",0.32926829268292684,0.34146341463414637,2.3902439024390243,4.878048780487805E-2,0.58536585365853655,9.7560975609756101E-2,1.2195121951219513E-2,0,0,0,null,3995,"Kyle Palmieri","New Jersey Devils","palky",82,27,28,196,4,48,8,1]
[3735,"Marcus Johansson","NJD","Buy",null,null,null,null,null,null,null,null,null,null,0,0,0,0,0,0,0,{"$error":"#DIV/0!"},{"$error":"#DIV/0!"},{"$error":"#DIV/0!"}," ",3735,"Marcus Johansson",{"$f":"IF(AQ199<>0,VLOOKUP(AQ199,Info!A:B,2,FALSE),\"\")","v":"NJD"},"johma",0.29268292682926828,0.41463414634146339,1.5731707317073171,0.3048780487804878,0.12195121951219512,6.097560975609756E-2,1.2195121951219513E-2,0,0,0,null,3735,"Marcus Johansson","New Jersey Devils","johma",82,24,34,129,25,10,5,1]
[4231,"Nico Hischier","NJD","Buy",null,null,null,null,null,null,null,null,null,null,0,0,0,0,0,0,0,{"$error":"#DIV/0!"},{"$error":"#DIV/0!"},{"$error":"#DIV/0!"}," ",4231,"Nico Hischier",{"$f":"IF(AQ200<>0,VLOOKUP(AQ200,Info!A:B,2,FALSE),\"\")","v":"NJD"},"hisni",0.21951219512195122,0.3902439024390244,2.1341463414634148,6.097560975609756E-2,0.36585365853658536,4.878048780487805E-2,1.2195121951219513E-2,0,0,0,null,4231,"Nico Hischier","New Jersey Devils","hisni",82,18,32,175,5,30,4,1]
[2770,"Taylor Hall","NJD","Buy",null,null,null,null,null,null,null,null,null,null,0,0,0,0,0,0,0,{"$error":"#DIV/0!"},{"$error":"#DIV/0!"},{"$error":"#DIV/0!"}," ",2770,"Taylor Hall",{"$f":"IF(AQ201<>0,VLOOKUP(AQ201,Info!A:B,2,FALSE),\"\")","v":"NJD"},"hallt",0.26829268292682928,0.46341463414634149,3.3414634146341462,-0.10975609756097561,0.45121951219512196,9.7560975609756101E-2,1.2195121951219513E-2,0,0,0,null,2770,"Taylor Hall","New Jersey Devils","hallt",82,22,38,274,-9,37,8,1]
[1954,"Travis Zajac","NJD","Buy",null,null,null,null,null,null,null,null,null,null,0,0,0,0,0,0,0,{"$error":"#DIV/0!"},{"$error":"#DIV/0!"},{"$error":"#DIV/0!"}," ",1954,"Travis Zajac",{"$f":"IF(AQ202<>0,VLOOKUP(AQ202,Info!A:B,2,FALSE),\"\")","v":"NJD"},"zajtr",0.18292682926829268,0.37804878048780488,1.5853658536585367,-8.5365853658536592E-2,0.41463414634146339,7.3170731707317069E-2,1.2195121951219513E-2,0,0,0,null,1954,"Travis Zajac","New Jersey Devils","zajtr",82,15,31,130,-7,34,6,1]
[3814,"Anders Lee","NYI","Buy",null,null,null,null,null,null,null,null,null,null,0,0,0,0,0,0,0,{"$error":"#DIV/0!"},{"$error":"#DIV/0!"},{"$error":"#DIV/0!"}," ",3814,"Anders Lee",{"$f":"IF(AQ203<>0,VLOOKUP(AQ203,Info!A:B,2,FALSE),\"\")","v":"NYI"},"leean",0.41463414634146339,0.21951219512195122,2.3536585365853657,0.10975609756097561,0.69512195121951215,0.10975609756097561,1.2195121951219513E-2,0,0,0,null,3814,"Anders Lee","New York Islanders","leean",82,34,18,193,9,57,9,1]
[2368,"Andrew Ladd","NYI","Buy",null,null,null,null,null,null,null,null,null,null,0,0,0,0,0,0,0,{"$error":"#DIV/0!"},{"$error":"#DIV/0!"},{"$error":"#DIV/0!"}," ",2368,"Andrew Ladd",{"$f":"IF(AQ204<>0,VLOOKUP(AQ204,Info!A:B,2,FALSE),\"\")","v":"NYI"},"ladan",0.29268292682926828,0.18292682926829268,1.8170731707317074,-0.18292682926829268,0.57317073170731703,3.6585365853658534E-2,1.2195121951219513E-2,0,0,0,null,2368,"Andrew Ladd","New York Islanders","ladan",82,24,15,149,-15,47,3,1]
[3708,"Brock Nelson","NYI","Buy",null,null,null,null,null,null,null,null,null,null,0,0,0,0,0,0,0,{"$error":"#DIV/0!"},{"$error":"#DIV/0!"},{"$error":"#DIV/0!"}," ",3708,"Brock Nelson",{"$f":"IF(AQ205<>0,VLOOKUP(AQ205,Info!A:B,2,FALSE),\"\")","v":"NYI"},"nelbr",0.24390243902439024,0.3048780487804878,2.1341463414634148,-7.3170731707317069E-2,0.43902439024390244,2.4390243902439025E-2,1.2195121951219513E-2,0,0,0,null,3708,"Brock Nelson","New York Islanders","nelbr",82,20,25,175,-6,36,2,1]
[2302,"Jason Chimera","NYI","Buy",null,null,null,null,null,null,null,null,null,null,0,0,0,0,0,0,0,{"$error":"#DIV/0!"},{"$error":"#DIV/0!"},{"$error":"#DIV/0!"}," ",2302,"Jason Chimera",{"$f":"IF(AQ206<>0,VLOOKUP(AQ206,Info!A:B,2,FALSE),\"\")","v":"NYI"},"chija",0.24390243902439024,0.18292682926829268,1.475609756097561,2.4390243902439025E-2,0.48780487804878048,2.4390243902439025E-2,1.2195121951219513E-2,0,0,0,null,2302,"Jason Chimera","New York Islanders","chija",82,20,15,121,2,40,2,1]
[2537,"John Tavares","NYI","Buy",null,null,null,null,null,null,null,null,null,null,0,0,0,0,0,0,0,{"$error":"#DIV/0!"},{"$error":"#DIV/0!"},{"$error":"#DIV/0!"}," ",2537,"John Tavares",{"$f":"IF(AQ207<>0,VLOOKUP(AQ207,Info!A:B,2,FALSE),\"\")","v":"NYI"},"tavjo",0.36585365853658536,0.48780487804878048,3.3780487804878048,4.878048780487805E-2,0.48780487804878048,7.3170731707317069E-2,1.2195121951219513E-2,0,0,0,null,2537,"John Tavares","New York Islanders","tavjo",82,30,40,277,4,40,6,1]
[3027,"Jordan Eberle","NYI","Buy",null,null,null,null,null,null,null,null,null,null,0,0,0,0,0,0,0,{"$error":"#DIV/0!"},{"$error":"#DIV/0!"},{"$error":"#DIV/0!"}," ",3027,"Jordan Eberle",{"$f":"IF(AQ208<>0,VLOOKUP(AQ208,Info!A:B,2,FALSE),\"\")","v":"NYI"},"ebejo",0.24390243902439024,0.37804878048780488,2.5365853658536586,4.878048780487805E-2,0.1951219512195122,4.878048780487805E-2,1.2195121951219513E-2,0,0,0,null,3027,"Jordan Eberle","New York Islanders","ebejo",82,20,31,208,4,16,4,1]
[2827,"Nikolay Kulemin","NYI","Buy",null,null,null,null,null,null,null,null,null,null,0,0,0,0,0,0,0,{"$error":"#DIV/0!"},{"$error":"#DIV/0!"},{"$error":"#DIV/0!"}," ",2827,"Nikolay Kulemin",{"$f":"IF(AQ209<>0,VLOOKUP(AQ209,Info!A:B,2,FALSE),\"\")","v":"NYI"},"kulni",0.17073170731707318,0.18292682926829268,1.024390243902439,3.6585365853658534E-2,0.25609756097560976,2.4390243902439025E-2,1.2195121951219513E-2,0,0,0,null,2827,"Nikolay Kulemin","New York Islanders","kulni",82,14,15,84,3,21,2,1]
[3450,"Chris Kreider","NYR","Buy",null,null,null,null,null,null,null,null,null,null,0,0,0,0,0,0,0,{"$error":"#DIV/0!"},{"$error":"#DIV/0!"},{"$error":"#DIV/0!"}," ",3450,"Chris Kreider",{"$f":"IF(AQ210<>0,VLOOKUP(AQ210,Info!A:B,2,FALSE),\"\")","v":"NYR"},"krech",0.37804878048780488,0.32926829268292684,2.475609756097561,8.5365853658536592E-2,0.76829268292682928,8.5365853658536592E-2,1.2195121951219513E-2,0,0,0,null,3450,"Chris Kreider","New York Rangers","krech",82,31,27,203,7,63,7,1]
[3033,"David Desharnais","NYR","Buy",null,null,null,null,null,null,null,null,null,null,0,0,0,0,0,0,0,{"$error":"#DIV/0!"},{"$error":"#DIV/0!"},{"$error":"#DIV/0!"}," ",3033,"David Desharnais",{"$f":"IF(AQ211<>0,VLOOKUP(AQ211,Info!A:B,2,FALSE),\"\")","v":"NYR"},"desda",0.12195121951219512,0.18292682926829268,0.93902439024390238,8.5365853658536592E-2,0.24390243902439024,2.4390243902439025E-2,1.2195121951219513E-2,0,0,0,null,3033,"David Desharnais","New York Rangers","desda",82,10,15,77,7,20,2,1]
[4130,"J.T. Miller","NYR","Buy",null,null,null,null,null,null,null,null,null,null,0,0,0,0,0,0,0,{"$error":"#DIV/0!"},{"$error":"#DIV/0!"},{"$error":"#DIV/0!"}," ",4130,"J.T. Miller",{"$f":"IF(AQ212<>0,VLOOKUP(AQ212,Info!A:B,2,FALSE),\"\")","v":"NYR"},"miljt",0.26829268292682928,0.41463414634146339,1.6097560975609757,0.2073170731707317,0.25609756097560976,2.4390243902439025E-2,3.6585365853658534E-2,0,0,0,null,4130,"J.T. Miller","New York Rangers","miljt",82,22,34,132,17,21,2,3]
[3239,"Kevin Shattenkirk","NYR","Buy",null,null,null,null,null,null,null,null,null,null,0,0,0,0,0,0,0,{"$error":"#DIV/0!"},{"$error":"#DIV/0!"},{"$error":"#DIV/0!"}," ",3239,"Kevin Shattenkirk",{"$f":"IF(AQ213<>0,VLOOKUP(AQ213,Info!A:B,2,FALSE),\"\")","v":"NYR"},"shake",0.17073170731707318,0.52439024390243905,2.024390243902439,-8.5365853658536592E-2,0.58536585365853655,0.10975609756097561,1.2195121951219513E-2,0,0,0,null,3239,"Kevin Shattenkirk","New York Rangers","shake",82,14,43,166,-7,48,9,1]
[2774,"Marc Staal","NYR","Buy",null,null,null,null,null,null,null,null,null,null,0,0,0,0,0,0,0,{"$error":"#DIV/0!"},{"$error":"#DIV/0!"},{"$error":"#DIV/0!"}," ",2774,"Marc Staal",{"$f":"IF(AQ214<>0,VLOOKUP(AQ214,Info!A:B,2,FALSE),\"\")","v":"NYR"},"staam",0.12195121951219512,0.18292682926829268,0.97560975609756095,0.12195121951219512,0.47560975609756095,2.4390243902439025E-2,1.2195121951219513E-2,0,0,0,null,2774,"Marc Staal","New York Rangers","staam",82,10,15,80,10,39,2,1]
[3486,"Mats Zuccarello","NYR","Buy",null,null,null,null,null,null,null,null,null,null,0,0,0,0,0,0,0,{"$error":"#DIV/0!"},{"$error":"#DIV/0!"},{"$error":"#DIV/0!"}," ",3486,"Mats Zuccarello",{"$f":"IF(AQ215<>0,VLOOKUP(AQ215,Info!A:B,2,FALSE),\"\")","v":"NYR"},"zucma",0.18292682926829268,0.54878048780487809,2.3658536585365852,0.18292682926829268,0.32926829268292684,6.097560975609756E-2,1.2195121951219513E-2,0,0,0,null,3486,"Mats Zuccarello","New York Rangers","zucma",82,15,45,194,15,27,5,1]
[2829,"Michael Grabner","NYR","Buy",null,null,null,null,null,null,null,null,null,null,0,0,0,0,0,0,0,{"$error":"#DIV/0!"},{"$error":"#DIV/0!"},{"$error":"#DIV/0!"}," ",2829,"Michael Grabner",{"$f":"IF(AQ216<>0,VLOOKUP(AQ216,Info!A:B,2,FALSE),\"\")","v":"NYR"},"grabm",0.34146341463414637,0.18292682926829268,2.1219512195121952,0.29268292682926828,0.13414634146341464,2.4390243902439025E-2,1.2195121951219513E-2,0,0,0,null,2829,"Michael Grabner","New York Rangers","grabm",82,28,15,174,24,11,2,1]
[3442,"Mika Zibanejad","NYR","Buy",null,null,null,null,null,null,null,null,null,null,0,0,0,0,0,0,0,{"$error":"#DIV/0!"},{"$error":"#DIV/0!"},{"$error":"#DIV/0!"}," ",3442,"Mika Zibanejad",{"$f":"IF(AQ217<>0,VLOOKUP(AQ217,Info!A:B,2,FALSE),\"\")","v":"NYR"},"zibmi",0.23170731707317074,0.42682926829268292,2.1097560975609757,0.15853658536585366,0.28048780487804881,4.878048780487805E-2,1.2195121951219513E-2,0,0,0,null,3442,"Mika Zibanejad","New York Rangers","zibmi",82,19,35,173,13,23,4,1]
[559,"Rick Nash","NYR","Buy",null,null,null,null,null,null,null,null,null,null,0,0,0,0,0,0,0,{"$error":"#DIV/0!"},{"$error":"#DIV/0!"},{"$error":"#DIV/0!"}," ",559,"Rick Nash",{"$f":"IF(AQ218<>0,VLOOKUP(AQ218,Info!A:B,2,FALSE),\"\")","v":"NYR"},"nasri",0.34146341463414637,0.21951219512195122,2.9146341463414633,0.13414634146341464,0.3902439024390244,8.5365853658536592E-2,1.2195121951219513E-2,0,0,0,null,559,"Rick Nash","New York Rangers","nasri",82,28,18,239,11,32,7,1]
[4095,"Ryan McDonagh","NYR","Buy",null,null,null,null,null,null,null,null,null,null,0,0,0,0,0,0,0,{"$error":"#DIV/0!"},{"$error":"#DIV/0!"},{"$error":"#DIV/0!"}," ",4095,"Ryan McDonagh",{"$f":"IF(AQ219<>0,VLOOKUP(AQ219,Info!A:B,2,FALSE),\"\")","v":"NYR"},"mcdry",0.12195121951219512,0.45121951219512196,2,0.25609756097560976,0.47560975609756095,2.4390243902439025E-2,1.2195121951219513E-2,0,0,0,null,4095,"Ryan McDonagh","New York Rangers","mcdry",82,10,37,164,21,39,2,1]
[2303,"Alex Burrows","OTT","Buy",null,null,null,null,null,null,null,null,null,null,0,0,0,0,0,0,0,{"$error":"#DIV/0!"},{"$error":"#DIV/0!"},{"$error":"#DIV/0!"}," ",2303,"Alex Burrows",{"$f":"IF(AQ220<>0,VLOOKUP(AQ220,Info!A:B,2,FALSE),\"\")","v":"OTT"},"bural",0.1951219512195122,0.2073170731707317,1.9024390243902438,3.6585365853658534E-2,0.82926829268292679,2.4390243902439025E-2,1.2195121951219513E-2,0,0,0,null,2303,"Alex Burrows","Ottawa Senators","bural",82,16,17,156,3,68,2,1]
[2362,"Bobby Ryan","OTT","Buy",null,null,null,null,null,null,null,null,null,null,0,0,0,0,0,0,0,{"$error":"#DIV/0!"},{"$error":"#DIV/0!"},{"$error":"#DIV/0!"}," ",2362,"Bobby Ryan",{"$f":"IF(AQ221<>0,VLOOKUP(AQ221,Info!A:B,2,FALSE),\"\")","v":"OTT"},"ryabo",0.2073170731707317,0.2073170731707317,1.7926829268292683,-4.878048780487805E-2,0.3902439024390244,3.6585365853658534E-2,1.2195121951219513E-2,0,0,0,null,2362,"Bobby Ryan","Ottawa Senators","ryabo",82,17,17,147,-4,32,3,1]
[2777,"Clarke MacArthur","OTT","Buy",null,null,null,null,null,null,null,null,null,null,0,0,0,0,0,0,0,{"$error":"#DIV/0!"},{"$error":"#DIV/0!"},{"$error":"#DIV/0!"}," ",2777,"Clarke MacArthur",{"$f":"IF(AQ222<>0,VLOOKUP(AQ222,Info!A:B,2,FALSE),\"\")","v":"OTT"},"maccl",0.25609756097560976,0.31707317073170732,2.2560975609756095,-0.13414634146341464,0.58536585365853655,9.7560975609756101E-2,1.2195121951219513E-2,0,0,0,null,2777,"Clarke MacArthur","Ottawa Senators","maccl",82,21,26,185,-11,48,8,1]
[2292,"Derick Brassard","OTT","Buy",null,null,null,null,null,null,null,null,null,null,0,0,0,0,0,0,0,{"$error":"#DIV/0!"},{"$error":"#DIV/0!"},{"$error":"#DIV/0!"}," ",2292,"Derick Brassard",{"$f":"IF(AQ223<>0,VLOOKUP(AQ223,Info!A:B,2,FALSE),\"\")","v":"OTT"},"brasd",0.17073170731707318,0.28048780487804881,2.4024390243902438,0.14634146341463414,0.29268292682926828,3.6585365853658534E-2,1.2195121951219513E-2,0,0,0,null,2292,"Derick Brassard","Ottawa Senators","brasd",82,14,23,197,12,24,3,1]
[1731,"Dion Phaneuf","OTT","Buy",null,null,null,null,null,null,null,null,null,null,0,0,0,0,0,0,0,{"$error":"#DIV/0!"},{"$error":"#DIV/0!"},{"$error":"#DIV/0!"}," ",1731,"Dion Phaneuf",{"$f":"IF(AQ224<>0,VLOOKUP(AQ224,Info!A:B,2,FALSE),\"\")","v":"OTT"},"phadi",0.12195121951219512,0.25609756097560976,1.9268292682926829,-7.3170731707317069E-2,1.2317073170731707,4.878048780487805E-2,1.2195121951219513E-2,0,0,0,null,1731,"Dion Phaneuf","Ottawa Senators","phadi",82,10,21,158,-6,101,4,1]
[2831,"Erik Karlsson","OTT","Buy",null,null,null,null,null,null,null,null,null,null,0,0,0,0,0,0,0,{"$error":"#DIV/0!"},{"$error":"#DIV/0!"},{"$error":"#DIV/0!"}," ",2831,"Erik Karlsson",{"$f":"IF(AQ225<>0,VLOOKUP(AQ225,Info!A:B,2,FALSE),\"\")","v":"OTT"},"karer",0.21951219512195122,0.6097560975609756,2.8292682926829267,0.13414634146341464,0.36585365853658536,4.878048780487805E-2,1.2195121951219513E-2,0,0,0,null,2831,"Erik Karlsson","Ottawa Senators","karer",82,18,50,232,11,30,4,1]
[3242,"Kyle Turris","OTT","Buy",null,null,null,null,null,null,null,null,null,null,0,0,0,0,0,0,0,{"$error":"#DIV/0!"},{"$error":"#DIV/0!"},{"$error":"#DIV/0!"}," ",3242,"Kyle Turris",{"$f":"IF(AQ226<>0,VLOOKUP(AQ226,Info!A:B,2,FALSE),\"\")","v":"OTT"},"turky",0.34146341463414637,0.35365853658536583,2.3658536585365852,-3.6585365853658534E-2,0.59756097560975607,7.3170731707317069E-2,1.2195121951219513E-2,0,0,0,null,3242,"Kyle Turris","Ottawa Senators","turky",82,28,29,194,-3,49,6,1]
[3816,"Mark Stone","OTT","Buy",null,null,null,null,null,null,null,null,null,null,0,0,0,0,0,0,0,{"$error":"#DIV/0!"},{"$error":"#DIV/0!"},{"$error":"#DIV/0!"}," ",3816,"Mark Stone",{"$f":"IF(AQ227<>0,VLOOKUP(AQ227,Info!A:B,2,FALSE),\"\")","v":"OTT"},"stoma",0.3048780487804878,0.45121951219512196,1.8902439024390243,0.17073170731707318,0.35365853658536583,8.5365853658536592E-2,1.2195121951219513E-2,0,0,0,null,3816,"Mark Stone","Ottawa Senators","stoma",82,25,37,155,14,29,7,1]
[3742,"Mike Hoffman","OTT","Buy",null,null,null,null,null,null,null,null,null,null,0,0,0,0,0,0,0,{"$error":"#DIV/0!"},{"$error":"#DIV/0!"},{"$error":"#DIV/0!"}," ",3742,"Mike Hoffman",{"$f":"IF(AQ228<>0,VLOOKUP(AQ228,Info!A:B,2,FALSE),\"\")","v":"OTT"},"hofmi",0.35365853658536583,0.47560975609756095,3.024390243902439,0.23170731707317074,0.69512195121951215,0.17073170731707318,1.2195121951219513E-2,0,0,0,null,3742,"Mike Hoffman","Ottawa Senators","hofmi",82,29,39,248,19,57,14,1]
[2754,"Claude Giroux","PHI","Buy",null,null,null,null,null,null,null,null,null,null,0,0,0,0,0,0,0,{"$error":"#DIV/0!"},{"$error":"#DIV/0!"},{"$error":"#DIV/0!"}," ",2754,"Claude Giroux",{"$f":"IF(AQ229<>0,VLOOKUP(AQ229,Info!A:B,2,FALSE),\"\")","v":"PHI"},"gircl",0.17073170731707318,0.53658536585365857,2.4268292682926829,-0.18292682926829268,0.46341463414634149,6.097560975609756E-2,1.2195121951219513E-2,0,0,0,null,2754,"Claude Giroux","Philadelphia Flyers","gircl",82,14,44,199,-15,38,5,1]
[2765,"Jakub Voracek","PHI","Buy",null,null,null,null,null,null,null,null,null,null,0,0,0,0,0,0,0,{"$error":"#DIV/0!"},{"$error":"#DIV/0!"},{"$error":"#DIV/0!"}," ",2765,"Jakub Voracek",{"$f":"IF(AQ230<>0,VLOOKUP(AQ230,Info!A:B,2,FALSE),\"\")","v":"PHI"},"vorja",0.23170731707317074,0.5,3.0731707317073171,-0.28048780487804881,0.68292682926829273,6.097560975609756E-2,1.2195121951219513E-2,0,0,0,null,2765,"Jakub Voracek","Philadelphia Flyers","vorja",82,19,41,252,-23,56,5,1]
[3710,"Jori Lehtera","PHI","Buy",null,null,null,null,null,null,null,null,null,null,0,0,0,0,0,0,0,{"$error":"#DIV/0!"},{"$error":"#DIV/0!"},{"$error":"#DIV/0!"}," ",3710,"Jori Lehtera",{"$f":"IF(AQ231<>0,VLOOKUP(AQ231,Info!A:B,2,FALSE),\"\")","v":"PHI"},"lehjo",0.12195121951219512,0.23170731707317074,1.0487804878048781,-9.7560975609756101E-2,0.53658536585365857,2.4390243902439025E-2,1.2195121951219513E-2,0,0,0,null,3710,"Jori Lehtera","Philadelphia Flyers","lehjo",82,10,19,86,-8,44,2,1]
[3032,"Matt Read","PHI","Buy",null,null,null,null,null,null,null,null,null,null,0,0,0,0,0,0,0,{"$error":"#DIV/0!"},{"$error":"#DIV/0!"},{"$error":"#DIV/0!"}," ",3032,"Matt Read",{"$f":"IF(AQ232<>0,VLOOKUP(AQ232,Info!A:B,2,FALSE),\"\")","v":"PHI"},"reama",0.15853658536585366,0.18292682926829268,1.4634146341463414,4.878048780487805E-2,0.12195121951219512,3.6585365853658534E-2,1.2195121951219513E-2,0,0,0,null,3032,"Matt Read","Philadelphia Flyers","reama",82,13,15,120,4,10,3,1]
[3733,"Sean Couturier","PHI","Buy",null,null,null,null,null,null,null,null,null,null,0,0,0,0,0,0,0,{"$error":"#DIV/0!"},{"$error":"#DIV/0!"},{"$error":"#DIV/0!"}," ",3733,"Sean Couturier",{"$f":"IF(AQ233<>0,VLOOKUP(AQ233,Info!A:B,2,FALSE),\"\")","v":"PHI"},"couse",0.1951219512195122,0.3048780487804878,1.8048780487804879,0.18292682926829268,0.5,2.4390243902439025E-2,1.2195121951219513E-2,0,0,0,null,3733,"Sean Couturier","Philadelphia Flyers","couse",82,16,25,148,15,41,2,1]
[3996,"Shayne Gostisbehere","PHI","Buy",null,null,null,null,null,null,null,null,null,null,0,0,0,0,0,0,0,{"$error":"#DIV/0!"},{"$error":"#DIV/0!"},{"$error":"#DIV/0!"}," ",3996,"Shayne Gostisbehere",{"$f":"IF(AQ234<>0,VLOOKUP(AQ234,Info!A:B,2,FALSE),\"\")","v":"PHI"},"gossh",0.12195121951219512,0.43902439024390244,2.6097560975609757,-0.28048780487804881,0.42682926829268292,2.4390243902439025E-2,1.2195121951219513E-2,0,0,0,null,3996,"Shayne Gostisbehere","Philadelphia Flyers","gossh",82,10,36,214,-23,35,2,1]
[2768,"Valtteri Filppula","PHI","Buy",null,null,null,null,null,null,null,null,null,null,0,0,0,0,0,0,0,{"$error":"#DIV/0!"},{"$error":"#DIV/0!"},{"$error":"#DIV/0!"}," ",2768,"Valtteri Filppula",{"$f":"IF(AQ235<>0,VLOOKUP(AQ235,Info!A:B,2,FALSE),\"\")","v":"PHI"},"filva",0.14634146341463414,0.37804878048780488,1.2317073170731707,-1.2195121951219513E-2,0.32926829268292684,2.4390243902439025E-2,1.2195121951219513E-2,0,0,0,null,2768,"Valtteri Filppula","Philadelphia Flyers","filva",82,12,31,101,-1,27,2,1]
[2772,"Wayne Simmonds","PHI","Buy",null,null,null,null,null,null,null,null,null,null,0,0,0,0,0,0,0,{"$error":"#DIV/0!"},{"$error":"#DIV/0!"},{"$error":"#DIV/0!"}," ",2772,"Wayne Simmonds",{"$f":"IF(AQ236<>0,VLOOKUP(AQ236,Info!A:B,2,FALSE),\"\")","v":"PHI"},"simwa",0.37804878048780488,0.28048780487804881,2.7317073170731709,-0.2073170731707317,1.4878048780487805,0.1951219512195122,2.4390243902439025E-2,0,0,0,null,2772,"Wayne Simmonds","Philadelphia Flyers","simwa",82,31,23,224,-17,122,16,2]
[3229,"Carl Hagelin","PIT","Buy",null,null,null,null,null,null,null,null,null,null,0,0,0,0,0,0,0,{"$error":"#DIV/0!"},{"$error":"#DIV/0!"},{"$error":"#DIV/0!"}," ",3229,"Carl Hagelin",{"$f":"IF(AQ237<>0,VLOOKUP(AQ237,Info!A:B,2,FALSE),\"\")","v":"PIT"},"hagca",0.12195121951219512,0.26829268292682928,2.0975609756097562,0.15853658536585366,0.26829268292682928,2.4390243902439025E-2,1.2195121951219513E-2,0,0,0,null,3229,"Carl Hagelin","Pittsburgh Penguins","hagca",82,10,22,172,13,22,2,1]
[1860,"Evgeni Malkin","PIT","Buy",null,null,null,null,null,null,null,null,null,null,0,0,0,0,0,0,0,{"$error":"#DIV/0!"},{"$error":"#DIV/0!"},{"$error":"#DIV/0!"}," ",1860,"Evgeni Malkin",{"$f":"IF(AQ238<>0,VLOOKUP(AQ238,Info!A:B,2,FALSE),\"\")","v":"PIT"},"malev",0.53658536585365857,0.6097560975609756,3.0853658536585367,0.29268292682926828,1.2439024390243902,0.18292682926829268,1.2195121951219513E-2,0,0,0,null,1860,"Evgeni Malkin","Pittsburgh Penguins","malev",82,44,50,253,24,102,15,1]
[3199,"Justin Schultz","PIT","Buy",null,null,null,null,null,null,null,null,null,null,0,0,0,0,0,0,0,{"$error":"#DIV/0!"},{"$error":"#DIV/0!"},{"$error":"#DIV/0!"}," ",3199,"Justin Schultz",{"$f":"IF(AQ239<>0,VLOOKUP(AQ239,Info!A:B,2,FALSE),\"\")","v":"PIT"},"schju",0.15853658536585366,0.5,1.975609756097561,0.34146341463414637,0.43902439024390244,3.6585365853658534E-2,1.2195121951219513E-2,0,0,0,null,3199,"Justin Schultz","Pittsburgh Penguins","schju",82,13,41,162,28,36,3,1]
[2756,"Kris Letang","PIT","Buy",null,null,null,null,null,null,null,null,null,null,0,0,0,0,0,0,0,{"$error":"#DIV/0!"},{"$error":"#DIV/0!"},{"$error":"#DIV/0!"}," ",2756,"Kris Letang",{"$f":"IF(AQ240<>0,VLOOKUP(AQ240,Info!A:B,2,FALSE),\"\")","v":"PIT"},"letkr",0.12195121951219512,0.6097560975609756,2.975609756097561,4.878048780487805E-2,0.78048780487804881,4.878048780487805E-2,1.2195121951219513E-2,0,0,0,null,2756,"Kris Letang","Pittsburgh Penguins","letkr",82,10,50,244,4,64,4,1]
[2606,"Patric Hornqvist","PIT","Buy",null,null,null,null,null,null,null,null,null,null,0,0,0,0,0,0,0,{"$error":"#DIV/0!"},{"$error":"#DIV/0!"},{"$error":"#DIV/0!"}," ",2606,"Patric Hornqvist",{"$f":"IF(AQ241<>0,VLOOKUP(AQ241,Info!A:B,2,FALSE),\"\")","v":"PIT"},"horpa",0.3048780487804878,0.32926829268292684,3.1829268292682928,0.23170731707317074,0.40243902439024393,0.14634146341463414,1.2195121951219513E-2,0,0,0,null,2606,"Patric Hornqvist","Pittsburgh Penguins","horpa",82,25,27,261,19,33,12,1]
[2066,"Phil Kessel","PIT","Buy",null,null,null,null,null,null,null,null,null,null,0,0,0,0,0,0,0,{"$error":"#DIV/0!"},{"$error":"#DIV/0!"},{"$error":"#DIV/0!"}," ",2066,"Phil Kessel",{"$f":"IF(AQ242<>0,VLOOKUP(AQ242,Info!A:B,2,FALSE),\"\")","v":"PIT"},"kesph",0.28048780487804881,0.56097560975609762,2.7926829268292681,3.6585365853658534E-2,0.24390243902439024,9.7560975609756101E-2,1.2195121951219513E-2,0,0,0,null,2066,"Phil Kessel","Pittsburgh Penguins","kesph",82,23,46,229,3,20,8,1]
[1592,"Sidney Crosby","PIT","Buy",null,null,null,null,null,null,null,null,null,null,0,0,0,0,0,0,0,{"$error":"#DIV/0!"},{"$error":"#DIV/0!"},{"$error":"#DIV/0!"}," ",1592,"Sidney Crosby",{"$f":"IF(AQ243<>0,VLOOKUP(AQ243,Info!A:B,2,FALSE),\"\")","v":"PIT"},"crosi",0.58536585365853655,0.59756097560975607,3.4024390243902438,0.23170731707317074,0.31707317073170732,0.18292682926829268,1.2195121951219513E-2,0,0,0,null,1592,"Sidney Crosby","Pittsburgh Penguins","crosi",82,48,49,279,19,26,15,1]
[2370,"Brent Burns","SJS","Buy",null,null,null,null,null,null,null,null,null,null,0,0,0,0,0,0,0,{"$error":"#DIV/0!"},{"$error":"#DIV/0!"},{"$error":"#DIV/0!"}," ",2370,"Brent Burns",{"$f":"IF(AQ244<>0,VLOOKUP(AQ244,Info!A:B,2,FALSE),\"\")","v":"SJS"},"burbr",0.35365853658536583,0.56097560975609762,3.6585365853658538,0.24390243902439024,0.48780487804878048,9.7560975609756101E-2,1.2195121951219513E-2,0,0,0,null,2370,"Brent Burns","San Jose Sharks","burbr",82,29,46,300,20,40,8,1]
[2842,"Jannik Hansen","SJS","Buy",null,null,null,null,null,null,null,null,null,null,0,0,0,0,0,0,0,{"$error":"#DIV/0!"},{"$error":"#DIV/0!"},{"$error":"#DIV/0!"}," ",2842,"Jannik Hansen",{"$f":"IF(AQ245<>0,VLOOKUP(AQ245,Info!A:B,2,FALSE),\"\")","v":"SJS"},"hansj",0.18292682926829268,0.28048780487804881,1.6951219512195121,4.878048780487805E-2,0.79268292682926833,2.4390243902439025E-2,1.2195121951219513E-2,0,0,0,null,2842,"Jannik Hansen","San Jose Sharks","hansj",82,15,23,139,4,65,2,1]
[2373,"Joe Pavelski","SJS","Buy",null,null,null,null,null,null,null,null,null,null,0,0,0,0,0,0,0,{"$error":"#DIV/0!"},{"$error":"#DIV/0!"},{"$error":"#DIV/0!"}," ",2373,"Joe Pavelski",{"$f":"IF(AQ246<>0,VLOOKUP(AQ246,Info!A:B,2,FALSE),\"\")","v":"SJS"},"pavjo",0.35365853658536583,0.46341463414634149,2.8780487804878048,0.14634146341463414,0.41463414634146339,8.5365853658536592E-2,1.2195121951219513E-2,0,0,0,null,2373,"Joe Pavelski","San Jose Sharks","pavjo",82,29,38,236,12,34,7,1]
[352,"Joe Thornton","SJS","Buy",null,null,null,null,null,null,null,null,null,null,0,0,0,0,0,0,0,{"$error":"#DIV/0!"},{"$error":"#DIV/0!"},{"$error":"#DIV/0!"}," ",352,"Joe Thornton",{"$f":"IF(AQ247<>0,VLOOKUP(AQ247,Info!A:B,2,FALSE),\"\")","v":"SJS"},"thojo",0.12195121951219512,0.52439024390243905,1.024390243902439,9.7560975609756101E-2,0.64634146341463417,2.4390243902439025E-2,1.2195121951219513E-2,0,0,0,null,352,"Joe Thornton","San Jose Sharks","thojo",82,10,43,84,8,53,2,1]
[2843,"Joel Ward","SJS","Buy",null,null,null,null,null,null,null,null,null,null,0,0,0,0,0,0,0,{"$error":"#DIV/0!"},{"$error":"#DIV/0!"},{"$error":"#DIV/0!"}," ",2843,"Joel Ward",{"$f":"IF(AQ248<>0,VLOOKUP(AQ248,Info!A:B,2,FALSE),\"\")","v":"SJS"},"warjo",0.13414634146341464,0.24390243902439024,1.3414634146341464,-2.4390243902439025E-2,0.3902439024390244,2.4390243902439025E-2,2.4390243902439025E-2,0,0,0,null,2843,"Joel Ward","San Jose Sharks","warjo",82,11,20,110,-2,32,2,2]
[2828,"Logan Couture","SJS","Buy",null,null,null,null,null,null,null,null,null,null,0,0,0,0,0,0,0,{"$error":"#DIV/0!"},{"$error":"#DIV/0!"},{"$error":"#DIV/0!"}," ",2828,"Logan Couture",{"$f":"IF(AQ249<>0,VLOOKUP(AQ249,Info!A:B,2,FALSE),\"\")","v":"SJS"},"coulo",0.34146341463414637,0.37804878048780488,2.3780487804878048,0.15853658536585366,0.15853658536585366,0.13414634146341464,1.2195121951219513E-2,0,0,0,null,2828,"Logan Couture","San Jose Sharks","coulo",82,28,31,195,13,13,11,1]
[3699,"Mikkel Boedker","SJS","Buy",null,null,null,null,null,null,null,null,null,null,0,0,0,{"$error":"#DIV/0!"},0,0,0,{"$error":"#DIV/0!"},{"$error":"#DIV/0!"},{"$error":"#DIV/0!"}," ",3699,"Mikkel Boedker",{"$f":"IF(AQ250<>0,VLOOKUP(AQ250,Info!A:B,2,FALSE),\"\")","v":"SJS"},"boemi",0.12195121951219512,0.18292682926829268,1.5121951219512195,0,0.12195121951219512,2.4390243902439025E-2,1.2195121951219513E-2,0,0,0,null,3699,"Mikkel Boedker","San Jose Sharks","boemi",82,10,15,124,0,10,2,1]
[2775,"Paul Martin","SJS","Buy",null,null,null,null,null,null,null,null,null,null,0,0,0,0,0,0,0,{"$error":"#DIV/0!"},{"$error":"#DIV/0!"},{"$error":"#DIV/0!"}," ",2775,"Paul Martin",{"$f":"IF(AQ251<>0,VLOOKUP(AQ251,Info!A:B,2,FALSE),\"\")","v":"SJS"},"martp",0.12195121951219512,0.26829268292682928,0.91463414634146345,0.12195121951219512,0.24390243902439024,2.4390243902439025E-2,1.2195121951219513E-2,0,0,0,null,2775,"Paul Martin","San Jose Sharks","martp",82,10,22,75,10,20,2,1]
[3387,"Tomas Hertl","SJS","Buy",null,null,null,null,null,null,null,null,null,null,0,0,0,0,0,0,0,{"$error":"#DIV/0!"},{"$error":"#DIV/0!"},{"$error":"#DIV/0!"}," ",3387,"Tomas Hertl",{"$f":"IF(AQ252<>0,VLOOKUP(AQ252,Info!A:B,2,FALSE),\"\")","v":"SJS"},"herto",0.2073170731707317,0.24390243902439024,2.0365853658536586,-0.15853658536585366,0.28048780487804881,2.4390243902439025E-2,1.2195121951219513E-2,0,0,0,null,3387,"Tomas Hertl","San Jose Sharks","herto",82,17,20,167,-13,23,2,1]
[3198,"Alex Pietrangelo","STL","Buy",null,null,null,null,null,null,null,null,null,null,0,0,0,0,0,0,0,{"$error":"#DIV/0!"},{"$error":"#DIV/0!"},{"$error":"#DIV/0!"}," ",3198,"Alex Pietrangelo",{"$f":"IF(AQ253<>0,VLOOKUP(AQ253,Info!A:B,2,FALSE),\"\")","v":"STL"},"pieal",0.17073170731707318,0.42682926829268292,2.2682926829268291,3.6585365853658534E-2,0.3048780487804878,7.3170731707317069E-2,1.2195121951219513E-2,0,0,0,null,3198,"Alex Pietrangelo","St. Louis Blues","pieal",82,14,35,186,3,25,6,1]
[1665,"Alexander Steen","STL","Buy",null,null,null,null,null,null,null,null,null,null,0,0,0,0,0,0,0,{"$error":"#DIV/0!"},{"$error":"#DIV/0!"},{"$error":"#DIV/0!"}," ",1665,"Alexander Steen",{"$f":"IF(AQ254<>0,VLOOKUP(AQ254,Info!A:B,2,FALSE),\"\")","v":"STL"},"steal",0.2073170731707317,0.46341463414634149,1.5365853658536586,-1.2195121951219513E-2,0.69512195121951215,3.6585365853658534E-2,1.2195121951219513E-2,0,0,0,null,1665,"Alexander Steen","St. Louis Blues","steal",82,17,38,126,-1,57,3,1]
[3201,"Brayden Schenn","STL","Buy",null,null,null,null,null,null,null,null,null,null,0,0,0,0,0,0,0,{"$error":"#DIV/0!"},{"$error":"#DIV/0!"},{"$error":"#DIV/0!"}," ",3201,"Brayden Schenn",{"$f":"IF(AQ255<>0,VLOOKUP(AQ255,Info!A:B,2,FALSE),\"\")","v":"STL"},"schbr",0.31707317073170732,0.37804878048780488,2.2560975609756095,-0.15853658536585366,0.47560975609756095,0.21951219512195122,1.2195121951219513E-2,0,0,0,null,3201,"Brayden Schenn","St. Louis Blues","schbr",82,26,31,185,-13,39,18,1]
[4094,"Colton Parayko","STL","Buy",null,null,null,null,null,null,null,null,null,null,0,0,0,0,0,0,0,{"$error":"#DIV/0!"},{"$error":"#DIV/0!"},{"$error":"#DIV/0!"}," ",4094,"Colton Parayko",{"$f":"IF(AQ256<>0,VLOOKUP(AQ256,Info!A:B,2,FALSE),\"\")","v":"STL"},"parac",0.12195121951219512,0.37804878048780488,2.3170731707317072,8.5365853658536592E-2,0.3902439024390244,4.878048780487805E-2,1.2195121951219513E-2,0,0,0,null,4094,"Colton Parayko","St. Louis Blues","parac",82,10,31,190,7,32,4,1]
[3449,"Jaden Schwartz","STL","Buy",null,null,null,null,null,null,null,null,null,null,0,0,0,0,0,0,0,{"$error":"#DIV/0!"},{"$error":"#DIV/0!"},{"$error":"#DIV/0!"}," ",3449,"Jaden Schwartz",{"$f":"IF(AQ257<>0,VLOOKUP(AQ257,Info!A:B,2,FALSE),\"\")","v":"STL"},"schja",0.24390243902439024,0.46341463414634149,2.2926829268292681,0.18292682926829268,0.23170731707317074,3.6585365853658534E-2,1.2195121951219513E-2,0,0,0,null,3449,"Jaden Schwartz","St. Louis Blues","schja",82,20,38,188,15,19,3,1]
[1959,"Jay Bouwmeester","STL","Buy",null,null,null,null,null,null,null,null,null,null,{"$f":"VLOOKUP($A258,$A:$N,5,FALSE)/VLOOKUP($A258,$Z:$AM,5,FALSE)","v":0},{"$f":"VLOOKUP($A258,$A:$N,6,FALSE)/VLOOKUP($A258,$Z:$AM,6,FALSE)","v":0},{"$f":"VLOOKUP($A258,$A:$N,7,FALSE)/VLOOKUP($A258,$Z:$AM,7,FALSE)","v":0},{"$f":"VLOOKUP($A258,$A:$N,8,FALSE)/VLOOKUP($A258,$Z:$AM,8,FALSE)","v":0},{"$f":"VLOOKUP($A258,$A:$N,9,FALSE)/VLOOKUP($A258,$Z:$AM,9,FALSE)","v":0},{"$f":"VLOOKUP($A258,$A:$N,10,FALSE)/VLOOKUP($A258,$Z:$AM,10,FALSE)","v":0},{"$f":"VLOOKUP($A258,$A:$N,11,FALSE)/VLOOKUP($A258,$Z:$AM,11,FALSE)","v":0},{"$f":"VLOOKUP($A258,$A:$N,12,FALSE)/VLOOKUP($A258,$Z:$AM,12,FALSE)","v":{"$error":"#DIV/0!"}},{"$f":"VLOOKUP($A258,$A:$N,13,FALSE)/VLOOKUP($A258,$Z:$AM,13,FALSE)","v":{"$error":"#DIV/0!"}},{"$f":"VLOOKUP($A258,$A:$N,14,FALSE)/VLOOKUP($A258,$Z:$AM,14,FALSE)","v":{"$error":"#DIV/0!"}}," ",1959,"Jay Bouwmeester",{"$f":"IF(AQ258<>0,VLOOKUP(AQ258,Info!A:B,2,FALSE),\"\")","v":"STL"},"bouja",0.12195121951219512,0.18292682926829268,1.3048780487804879,7.3170731707317069E-2,0.34146341463414637,2.4390243902439025E-2,1.2195121951219513E-2,0,0,0,null,1959,"Jay Bouwmeester","St. Louis Blues","bouja",82,10,15,107,6,28,2,1]
[{"$f":"IF(Z259<>0,Z259,\"\")","v":2377},{"$f":"IF(A259<>0,VLOOKUP(A259,Z:AA,2,FALSE),\"\")","v":"Patrik Berglund"},{"$f":"IF(A259<>0,VLOOKUP(A259,Z:AB,3,FALSE))","v":"STL"},{"$f":"HYPERLINK(\"http://www.jockstocks.com/buysell.php?action=buymax&plid=\"&A259,\"Buy\")","v":"Buy"},null,null,null,null,null,null,null,null,null,null,0,0,0,0,0,0,0,{"$error":"#DIV/0!"},{"$error":"#DIV/0!"},{"$error":"#DIV/0!"}," ",{"$f":"IF(AO259<>0,AO259,\"\")","v":2377},{"$f":"IF(AP259<>0,VLOOKUP(Z259,AO:AP,2,FALSE),\"\")","v":"Patrik Berglund"},{"$f":"IF(AQ259<>0,VLOOKUP(AQ259,Info!A:B,2,FALSE),\"\")","v":"STL"},{"$f":"IF(AO259<>0,VLOOKUP(Z259,AO:AR,4,FALSE),\"\")","v":"bergp"},{"$f":"IF($AO259<>0,AT259/$AS259,\"\")","v":0.28048780487804881},{"$f":"IF($AO259<>0,AU259/$AS259,\"\")","v":0.18292682926829268},{"$f":"IF($AO259<>0,AV259/$AS259,\"\")","v":1.8658536585365855},{"$f":"IF($AO259<>0,AW259/$AS259,\"\")","v":-8.5365853658536592E-2},{"$f":"IF($AO259<>0,AX259/$AS259,\"\")","v":0.3902439024390244},{"$f":"IF($AO259<>0,AY259/$AS259,\"\")","v":4.878048780487805E-2},{"$f":"IF($AO259<>0,AZ259/$AS259,\"\")","v":1.2195121951219513E-2},{"$f":"IF($AO259<>0,BA259/$AS259,\"\")","v":0},{"$f":"IF($AO259<>0,BB259/$AS259,\"\")","v":0},{"$f":"IF($AO259<>0,BC259/$AS259,\"\")","v":0},null,2377,"Patrik Berglund","St. Louis Blues","bergp",82,23,15,153,-7,32,4,1]
[1877,"Paul Stastny","STL","Buy",null,null,null,null,null,null,null,null,null,null,0,0,0,0,0,0,0,{"$error":"#DIV/0!"},{"$error":"#DIV/0!"},{"$error":"#DIV/0!"}," ",1877,"Paul Stastny",{"$f":"IF(AQ260<>0,VLOOKUP(AQ260,Info!A:B,2,FALSE),\"\")","v":"STL"},"stapa",0.26829268292682928,0.32926829268292684,1.6951219512195121,6.097560975609756E-2,0.54878048780487809,7.3170731707317069E-2,1.2195121951219513E-2,0,0,0,null,1877,"Paul Stastny","St. Louis Blues","stapa",82,22,27,139,5,45,6,1]
[3211,"Vladimir Tarasenko","STL","Buy",null,null,null,null,null,null,null,null,null,null,0,0,0,0,0,0,0,{"$error":"#DIV/0!"},{"$error":"#DIV/0!"},{"$error":"#DIV/0!"}," ",3211,"Vladimir Tarasenko",{"$f":"IF(AQ261<>0,VLOOKUP(AQ261,Info!A:B,2,FALSE),\"\")","v":"STL"},"tarvl",0.47560975609756095,0.43902439024390244,3.4878048780487805,-1.2195121951219513E-2,0.14634146341463414,0.10975609756097561,1.2195121951219513E-2,0,0,0,null,3211,"Vladimir Tarasenko","St. Louis Blues","tarvl",82,39,36,286,-1,12,9,1]
[3489,"Alex Killorn","TAM","Buy",null,null,null,null,null,null,null,null,null,null,0,0,0,0,0,0,0,{"$error":"#DIV/0!"},{"$error":"#DIV/0!"},{"$error":"#DIV/0!"}," ",3489,"Alex Killorn",{"$f":"IF(AQ262<>0,VLOOKUP(AQ262,Info!A:B,2,FALSE),\"\")","v":"TAM"},"kilal",0.23170731707317074,0.2073170731707317,2.1707317073170733,-0.10975609756097561,0.81707317073170727,4.878048780487805E-2,1.2195121951219513E-2,0,0,0,null,3489,"Alex Killorn","Tampa Bay Lightning","kilal",82,19,17,178,-9,67,4,1]
[1870,"Chris Kunitz","TAM","Buy",null,null,null,null,null,null,null,null,null,null,0,0,0,{"$error":"#DIV/0!"},0,0,0,{"$error":"#DIV/0!"},{"$error":"#DIV/0!"},{"$error":"#DIV/0!"}," ",1870,"Chris Kunitz",{"$f":"IF(AQ263<>0,VLOOKUP(AQ263,Info!A:B,2,FALSE),\"\")","v":"TAM"},"kunch",0.12195121951219512,0.28048780487804881,1.8902439024390243,0,0.51219512195121952,2.4390243902439025E-2,1.2195121951219513E-2,0,0,0,null,1870,"Chris Kunitz","Tampa Bay Lightning","kunch",82,10,23,155,0,42,2,1]
[3212,"Cory Conacher","TAM","Buy",null,null,null,null,null,null,null,null,null,null,0,0,0,0,0,0,0,{"$error":"#DIV/0!"},{"$error":"#DIV/0!"},{"$error":"#DIV/0!"}," ",3212,"Cory Conacher",{"$f":"IF(AQ264<>0,VLOOKUP(AQ264,Info!A:B,2,FALSE),\"\")","v":"TAM"},"conco",0.12195121951219512,0.24390243902439024,1.1463414634146341,8.5365853658536592E-2,0.54878048780487809,2.4390243902439025E-2,1.2195121951219513E-2,0,0,0,null,3212,"Cory Conacher","Tampa Bay Lightning","conco",82,10,20,94,7,45,2,1]
[3655,"Nikita Kucherov","TAM","Buy",null,null,null,null,null,null,null,null,null,null,0,0,0,0,0,0,0,{"$error":"#DIV/0!"},{"$error":"#DIV/0!"},{"$error":"#DIV/0!"}," ",3655,"Nikita Kucherov",{"$f":"IF(AQ265<>0,VLOOKUP(AQ265,Info!A:B,2,FALSE),\"\")","v":"TAM"},"kucni",0.53658536585365857,0.6097560975609756,3.3292682926829267,0.17073170731707318,0.51219512195121952,0.23170731707317074,1.2195121951219513E-2,0,0,0,null,3655,"Nikita Kucherov","Tampa Bay Lightning","kucni",82,44,50,273,14,42,19,1]
[3488,"Ondrej Palat","TAM","Buy",null,null,null,null,null,null,null,null,null,null,0,0,0,0,0,0,0,{"$error":"#DIV/0!"},{"$error":"#DIV/0!"},{"$error":"#DIV/0!"}," ",3488,"Ondrej Palat",{"$f":"IF(AQ266<>0,VLOOKUP(AQ266,Info!A:B,2,FALSE),\"\")","v":"TAM"},"palon",0.23170731707317074,0.46341463414634149,2.1585365853658538,0.10975609756097561,0.52439024390243905,6.097560975609756E-2,1.2195121951219513E-2,0,0,0,null,3488,"Ondrej Palat","Tampa Bay Lightning","palon",82,19,38,177,9,43,5,1]
[2755,"Ryan Callahan","TAM","Buy",null,null,null,null,null,null,null,null,null,null,0,0,0,0,0,0,0,{"$error":"#DIV/0!"},{"$error":"#DIV/0!"},{"$error":"#DIV/0!"}," ",2755,"Ryan Callahan",{"$f":"IF(AQ267<>0,VLOOKUP(AQ267,Info!A:B,2,FALSE),\"\")","v":"TAM"},"calry",0.12195121951219512,0.18292682926829268,1.2195121951219512,-0.21951219512195122,1.2804878048780488,2.4390243902439025E-2,1.2195121951219513E-2,0,0,0,null,2755,"Ryan Callahan","Tampa Bay Lightning","calry",82,10,15,100,-18,105,2,1]
[2374,"Steven Stamkos","TAM","Buy",null,null,null,null,null,null,null,null,null,null,0,0,0,0,0,0,0,{"$error":"#DIV/0!"},{"$error":"#DIV/0!"},{"$error":"#DIV/0!"}," ",2374,"Steven Stamkos",{"$f":"IF(AQ268<>0,VLOOKUP(AQ268,Info!A:B,2,FALSE),\"\")","v":"TAM"},"stast",0.52439024390243905,0.6097560975609756,3.4146341463414633,0.17073170731707318,0.82926829268292679,0.17073170731707318,1.2195121951219513E-2,0,0,0,null,2374,"Steven Stamkos","Tampa Bay Lightning","stast",82,43,50,280,14,68,14,1]
[3487,"Tyler Johnson","TAM","Buy",null,null,null,null,null,null,null,null,null,null,0,0,0,0,0,0,0,{"$error":"#DIV/0!"},{"$error":"#DIV/0!"},{"$error":"#DIV/0!"}," ",3487,"Tyler Johnson",{"$f":"IF(AQ269<>0,VLOOKUP(AQ269,Info!A:B,2,FALSE),\"\")","v":"TAM"},"johty",0.29268292682926828,0.3902439024390244,1.975609756097561,-7.3170731707317069E-2,0.42682926829268292,8.5365853658536592E-2,1.2195121951219513E-2,0,0,0,null,3487,"Tyler Johnson","Tampa Bay Lightning","johty",82,24,32,162,-6,35,7,1]
[3734,"Victor Hedman","TAM","Buy",null,null,null,null,null,null,null,null,null,null,0,0,0,0,0,0,0,{"$error":"#DIV/0!"},{"$error":"#DIV/0!"},{"$error":"#DIV/0!"}," ",3734,"Victor Hedman",{"$f":"IF(AQ270<>0,VLOOKUP(AQ270,Info!A:B,2,FALSE),\"\")","v":"TAM"},"hedvi",0.2073170731707317,0.6097560975609756,2.0975609756097562,3.6585365853658534E-2,0.59756097560975607,4.878048780487805E-2,1.2195121951219513E-2,0,0,0,null,3734,"Victor Hedman","Tampa Bay Lightning","hedvi",82,17,50,172,3,49,4,1]
[4088,"Auston Matthews","TOR","Buy",null,null,null,null,null,null,null,null,null,null,0,0,0,0,0,0,0,{"$error":"#DIV/0!"},{"$error":"#DIV/0!"},{"$error":"#DIV/0!"}," ",4088,"Auston Matthews",{"$f":"IF(AQ271<>0,VLOOKUP(AQ271,Info!A:B,2,FALSE),\"\")","v":"TOR"},"matau",0.48780487804878048,0.35365853658536583,3.4024390243902438,2.4390243902439025E-2,0.17073170731707318,9.7560975609756101E-2,1.2195121951219513E-2,0,0,0,null,4088,"Auston Matthews","Toronto Maple Leafs","matau",82,40,29,279,2,14,8,1]
[3526,"Ben Smith","TOR","Buy",null,null,null,null,null,null,null,null,null,null,0,0,0,0,0,0,0,{"$error":"#DIV/0!"},{"$error":"#DIV/0!"},{"$error":"#DIV/0!"}," ",3526,"Ben Smith",{"$f":"IF(AQ272<>0,VLOOKUP(AQ272,Info!A:B,2,FALSE),\"\")","v":"TOR"},"smibe",0.12195121951219512,0.18292682926829268,0.91463414634146345,-0.17073170731707318,0.12195121951219512,2.4390243902439025E-2,1.2195121951219513E-2,0,0,0,null,3526,"Ben Smith","Toronto Maple Leafs","smibe",82,10,15,75,-14,10,2,1]
[2962,"James van Riemsdyk","TOR","Buy",null,null,null,null,null,null,null,null,null,null,0,0,0,0,0,0,0,{"$error":"#DIV/0!"},{"$error":"#DIV/0!"},{"$error":"#DIV/0!"}," ",2962,"James van Riemsdyk",{"$f":"IF(AQ273<>0,VLOOKUP(AQ273,Info!A:B,2,FALSE),\"\")","v":"TOR"},"vanja",0.35365853658536583,0.40243902439024393,2.9024390243902438,-4.878048780487805E-2,0.45121951219512196,7.3170731707317069E-2,1.2195121951219513E-2,0,0,0,null,2962,"James van Riemsdyk","Toronto Maple Leafs","vanja",82,29,33,238,-4,37,6,1]
[1663,"Joffrey Lupul","TOR","Buy",null,null,null,null,null,null,null,null,null,null,0,0,0,0,0,0,0,{"$error":"#DIV/0!"},{"$error":"#DIV/0!"},{"$error":"#DIV/0!"}," ",1663,"Joffrey Lupul",{"$f":"IF(AQ274<>0,VLOOKUP(AQ274,Info!A:B,2,FALSE),\"\")","v":"TOR"},"lupjo",0.24390243902439024,0.18292682926829268,2.1951219512195124,-0.21951219512195122,0.25609756097560976,4.878048780487805E-2,1.2195121951219513E-2,0,0,0,null,1663,"Joffrey Lupul","Toronto Maple Leafs","lupjo",82,20,15,180,-18,21,4,1]
[1862,"Milan Michalek","TOR","Buy",null,null,null,null,null,null,null,null,null,null,0,0,0,0,0,0,0,{"$error":"#DIV/0!"},{"$error":"#DIV/0!"},{"$error":"#DIV/0!"}," ",1862,"Milan Michalek",{"$f":"IF(AQ275<>0,VLOOKUP(AQ275,Info!A:B,2,FALSE),\"\")","v":"TOR"},"micmi",0.15853658536585366,0.1951219512195122,1.4268292682926829,-2.4390243902439025E-2,0.40243902439024393,6.097560975609756E-2,1.2195121951219513E-2,0,0,0,null,1862,"Milan Michalek","Toronto Maple Leafs","micmi",82,13,16,117,-2,33,5,1]
[3656,"Morgan Rielly","TOR","Buy",null,null,null,null,null,null,null,null,null,null,0,0,0,0,0,0,0,{"$error":"#DIV/0!"},{"$error":"#DIV/0!"},{"$error":"#DIV/0!"}," ",3656,"Morgan Rielly",{"$f":"IF(AQ276<>0,VLOOKUP(AQ276,Info!A:B,2,FALSE),\"\")","v":"TOR"},"riemo",0.12195121951219512,0.29268292682926828,2.2560975609756095,-0.28048780487804881,0.28048780487804881,2.4390243902439025E-2,1.2195121951219513E-2,0,0,0,null,3656,"Morgan Rielly","Toronto Maple Leafs","riemo",82,10,24,185,-23,23,2,1]
[1664,"Nathan Horton","TOR","Buy",null,null,null,null,null,null,null,null,null,null,0,0,0,0,0,0,0,{"$error":"#DIV/0!"},{"$error":"#DIV/0!"},{"$error":"#DIV/0!"}," ",1664,"Nathan Horton",{"$f":"IF(AQ277<>0,VLOOKUP(AQ277,Info!A:B,2,FALSE),\"\")","v":"TOR"},"horna",0.1951219512195122,0.40243902439024393,1.5,4.878048780487805E-2,0.69512195121951215,9.7560975609756101E-2,1.2195121951219513E-2,0,0,0,null,1664,"Nathan Horton","Toronto Maple Leafs","horna",82,16,33,123,4,57,8,1]
[3214,"Nazem Kadri","TOR","Buy",null,null,null,null,null,null,null,null,null,null,0,0,0,0,0,0,0,{"$error":"#DIV/0!"},{"$error":"#DIV/0!"},{"$error":"#DIV/0!"}," ",3214,"Nazem Kadri",{"$f":"IF(AQ278<>0,VLOOKUP(AQ278,Info!A:B,2,FALSE),\"\")","v":"TOR"},"kadna",0.40243902439024393,0.35365853658536583,2.8902439024390243,-6.097560975609756E-2,1.1585365853658536,0.14634146341463414,1.2195121951219513E-2,0,0,0,null,3214,"Nazem Kadri","Toronto Maple Leafs","kadna",82,33,29,237,-5,95,12,1]
[577,"Patrick Marleau","TOR","Buy",null,null,null,null,null,null,null,null,null,null,0,0,0,0,0,0,0,{"$error":"#DIV/0!"},{"$error":"#DIV/0!"},{"$error":"#DIV/0!"}," ",577,"Patrick Marleau",{"$f":"IF(AQ279<>0,VLOOKUP(AQ279,Info!A:B,2,FALSE),\"\")","v":"TOR"},"marpa",0.31707317073170732,0.23170731707317074,2.3048780487804876,6.097560975609756E-2,0.34146341463414637,7.3170731707317069E-2,1.2195121951219513E-2,0,0,0,null,577,"Patrick Marleau","Toronto Maple Leafs","marpa",82,26,19,189,5,28,6,1]
[2305,"Stephane Robidas","TOR","Buy",null,null,null,null,null,null,null,null,null,null,0,0,0,0,0,0,0,{"$error":"#DIV/0!"},{"$error":"#DIV/0!"},{"$error":"#DIV/0!"}," ",2305,"Stephane Robidas",{"$f":"IF(AQ280<>0,VLOOKUP(AQ280,Info!A:B,2,FALSE),\"\")","v":"TOR"},"robst",0.12195121951219512,0.18292682926829268,0.91463414634146345,0.15853658536585366,0.65853658536585369,2.4390243902439025E-2,1.2195121951219513E-2,0,0,0,null,2305,"Stephane Robidas","Toronto Maple Leafs","robst",82,10,15,75,13,54,2,1]
[3382,"Tyler Bozak","TOR","Buy",null,null,null,null,null,null,null,null,null,null,0,0,0,0,0,0,0,{"$error":"#DIV/0!"},{"$error":"#DIV/0!"},{"$error":"#DIV/0!"}," ",3382,"Tyler Bozak",{"$f":"IF(AQ281<>0,VLOOKUP(AQ281,Info!A:B,2,FALSE),\"\")","v":"TOR"},"bozty",0.23170731707317074,0.47560975609756095,1.8536585365853659,-2.4390243902439025E-2,0.3902439024390244,8.5365853658536592E-2,1.2195121951219513E-2,0,0,0,null,3382,"Tyler Bozak","Toronto Maple Leafs","bozty",82,19,39,152,-2,32,7,1]
[4090,"William Nylander","TOR","Buy",null,null,null,null,null,null,null,null,null,null,0,0,0,0,0,0,0,{"$error":"#DIV/0!"},{"$error":"#DIV/0!"},{"$error":"#DIV/0!"}," ",4090,"William Nylander",{"$f":"IF(AQ282<>0,VLOOKUP(AQ282,Info!A:B,2,FALSE),\"\")","v":"TOR"},"nylwi",0.26829268292682928,0.47560975609756095,2.5365853658536586,-3.6585365853658534E-2,0.3902439024390244,0.10975609756097561,1.2195121951219513E-2,0,0,0,null,4090,"William Nylander","Toronto Maple Leafs","nylwi",82,22,39,208,-3,32,9,1]
[2841,"Alexander Edler","VAN","Buy",null,null,null,null,null,null,null,null,null,null,0,0,0,0,0,0,0,{"$error":"#DIV/0!"},{"$error":"#DIV/0!"},{"$error":"#DIV/0!"}," ",2841,"Alexander Edler",{"$f":"IF(AQ283<>0,VLOOKUP(AQ283,Info!A:B,2,FALSE),\"\")","v":"VAN"},"edlal",0.12195121951219512,0.21951219512195122,2.024390243902439,-0.29268292682926828,0.52439024390243905,2.4390243902439025E-2,1.2195121951219513E-2,0,0,0,null,2841,"Alexander Edler","Vancouver Canucks","edlal",82,10,18,166,-24,43,2,1]
[3817,"Bo Horvat","VAN","Buy",null,null,null,null,null,null,null,null,null,null,0,0,0,0,0,0,0,{"$error":"#DIV/0!"},{"$error":"#DIV/0!"},{"$error":"#DIV/0!"}," ",3817,"Bo Horvat",{"$f":"IF(AQ284<>0,VLOOKUP(AQ284,Info!A:B,2,FALSE),\"\")","v":"VAN"},"horbo",0.24390243902439024,0.3902439024390244,1.9512195121951219,-8.5365853658536592E-2,0.32926829268292684,3.6585365853658534E-2,2.4390243902439025E-2,0,0,0,null,3817,"Bo Horvat","Vancouver Canucks","horbo",82,20,32,160,-7,27,3,2]
[3245,"Brandon Sutter","VAN","Buy",null,null,null,null,null,null,null,null,null,null,0,0,0,0,0,0,0,{"$error":"#DIV/0!"},{"$error":"#DIV/0!"},{"$error":"#DIV/0!"}," ",3245,"Brandon Sutter",{"$f":"IF(AQ285<>0,VLOOKUP(AQ285,Info!A:B,2,FALSE),\"\")","v":"VAN"},"sutbr",0.2073170731707317,0.2073170731707317,1.975609756097561,-0.24390243902439024,0.14634146341463414,4.878048780487805E-2,1.2195121951219513E-2,0,0,0,null,3245,"Brandon Sutter","Vancouver Canucks","sutbr",82,17,17,162,-20,12,4,1]
[1062,"Daniel Sedin","VAN","Buy",null,null,null,null,null,null,null,null,null,null,0,0,0,0,0,0,0,{"$error":"#DIV/0!"},{"$error":"#DIV/0!"},{"$error":"#DIV/0!"}," ",1062,"Daniel Sedin",{"$f":"IF(AQ286<>0,VLOOKUP(AQ286,Info!A:B,2,FALSE),\"\")","v":"VAN"},"sedda",0.18292682926829268,0.35365853658536583,2.6341463414634148,-0.1951219512195122,0.3902439024390244,7.3170731707317069E-2,1.2195121951219513E-2,0,0,0,null,1062,"Daniel Sedin","Vancouver Canucks","sedda",82,15,29,216,-16,32,6,1]
[1067,"Henrik Sedin","VAN","Buy",null,null,null,null,null,null,null,null,null,null,0,0,0,0,0,0,0,{"$error":"#DIV/0!"},{"$error":"#DIV/0!"},{"$error":"#DIV/0!"}," ",1067,"Henrik Sedin",{"$f":"IF(AQ287<>0,VLOOKUP(AQ287,Info!A:B,2,FALSE),\"\")","v":"VAN"},"sedhe",0.18292682926829268,0.43902439024390244,1.2073170731707317,-0.32926829268292684,0.34146341463414637,2.4390243902439025E-2,1.2195121951219513E-2,0,0,0,null,1067,"Henrik Sedin","Vancouver Canucks","sedhe",82,15,36,99,-27,28,2,1]
[2293,"Loui Eriksson","VAN","Buy",null,null,null,null,null,null,null,null,null,null,0,0,0,0,0,0,0,{"$error":"#DIV/0!"},{"$error":"#DIV/0!"},{"$error":"#DIV/0!"}," ",2293,"Loui Eriksson",{"$f":"IF(AQ288<>0,VLOOKUP(AQ288,Info!A:B,2,FALSE),\"\")","v":"VAN"},"erilo",0.17073170731707318,0.1951219512195122,2.0365853658536586,-0.13414634146341464,0.12195121951219512,7.3170731707317069E-2,1.2195121951219513E-2,0,0,0,null,2293,"Loui Eriksson","Vancouver Canucks","erilo",82,14,16,167,-11,10,6,1]
[2534,"Michael Del Zotto","VAN","Buy",null,null,null,null,null,null,null,null,null,null,0,0,0,0,0,0,0,{"$error":"#DIV/0!"},{"$error":"#DIV/0!"},{"$error":"#DIV/0!"}," ",2534,"Michael Del Zotto",{"$f":"IF(AQ289<>0,VLOOKUP(AQ289,Info!A:B,2,FALSE),\"\")","v":"VAN"},"delmi",0.12195121951219512,0.23170731707317074,1.8048780487804879,-9.7560975609756101E-2,0.54878048780487809,2.4390243902439025E-2,1.2195121951219513E-2,0,0,0,null,2534,"Michael Del Zotto","Vancouver Canucks","delmi",82,10,19,148,-8,45,2,1]
[2769,"Sam Gagner","VAN","Buy",null,null,null,null,null,null,null,null,null,null,0,0,0,0,0,0,0,{"$error":"#DIV/0!"},{"$error":"#DIV/0!"},{"$error":"#DIV/0!"}," ",2769,"Sam Gagner",{"$f":"IF(AQ290<>0,VLOOKUP(AQ290,Info!A:B,2,FALSE),\"\")","v":"VAN"},"gagsa",0.21951219512195122,0.36585365853658536,2.1951219512195124,0.10975609756097561,0.26829268292682928,9.7560975609756101E-2,1.2195121951219513E-2,0,0,0,null,2769,"Sam Gagner","Vancouver Canucks","gagsa",82,18,30,180,9,22,8,1]
[3386,"Sven Baertschi","VAN","Buy",null,null,null,null,null,null,null,null,null,null,0,0,0,0,0,0,0,{"$error":"#DIV/0!"},{"$error":"#DIV/0!"},{"$error":"#DIV/0!"}," ",3386,"Sven Baertschi",{"$f":"IF(AQ291<>0,VLOOKUP(AQ291,Info!A:B,2,FALSE),\"\")","v":"VAN"},"baesv",0.26829268292682928,0.25609756097560976,1.6707317073170731,-8.5365853658536592E-2,0.12195121951219512,2.4390243902439025E-2,1.2195121951219513E-2,0,0,0,null,3386,"Sven Baertschi","Vancouver Canucks","baesv",82,22,21,137,-7,10,2,1]
[1626,"Thomas Vanek","VAN","Buy",null,null,null,null,null,null,null,null,null,null,0,0,0,0,0,0,0,{"$error":"#DIV/0!"},{"$error":"#DIV/0!"},{"$error":"#DIV/0!"}," ",1626,"Thomas Vanek",{"$f":"IF(AQ292<>0,VLOOKUP(AQ292,Info!A:B,2,FALSE),\"\")","v":"VAN"},"vanth",0.24390243902439024,0.45121951219512196,1.9268292682926829,-6.097560975609756E-2,0.31707317073170732,7.3170731707317069E-2,1.2195121951219513E-2,0,0,0,null,1626,"Thomas Vanek","Vancouver Canucks","vanth",82,20,37,158,-5,26,6,1]
[3451,"Cody Eakin","VGK","Buy",null,null,null,null,null,null,null,null,null,null,0,0,0,0,0,0,0,{"$error":"#DIV/0!"},{"$error":"#DIV/0!"},{"$error":"#DIV/0!"}," ",3451,"Cody Eakin",{"$f":"IF(AQ293<>0,VLOOKUP(AQ293,Info!A:B,2,FALSE),\"\")","v":"VGK"},"eakco",0.12195121951219512,0.18292682926829268,1.3658536585365855,-0.12195121951219512,0.81707317073170727,2.4390243902439025E-2,1.2195121951219513E-2,0,0,0,null,3451,"Cody Eakin","Vegas Golden Knights","eakco",82,10,15,112,-10,67,2,1]
[3035,"David Clarkson","VGK","Buy",null,null,null,null,null,null,null,null,null,null,0,0,0,0,0,0,0,{"$error":"#DIV/0!"},{"$error":"#DIV/0!"},{"$error":"#DIV/0!"}," ",3035,"David Clarkson",{"$f":"IF(AQ294<>0,VLOOKUP(AQ294,Info!A:B,2,FALSE),\"\")","v":"VGK"},"cldav",0.12195121951219512,0.18292682926829268,1.0487804878048781,-0.35365853658536583,1,2.4390243902439025E-2,1.2195121951219513E-2,0,0,0,null,3035,"David Clarkson","Vegas Golden Knights","cldav",82,10,15,86,-29,82,2,1]
[3203,"David Perron","VGK","Buy",null,null,null,null,null,null,null,null,null,null,0,0,0,0,0,0,0,{"$error":"#DIV/0!"},{"$error":"#DIV/0!"},{"$error":"#DIV/0!"}," ",3203,"David Perron",{"$f":"IF(AQ295<>0,VLOOKUP(AQ295,Info!A:B,2,FALSE),\"\")","v":"VGK"},"perda",0.21951219512195122,0.32926829268292684,1.8414634146341464,-2.4390243902439025E-2,0.65853658536585369,2.4390243902439025E-2,1.2195121951219513E-2,0,0,0,null,3203,"David Perron","Vegas Golden Knights","perda",82,18,27,151,-2,54,2,1]
[2533,"James Neal","VGK","Buy",null,null,null,null,null,null,null,null,null,null,0,0,0,0,0,0,0,{"$error":"#DIV/0!"},{"$error":"#DIV/0!"},{"$error":"#DIV/0!"}," ",2533,"James Neal",{"$f":"IF(AQ296<>0,VLOOKUP(AQ296,Info!A:B,2,FALSE),\"\")","v":"VGK"},"neaja",0.31707317073170732,0.26829268292682928,2.8658536585365852,-0.14634146341463414,0.5,7.3170731707317069E-2,1.2195121951219513E-2,0,0,0,null,2533,"James Neal","Vegas Golden Knights","neaja",82,26,22,235,-12,41,6,1]
[3711,"Jason Garrison","VGK","Buy",null,null,null,null,null,null,null,null,null,null,0,0,0,0,0,0,0,{"$error":"#DIV/0!"},{"$error":"#DIV/0!"},{"$error":"#DIV/0!"}," ",3711,"Jason Garrison",{"$f":"IF(AQ297<>0,VLOOKUP(AQ297,Info!A:B,2,FALSE),\"\")","v":"VGK"},"garrj",0.12195121951219512,0.18292682926829268,1.3658536585365855,-0.10975609756097561,0.1951219512195122,2.4390243902439025E-2,1.2195121951219513E-2,0,0,0,null,3711,"Jason Garrison","Vegas Golden Knights","garrj",82,10,15,112,-9,16,2,1]
[4098,"Jonathan Marchessault","VGK","Buy",null,null,null,null,null,null,null,null,null,null,0,0,0,0,0,0,0,{"$error":"#DIV/0!"},{"$error":"#DIV/0!"},{"$error":"#DIV/0!"}," ",4098,"Jonathan Marchessault",{"$f":"IF(AQ298<>0,VLOOKUP(AQ298,Info!A:B,2,FALSE),\"\")","v":"VGK"},"marjo",0.40243902439024393,0.28048780487804881,2.5731707317073171,-0.28048780487804881,0.51219512195121952,0.10975609756097561,1.2195121951219513E-2,0,0,0,null,4098,"Jonathan Marchessault","Vegas Golden Knights","marjo",82,33,23,211,-23,42,9,1]
[2826,"Mikhail Grabovski","VGK","Buy",null,null,null,null,null,null,null,null,null,null,0,0,0,0,0,0,0,{"$error":"#DIV/0!"},{"$error":"#DIV/0!"},{"$error":"#DIV/0!"}," ",2826,"Mikhail Grabovski",{"$f":"IF(AQ299<>0,VLOOKUP(AQ299,Info!A:B,2,FALSE),\"\")","v":"VGK"},"grami",0.15853658536585366,0.28048780487804881,1.4268292682926829,4.878048780487805E-2,0.57317073170731703,2.4390243902439025E-2,1.2195121951219513E-2,0,0,0,null,2826,"Mikhail Grabovski","Vegas Golden Knights","grami",82,13,23,117,4,47,2,1]
[3931,"Oscar Lindberg","VGK","Buy",null,null,null,null,null,null,null,null,null,null,0,0,0,0,0,0,0,{"$error":"#DIV/0!"},{"$error":"#DIV/0!"},{"$error":"#DIV/0!"}," ",3931,"Oscar Lindberg",{"$f":"IF(AQ300<>0,VLOOKUP(AQ300,Info!A:B,2,FALSE),\"\")","v":"VGK"},"linos",0.12195121951219512,0.1951219512195122,1.3170731707317074,3.6585365853658534E-2,0.48780487804878048,2.4390243902439025E-2,1.2195121951219513E-2,0,0,0,null,3931,"Oscar Lindberg","Vegas Golden Knights","linos",82,10,16,108,3,40,2,1]
[3485,"Reilly Smith","VGK","Buy",null,null,null,null,null,null,null,null,null,null,0,0,0,0,0,0,0,{"$error":"#DIV/0!"},{"$error":"#DIV/0!"},{"$error":"#DIV/0!"}," ",3485,"Reilly Smith",{"$f":"IF(AQ301<>0,VLOOKUP(AQ301,Info!A:B,2,FALSE),\"\")","v":"VGK"},"smitr",0.18292682926829268,0.28048780487804881,2,-0.15853658536585366,0.2073170731707317,7.3170731707317069E-2,1.2195121951219513E-2,0,0,0,null,3485,"Reilly Smith","Vegas Golden Knights","smitr",82,15,23,164,-13,17,6,1]
[{"$f":"IF(Z302<>0,Z302,\"\")","v":3388},{"$f":"IF(A302<>0,VLOOKUP(A302,Z:AA,2,FALSE),\"\")","v":"Alex Chiasson"},{"$f":"IF(A302<>0,VLOOKUP(A302,Z:AB,3,FALSE))","v":"WAS"},{"$f":"HYPERLINK(\"http://www.jockstocks.com/buysell.php?action=buymax&plid=\"&A302,\"Buy\")","v":"Buy"},null,null,null,null,null,null,null,null,null,null,{"$f":"VLOOKUP($A302,$A:$N,5,FALSE)/VLOOKUP($A302,$Z:$AM,5,FALSE)","v":0},{"$f":"VLOOKUP($A302,$A:$N,6,FALSE)/VLOOKUP($A302,$Z:$AM,6,FALSE)","v":0},{"$f":"VLOOKUP($A302,$A:$N,7,FALSE)/VLOOKUP($A302,$Z:$AM,7,FALSE)","v":0},{"$f":"VLOOKUP($A302,$A:$N,8,FALSE)/VLOOKUP($A302,$Z:$AM,8,FALSE)","v":0},{"$f":"VLOOKUP($A302,$A:$N,9,FALSE)/VLOOKUP($A302,$Z:$AM,9,FALSE)","v":0},{"$f":"VLOOKUP($A302,$A:$N,10,FALSE)/VLOOKUP($A302,$Z:$AM,10,FALSE)","v":0},{"$f":"VLOOKUP($A302,$A:$N,11,FALSE)/VLOOKUP($A302,$Z:$AM,11,FALSE)","v":0},{"$f":"VLOOKUP($A302,$A:$N,12,FALSE)/VLOOKUP($A302,$Z:$AM,12,FALSE)","v":{"$error":"#DIV/0!"}},{"$f":"VLOOKUP($A302,$A:$N,13,FALSE)/VLOOKUP($A302,$Z:$AM,13,FALSE)","v":{"$error":"#DIV/0!"}},{"$f":"VLOOKUP($A302,$A:$N,14,FALSE)/VLOOKUP($A302,$Z:$AM,14,FALSE)","v":{"$error":"#DIV/0!"}}," ",{"$f":"IF(AO302<>0,AO302,\"\")","v":3388},{"$f":"IF(AP302<>0,VLOOKUP(Z302,AO:AP,2,FALSE),\"\")","v":"Alex Chiasson"},{"$f":"IF(AQ302<>0,VLOOKUP(AQ302,Info!A:B,2,FALSE),\"\")","v":"WAS"},{"$f":"IF(AO302<>0,VLOOKUP(Z302,AO:AR,4,FALSE),\"\")","v":"chial"},{"$f":"IF($AO302<>0,AT302/$AS302,\"\")","v":0.14634146341463414},0.18292682926829268,1.2804878048780488,-6.097560975609756E-2,0.57317073170731703,2.4390243902439025E-2,1.2195121951219513E-2,0,0,0,null,3388,"Alex Chiasson","Washington Capitals","chial",82,12,15,105,-5,47,2,1]
[1622,"Alex Ovechkin","WAS","Buy",null,null,null,null,null,null,null,null,null,null,0,0,0,0,0,0,0,{"$error":"#DIV/0!"},{"$error":"#DIV/0!"},{"$error":"#DIV/0!"}," ",{"$f":"IF(AO303<>0,AO303,\"\")","v":1622},"Alex Ovechkin",{"$f":"IF(AQ303<>0,VLOOKUP(AQ303,Info!A:B,2,FALSE),\"\")","v":"WAS"},"oveal",{"$f":"IF($AO303<>0,AT303/$AS303,\"\")","v":0.40243902439024393},{"$f":"IF($AO303<>0,AU303/$AS303,\"\")","v":0.45121951219512196},{"$f":"IF($AO303<>0,AV303/$AS303,\"\")","v":3.6585365853658538},{"$f":"IF($AO303<>0,AW303/$AS303,\"\")","v":7.3170731707317069E-2},{"$f":"IF($AO303<>0,AX303/$AS303,\"\")","v":0.6097560975609756},{"$f":"IF($AO303<>0,AY303/$AS303,\"\")","v":0.2073170731707317},{"$f":"IF($AO303<>0,AZ303/$AS303,\"\")","v":1.2195121951219513E-2},{"$f":"IF($AO303<>0,BA303/$AS303,\"\")","v":0},{"$f":"IF($AO303<>0,BB303/$AS303,\"\")","v":0},{"$f":"IF($AO303<>0,BC303/$AS303,\"\")","v":0},null,1622,"Alex Ovechkin","Washington Capitals","oveal",82,33,37,300,6,50,17,1]
[3670,"Andre Burakovsky","WAS","Buy",null,null,null,null,null,null,null,null,null,null,0,0,0,0,0,0,0,{"$error":"#DIV/0!"},{"$error":"#DIV/0!"},{"$error":"#DIV/0!"}," ",3670,"Andre Burakovsky",{"$f":"IF(AQ304<>0,VLOOKUP(AQ304,Info!A:B,2,FALSE),\"\")","v":"WAS"},"buran",0.18292682926829268,0.35365853658536583,1.7317073170731707,0.2073170731707317,0.21951219512195122,3.6585365853658534E-2,1.2195121951219513E-2,0,0,0,null,3670,"Andre Burakovsky","Washington Capitals","buran",82,15,29,142,17,18,3,1]
[3659,"Evgeny Kuznetsov","WAS","Buy",null,null,null,null,null,null,null,null,null,null,0,0,0,0,0,0,0,{"$error":"#DIV/0!"},{"$error":"#DIV/0!"},{"$error":"#DIV/0!"}," ",3659,"Evgeny Kuznetsov",{"$f":"IF(AQ305<>0,VLOOKUP(AQ305,Info!A:B,2,FALSE),\"\")","v":"WAS"},"kuzev",0.23170731707317074,0.48780487804878048,2.0731707317073171,0.21951219512195122,0.56097560975609762,3.6585365853658534E-2,1.2195121951219513E-2,0,0,0,null,3659,"Evgeny Kuznetsov","Washington Capitals","kuzev",82,19,40,170,18,46,3,1]
[4093,"John Carlson","WAS","Buy",null,null,null,null,null,null,null,null,null,null,0,0,0,0,0,0,0,{"$error":"#DIV/0!"},{"$error":"#DIV/0!"},{"$error":"#DIV/0!"}," ",4093,"John Carlson",{"$f":"IF(AQ306<>0,VLOOKUP(AQ306,Info!A:B,2,FALSE),\"\")","v":"WAS"},"carjo",0.12195121951219512,0.3902439024390244,2.5,9.7560975609756101E-2,0.13414634146341464,3.6585365853658534E-2,1.2195121951219513E-2,0,0,0,null,4093,"John Carlson","Washington Capitals","carjo",82,10,32,205,8,11,3,1]
[3379,"Lars Eller","WAS","Buy",null,null,null,null,null,null,null,null,null,null,0,0,0,0,0,0,0,{"$error":"#DIV/0!"},{"$error":"#DIV/0!"},{"$error":"#DIV/0!"}," ",3379,"Lars Eller",{"$f":"IF(AQ307<>0,VLOOKUP(AQ307,Info!A:B,2,FALSE),\"\")","v":"WAS"},"ellla",0.14634146341463414,0.18292682926829268,1.4146341463414633,0.18292682926829268,0.43902439024390244,2.4390243902439025E-2,1.2195121951219513E-2,0,0,0,null,3379,"Lars Eller","Washington Capitals","ellla",82,12,15,116,15,36,2,1]
[3736,"Matt Niskanen","WAS","Buy",null,null,null,null,null,null,null,null,null,null,0,0,0,0,0,0,0,{"$error":"#DIV/0!"},{"$error":"#DIV/0!"},{"$error":"#DIV/0!"}," ",3736,"Matt Niskanen",{"$f":"IF(AQ308<>0,VLOOKUP(AQ308,Info!A:B,2,FALSE),\"\")","v":"WAS"},"nisma",0.12195121951219512,0.43902439024390244,1.975609756097561,0.25609756097560976,0.41463414634146339,2.4390243902439025E-2,1.2195121951219513E-2,0,0,0,null,3736,"Matt Niskanen","Washington Capitals","nisma",82,10,36,162,21,34,2,1]
[2375,"Nicklas Backstrom","WAS","Buy",null,null,null,null,null,null,null,null,null,null,0,0,0,0,0,0,0,{"$error":"#DIV/0!"},{"$error":"#DIV/0!"},{"$error":"#DIV/0!"}," ",2375,"Nicklas Backstrom",{"$f":"IF(AQ309<>0,VLOOKUP(AQ309,Info!A:B,2,FALSE),\"\")","v":"WAS"},"backn",0.26829268292682928,0.6097560975609756,1.9634146341463414,0.2073170731707317,0.46341463414634149,8.5365853658536592E-2,1.2195121951219513E-2,0,0,0,null,2375,"Nicklas Backstrom","Washington Capitals","backn",82,22,50,161,17,38,7,1]
[3030,"T.J. Oshie","WAS","Buy",null,null,null,null,null,null,null,null,null,null,0,0,0,0,0,0,0,{"$error":"#DIV/0!"},{"$error":"#DIV/0!"},{"$error":"#DIV/0!"}," ",3030,"T.J. Oshie",{"$f":"IF(AQ310<>0,VLOOKUP(AQ310,Info!A:B,2,FALSE),\"\")","v":"WAS"},"oshtj",0.48780487804878048,0.32926829268292684,2.0975609756097562,0.36585365853658536,0.52439024390243905,9.7560975609756101E-2,1.2195121951219513E-2,0,0,0,null,3030,"T.J. Oshie","Washington Capitals","oshtj",82,40,27,172,30,43,8,1]
[2291,"Blake Wheeler","WIN","Buy",null,null,null,null,null,null,null,null,null,null,0,0,0,0,0,0,0,{"$error":"#DIV/0!"},{"$error":"#DIV/0!"},{"$error":"#DIV/0!"}," ",{"$f":"IF(AO311<>0,AO311,\"\")","v":2291},{"$f":"IF(AP311<>0,VLOOKUP(Z311,AO:AP,2,FALSE),\"\")","v":"Blake Wheeler"},{"$f":"IF(AQ311<>0,VLOOKUP(AQ311,Info!A:B,2,FALSE),\"\")","v":"WIN"},{"$f":"IF(AO311<>0,VLOOKUP(Z311,AO:AR,4,FALSE),\"\")","v":"whebl"},{"$f":"IF($AO311<>0,AT311/$AS311,\"\")","v":0.3048780487804878},{"$f":"IF($AO311<>0,AU311/$AS311,\"\")","v":0.58536585365853655},{"$f":"IF($AO311<>0,AV311/$AS311,\"\")","v":3.1707317073170733},{"$f":"IF($AO311<>0,AW311/$AS311,\"\")","v":3.6585365853658534E-2},{"$f":"IF($AO311<>0,AX311/$AS311,\"\")","v":0.56097560975609762},{"$f":"IF($AO311<>0,AY311/$AS311,\"\")","v":6.097560975609756E-2},{"$f":"IF($AO311<>0,AZ311/$AS311,\"\")","v":2.4390243902439025E-2},{"$f":"IF($AO311<>0,BA311/$AS311,\"\")","v":0},{"$f":"IF($AO311<>0,BB311/$AS311,\"\")","v":0},{"$f":"IF($AO311<>0,BC311/$AS311,\"\")","v":0},null,2291,"Blake Wheeler","Winnipeg Jets","whebl",82,25,48,260,3,46,5,2]
[2301,"Bryan Little","WIN","Buy",null,null,null,null,null,null,null,null,null,null,0,0,0,0,0,0,0,{"$error":"#DIV/0!"},{"$error":"#DIV/0!"},{"$error":"#DIV/0!"}," ",2301,"Bryan Little",{"$f":"IF(AQ312<>0,VLOOKUP(AQ312,Info!A:B,2,FALSE),\"\")","v":"WIN"},"litbr",0.36585365853658536,0.45121951219512196,2.0365853658536586,-4.878048780487805E-2,0.3048780487804878,9.7560975609756101E-2,1.2195121951219513E-2,0,0,0,null,2301,"Bryan Little","Winnipeg Jets","litbr",82,30,37,167,-4,25,8,1]
[2128,"Dustin Byfuglien","WIN","Buy",null,null,null,null,null,null,null,null,null,null,0,0,0,0,0,0,0,{"$error":"#DIV/0!"},{"$error":"#DIV/0!"},{"$error":"#DIV/0!"}," ",2128,"Dustin Byfuglien",{"$f":"IF(AQ313<>0,VLOOKUP(AQ313,Info!A:B,2,FALSE),\"\")","v":"WIN"},"byfug",0.15853658536585366,0.48780487804878048,3.0365853658536586,9.7560975609756101E-2,1.475609756097561,2.4390243902439025E-2,1.2195121951219513E-2,0,0,0,null,2128,"Dustin Byfuglien","Winnipeg Jets","byfug",82,13,40,249,8,121,2,1]
[3484,"Jacob Trouba","WIN","Buy",null,null,null,null,null,null,null,null,null,null,0,0,0,0,0,0,0,{"$error":"#DIV/0!"},{"$error":"#DIV/0!"},{"$error":"#DIV/0!"}," ",3484,"Jacob Trouba",{"$f":"IF(AQ314<>0,VLOOKUP(AQ314,Info!A:B,2,FALSE),\"\")","v":"WIN"},"troja",0.13414634146341464,0.40243902439024393,2.5975609756097562,9.7560975609756101E-2,0.87804878048780488,3.6585365853658534E-2,1.2195121951219513E-2,0,0,0,null,3484,"Jacob Trouba","Winnipeg Jets","troja",82,11,33,213,8,72,3,1]
[3737,"Mark Scheifele","WIN","Buy",null,null,null,null,null,null,null,null,null,null,0,0,0,0,0,0,0,{"$error":"#DIV/0!"},{"$error":"#DIV/0!"},{"$error":"#DIV/0!"}," ",3737,"Mark Scheifele",{"$f":"IF(AQ315<>0,VLOOKUP(AQ315,Info!A:B,2,FALSE),\"\")","v":"WIN"},"schma",0.41463414634146339,0.6097560975609756,2.0121951219512195,0.2073170731707317,0.46341463414634149,8.5365853658536592E-2,1.2195121951219513E-2,0,0,0,null,3737,"Mark Scheifele","Winnipeg Jets","schma",82,34,50,165,17,38,7,1]
[3934,"Nikolaj Ehlers","WIN","Buy",null,null,null,null,null,null,null,null,null,null,0,0,0,0,0,0,0,{"$error":"#DIV/0!"},{"$error":"#DIV/0!"},{"$error":"#DIV/0!"}," ",3934,"Nikolaj Ehlers",{"$f":"IF(AQ316<>0,VLOOKUP(AQ316,Info!A:B,2,FALSE),\"\")","v":"WIN"},"ehlni",0.29268292682926828,0.47560975609756095,2.4512195121951219,-1.2195121951219513E-2,0.46341463414634149,6.097560975609756E-2,1.2195121951219513E-2,0,0,0,null,3934,"Nikolaj Ehlers","Winnipeg Jets","ehlni",82,24,39,201,-1,38,5,1]
[4089,"Patrik Laine","WIN","Buy",null,null,null,null,null,null,null,null,null,null,0,0,0,0,0,0,0,{"$error":"#DIV/0!"},{"$error":"#DIV/0!"},{"$error":"#DIV/0!"}," ",4089,"Patrik Laine",{"$f":"IF(AQ317<>0,VLOOKUP(AQ317,Info!A:B,2,FALSE),\"\")","v":"WIN"},"laipa",0.47560975609756095,0.40243902439024393,2.7560975609756095,0.13414634146341464,0.3902439024390244,0.10975609756097561,1.2195121951219513E-2,0,0,0,null,4089,"Patrik Laine","Winnipeg Jets","laipa",82,39,33,226,11,32,9,1]
[2601,"Toby Enstrom","WIN","Buy",null,null,null,null,null,null,null,null,null,null,0,0,0,0,0,0,0,{"$error":"#DIV/0!"},{"$error":"#DIV/0!"},{"$error":"#DIV/0!"}," ",2601,"Toby Enstrom",{"$f":"IF(AQ318<>0,VLOOKUP(AQ318,Info!A:B,2,FALSE),\"\")","v":"WIN"},"ensto",0.12195121951219512,0.21951219512195122,0.91463414634146345,-9.7560975609756101E-2,0.69512195121951215,2.4390243902439025E-2,1.2195121951219513E-2,0,0,0,null,2601,"Toby Enstrom","Winnipeg Jets","ensto",82,10,18,75,-8,57,2,1]
[2761,"Tyler Myers","WIN","Buy",null,null,null,null,null,null,null,null,null,null,0,0,0,0,0,0,0,{"$error":"#DIV/0!"},{"$error":"#DIV/0!"},{"$error":"#DIV/0!"}," ",2761,"Tyler Myers",{"$f":"IF(AQ319<>0,VLOOKUP(AQ319,Info!A:B,2,FALSE),\"\")","v":"WIN"},"myety",0.12195121951219512,0.23170731707317074,1.8902439024390243,8.5365853658536592E-2,1,2.4390243902439025E-2,1.2195121951219513E-2,0,0,0,null,2761,"Tyler Myers","Winnipeg Jets","myety",82,10,19,155,7,82,2,1]
["","","","Buy",null,null,null,null,null,null,null,null,null,null,{"$error":"#VALUE!"},{"$error":"#VALUE!"},{"$error":"#VALUE!"},{"$error":"#VALUE!"},{"$error":"#VALUE!"},{"$error":"#VALUE!"},{"$error":"#VALUE!"},{"$error":"#VALUE!"},{"$error":"#VALUE!"},{"$error":"#VALUE!"}," ","","",{"$f":"IF(AQ320<>0,VLOOKUP(AQ320,Info!A:B,2,FALSE),\"\")","v":""},"","","","","","","","","","",""]
[{"$f":"IF(Z321<>0,Z321,\"\")","v":""},{"$f":"IF(A321<>0,VLOOKUP(A321,Z:AA,2,FALSE),\"\")","v":""},{"$f":"IF(A321<>0,VLOOKUP(A321,Z:AB,3,FALSE))","v":""},{"$f":"HYPERLINK(\"http://www.jockstocks.com/buysell.php?action=buymax&plid=\"&A321,\"Buy\")","v":"Buy"},null,null,null,null,null,null,null,null,null,null,{"$error":"#VALUE!"},{"$error":"#VALUE!"},{"$error":"#VALUE!"},{"$error":"#VALUE!"},{"$error":"#VALUE!"},{"$error":"#VALUE!"},{"$error":"#VALUE!"},{"$error":"#VALUE!"},{"$error":"#VALUE!"},{"$error":"#VALUE!"},null,"","",{"$f":"IF(AQ321<>0,VLOOKUP(AQ321,Info!A:B,2,FALSE),\"\")","v":""},"","","","","","","","","","",""]
["","","","Buy",null,null,null,null,null,null,null,null,null,null,{"$error":"#VALUE!"},{"$error":"#VALUE!"},{"$error":"#VALUE!"},{"$error":"#VALUE!"},{"$error":"#VALUE!"},{"$error":"#VALUE!"},{"$error":"#VALUE!"},{"$error":"#VALUE!"},{"$error":"#VALUE!"},{"$error":"#VALUE!"},null,"","",{"$f":"IF(AQ322<>0,VLOOKUP(AQ322,Info!A:B,2,FALSE),\"\")","v":""},"","","","","","","","","","",""]
["","","","Buy",null,null,null,null,null,null,null,null,null,null,{"$error":"#VALUE!"},{"$error":"#VALUE!"},{"$error":"#VALUE!"},{"$error":"#VALUE!"},{"$error":"#VALUE!"},{"$error":"#VALUE!"},{"$error":"#VALUE!"},{"$error":"#VALUE!"},{"$error":"#VALUE!"},{"$error":"#VALUE!"},null,"","",{"$f":"IF(AQ323<>0,VLOOKUP(AQ323,Info!A:B,2,FALSE),\"\")","v":""},"","","","","","","","","","",""]
["","","","Buy",null,null,null,null,null,null,null,null,null,null,{"$error":"#VALUE!"},{"$error":"#VALUE!"},{"$error":"#VALUE!"},{"$error":"#VALUE!"},{"$error":"#VALUE!"},{"$error":"#VALUE!"},{"$error":"#VALUE!"},{"$error":"#VALUE!"},{"$error":"#VALUE!"},{"$error":"#VALUE!"},null,"","",{"$f":"IF(AQ324<>0,VLOOKUP(AQ324,Info!A:B,2,FALSE),\"\")","v":""},"","","","","","","","","","",""]
["","","","Buy",null,null,null,null,null,null,null,null,null,null,{"$error":"#VALUE!"},{"$error":"#VALUE!"},{"$error":"#VALUE!"},{"$error":"#VALUE!"},{"$error":"#VALUE!"},{"$error":"#VALUE!"},{"$error":"#VALUE!"},{"$error":"#VALUE!"},{"$error":"#VALUE!"},{"$error":"#VALUE!"},null,"","",{"$f":"IF(AQ325<>0,VLOOKUP(AQ325,Info!A:B,2,FALSE),\"\")","v":""},"","","","","","","","","","",""]
["","","","Buy",null,null,null,null,null,null,null,null,null,null,{"$error":"#VALUE!"},{"$error":"#VALUE!"},{"$error":"#VALUE!"},{"$error":"#VALUE!"},{"$error":"#VALUE!"},{"$error":"#VALUE!"},{"$error":"#VALUE!"},{"$error":"#VALUE!"},{"$error":"#VALUE!"},{"$error":"#VALUE!"},null,"","",{"$f":"IF(AQ326<>0,VLOOKUP(AQ326,Info!A:B,2,FALSE),\"\")","v":""},"","","","","","","","","","",""]
["","","","Buy",null,null,null,null,null,null,null,null,null,null,{"$error":"#VALUE!"},{"$error":"#VALUE!"},{"$error":"#VALUE!"},{"$error":"#VALUE!"},{"$error":"#VALUE!"},{"$error":"#VALUE!"},{"$error":"#VALUE!"},{"$error":"#VALUE!"},{"$error":"#VALUE!"},{"$error":"#VALUE!"},null,"","",{"$f":"IF(AQ327<>0,VLOOKUP(AQ327,Info!A:B,2,FALSE),\"\")","v":""},"","","","","","","","","","",""]
["","","","Buy",null,null,null,null,null,null,null,null,null,null,{"$error":"#VALUE!"},{"$error":"#VALUE!"},{"$error":"#VALUE!"},{"$error":"#VALUE!"},{"$error":"#VALUE!"},{"$error":"#VALUE!"},{"$error":"#VALUE!"},{"$error":"#VALUE!"},{"$error":"#VALUE!"},{"$error":"#VALUE!"},null,"","",{"$f":"IF(AQ328<>0,VLOOKUP(AQ328,Info!A:B,2,FALSE),\"\")","v":""},"","","","","","","","","","",""]
["","","","Buy",null,null,null,null,null,null,null,null,null,null,{"$error":"#VALUE!"},{"$error":"#VALUE!"},{"$error":"#VALUE!"},{"$error":"#VALUE!"},{"$error":"#VALUE!"},{"$error":"#VALUE!"},{"$error":"#VALUE!"},{"$error":"#VALUE!"},{"$error":"#VALUE!"},{"$error":"#VALUE!"},null,"","",{"$f":"IF(AQ329<>0,VLOOKUP(AQ329,Info!A:B,2,FALSE),\"\")","v":""},"","","","","","","","","","",""]
["","","","Buy",null,null,null,null,null,null,null,null,null,null,{"$error":"#VALUE!"},{"$error":"#VALUE!"},{"$error":"#VALUE!"},{"$error":"#VALUE!"},{"$error":"#VALUE!"},{"$error":"#VALUE!"},{"$error":"#VALUE!"},{"$error":"#VALUE!"},{"$error":"#VALUE!"},{"$error":"#VALUE!"},null,"","",{"$f":"IF(AQ330<>0,VLOOKUP(AQ330,Info!A:B,2,FALSE),\"\")","v":""},"","","","","","","","","","",""]
["","","","Buy",null,null,null,null,null,null,null,null,null,null,{"$error":"#VALUE!"},{"$error":"#VALUE!"},{"$error":"#VALUE!"},{"$error":"#VALUE!"},{"$error":"#VALUE!"},{"$error":"#VALUE!"},{"$error":"#VALUE!"},{"$error":"#VALUE!"},{"$error":"#VALUE!"},{"$error":"#VALUE!"},null,{"$f":"IF(AO334<>0,AO334,\"\")","v":""},{"$f":"IF(AP334<>0,VLOOKUP(Z331,AO:AP,2,FALSE),\"\")","v":""},{"$f":"IF(AQ334<>0,VLOOKUP(AQ334,Info!A:B,2,FALSE),\"\")","v":""},{"$f":"IF(AO334<>0,VLOOKUP(Z331,AO:AR,4,FALSE),\"\")","v":""},{"$f":"IF($AO334<>0,AT334/$AS334,\"\")","v":""},{"$f":"IF($AO334<>0,AU334/$AS334,\"\")","v":""},{"$f":"IF($AO334<>0,AV334/$AS334,\"\")","v":""},{"$f":"IF($AO334<>0,AW334/$AS334,\"\")","v":""},{"$f":"IF($AO334<>0,AX334/$AS334,\"\")","v":""},{"$f":"IF($AO334<>0,AY334/$AS334,\"\")","v":""},{"$f":"IF($AO334<>0,AZ334/$AS334,\"\")","v":""},{"$f":"IF($AO334<>0,BA331/$AS334,\"\")","v":""},{"$f":"IF($AO334<>0,BB331/$AS334,\"\")","v":""},{"$f":"IF($AO334<>0,BC331/$AS334,\"\")","v":""}]
["","","","Buy",null,null,null,null,null,null,null,null,null,null,{"$error":"#VALUE!"},{"$error":"#VALUE!"},{"$error":"#VALUE!"},{"$error":"#VALUE!"},{"$error":"#VALUE!"},{"$error":"#VALUE!"},{"$error":"#VALUE!"},{"$error":"#VALUE!"},{"$error":"#VALUE!"},{"$error":"#VALUE!"},null,"","",{"$f":"IF(AQ335<>0,VLOOKUP(AQ335,Info!A:B,2,FALSE),\"\")","v":""},"","","","","","","","","","",""]
["","","","Buy",null,null,null,null,null,null,null,null,null,null,{"$error":"#VALUE!"},{"$error":"#VALUE!"},{"$error":"#VALUE!"},{"$error":"#VALUE!"},{"$error":"#VALUE!"},{"$error":"#VALUE!"},{"$error":"#VALUE!"},{"$error":"#VALUE!"},{"$error":"#VALUE!"},{"$error":"#VALUE!"},null,"","",{"$f":"IF(AQ336<>0,VLOOKUP(AQ336,Info!A:B,2,FALSE),\"\")","v":""},"","","","","","","","","","",""]
["","","","Buy",null,null,null,null,null,null,null,null,null,null,{"$error":"#VALUE!"},{"$error":"#VALUE!"},{"$error":"#VALUE!"},{"$error":"#VALUE!"},{"$error":"#VALUE!"},{"$error":"#VALUE!"},{"$error":"#VALUE!"},{"$error":"#VALUE!"},{"$error":"#VALUE!"},{"$error":"#VALUE!"},null,"","",{"$f":"IF(AQ337<>0,VLOOKUP(AQ337,Info!A:B,2,FALSE),\"\")","v":""},"","","","","","","","","","",""]
["","","","Buy",null,null,null,null,null,null,null,null,null,null,{"$error":"#VALUE!"},{"$error":"#VALUE!"},{"$error":"#VALUE!"},{"$error":"#VALUE!"},{"$error":"#VALUE!"},{"$error":"#VALUE!"},{"$error":"#VALUE!"},{"$error":"#VALUE!"},{"$error":"#VALUE!"},{"$error":"#VALUE!"},null,"","",{"$f":"IF(AQ338<>0,VLOOKUP(AQ338,Info!A:B,2,FALSE),\"\")","v":""},"","","","","","","","","","",""]
["","","","Buy",null,null,null,null,null,null,null,null,null,null,{"$error":"#VALUE!"},{"$error":"#VALUE!"},{"$error":"#VALUE!"},{"$error":"#VALUE!"},{"$error":"#VALUE!"},{"$error":"#VALUE!"},{"$error":"#VALUE!"},{"$error":"#VALUE!"},{"$error":"#VALUE!"},{"$error":"#VALUE!"},null,"","",{"$f":"IF(AQ339<>0,VLOOKUP(AQ339,Info!A:B,2,FALSE),\"\")","v":""},"","","","","","","","","","",""]
["","","","Buy",null,null,null,null,null,null,null,null,null,null,{"$error":"#VALUE!"},{"$error":"#VALUE!"},{"$error":"#VALUE!"},{"$error":"#VALUE!"},{"$error":"#VALUE!"},{"$error":"#VALUE!"},{"$error":"#VALUE!"},{"$error":"#VALUE!"},{"$error":"#VALUE!"},{"$error":"#VALUE!"},null,"","",{"$f":"IF(AQ340<>0,VLOOKUP(AQ340,Info!A:B,2,FALSE),\"\")","v":""},"","","","","","","","","","",""]
["","","","Buy",null,null,null,null,null,null,null,null,null,null,{"$error":"#VALUE!"},{"$error":"#VALUE!"},{"$error":"#VALUE!"},{"$error":"#VALUE!"},{"$error":"#VALUE!"},{"$error":"#VALUE!"},{"$error":"#VALUE!"},{"$error":"#VALUE!"},{"$error":"#VALUE!"},{"$error":"#VALUE!"},null,"","",{"$f":"IF(AQ341<>0,VLOOKUP(AQ341,Info!A:B,2,FALSE),\"\")","v":""},"","","","","","","","","","",""]
["","","","Buy",null,null,null,null,null,null,null,null,null,null,{"$error":"#VALUE!"},{"$error":"#VALUE!"},{"$error":"#VALUE!"},{"$error":"#VALUE!"},{"$error":"#VALUE!"},{"$error":"#VALUE!"},{"$error":"#VALUE!"},{"$error":"#VALUE!"},{"$error":"#VALUE!"},{"$error":"#VALUE!"},null,"","",{"$f":"IF(AQ342<>0,VLOOKUP(AQ342,Info!A:B,2,FALSE),\"\")","v":""},"","","","","","","","","","",""]
["","","","Buy",null,null,null,null,null,null,null,null,null,null,{"$error":"#VALUE!"},{"$error":"#VALUE!"},{"$error":"#VALUE!"},{"$error":"#VALUE!"},{"$error":"#VALUE!"},{"$error":"#VALUE!"},{"$error":"#VALUE!"},{"$error":"#VALUE!"},{"$error":"#VALUE!"},{"$error":"#VALUE!"},null,"","",{"$f":"IF(AQ343<>0,VLOOKUP(AQ343,Info!A:B,2,FALSE),\"\")","v":""},"","","","","","","","","","",""]
["","","","Buy",null,null,null,null,null,null,null,null,null,null,{"$error":"#VALUE!"},{"$error":"#VALUE!"},{"$error":"#VALUE!"},{"$error":"#VALUE!"},{"$error":"#VALUE!"},{"$error":"#VALUE!"},{"$error":"#VALUE!"},{"$error":"#VALUE!"},{"$error":"#VALUE!"},{"$error":"#VALUE!"},null,"","",{"$f":"IF(AQ344<>0,VLOOKUP(AQ344,Info!A:B,2,FALSE),\"\")","v":""},"","","","","","","","","","",""]
["","","","Buy",null,null,null,null,null,null,null,null,null,null,{"$error":"#VALUE!"},{"$error":"#VALUE!"},{"$error":"#VALUE!"},{"$error":"#VALUE!"},{"$error":"#VALUE!"},{"$error":"#VALUE!"},{"$error":"#VALUE!"},{"$error":"#VALUE!"},{"$error":"#VALUE!"},{"$error":"#VALUE!"},null,"","",{"$f":"IF(AQ345<>0,VLOOKUP(AQ345,Info!A:B,2,FALSE),\"\")","v":""},"","","","","","","","","","",""]
["","","","Buy",null,null,null,null,null,null,null,null,null,null,{"$error":"#VALUE!"},{"$error":"#VALUE!"},{"$error":"#VALUE!"},{"$error":"#VALUE!"},{"$error":"#VALUE!"},{"$error":"#VALUE!"},{"$error":"#VALUE!"},{"$error":"#VALUE!"},{"$error":"#VALUE!"},{"$error":"#VALUE!"},null,"","",{"$f":"IF(AQ346<>0,VLOOKUP(AQ346,Info!A:B,2,FALSE),\"\")","v":""},"","","","","","","","","","",""]
["","","","Buy",null,null,null,null,null,null,null,null,null,null,{"$error":"#VALUE!"},{"$error":"#VALUE!"},{"$error":"#VALUE!"},{"$error":"#VALUE!"},{"$error":"#VALUE!"},{"$error":"#VALUE!"},{"$error":"#VALUE!"},{"$error":"#VALUE!"},{"$error":"#VALUE!"},{"$error":"#VALUE!"},null,"","",{"$f":"IF(AQ347<>0,VLOOKUP(AQ347,Info!A:B,2,FALSE),\"\")","v":""},"","","","","","","","","","",""]
["","","","Buy",null,null,null,null,null,null,null,null,null,null,{"$error":"#VALUE!"},{"$error":"#VALUE!"},{"$error":"#VALUE!"},{"$error":"#VALUE!"},{"$error":"#VALUE!"},{"$error":"#VALUE!"},{"$error":"#VALUE!"},{"$error":"#VALUE!"},{"$error":"#VALUE!"},{"$error":"#VALUE!"},null,"","",{"$f":"IF(AQ348<>0,VLOOKUP(AQ348,Info!A:B,2,FALSE),\"\")","v":""},"","","","","","","","","","",""]
["","","","Buy",null,null,null,null,null,null,null,null,null,null,{"$error":"#VALUE!"},{"$error":"#VALUE!"},{"$error":"#VALUE!"},{"$error":"#VALUE!"},{"$error":"#VALUE!"},{"$error":"#VALUE!"},{"$error":"#VALUE!"},{"$error":"#VALUE!"},{"$error":"#VALUE!"},{"$error":"#VALUE!"},null,"","",{"$f":"IF(AQ349<>0,VLOOKUP(AQ349,Info!A:B,2,FALSE),\"\")","v":""},"","","","","","","","","","",""]
[{"$f":"IF(Z347<>0,Z347,\"\")","v":""},{"$f":"IF(A347<>0,VLOOKUP(A347,Z:AA,2,FALSE),\"\")","v":""},{"$f":"IF(A347<>0,VLOOKUP(A347,Z:AB,3,FALSE))","v":""},{"$f":"HYPERLINK(\"http://www.jockstocks.com/buysell.php?action=buymax&plid=\"&A347,\"Buy\")","v":"Buy"},null,null,null,null,null,null,null,null,null,null,{"$error":"#VALUE!"},{"$error":"#VALUE!"},{"$error":"#VALUE!"},{"$error":"#VALUE!"},{"$error":"#VALUE!"},{"$error":"#VALUE!"},{"$error":"#VALUE!"},{"$error":"#VALUE!"},{"$error":"#VALUE!"},{"$error":"#VALUE!"},null,"","",{"$f":"IF(AQ350<>0,VLOOKUP(AQ350,Info!A:B,2,FALSE),\"\")","v":""},"","","","","","","","","","",""]
["","","","Buy",null,null,null,null,null,null,null,null,null,null,{"$error":"#VALUE!"},{"$error":"#VALUE!"},{"$error":"#VALUE!"},{"$error":"#VALUE!"},{"$error":"#VALUE!"},{"$error":"#VALUE!"},{"$error":"#VALUE!"},{"$error":"#VALUE!"},{"$error":"#VALUE!"},{"$error":"#VALUE!"},null,"","",{"$f":"IF(AQ351<>0,VLOOKUP(AQ351,Info!A:B,2,FALSE),\"\")","v":""},"","","","","","","","","","",""]
["","","","Buy",null,null,null,null,null,null,null,null,null,null,{"$error":"#VALUE!"},{"$error":"#VALUE!"},{"$error":"#VALUE!"},{"$error":"#VALUE!"},{"$error":"#VALUE!"},{"$error":"#VALUE!"},{"$error":"#VALUE!"},{"$error":"#VALUE!"},{"$error":"#VALUE!"},{"$error":"#VALUE!"},null,"","",{"$f":"IF(AQ352<>0,VLOOKUP(AQ352,Info!A:B,2,FALSE),\"\")","v":""},"","","","","","","","","","",""]
["","","","Buy",null,null,null,null,null,null,null,null,null,null,{"$error":"#VALUE!"},{"$error":"#VALUE!"},{"$error":"#VALUE!"},{"$error":"#VALUE!"},{"$error":"#VALUE!"},{"$error":"#VALUE!"},{"$error":"#VALUE!"},{"$error":"#VALUE!"},{"$error":"#VALUE!"},{"$error":"#VALUE!"},null,"","",{"$f":"IF(AQ353<>0,VLOOKUP(AQ353,Info!A:B,2,FALSE),\"\")","v":""},"","","","","","","","","","",""]
["","","","Buy",null,null,null,null,null,null,null,null,null,null,{"$error":"#VALUE!"},{"$error":"#VALUE!"},{"$error":"#VALUE!"},{"$error":"#VALUE!"},{"$error":"#VALUE!"},{"$error":"#VALUE!"},{"$error":"#VALUE!"},{"$error":"#VALUE!"},{"$error":"#VALUE!"},{"$error":"#VALUE!"},null,"","",{"$f":"IF(AQ354<>0,VLOOKUP(AQ354,Info!A:B,2,FALSE),\"\")","v":""},"","","","","","","","","","",""]
["","","","Buy",null,null,null,null,null,null,null,null,null,null,{"$error":"#VALUE!"},{"$error":"#VALUE!"},{"$error":"#VALUE!"},{"$error":"#VALUE!"},{"$error":"#VALUE!"},{"$error":"#VALUE!"},{"$error":"#VALUE!"},{"$error":"#VALUE!"},{"$error":"#VALUE!"},{"$error":"#VALUE!"},null,"","",{"$f":"IF(AQ355<>0,VLOOKUP(AQ355,Info!A:B,2,FALSE),\"\")","v":""},"","","","","","","","","","",""]
["","","","Buy",null,null,null,null,null,null,null,null,null,null,{"$error":"#VALUE!"},{"$error":"#VALUE!"},{"$error":"#VALUE!"},{"$error":"#VALUE!"},{"$error":"#VALUE!"},{"$error":"#VALUE!"},{"$error":"#VALUE!"},{"$error":"#VALUE!"},{"$error":"#VALUE!"},{"$error":"#VALUE!"},null,"","",{"$f":"IF(AQ356<>0,VLOOKUP(AQ356,Info!A:B,2,FALSE),\"\")","v":""},"","","","","","","","","","",""]
["","","","Buy",null,null,null,null,null,null,null,null,null,null,{"$error":"#VALUE!"},{"$error":"#VALUE!"},{"$error":"#VALUE!"},{"$error":"#VALUE!"},{"$error":"#VALUE!"},{"$error":"#VALUE!"},{"$error":"#VALUE!"},{"$error":"#VALUE!"},{"$error":"#VALUE!"},{"$error":"#VALUE!"},null,"","",{"$f":"IF(AQ357<>0,VLOOKUP(AQ357,Info!A:B,2,FALSE),\"\")","v":""},"","","","","","","","","","",""]
["","","","Buy",null,null,null,null,null,null,null,null,null,null,{"$error":"#VALUE!"},{"$error":"#VALUE!"},{"$error":"#VALUE!"},{"$error":"#VALUE!"},{"$error":"#VALUE!"},{"$error":"#VALUE!"},{"$error":"#VALUE!"},{"$error":"#VALUE!"},{"$error":"#VALUE!"},{"$error":"#VALUE!"},null,"","",{"$f":"IF(AQ358<>0,VLOOKUP(AQ358,Info!A:B,2,FALSE),\"\")","v":""},"","","","","","","","","","",""]
["","","","Buy",null,null,null,null,null,null,null,null,null,null,{"$error":"#VALUE!"},{"$error":"#VALUE!"},{"$error":"#VALUE!"},{"$error":"#VALUE!"},{"$error":"#VALUE!"},{"$error":"#VALUE!"},{"$error":"#VALUE!"},{"$error":"#VALUE!"},{"$error":"#VALUE!"},{"$error":"#VALUE!"},null,"","",{"$f":"IF(AQ359<>0,VLOOKUP(AQ359,Info!A:B,2,FALSE),\"\")","v":""},"","","","","","","","","","",""]
["","","","Buy",null,null,null,null,null,null,null,null,null,null,{"$error":"#VALUE!"},{"$error":"#VALUE!"},{"$error":"#VALUE!"},{"$error":"#VALUE!"},{"$error":"#VALUE!"},{"$error":"#VALUE!"},{"$error":"#VALUE!"},{"$error":"#VALUE!"},{"$error":"#VALUE!"},{"$error":"#VALUE!"},null,"","",{"$f":"IF(AQ360<>0,VLOOKUP(AQ360,Info!A:B,2,FALSE),\"\")","v":""},"","","","","","","","","","",""]
["","","","Buy",null,null,null,null,null,null,null,null,null,null,{"$error":"#VALUE!"},{"$error":"#VALUE!"},{"$error":"#VALUE!"},{"$error":"#VALUE!"},{"$error":"#VALUE!"},{"$error":"#VALUE!"},{"$error":"#VALUE!"},{"$error":"#VALUE!"},{"$error":"#VALUE!"},{"$error":"#VALUE!"},null,"","",{"$f":"IF(AQ361<>0,VLOOKUP(AQ361,Info!A:B,2,FALSE),\"\")","v":""},"","","","","","","","","","",""]
["","","","Buy",null,null,null,null,null,null,null,null,null,null,{"$error":"#VALUE!"},{"$error":"#VALUE!"},{"$error":"#VALUE!"},{"$error":"#VALUE!"},{"$error":"#VALUE!"},{"$error":"#VALUE!"},{"$error":"#VALUE!"},{"$error":"#VALUE!"},{"$error":"#VALUE!"},{"$error":"#VALUE!"},null,"","",{"$f":"IF(AQ362<>0,VLOOKUP(AQ362,Info!A:B,2,FALSE),\"\")","v":""},"","","","","","","","","","",""]
["","","","Buy",null,null,null,null,null,null,null,null,null,null,{"$error":"#VALUE!"},{"$error":"#VALUE!"},{"$error":"#VALUE!"},{"$error":"#VALUE!"},{"$error":"#VALUE!"},{"$error":"#VALUE!"},{"$error":"#VALUE!"},{"$error":"#VALUE!"},{"$error":"#VALUE!"},{"$error":"#VALUE!"},null,"","",{"$f":"IF(AQ363<>0,VLOOKUP(AQ363,Info!A:B,2,FALSE),\"\")","v":""},"","","","","","","","","","",""]
["","","","Buy",null,null,null,null,null,null,null,null,null,null,{"$error":"#VALUE!"},{"$error":"#VALUE!"},{"$error":"#VALUE!"},{"$error":"#VALUE!"},{"$error":"#VALUE!"},{"$error":"#VALUE!"},{"$error":"#VALUE!"},{"$error":"#VALUE!"},{"$error":"#VALUE!"},{"$error":"#VALUE!"},null,"","",{"$f":"IF(AQ364<>0,VLOOKUP(AQ364,Info!A:B,2,FALSE),\"\")","v":""},"","","","","","","","","","",""]
["","","","Buy",null,null,null,null,null,null,null,null,null,null,{"$error":"#VALUE!"},{"$error":"#VALUE!"},{"$error":"#VALUE!"},{"$error":"#VALUE!"},{"$error":"#VALUE!"},{"$error":"#VALUE!"},{"$error":"#VALUE!"},{"$error":"#VALUE!"},{"$error":"#VALUE!"},{"$error":"#VALUE!"},null,"","",{"$f":"IF(AQ365<>0,VLOOKUP(AQ365,Info!A:B,2,FALSE),\"\")","v":""},"","","","","","","","","","",""]
["","","","Buy",null,null,null,null,null,null,null,null,null,null,{"$error":"#VALUE!"},{"$error":"#VALUE!"},{"$error":"#VALUE!"},{"$error":"#VALUE!"},{"$error":"#VALUE!"},{"$error":"#VALUE!"},{"$error":"#VALUE!"},{"$error":"#VALUE!"},{"$error":"#VALUE!"},{"$error":"#VALUE!"},null,"","",{"$f":"IF(AQ366<>0,VLOOKUP(AQ366,Info!A:B,2,FALSE),\"\")","v":""},"","","","","","","","","","",""]
["","","","Buy",null,null,null,null,null,null,null,null,null,null,{"$error":"#VALUE!"},{"$error":"#VALUE!"},{"$error":"#VALUE!"},{"$error":"#VALUE!"},{"$error":"#VALUE!"},{"$error":"#VALUE!"},{"$error":"#VALUE!"},{"$error":"#VALUE!"},{"$error":"#VALUE!"},{"$error":"#VALUE!"},null,"","",{"$f":"IF(AQ367<>0,VLOOKUP(AQ367,Info!A:B,2,FALSE),\"\")","v":""},"","","","","","","","","","",""]
["","","","Buy",null,null,null,null,null,null,null,null,null,null,{"$error":"#VALUE!"},{"$error":"#VALUE!"},{"$error":"#VALUE!"},{"$error":"#VALUE!"},{"$error":"#VALUE!"},{"$error":"#VALUE!"},{"$error":"#VALUE!"},{"$error":"#VALUE!"},{"$error":"#VALUE!"},{"$error":"#VALUE!"},null,"","",{"$f":"IF(AQ368<>0,VLOOKUP(AQ368,Info!A:B,2,FALSE),\"\")","v":""},"","","","","","","","","","",""]
["","","","Buy",null,null,null,null,null,null,null,null,null,null,{"$f":"VLOOKUP($A366,$A:$N,5,FALSE)/VLOOKUP($A366,$Z:$AM,5,FALSE)","v":{"$error":"#VALUE!"}},{"$f":"VLOOKUP($A366,$A:$N,6,FALSE)/VLOOKUP($A366,$Z:$AM,6,FALSE)","v":{"$error":"#VALUE!"}},{"$f":"VLOOKUP($A366,$A:$N,7,FALSE)/VLOOKUP($A366,$Z:$AM,7,FALSE)","v":{"$error":"#VALUE!"}},{"$f":"VLOOKUP($A366,$A:$N,8,FALSE)/VLOOKUP($A366,$Z:$AM,8,FALSE)","v":{"$error":"#VALUE!"}},{"$f":"VLOOKUP($A366,$A:$N,9,FALSE)/VLOOKUP($A366,$Z:$AM,9,FALSE)","v":{"$error":"#VALUE!"}},{"$f":"VLOOKUP($A366,$A:$N,10,FALSE)/VLOOKUP($A366,$Z:$AM,10,FALSE)","v":{"$error":"#VALUE!"}},{"$f":"VLOOKUP($A366,$A:$N,11,FALSE)/VLOOKUP($A366,$Z:$AM,11,FALSE)","v":{"$error":"#VALUE!"}},{"$f":"VLOOKUP($A366,$A:$N,12,FALSE)/VLOOKUP($A366,$Z:$AM,12,FALSE)","v":{"$error":"#VALUE!"}},{"$f":"VLOOKUP($A366,$A:$N,13,FALSE)/VLOOKUP($A366,$Z:$AM,13,FALSE)","v":{"$error":"#VALUE!"}},{"$f":"VLOOKUP($A366,$A:$N,14,FALSE)/VLOOKUP($A366,$Z:$AM,14,FALSE)","v":{"$error":"#VALUE!"}},null,"","",{"$f":"IF(AQ369<>0,VLOOKUP(AQ369,Info!A:B,2,FALSE),\"\")","v":""},"","","","","","","","","","",""]
["","","","Buy",null,null,null,null,null,null,null,null,null,null,{"$f":"VLOOKUP($A367,$A:$N,5,FALSE)/VLOOKUP($A367,$Z:$AM,5,FALSE)","v":{"$error":"#VALUE!"}},{"$f":"VLOOKUP($A367,$A:$N,6,FALSE)/VLOOKUP($A367,$Z:$AM,6,FALSE)","v":{"$error":"#VALUE!"}},{"$f":"VLOOKUP($A367,$A:$N,7,FALSE)/VLOOKUP($A367,$Z:$AM,7,FALSE)","v":{"$error":"#VALUE!"}},{"$f":"VLOOKUP($A367,$A:$N,8,FALSE)/VLOOKUP($A367,$Z:$AM,8,FALSE)","v":{"$error":"#VALUE!"}},{"$f":"VLOOKUP($A367,$A:$N,9,FALSE)/VLOOKUP($A367,$Z:$AM,9,FALSE)","v":{"$error":"#VALUE!"}},{"$f":"VLOOKUP($A367,$A:$N,10,FALSE)/VLOOKUP($A367,$Z:$AM,10,FALSE)","v":{"$error":"#VALUE!"}},{"$f":"VLOOKUP($A367,$A:$N,11,FALSE)/VLOOKUP($A367,$Z:$AM,11,FALSE)","v":{"$error":"#VALUE!"}},{"$f":"VLOOKUP($A367,$A:$N,12,FALSE)/VLOOKUP($A367,$Z:$AM,12,FALSE)","v":{"$error":"#VALUE!"}},{"$f":"VLOOKUP($A367,$A:$N,13,FALSE)/VLOOKUP($A367,$Z:$AM,13,FALSE)","v":{"$error":"#VALUE!"}},{"$f":"VLOOKUP($A367,$A:$N,14,FALSE)/VLOOKUP($A367,$Z:$AM,14,FALSE)","v":{"$error":"#VALUE!"}},null,{"$f":"IF(AO370<>0,AO370,\"\")","v":""},"",{"$f":"IF(AQ370<>0,VLOOKUP(AQ370,Info!A:B,2,FALSE),\"\")","v":""},"",{"$f":"IF($AO370<>0,AT370/$AS370,\"\")","v":""},{"$f":"IF($AO370<>0,AU370/$AS370,\"\")","v":""},{"$f":"IF($AO370<>0,AV370/$AS370,\"\")","v":""},{"$f":"IF($AO370<>0,AW370/$AS370,\"\")","v":""},{"$f":"IF($AO370<>0,AX370/$AS370,\"\")","v":""},{"$f":"IF($AO370<>0,AY370/$AS370,\"\")","v":""},{"$f":"IF($AO370<>0,AZ370/$AS370,\"\")","v":""},"","",""]
["","","","Buy",null,null,null,null,null,null,null,null,null,null,{"$f":"VLOOKUP($A368,$A:$N,5,FALSE)/VLOOKUP($A368,$Z:$AM,5,FALSE)","v":{"$error":"#VALUE!"}},{"$f":"VLOOKUP($A368,$A:$N,6,FALSE)/VLOOKUP($A368,$Z:$AM,6,FALSE)","v":{"$error":"#VALUE!"}},{"$f":"VLOOKUP($A368,$A:$N,7,FALSE)/VLOOKUP($A368,$Z:$AM,7,FALSE)","v":{"$error":"#VALUE!"}},{"$f":"VLOOKUP($A368,$A:$N,8,FALSE)/VLOOKUP($A368,$Z:$AM,8,FALSE)","v":{"$error":"#VALUE!"}},{"$f":"VLOOKUP($A368,$A:$N,9,FALSE)/VLOOKUP($A368,$Z:$AM,9,FALSE)","v":{"$error":"#VALUE!"}},{"$f":"VLOOKUP($A368,$A:$N,10,FALSE)/VLOOKUP($A368,$Z:$AM,10,FALSE)","v":{"$error":"#VALUE!"}},{"$f":"VLOOKUP($A368,$A:$N,11,FALSE)/VLOOKUP($A368,$Z:$AM,11,FALSE)","v":{"$error":"#VALUE!"}},{"$f":"VLOOKUP($A368,$A:$N,12,FALSE)/VLOOKUP($A368,$Z:$AM,12,FALSE)","v":{"$error":"#VALUE!"}},{"$f":"VLOOKUP($A368,$A:$N,13,FALSE)/VLOOKUP($A368,$Z:$AM,13,FALSE)","v":{"$error":"#VALUE!"}},{"$f":"VLOOKUP($A368,$A:$N,14,FALSE)/VLOOKUP($A368,$Z:$AM,14,FALSE)","v":{"$error":"#VALUE!"}},null,"","",{"$f":"IF(AQ371<>0,VLOOKUP(AQ371,Info!A:B,2,FALSE),\"\")","v":""},"","","","","","","","","","",""]
["","","","Buy",null,null,null,null,null,null,null,null,null,null,{"$f":"VLOOKUP($A369,$A:$N,5,FALSE)/VLOOKUP($A369,$Z:$AM,5,FALSE)","v":{"$error":"#VALUE!"}},{"$f":"VLOOKUP($A369,$A:$N,6,FALSE)/VLOOKUP($A369,$Z:$AM,6,FALSE)","v":{"$error":"#VALUE!"}},{"$f":"VLOOKUP($A369,$A:$N,7,FALSE)/VLOOKUP($A369,$Z:$AM,7,FALSE)","v":{"$error":"#VALUE!"}},{"$f":"VLOOKUP($A369,$A:$N,8,FALSE)/VLOOKUP($A369,$Z:$AM,8,FALSE)","v":{"$error":"#VALUE!"}},{"$f":"VLOOKUP($A369,$A:$N,9,FALSE)/VLOOKUP($A369,$Z:$AM,9,FALSE)","v":{"$error":"#VALUE!"}},{"$f":"VLOOKUP($A369,$A:$N,10,FALSE)/VLOOKUP($A369,$Z:$AM,10,FALSE)","v":{"$error":"#VALUE!"}},{"$f":"VLOOKUP($A369,$A:$N,11,FALSE)/VLOOKUP($A369,$Z:$AM,11,FALSE)","v":{"$error":"#VALUE!"}},{"$f":"VLOOKUP($A369,$A:$N,12,FALSE)/VLOOKUP($A369,$Z:$AM,12,FALSE)","v":{"$error":"#VALUE!"}},{"$f":"VLOOKUP($A369,$A:$N,13,FALSE)/VLOOKUP($A369,$Z:$AM,13,FALSE)","v":{"$error":"#VALUE!"}},{"$f":"VLOOKUP($A369,$A:$N,14,FALSE)/VLOOKUP($A369,$Z:$AM,14,FALSE)","v":{"$error":"#VALUE!"}},null,"","",{"$f":"IF(AQ372<>0,VLOOKUP(AQ372,Info!A:B,2,FALSE),\"\")","v":""},"","","","","","","","","","",""]
["","","","Buy",null,null,null,null,null,null,null,null,null,null,{"$f":"VLOOKUP($A370,$A:$N,5,FALSE)/VLOOKUP($A370,$Z:$AM,5,FALSE)","v":{"$error":"#VALUE!"}},{"$f":"VLOOKUP($A370,$A:$N,6,FALSE)/VLOOKUP($A370,$Z:$AM,6,FALSE)","v":{"$error":"#VALUE!"}},{"$f":"VLOOKUP($A370,$A:$N,7,FALSE)/VLOOKUP($A370,$Z:$AM,7,FALSE)","v":{"$error":"#VALUE!"}},{"$f":"VLOOKUP($A370,$A:$N,8,FALSE)/VLOOKUP($A370,$Z:$AM,8,FALSE)","v":{"$error":"#VALUE!"}},{"$f":"VLOOKUP($A370,$A:$N,9,FALSE)/VLOOKUP($A370,$Z:$AM,9,FALSE)","v":{"$error":"#VALUE!"}},{"$f":"VLOOKUP($A370,$A:$N,10,FALSE)/VLOOKUP($A370,$Z:$AM,10,FALSE)","v":{"$error":"#VALUE!"}},{"$f":"VLOOKUP($A370,$A:$N,11,FALSE)/VLOOKUP($A370,$Z:$AM,11,FALSE)","v":{"$error":"#VALUE!"}},{"$f":"VLOOKUP($A370,$A:$N,12,FALSE)/VLOOKUP($A370,$Z:$AM,12,FALSE)","v":{"$error":"#VALUE!"}},{"$f":"VLOOKUP($A370,$A:$N,13,FALSE)/VLOOKUP($A370,$Z:$AM,13,FALSE)","v":{"$error":"#VALUE!"}},{"$f":"VLOOKUP($A370,$A:$N,14,FALSE)/VLOOKUP($A370,$Z:$AM,14,FALSE)","v":{"$error":"#VALUE!"}},null,"","",{"$f":"IF(AQ373<>0,VLOOKUP(AQ373,Info!A:B,2,FALSE),\"\")","v":""},"","","","","","","","","","",""]
[null,null,null,null,null,null,null,null,null,null,null,null,null,null,null,null,null,null,null,null,null,null,null,null,null,{"$f":"IF(AO350<>0,AO350,\"\")","v":""},{"$f":"IF(AP350<>0,VLOOKUP(Z371,AO:AP,2,FALSE),\"\")","v":""},{"$f":"IF(AQ350<>0,VLOOKUP(AQ350,Info!A:B,2,FALSE),\"\")","v":""},{"$f":"IF(AO350<>0,VLOOKUP(Z371,AO:AR,4,FALSE),\"\")","v":""},{"$f":"IF($AO350<>0,AT350/$AS350,\"\")","v":""},"","","","","","",{"$f":"IF($AO350<>0,BA371/$AS350,\"\")","v":""},"",""]
[null,null,null,null,null,null,null,null,null,null,null,null,null,null,null,null,null,null,null,null,null,null,null,null,null,{"$f":"IF(AO351<>0,AO351,\"\")","v":""},{"$f":"IF(AP351<>0,VLOOKUP(Z372,AO:AP,2,FALSE),\"\")","v":""},{"$f":"IF(AQ351<>0,VLOOKUP(AQ351,Info!A:B,2,FALSE),\"\")","v":""},{"$f":"IF(AO351<>0,VLOOKUP(Z372,AO:AR,4,FALSE),\"\")","v":""},"","","","","","","","","",""]
[null,null,null,null,null,null,null,null,null,null,null,null,null,null,null,null,null,null,null,null,null,null,null,null,null,{"$f":"IF(AO352<>0,AO352,\"\")","v":""},{"$f":"IF(AP352<>0,VLOOKUP(Z373,AO:AP,2,FALSE),\"\")","v":""},{"$f":"IF(AQ352<>0,VLOOKUP(AQ352,Info!A:B,2,FALSE),\"\")","v":""},{"$f":"IF(AO352<>0,VLOOKUP(Z373,AO:AR,4,FALSE),\"\")","v":""},"","","","","","","","","",""]
[null,null,null,null,null,null,null,null,null,null,null,null,null,null,null,null,null,null,null,null,null,null,null,null,null,{"$f":"IF(AO353<>0,AO353,\"\")","v":""},{"$f":"IF(AP353<>0,VLOOKUP(Z374,AO:AP,2,FALSE),\"\")","v":""},{"$f":"IF(AQ353<>0,VLOOKUP(AQ353,Info!A:B,2,FALSE),\"\")","v":""},{"$f":"IF(AO353<>0,VLOOKUP(Z374,AO:AR,4,FALSE),\"\")","v":""},"","","","","","","","","",""]
[null,null,null,null,null,null,null,null,null,null,null,null,null,null,null,null,null,null,null,null,null,null,null,null,null,{"$f":"IF(AO354<>0,AO354,\"\")","v":""},{"$f":"IF(AP354<>0,VLOOKUP(Z375,AO:AP,2,FALSE),\"\")","v":""},{"$f":"IF(AQ354<>0,VLOOKUP(AQ354,Info!A:B,2,FALSE),\"\")","v":""},{"$f":"IF(AO354<>0,VLOOKUP(Z375,AO:AR,4,FALSE),\"\")","v":""},"","","","","","","","","",""]

{"sheet":"NHLG","index":6,"n_rows":100,"n_cols":51,"rows_kept":100,"cut":false,"hidden":false,"merged":[]}
["plid","Name","Team",null,"Saves","GA","W","L","Tie","SO",null,null,null,null,"Saves","GA","W","L","Tie","SO",null,null,null,null,null,{"$f":"IF(AO1<>0,AO1,\"\")","v":"ID"},{"$f":"IF(AP1<>0,AP1,\"\")","v":"Name"},{"$f":"IF(AQ1<>0,AQ1,\"\")","v":"Team"},{"$f":"IF(AR1<>0,AR1,\"\")","v":"Symbol"},{"$f":"IF(AT1<>0,AT1,\"\")","v":"Saves"},{"$f":"IF(AU1<>0,AU1,\"\")","v":"Goals Against"},"Wins","Shutouts","OT Loss","Losses","","","","",null,"ID","Name","Team","Symbol","Games","Saves","Goals Against","Wins","Shutouts","OT Loss","Losses"]
[{"$f":"IF(Z2<>0,Z2,\"\")","v":3724},{"$f":"IF(A2<>0,VLOOKUP(A2,Z:AA,2,FALSE),\"\")","v":"Dustin Tokarski"},{"$f":"IF(A2<>0,VLOOKUP(A2,Z:AB,3,FALSE))","v":"ANA"},{"$f":"HYPERLINK(\"http://www.jockstocks.com/buysell.php?action=buymax&plid=\"&A2,\"Buy\")","v":"Buy"},null,null,null,null,null,null,null,null,null,null,{"$f":"VLOOKUP($A2,$A:$N,5,FALSE)/VLOOKUP($A2,$Z:$AM,5,FALSE)","v":0},{"$f":"VLOOKUP($A2,$A:$N,6,FALSE)/VLOOKUP($A2,$Z:$AM,6,FALSE)","v":0},{"$f":"VLOOKUP($A2,$A:$N,7,FALSE)/VLOOKUP($A2,$Z:$AM,7,FALSE)","v":0},{"$f":"VLOOKUP($A2,$A:$N,8,FALSE)/VLOOKUP($A2,$Z:$AM,8,FALSE)","v":0},{"$f":"VLOOKUP($A2,$A:$N,9,FALSE)/VLOOKUP($A2,$Z:$AM,9,FALSE)","v":0},{"$f":"VLOOKUP($A2,$A:$N,10,FALSE)/VLOOKUP($A2,$Z:$AM,10,FALSE)","v":0},{"$f":"VLOOKUP($A2,$A:$N,11,FALSE)/VLOOKUP($A2,$Z:$AM,11,FALSE)","v":{"$error":"#DIV/0!"}},{"$f":"VLOOKUP($A2,$A:$N,12,FALSE)/VLOOKUP($A2,$Z:$AM,12,FALSE)","v":{"$error":"#DIV/0!"}},{"$f":"VLOOKUP($A2,$A:$N,13,FALSE)/VLOOKUP($A2,$Z:$AM,13,FALSE)","v":{"$error":"#DIV/0!"}},{"$f":"VLOOKUP($A2,$A:$N,14,FALSE)/VLOOKUP($A2,$Z:$AM,14,FALSE)","v":{"$error":"#DIV/0!"}}," ",{"$f":"IF(AO2<>0,AO2,\"\")","v":3724},{"$f":"IF(AP2<>0,VLOOKUP(Z2,AO:AP,2,FALSE),\"\")","v":"Dustin Tokarski"},{"$f":"IF(AQ2<>0,VLOOKUP(AQ2,Info!A:B,2,FALSE),\"\")","v":"ANA"},{"$f":"IF(AO2<>0,VLOOKUP(Z2,AO:AR,4,FALSE),\"\")","v":"tokdu"},{"$f":"IF($AO2<>0,AT2/$AS2,\"\")","v":27.23076923076923},2.7076923076923078,0.35384615384615387,1.5384615384615385E-2,4.6153846153846156E-2,0.35384615384615387,0,0,0,0,null,3724,"Dustin Tokarski","Anaheim Ducks","tokdu",65,1770,176,23,1,3,23]
[{"$f":"IF(Z3<>0,Z3,\"\")","v":3654},{"$f":"IF(A3<>0,VLOOKUP(A3,Z:AA,2,FALSE),\"\")","v":"John Gibson"},{"$f":"IF(A3<>0,VLOOKUP(A3,Z:AB,3,FALSE))","v":"ANA"},{"$f":"HYPERLINK(\"http://www.jockstocks.com/buysell.php?action=buymax&plid=\"&A3,\"Buy\")","v":"Buy"},null,null,null,null,null,null,null,null,null,null,0,0,0,0,0,0,{"$error":"#DIV/0!"},{"$error":"#DIV/0!"},{"$error":"#DIV/0!"},{"$error":"#DIV/0!"}," ",{"$f":"IF(AO3<>0,AO3,\"\")","v":3654},{"$f":"IF(AP3<>0,VLOOKUP(Z3,AO:AP,2,FALSE),\"\")","v":"John Gibson"},{"$f":"IF(AQ3<>0,VLOOKUP(AQ3,Info!A:B,2,FALSE),\"\")","v":"ANA"},{"$f":"IF(AO3<>0,VLOOKUP(Z3,AO:AR,4,FALSE),\"\")","v":"gibjo"},{"$f":"IF($AO3<>0,AT3/$AS3,\"\")","v":25.53846153846154},{"$f":"IF($AO3<>0,AU3/$AS3,\"\")","v":2.0923076923076924},{"$f":"IF($AO3<>0,AV3/$AS3,\"\")","v":0.47692307692307695},{"$f":"IF($AO3<>0,AW3/$AS3,\"\")","v":0.12307692307692308},{"$f":"IF($AO3<>0,AX3/$AS3,\"\")","v":4.6153846153846156E-2},{"$f":"IF($AO3<>0,AY3/$AS3,\"\")","v":0.30769230769230771},{"$f":"IF($AO3<>0,AZ3/$AS3,\"\")","v":0},{"$f":"IF($AO3<>0,BA3/$AS3,\"\")","v":0},{"$f":"IF($AO3<>0,BB3/$AS3,\"\")","v":0},{"$f":"IF($AO3<>0,BC3/$AS3,\"\")","v":0},null,3654,"John Gibson","Anaheim Ducks","gibjo",65,1660,136,31,8,3,20]
[1614,"Ryan Miller","ANA","Buy",null,null,null,null,null,null,null,null,null,null,0,0,0,0,0,0,{"$error":"#DIV/0!"},{"$error":"#DIV/0!"},{"$error":"#DIV/0!"},{"$error":"#DIV/0!"}," ",1614,"Ryan Miller",{"$f":"IF(AQ4<>0,VLOOKUP(AQ4,Info!A:B,2,FALSE),\"\")","v":"ANA"},"milry",29.384615384615383,2.7846153846153845,0.33846153846153848,7.6923076923076927E-2,4.6153846153846156E-2,0.53846153846153844,0,0,0,0,null,1614,"Ryan Miller","Anaheim Ducks","milry",65,1910,181,22,5,3,35]
[3495,"Antti Raanta","ARI","Buy",null,null,null,null,null,null,null,null,null,null,0,0,0,0,0,0,{"$error":"#DIV/0!"},{"$error":"#DIV/0!"},{"$error":"#DIV/0!"},{"$error":"#DIV/0!"}," ",3495,"Antti Raanta",{"$f":"IF(AQ5<>0,VLOOKUP(AQ5,Info!A:B,2,FALSE),\"\")","v":"ARI"},"raaan",24.861538461538462,2.1076923076923078,0.55384615384615388,0.13846153846153847,4.6153846153846156E-2,0.27692307692307694,0,0,0,0,null,3495,"Antti Raanta","Arizona Coyotes","raaan",65,1616,137,36,9,3,18]
[3990,"Louis Domingue","ARI","Buy",null,null,null,null,null,null,null,null,null,null,0,0,0,0,0,0,{"$error":"#DIV/0!"},{"$error":"#DIV/0!"},{"$error":"#DIV/0!"},{"$error":"#DIV/0!"}," ",3990,"Louis Domingue",{"$f":"IF(AQ6<>0,VLOOKUP(AQ6,Info!A:B,2,FALSE),\"\")","v":"ARI"},"domlo",26,2.6461538461538461,0.35384615384615387,1.5384615384615385E-2,4.6153846153846156E-2,0.47692307692307695,0,0,0,0,null,3990,"Louis Domingue","Arizona Coyotes","domlo",65,1690,172,23,1,3,31]
[3493,"Anton Khudobin","BOS","Buy",null,null,null,null,null,null,null,null,null,null,0,0,0,0,0,0,{"$error":"#DIV/0!"},{"$error":"#DIV/0!"},{"$error":"#DIV/0!"},{"$error":"#DIV/0!"}," ",3493,"Anton Khudobin",{"$f":"IF(AQ7<>0,VLOOKUP(AQ7,Info!A:B,2,FALSE),\"\")","v":"BOS"},"khuan",22.876923076923077,2.4307692307692306,0.43076923076923079,1.5384615384615385E-2,4.6153846153846156E-2,0.36923076923076925,0,0,0,0,null,3493,"Anton Khudobin","Boston Bruins","khuan",65,1487,158,28,1,3,24]
[2594,"Tuukka Rask","BOS","Buy",null,null,null,null,null,null,null,null,null,null,0,0,0,0,0,0,{"$error":"#DIV/0!"},{"$error":"#DIV/0!"},{"$error":"#DIV/0!"},{"$error":"#DIV/0!"}," ",2594,"Tuukka Rask",{"$f":"IF(AQ8<>0,VLOOKUP(AQ8,Info!A:B,2,FALSE),\"\")","v":"BOS"},"rastu",22.646153846153847,2.1076923076923078,0.56923076923076921,0.12307692307692308,4.6153846153846156E-2,0.30769230769230771,0,0,0,0,null,2594,"Tuukka Rask","Boston Bruins","rastu",65,1472,137,37,8,3,20]
[3490,"Chad Johnson","BUF","Buy",null,null,null,null,null,null,null,null,null,null,0,0,0,0,0,0,{"$error":"#DIV/0!"},{"$error":"#DIV/0!"},{"$error":"#DIV/0!"},{"$error":"#DIV/0!"}," ",3490,"Chad Johnson",{"$f":"IF(AQ9<>0,VLOOKUP(AQ9,Info!A:B,2,FALSE),\"\")","v":"BUF"},"jocha",24.507692307692309,2.4153846153846152,0.50769230769230766,7.6923076923076927E-2,4.6153846153846156E-2,0.41538461538461541,0,0,0,0,null,3490,"Chad Johnson","Buffalo Sabres","jocha",65,1593,157,33,5,3,27]
[3435,"Robin Lehner","BUF","Buy",null,null,null,null,null,null,null,null,null,null,0,0,0,0,0,0,{"$error":"#DIV/0!"},{"$error":"#DIV/0!"},{"$error":"#DIV/0!"},{"$error":"#DIV/0!"}," ",3435,"Robin Lehner",{"$f":"IF(AQ10<>0,VLOOKUP(AQ10,Info!A:B,2,FALSE),\"\")","v":"BUF"},"lehro",29.8,2.5692307692307694,0.38461538461538464,3.0769230769230771E-2,4.6153846153846156E-2,0.44615384615384618,0,0,0,0,null,3435,"Robin Lehner","Buffalo Sabres","lehro",65,1937,167,25,2,3,29]
[3494,"Eddie Lack","CAL","Buy",null,null,null,null,null,null,null,null,null,null,0,0,0,0,0,0,{"$error":"#DIV/0!"},{"$error":"#DIV/0!"},{"$error":"#DIV/0!"},{"$error":"#DIV/0!"}," ",3494,"Eddie Lack",{"$f":"IF(AQ11<>0,VLOOKUP(AQ11,Info!A:B,2,FALSE),\"\")","v":"CAL"},"lacke",23.384615384615383,2.4461538461538463,0.44615384615384618,6.1538461538461542E-2,4.6153846153846156E-2,0.38461538461538464,0,0,0,0,null,3494,"Eddie Lack","Calgary Flames","lacke",65,1520,159,29,4,3,25]
[2276,"Mike Smith","CAL","Buy",null,null,null,null,null,null,null,null,null,null,0,0,0,0,0,0,{"$error":"#DIV/0!"},{"$error":"#DIV/0!"},{"$error":"#DIV/0!"},{"$error":"#DIV/0!"}," ",2276,"Mike Smith",{"$f":"IF(AQ12<>0,VLOOKUP(AQ12,Info!A:B,2,FALSE),\"\")","v":"CAL"},"smimi",30.23076923076923,2.8307692307692309,0.33846153846153848,6.1538461538461542E-2,4.6153846153846156E-2,0.47692307692307695,0,0,0,0,null,2276,"Mike Smith","Calgary Flames","smimi",65,1965,184,22,4,3,31]
[1642,"Cam Ward","CAR","Buy",null,null,null,null,null,null,null,null,null,null,0,0,0,0,0,0,{"$error":"#DIV/0!"},{"$error":"#DIV/0!"},{"$error":"#DIV/0!"},{"$error":"#DIV/0!"}," ",1642,"Cam Ward",{"$f":"IF(AQ13<>0,VLOOKUP(AQ13,Info!A:B,2,FALSE),\"\")","v":"CAR"},"warca",25.415384615384614,2.6615384615384614,0.43076923076923079,3.0769230769230771E-2,4.6153846153846156E-2,0.35384615384615387,0,0,0,0,null,1642,"Cam Ward","Carolina Hurricanes","warca",65,1652,173,28,2,3,23]
[3808,"Scott Darling","CAR","Buy",null,null,null,null,null,null,null,null,null,null,0,0,0,0,0,0,{"$error":"#DIV/0!"},{"$error":"#DIV/0!"},{"$error":"#DIV/0!"},{"$error":"#DIV/0!"}," ",3808,"Scott Darling",{"$f":"IF(AQ14<>0,VLOOKUP(AQ14,Info!A:B,2,FALSE),\"\")","v":"CAR"},"darsc",25.307692307692307,2.0923076923076924,0.56923076923076921,6.1538461538461542E-2,4.6153846153846156E-2,0.23076923076923078,0,0,0,0,null,3808,"Scott Darling","Carolina Hurricanes","darsc",65,1645,136,37,4,3,15]
[2752,"Corey Crawford","CHI","Buy",null,null,null,null,null,null,null,null,null,null,0,0,0,0,0,0,{"$error":"#DIV/0!"},{"$error":"#DIV/0!"},{"$error":"#DIV/0!"},{"$error":"#DIV/0!"}," ",2752,"Corey Crawford",{"$f":"IF(AQ15<>0,VLOOKUP(AQ15,Info!A:B,2,FALSE),\"\")","v":"CHI"},"craco",28.23076923076923,2.5076923076923077,0.58461538461538465,3.0769230769230771E-2,4.6153846153846156E-2,0.32307692307692309,0,0,0,0,null,2752,"Corey Crawford","Chicago Blackhawks","craco",65,1835,163,38,2,3,21]
[3226,"Jonathan Bernier","COL","Buy",null,null,null,null,null,null,null,null,null,null,0,0,0,0,0,0,{"$error":"#DIV/0!"},{"$error":"#DIV/0!"},{"$error":"#DIV/0!"},{"$error":"#DIV/0!"}," ",3226,"Jonathan Bernier",{"$f":"IF(AQ16<>0,VLOOKUP(AQ16,Info!A:B,2,FALSE),\"\")","v":"COL"},"berjo",23.661538461538463,2.1846153846153844,0.55384615384615388,4.6153846153846156E-2,4.6153846153846156E-2,0.23076923076923078,0,0,0,0,null,3226,"Jonathan Bernier","Colorado Avalanche","berjo",65,1538,142,36,3,3,15]
[2431,"Semyon Varlamov","COL","Buy",null,null,null,null,null,null,null,null,null,null,0,0,0,0,0,0,{"$error":"#DIV/0!"},{"$error":"#DIV/0!"},{"$error":"#DIV/0!"},{"$error":"#DIV/0!"}," ",2431,"Semyon Varlamov",{"$f":"IF(AQ17<>0,VLOOKUP(AQ17,Info!A:B,2,FALSE),\"\")","v":"COL"},"varse",27.876923076923077,3.1692307692307691,0.24615384615384617,4.6153846153846156E-2,4.6153846153846156E-2,0.70769230769230773,0,0,0,0,null,2431,"Semyon Varlamov","Colorado Avalanche","varse",65,1812,206,16,3,3,46]
[2750,"Sergei Bobrovsky","CBJ","Buy",null,null,null,null,null,null,null,null,null,null,0,0,0,0,0,0,{"$error":"#DIV/0!"},{"$error":"#DIV/0!"},{"$error":"#DIV/0!"},{"$error":"#DIV/0!"}," ",2750,"Sergei Bobrovsky",{"$f":"IF(AQ18<>0,VLOOKUP(AQ18,Info!A:B,2,FALSE),\"\")","v":"CBJ"},"bobse",27.261538461538461,2.0615384615384613,0.64615384615384619,0.1076923076923077,4.6153846153846156E-2,0.26153846153846155,0,0,0,0,null,2750,"Sergei Bobrovsky","Columbus Blue Jackets","bobse",65,1772,134,42,7,3,17]
[3236,"Ben Bishop","DAL","Buy",null,null,null,null,null,null,null,null,null,null,0,0,0,0,0,0,{"$error":"#DIV/0!"},{"$error":"#DIV/0!"},{"$error":"#DIV/0!"},{"$error":"#DIV/0!"}," ",3236,"Ben Bishop",{"$f":"IF(AQ19<>0,VLOOKUP(AQ19,Info!A:B,2,FALSE),\"\")","v":"DAL"},"bisbe",24.261538461538461,2.4153846153846152,0.46153846153846156,3.0769230769230771E-2,4.6153846153846156E-2,0.38461538461538464,0,0,0,0,null,3236,"Ben Bishop","Dallas Stars","bisbe",65,1577,157,30,2,3,25]
[3250,"Justin Peters","DAL","Buy",null,null,null,null,null,null,null,null,null,null,0,0,0,0,0,0,{"$error":"#DIV/0!"},{"$error":"#DIV/0!"},{"$error":"#DIV/0!"},{"$error":"#DIV/0!"}," ",3250,"Justin Peters",{"$f":"IF(AQ20<>0,VLOOKUP(AQ20,Info!A:B,2,FALSE),\"\")","v":"DAL"},"petej",27.384615384615383,2.4307692307692306,0.33846153846153848,4.6153846153846156E-2,4.6153846153846156E-2,0.43076923076923079,0,0,0,0,null,3250,"Justin Peters","Dallas Stars","petej",65,1780,158,22,3,3,28]
[1613,"Kari Lehtonen","DAL","Buy",null,null,null,null,null,null,null,null,null,null,0,0,0,0,0,0,{"$error":"#DIV/0!"},{"$error":"#DIV/0!"},{"$error":"#DIV/0!"},{"$error":"#DIV/0!"}," ",1613,"Kari Lehtonen",{"$f":"IF(AQ21<>0,VLOOKUP(AQ21,Info!A:B,2,FALSE),\"\")","v":"DAL"},"lehka",23.646153846153847,2.5538461538461537,0.36923076923076925,4.6153846153846156E-2,4.6153846153846156E-2,0.43076923076923079,0,0,0,0,null,1613,"Kari Lehtonen","Dallas Stars","lehka",65,1537,166,24,3,3,28]
[2595,"Jimmy Howard","DET","Buy",null,null,null,null,null,null,null,null,null,null,0,0,0,0,0,0,{"$error":"#DIV/0!"},{"$error":"#DIV/0!"},{"$error":"#DIV/0!"},{"$error":"#DIV/0!"}," ",2595,"Jimmy Howard",{"$f":"IF(AQ22<>0,VLOOKUP(AQ22,Info!A:B,2,FALSE),\"\")","v":"DET"},"howji",24.076923076923077,1.8923076923076922,0.38461538461538464,4.6153846153846156E-2,4.6153846153846156E-2,0.43076923076923079,0,0,0,0,null,2595,"Jimmy Howard","Detroit Red Wings","howji",65,1565,123,25,3,3,28]
[3721,"Petr Mrazek","DET","Buy",null,null,null,null,null,null,null,null,null,null,0,0,0,0,0,0,{"$error":"#DIV/0!"},{"$error":"#DIV/0!"},{"$error":"#DIV/0!"},{"$error":"#DIV/0!"}," ",3721,"Petr Mrazek",{"$f":"IF(AQ23<>0,VLOOKUP(AQ23,Info!A:B,2,FALSE),\"\")","v":"DET"},"mrape",26.076923076923077,2.8923076923076922,0.35384615384615387,1.5384615384615385E-2,4.6153846153846156E-2,0.43076923076923079,0,0,0,0,null,3721,"Petr Mrazek","Detroit Red Wings","mrape",65,1695,188,23,1,3,28]
[3491,"Cam Talbot","EDM","Buy",null,null,null,null,null,null,null,null,null,null,0,0,0,0,0,0,{"$error":"#DIV/0!"},{"$error":"#DIV/0!"},{"$error":"#DIV/0!"},{"$error":"#DIV/0!"}," ",3491,"Cam Talbot",{"$f":"IF(AQ24<>0,VLOOKUP(AQ24,Info!A:B,2,FALSE),\"\")","v":"EDM"},"talca",26.661538461538463,2.3384615384615386,0.56923076923076921,9.2307692307692313E-2,4.6153846153846156E-2,0.30769230769230771,0,0,0,0,null,3491,"Cam Talbot","Edmonton Oilers","talca",65,1733,152,37,6,3,20]
[2597,"Jonas Gustavsson","EDM","Buy",null,null,null,null,null,null,null,null,null,null,0,0,0,0,0,0,{"$error":"#DIV/0!"},{"$error":"#DIV/0!"},{"$error":"#DIV/0!"},{"$error":"#DIV/0!"}," ",2597,"Jonas Gustavsson",{"$f":"IF(AQ25<>0,VLOOKUP(AQ25,Info!A:B,2,FALSE),\"\")","v":"EDM"},"gusjo",23.923076923076923,2.3230769230769233,0.47692307692307695,4.6153846153846156E-2,4.6153846153846156E-2,0.35384615384615387,0,0,0,0,null,2597,"Jonas Gustavsson","Edmonton Oilers","gusjo",65,1555,151,31,3,3,23]
[3227,"Ben Scrivens","XXX","Buy",null,null,null,null,null,null,null,null,null,null,0,0,0,0,0,0,{"$error":"#DIV/0!"},{"$error":"#DIV/0!"},{"$error":"#DIV/0!"},{"$error":"#DIV/0!"}," ",3227,"Ben Scrivens",{"$f":"IF(AQ26<>0,VLOOKUP(AQ26,Info!A:B,2,FALSE),\"\")","v":"XXX"},"scrbe",24.076923076923077,2.9846153846153847,0.26153846153846155,1.5384615384615385E-2,4.6153846153846156E-2,0.46153846153846156,0,0,0,0,null,3227,"Ben Scrivens","FA/RET/DEC/HON","scrbe",65,1565,194,17,1,3,30]
[1643,"Jason LaBarbera","XXX","Buy",null,null,null,null,null,null,null,null,null,null,0,0,0,0,0,0,{"$error":"#DIV/0!"},{"$error":"#DIV/0!"},{"$error":"#DIV/0!"},{"$error":"#DIV/0!"}," ",1643,"Jason LaBarbera",{"$f":"IF(AQ27<>0,VLOOKUP(AQ27,Info!A:B,2,FALSE),\"\")","v":"XXX"},"labja",25.584615384615386,2.2615384615384615,0.23076923076923078,1.5384615384615385E-2,4.6153846153846156E-2,0.47692307692307695,0,0,0,0,null,1643,"Jason LaBarbera","FA/RET/DEC/HON","labja",65,1663,147,15,1,3,31]
[2997,"Jhonas Enroth","XXX","Buy",null,null,null,null,null,null,null,null,null,null,0,0,0,0,0,0,{"$error":"#DIV/0!"},{"$error":"#DIV/0!"},{"$error":"#DIV/0!"},{"$error":"#DIV/0!"}," ",2997,"Jhonas Enroth",{"$f":"IF(AQ28<>0,VLOOKUP(AQ28,Info!A:B,2,FALSE),\"\")","v":"XXX"},"enrjh",22.938461538461539,1.9384615384615385,0.43076923076923079,0.12307692307692308,4.6153846153846156E-2,0.30769230769230771,0,0,0,0,null,2997,"Jhonas Enroth","FA/RET/DEC/HON","enrjh",65,1491,126,28,8,3,20]
[3434,"Marek Mazanec","XXX","Buy",null,null,null,null,null,null,null,null,null,null,0,0,0,0,0,0,{"$error":"#DIV/0!"},{"$error":"#DIV/0!"},{"$error":"#DIV/0!"},{"$error":"#DIV/0!"}," ",3434,"Marek Mazanec",{"$f":"IF(AQ29<>0,VLOOKUP(AQ29,Info!A:B,2,FALSE),\"\")","v":"XXX"},"mazma",23.446153846153845,2.5538461538461537,0.32307692307692309,7.6923076923076927E-2,4.6153846153846156E-2,0.4,0,0,0,0,null,3434,"Marek Mazanec","FA/RET/DEC/HON","mazma",65,1524,166,21,5,3,26]
[2961,"James Reimer","FLA","Buy",null,null,null,null,null,null,null,null,null,null,0,0,0,0,0,0,{"$error":"#DIV/0!"},{"$error":"#DIV/0!"},{"$error":"#DIV/0!"},{"$error":"#DIV/0!"}," ",2961,"James Reimer",{"$f":"IF(AQ30<>0,VLOOKUP(AQ30,Info!A:B,2,FALSE),\"\")","v":"FLA"},"reija",26.76923076923077,2.3384615384615386,0.43076923076923079,7.6923076923076927E-2,4.6153846153846156E-2,0.38461538461538464,0,0,0,0,null,2961,"James Reimer","Florida Panthers","reija",65,1740,152,28,5,3,25]
[302,"Roberto Luongo","FLA","Buy",null,null,null,null,null,null,null,null,null,null,0,0,0,0,0,0,{"$error":"#DIV/0!"},{"$error":"#DIV/0!"},{"$error":"#DIV/0!"},{"$error":"#DIV/0!"}," ",302,"Roberto Luongo",{"$f":"IF(AQ31<>0,VLOOKUP(AQ31,Info!A:B,2,FALSE),\"\")","v":"FLA"},"luoro",28.030769230769231,2.6461538461538461,0.4,3.0769230769230771E-2,4.6153846153846156E-2,0.4,0,0,0,0,null,302,"Roberto Luongo","Florida Panthers","luoro",65,1822,172,26,2,3,26]
[3663,"Darcy Kuemper","LAK","Buy",null,null,null,null,null,null,null,null,null,null,0,0,0,0,0,0,{"$error":"#DIV/0!"},{"$error":"#DIV/0!"},{"$error":"#DIV/0!"},{"$error":"#DIV/0!"}," ",3663,"Darcy Kuemper",{"$f":"IF(AQ32<>0,VLOOKUP(AQ32,Info!A:B,2,FALSE),\"\")","v":"LAK"},"kueda",28.169230769230769,3.0615384615384613,0.44615384615384618,1.5384615384615385E-2,4.6153846153846156E-2,0.27692307692307694,0,0,0,0,null,3663,"Darcy Kuemper","Los Angeles Kings","kueda",65,1831,199,29,1,3,18]
[2358,"Jonathan Quick","LAK","Buy",null,null,null,null,null,null,null,null,null,null,0,0,0,0,0,0,{"$error":"#DIV/0!"},{"$error":"#DIV/0!"},{"$error":"#DIV/0!"},{"$error":"#DIV/0!"}," ",2358,"Jonathan Quick",{"$f":"IF(AQ33<>0,VLOOKUP(AQ33,Info!A:B,2,FALSE),\"\")","v":"LAK"},"quijo",22.707692307692309,2.0615384615384613,0.47692307692307695,0.12307692307692308,4.6153846153846156E-2,0.29230769230769232,0,0,0,0,null,2358,"Jonathan Quick","Los Angeles Kings","quijo",65,1476,134,31,8,3,19]
[3726,"Alex Stalock","MIN","Buy",null,null,null,null,null,null,null,null,null,null,0,0,0,0,0,0,{"$error":"#DIV/0!"},{"$error":"#DIV/0!"},{"$error":"#DIV/0!"},{"$error":"#DIV/0!"}," ",3726,"Alex Stalock",{"$f":"IF(AQ34<>0,VLOOKUP(AQ34,Info!A:B,2,FALSE),\"\")","v":"MIN"},"staal",23.584615384615386,2.4615384615384617,0.36923076923076925,9.2307692307692313E-2,4.6153846153846156E-2,0.41538461538461541,0,0,0,0,null,3726,"Alex Stalock","Minnesota Wild","staal",65,1533,160,24,6,3,27]
[2991,"Devan Dubnyk","MIN","Buy",null,null,null,null,null,null,null,null,null,null,0,0,0,0,0,0,{"$error":"#DIV/0!"},{"$error":"#DIV/0!"},{"$error":"#DIV/0!"},{"$error":"#DIV/0!"}," ",2991,"Devan Dubnyk",{"$f":"IF(AQ35<>0,VLOOKUP(AQ35,Info!A:B,2,FALSE),\"\")","v":"MIN"},"dubde",26.123076923076923,2.1692307692307691,0.61538461538461542,7.6923076923076927E-2,4.6153846153846156E-2,0.29230769230769232,0,0,0,0,null,2991,"Devan Dubnyk","Minnesota Wild","dubde",65,1698,141,40,5,3,19]
[2990,"Al Montoya","MON","Buy",null,null,null,null,null,null,null,null,null,null,0,0,0,0,0,0,{"$error":"#DIV/0!"},{"$error":"#DIV/0!"},{"$error":"#DIV/0!"},{"$error":"#DIV/0!"}," ",2990,"Al Montoya",{"$f":"IF(AQ36<>0,VLOOKUP(AQ36,Info!A:B,2,FALSE),\"\")","v":"MON"},"monal",27.323076923076922,2.6307692307692307,0.41538461538461541,4.6153846153846156E-2,4.6153846153846156E-2,0.32307692307692309,0,0,0,0,null,2990,"Al Montoya","Montreal Canadiens","monal",65,1776,171,27,3,3,21]
[2530,"Antti Niemi","MON","Buy",null,null,null,null,null,null,null,null,null,null,0,0,0,0,0,0,{"$error":"#DIV/0!"},{"$error":"#DIV/0!"},{"$error":"#DIV/0!"},{"$error":"#DIV/0!"}," ",2530,"Antti Niemi",{"$f":"IF(AQ37<>0,VLOOKUP(AQ37,Info!A:B,2,FALSE),\"\")","v":"MON"},"niean",21.215384615384615,2.5692307692307694,0.32307692307692309,1.5384615384615385E-2,4.6153846153846156E-2,0.32307692307692309,0,0,0,0,null,2530,"Antti Niemi","Montreal Canadiens","niean",65,1379,167,21,1,3,21]
[2138,"Carey Price","MON","Buy",null,null,null,null,null,null,null,null,null,null,0,0,0,0,0,0,{"$error":"#DIV/0!"},{"$error":"#DIV/0!"},{"$error":"#DIV/0!"},{"$error":"#DIV/0!"}," ",2138,"Carey Price",{"$f":"IF(AQ38<>0,VLOOKUP(AQ38,Info!A:B,2,FALSE),\"\")","v":"MON"},"prica",26.707692307692309,2.2307692307692308,0.6,4.6153846153846156E-2,4.6153846153846156E-2,0.32307692307692309,0,0,0,0,null,2138,"Carey Price","Montreal Canadiens","prica",65,1736,145,39,3,3,21]
[2751,"Anders Lindback","NAS","Buy",null,null,null,null,null,null,null,null,null,null,0,0,0,0,0,0,{"$error":"#DIV/0!"},{"$error":"#DIV/0!"},{"$error":"#DIV/0!"},{"$error":"#DIV/0!"}," ",2751,"Anders Lindback",{"$f":"IF(AQ39<>0,VLOOKUP(AQ39,Info!A:B,2,FALSE),\"\")","v":"NAS"},"linan",20.846153846153847,2.476923076923077,0.26153846153846155,1.5384615384615385E-2,4.6153846153846156E-2,0.36923076923076925,0,0,0,0,null,2751,"Anders Lindback","Nashville Predators","linan",65,1355,161,17,1,3,24]
[2598,"Pekka Rinne","NAS","Buy",null,null,null,null,null,null,null,null,null,null,0,0,0,0,0,0,{"$error":"#DIV/0!"},{"$error":"#DIV/0!"},{"$error":"#DIV/0!"},{"$error":"#DIV/0!"}," ",2598,"Pekka Rinne",{"$f":"IF(AQ40<>0,VLOOKUP(AQ40,Info!A:B,2,FALSE),\"\")","v":"NAS"},"rinpe",26.430769230769229,2.3538461538461539,0.50769230769230766,4.6153846153846156E-2,4.6153846153846156E-2,0.30769230769230771,0,0,0,0,null,2598,"Pekka Rinne","Nashville Predators","rinpe",65,1718,153,33,3,3,20]
[3000,"Cory Schneider","NJD","Buy",null,null,null,null,null,null,null,null,null,null,0,0,0,0,0,0,{"$error":"#DIV/0!"},{"$error":"#DIV/0!"},{"$error":"#DIV/0!"},{"$error":"#DIV/0!"}," ",3000,"Cory Schneider",{"$f":"IF(AQ41<>0,VLOOKUP(AQ41,Info!A:B,2,FALSE),\"\")","v":"NJD"},"schco",26.861538461538462,2.7076923076923078,0.33846153846153848,3.0769230769230771E-2,4.6153846153846156E-2,0.46153846153846156,0,0,0,0,null,3000,"Cory Schneider","New Jersey Devils","schco",65,1746,176,22,2,3,30]
[2359,"Jaroslav Halak","NYI","Buy",null,null,null,null,null,null,null,null,null,null,0,0,0,0,0,0,{"$error":"#DIV/0!"},{"$error":"#DIV/0!"},{"$error":"#DIV/0!"},{"$error":"#DIV/0!"}," ",2359,"Jaroslav Halak",{"$f":"IF(AQ42<>0,VLOOKUP(AQ42,Info!A:B,2,FALSE),\"\")","v":"NYI"},"halaj",28.53846153846154,2.6,0.43076923076923079,6.1538461538461542E-2,4.6153846153846156E-2,0.33846153846153848,0,0,0,0,null,2359,"Jaroslav Halak","New York Islanders","halaj",65,1855,169,28,4,3,22]
[3725,"Thomas Greiss","NYI","Buy",null,null,null,null,null,null,null,null,null,null,0,0,0,0,0,0,{"$error":"#DIV/0!"},{"$error":"#DIV/0!"},{"$error":"#DIV/0!"},{"$error":"#DIV/0!"}," ",3725,"Thomas Greiss",{"$f":"IF(AQ43<>0,VLOOKUP(AQ43,Info!A:B,2,FALSE),\"\")","v":"NYI"},"greth",26.015384615384615,2.476923076923077,0.50769230769230766,6.1538461538461542E-2,4.6153846153846156E-2,0.35384615384615387,0,0,0,0,null,3725,"Thomas Greiss","New York Islanders","greth",65,1691,161,33,4,3,23]
[1641,"Henrik Lundqvist","NYR","Buy",null,null,null,null,null,null,null,null,null,null,0,0,0,0,0,0,{"$error":"#DIV/0!"},{"$error":"#DIV/0!"},{"$error":"#DIV/0!"},{"$error":"#DIV/0!"}," ",1641,"Henrik Lundqvist",{"$f":"IF(AQ44<>0,VLOOKUP(AQ44,Info!A:B,2,FALSE),\"\")","v":"NYR"},"lunhe",26.353846153846153,2.6,0.53846153846153844,3.0769230769230771E-2,4.6153846153846156E-2,0.35384615384615387,0,0,0,0,null,1641,"Henrik Lundqvist","New York Rangers","lunhe",65,1713,169,35,2,3,23]
[2599,"Ondrej Pavelec","NYR","Buy",null,null,null,null,null,null,null,null,null,null,0,0,0,0,0,0,{"$error":"#DIV/0!"},{"$error":"#DIV/0!"},{"$error":"#DIV/0!"},{"$error":"#DIV/0!"}," ",2599,"Ondrej Pavelec",{"$f":"IF(AQ45<>0,VLOOKUP(AQ45,Info!A:B,2,FALSE),\"\")","v":"NYR"},"pavon",25.153846153846153,2.6615384615384614,0.4,3.0769230769230771E-2,4.6153846153846156E-2,0.4,0,0,0,0,null,2599,"Ondrej Pavelec","New York Rangers","pavon",65,1635,173,26,2,3,26]
[3807,"Andrew Hammond","OTT","Buy",null,null,null,null,null,null,null,null,null,null,0,0,0,0,0,0,{"$error":"#DIV/0!"},{"$error":"#DIV/0!"},{"$error":"#DIV/0!"},{"$error":"#DIV/0!"}," ",3807,"Andrew Hammond",{"$f":"IF(AQ46<>0,VLOOKUP(AQ46,Info!A:B,2,FALSE),\"\")","v":"OTT"},"haman",27.123076923076923,2.5384615384615383,0.29230769230769232,4.6153846153846156E-2,4.6153846153846156E-2,0.46153846153846156,0,0,0,0,null,3807,"Andrew Hammond","Ottawa Senators","haman",65,1763,165,19,3,3,30]
[2356,"Craig Anderson","OTT","Buy",null,null,null,null,null,null,null,null,null,null,0,0,0,0,0,0,{"$error":"#DIV/0!"},{"$error":"#DIV/0!"},{"$error":"#DIV/0!"},{"$error":"#DIV/0!"}," ",2356,"Craig Anderson",{"$f":"IF(AQ47<>0,VLOOKUP(AQ47,Info!A:B,2,FALSE),\"\")","v":"OTT"},"andcr",28.876923076923077,2.3076923076923075,0.63076923076923075,0.12307692307692308,4.6153846153846156E-2,0.27692307692307694,0,0,0,0,null,2356,"Craig Anderson","Ottawa Senators","andcr",65,1877,150,41,8,3,18]
[3987,"Mike Condon","OTT","Buy",null,null,null,null,null,null,null,null,null,null,0,0,0,0,0,0,{"$error":"#DIV/0!"},{"$error":"#DIV/0!"},{"$error":"#DIV/0!"},{"$error":"#DIV/0!"}," ",3987,"Mike Condon",{"$f":"IF(AQ48<>0,VLOOKUP(AQ48,Info!A:B,2,FALSE),\"\")","v":"OTT"},"condm",25.030769230769231,2.3384615384615386,0.46153846153846156,0.12307692307692308,4.6153846153846156E-2,0.33846153846153848,0,0,0,0,null,3987,"Mike Condon","Ottawa Senators","condm",65,1627,152,30,8,3,22]
[2596,"Brian Elliott","PHI","Buy",null,null,null,null,null,null,null,null,null,null,0,0,0,0,0,0,{"$error":"#DIV/0!"},{"$error":"#DIV/0!"},{"$error":"#DIV/0!"},{"$error":"#DIV/0!"}," ",2596,"Brian Elliott",{"$f":"IF(AQ49<>0,VLOOKUP(AQ49,Info!A:B,2,FALSE),\"\")","v":"PHI"},"ellbr",24.830769230769231,2.476923076923077,0.52307692307692311,4.6153846153846156E-2,4.6153846153846156E-2,0.36923076923076925,0,0,0,0,null,2596,"Brian Elliott","Philadelphia Flyers","ellbr",65,1614,161,34,3,3,24]
[2749,"Michal Neuvirth","PHI","Buy",null,null,null,null,null,null,null,null,null,null,0,0,0,0,0,0,{"$error":"#DIV/0!"},{"$error":"#DIV/0!"},{"$error":"#DIV/0!"},{"$error":"#DIV/0!"}," ",2749,"Michal Neuvirth",{"$f":"IF(AQ50<>0,VLOOKUP(AQ50,Info!A:B,2,FALSE),\"\")","v":"PHI"},"neumi",20,2.2923076923076922,0.4,1.5384615384615385E-2,4.6153846153846156E-2,0.4,0,0,0,0,null,2749,"Michal Neuvirth","Philadelphia Flyers","neumi",65,1300,149,26,1,3,26]
[4011,"Matt Murray","PIT","Buy",null,null,null,null,null,null,null,null,null,null,0,0,0,0,0,0,{"$error":"#DIV/0!"},{"$error":"#DIV/0!"},{"$error":"#DIV/0!"},{"$error":"#DIV/0!"}," ",4011,"Matt Murray",{"$f":"IF(AQ51<>0,VLOOKUP(AQ51,Info!A:B,2,FALSE),\"\")","v":"PIT"},"murma",27.323076923076922,2.2615384615384615,0.64615384615384619,7.6923076923076927E-2,4.6153846153846156E-2,0.23076923076923078,0,0,0,0,null,4011,"Matt Murray","Pittsburgh Penguins","murma",65,1776,147,42,5,3,15]
[3986,"Martin Jones","SJS","Buy",null,null,null,null,null,null,null,null,null,null,0,0,0,0,0,0,{"$error":"#DIV/0!"},{"$error":"#DIV/0!"},{"$error":"#DIV/0!"},{"$error":"#DIV/0!"}," ",3986,"Martin Jones",{"$f":"IF(AQ52<>0,VLOOKUP(AQ52,Info!A:B,2,FALSE),\"\")","v":"SJS"},"jonma",24.2,2.3384615384615386,0.53846153846153844,3.0769230769230771E-2,4.6153846153846156E-2,0.35384615384615387,0,0,0,0,null,3986,"Martin Jones","San Jose Sharks","jonma",65,1573,152,35,2,3,23]
[3809,"Carter Hutton","STL","Buy",null,null,null,null,null,null,null,null,null,null,0,0,0,0,0,0,{"$error":"#DIV/0!"},{"$error":"#DIV/0!"},{"$error":"#DIV/0!"},{"$error":"#DIV/0!"}," ",3809,"Carter Hutton",{"$f":"IF(AQ53<>0,VLOOKUP(AQ53,Info!A:B,2,FALSE),\"\")","v":"STL"},"hutca",20.861538461538462,2,0.44615384615384618,0.13846153846153847,4.6153846153846156E-2,0.27692307692307694,0,0,0,0,null,3809,"Carter Hutton","St. Louis Blues","hutca",65,1356,130,29,9,3,18]
[3664,"Jake Allen","STL","Buy",null,null,null,null,null,null,null,null,null,null,0,0,0,0,0,0,{"$error":"#DIV/0!"},{"$error":"#DIV/0!"},{"$error":"#DIV/0!"},{"$error":"#DIV/0!"}," ",3664,"Jake Allen",{"$f":"IF(AQ54<>0,VLOOKUP(AQ54,Info!A:B,2,FALSE),\"\")","v":"STL"},"allej",23.907692307692308,2.2307692307692308,0.53846153846153844,6.1538461538461542E-2,4.6153846153846156E-2,0.32307692307692309,0,0,0,0,null,3664,"Jake Allen","St. Louis Blues","allej",65,1554,145,35,4,3,21]
[3810,"Andrei Vasilevskiy","TAM","Buy",null,null,null,null,null,null,null,null,null,null,0,0,0,0,0,0,{"$error":"#DIV/0!"},{"$error":"#DIV/0!"},{"$error":"#DIV/0!"},{"$error":"#DIV/0!"}," ",3810,"Andrei Vasilevskiy",{"$f":"IF(AQ55<>0,VLOOKUP(AQ55,Info!A:B,2,FALSE),\"\")","v":"TAM"},"vasan",27.138461538461538,2.4615384615384617,0.46153846153846156,4.6153846153846156E-2,4.6153846153846156E-2,0.33846153846153848,0,0,0,0,null,3810,"Andrei Vasilevskiy","Tampa Bay Lightning","vasan",65,1764,160,30,3,3,22]
[1624,"Peter Budaj","TAM","Buy",null,null,null,null,null,null,null,null,null,null,0,0,0,0,0,0,{"$error":"#DIV/0!"},{"$error":"#DIV/0!"},{"$error":"#DIV/0!"},{"$error":"#DIV/0!"}," ",1624,"Peter Budaj",{"$f":"IF(AQ56<>0,VLOOKUP(AQ56,Info!A:B,2,FALSE),\"\")","v":"TAM"},"budpe",21.938461538461539,2.0307692307692307,0.50769230769230766,0.12307692307692308,4.6153846153846156E-2,0.35384615384615387,0,0,0,0,null,1624,"Peter Budaj","Tampa Bay Lightning","budpe",65,1426,132,33,8,3,23]
[3436,"Curtis McElhinney","TOR","Buy",null,null,null,null,null,null,null,null,null,null,0,0,0,0,0,0,{"$error":"#DIV/0!"},{"$error":"#DIV/0!"},{"$error":"#DIV/0!"},{"$error":"#DIV/0!"}," ",3436,"Curtis McElhinney",{"$f":"IF(AQ57<>0,VLOOKUP(AQ57,Info!A:B,2,FALSE),\"\")","v":"TOR"},"mcecu",26.907692307692308,2.4307692307692306,0.38461538461538464,4.6153846153846156E-2,4.6153846153846156E-2,0.38461538461538464,0,0,0,0,null,3436,"Curtis McElhinney","Toronto Maple Leafs","mcecu",65,1749,158,25,3,3,25]
[3492,"Frederik Andersen","TOR","Buy",null,null,null,null,null,null,null,null,null,null,0,0,0,0,0,0,{"$error":"#DIV/0!"},{"$error":"#DIV/0!"},{"$error":"#DIV/0!"},{"$error":"#DIV/0!"}," ",3492,"Frederik Andersen",{"$f":"IF(AQ58<>0,VLOOKUP(AQ58,Info!A:B,2,FALSE),\"\")","v":"TOR"},"andfr",28.53846153846154,2.5538461538461537,0.50769230769230766,6.1538461538461542E-2,4.6153846153846156E-2,0.24615384615384617,0,0,0,0,null,3492,"Frederik Andersen","Toronto Maple Leafs","andfr",65,1855,166,33,4,3,16]
[3989,"Anders Nilsson","VAN","Buy",null,null,null,null,null,null,null,null,null,null,0,0,0,0,0,0,{"$error":"#DIV/0!"},{"$error":"#DIV/0!"},{"$error":"#DIV/0!"},{"$error":"#DIV/0!"}," ",3989,"Anders Nilsson",{"$f":"IF(AQ59<>0,VLOOKUP(AQ59,Info!A:B,2,FALSE),\"\")","v":"VAN"},"nilan",30.430769230769229,2.5384615384615383,0.38461538461538464,4.6153846153846156E-2,4.6153846153846156E-2,0.38461538461538464,0,0,0,0,null,3989,"Anders Nilsson","Vancouver Canucks","nilan",65,1978,165,25,3,3,25]
[3249,"Jacob Markstrom","VAN","Buy",null,null,null,null,null,null,null,null,null,null,0,0,0,0,0,0,{"$error":"#DIV/0!"},{"$error":"#DIV/0!"},{"$error":"#DIV/0!"},{"$error":"#DIV/0!"}," ",3249,"Jacob Markstrom",{"$f":"IF(AQ60<>0,VLOOKUP(AQ60,Info!A:B,2,FALSE),\"\")","v":"VAN"},"markj",25.2,2.476923076923077,0.4,1.5384615384615385E-2,4.6153846153846156E-2,0.44615384615384618,0,0,0,0,null,3249,"Jacob Markstrom","Vancouver Canucks","markj",65,1638,161,26,1,3,29]
[986,"Marc-Andre Fleury","VGK","Buy",null,null,null,null,null,null,null,null,null,null,0,0,0,0,0,0,{"$error":"#DIV/0!"},{"$error":"#DIV/0!"},{"$error":"#DIV/0!"},{"$error":"#DIV/0!"}," ",986,"Marc-Andre Fleury",{"$f":"IF(AQ61<>0,VLOOKUP(AQ61,Info!A:B,2,FALSE),\"\")","v":"VGK"},"flema",28.261538461538461,2.8153846153846156,0.47692307692307695,3.0769230769230771E-2,4.6153846153846156E-2,0.26153846153846155,0,0,0,0,null,986,"Marc-Andre Fleury","Vegas Golden Knights","flema",65,1837,183,31,2,3,17]
[3197,"Braden Holtby","WAS","Buy",null,null,null,null,null,null,null,null,null,null,0,0,0,0,0,0,{"$error":"#DIV/0!"},{"$error":"#DIV/0!"},{"$error":"#DIV/0!"},{"$error":"#DIV/0!"}," ",3197,"Braden Holtby",{"$f":"IF(AQ62<>0,VLOOKUP(AQ62,Info!A:B,2,FALSE),\"\")","v":"WAS"},"holbr",24.815384615384616,2.0153846153846153,0.66153846153846152,0.13846153846153847,4.6153846153846156E-2,0.23076923076923078,0,0,0,0,null,3197,"Braden Holtby","Washington Capitals","holbr",65,1613,131,43,9,3,15]
[3988,"Connor Hellebuyck","WIN","Buy",null,null,null,null,null,null,null,null,null,null,0,0,0,0,0,0,{"$error":"#DIV/0!"},{"$error":"#DIV/0!"},{"$error":"#DIV/0!"},{"$error":"#DIV/0!"}," ",3988,"Connor Hellebuyck",{"$f":"IF(AQ63<>0,VLOOKUP(AQ63,Info!A:B,2,FALSE),\"\")","v":"WIN"},"helco",25.569230769230771,2.6,0.46153846153846156,7.6923076923076927E-2,4.6153846153846156E-2,0.33846153846153848,0,0,0,0,null,3988,"Connor Hellebuyck","Winnipeg Jets","helco",65,1662,169,30,5,3,22]
[3722,"Michael Hutchinson","WIN","Buy",null,null,null,null,null,null,null,null,null,null,0,0,0,0,0,0,{"$error":"#DIV/0!"},{"$error":"#DIV/0!"},{"$error":"#DIV/0!"},{"$error":"#DIV/0!"}," ",3722,"Michael Hutchinson",{"$f":"IF(AQ64<>0,VLOOKUP(AQ64,Info!A:B,2,FALSE),\"\")","v":"WIN"},"hutmi",22.246153846153845,2.4,0.32307692307692309,3.0769230769230771E-2,4.6153846153846156E-2,0.43076923076923079,0,0,0,0,null,3722,"Michael Hutchinson","Winnipeg Jets","hutmi",65,1446,156,21,2,3,28]
[2355,"Steve Mason","WIN","Buy",null,null,null,null,null,null,null,null,null,null,0,0,0,0,0,0,{"$error":"#DIV/0!"},{"$error":"#DIV/0!"},{"$error":"#DIV/0!"},{"$error":"#DIV/0!"}," ",2355,"Steve Mason",{"$f":"IF(AQ65<>0,VLOOKUP(AQ65,Info!A:B,2,FALSE),\"\")","v":"WIN"},"masst",24.369230769230768,2.4615384615384617,0.44615384615384618,4.6153846153846156E-2,4.6153846153846156E-2,0.36923076923076925,0,0,0,0,null,2355,"Steve Mason","Winnipeg Jets","masst",65,1584,160,29,3,3,24]
["","","","Buy",null,null,null,null,null,null,null,null,null,null,{"$f":"VLOOKUP($A66,$A:$N,5,FALSE)/VLOOKUP($A66,$Z:$AM,5,FALSE)","v":{"$error":"#VALUE!"}},{"$f":"VLOOKUP($A66,$A:$N,6,FALSE)/VLOOKUP($A66,$Z:$AM,6,FALSE)","v":{"$error":"#VALUE!"}},{"$f":"VLOOKUP($A66,$A:$N,7,FALSE)/VLOOKUP($A66,$Z:$AM,7,FALSE)","v":{"$error":"#VALUE!"}},{"$f":"VLOOKUP($A66,$A:$N,8,FALSE)/VLOOKUP($A66,$Z:$AM,8,FALSE)","v":{"$error":"#VALUE!"}},{"$f":"VLOOKUP($A66,$A:$N,9,FALSE)/VLOOKUP($A66,$Z:$AM,9,FALSE)","v":{"$error":"#VALUE!"}},{"$f":"VLOOKUP($A66,$A:$N,10,FALSE)/VLOOKUP($A66,$Z:$AM,10,FALSE)","v":{"$error":"#VALUE!"}},{"$f":"VLOOKUP($A66,$A:$N,11,FALSE)/VLOOKUP($A66,$Z:$AM,11,FALSE)","v":{"$error":"#VALUE!"}},{"$f":"VLOOKUP($A66,$A:$N,12,FALSE)/VLOOKUP($A66,$Z:$AM,12,FALSE)","v":{"$error":"#VALUE!"}},{"$f":"VLOOKUP($A66,$A:$N,13,FALSE)/VLOOKUP($A66,$Z:$AM,13,FALSE)","v":{"$error":"#VALUE!"}},{"$f":"VLOOKUP($A66,$A:$N,14,FALSE)/VLOOKUP($A66,$Z:$AM,14,FALSE)","v":{"$error":"#VALUE!"}}," ","","",{"$f":"IF(AQ66<>0,VLOOKUP(AQ66,Info!A:B,2,FALSE),\"\")","v":""},"","","","","","","","","","",""]
[{"$f":"IF(Z67<>0,Z67,\"\")","v":""},{"$f":"IF(A67<>0,VLOOKUP(A67,Z:AA,2,FALSE),\"\")","v":""},{"$f":"IF(A67<>0,VLOOKUP(A67,Z:AB,3,FALSE))","v":""},{"$f":"HYPERLINK(\"http://www.jockstocks.com/buysell.php?action=buymax&plid=\"&A67,\"Buy\")","v":"Buy"},null,null,null,null,null,null,null,null,null,null,{"$error":"#VALUE!"},{"$error":"#VALUE!"},{"$error":"#VALUE!"},{"$error":"#VALUE!"},{"$error":"#VALUE!"},{"$error":"#VALUE!"},{"$error":"#VALUE!"},{"$error":"#VALUE!"},{"$error":"#VALUE!"},{"$error":"#VALUE!"}," ",{"$f":"IF(AO67<>0,AO67,\"\")","v":""},{"$f":"IF(AP67<>0,VLOOKUP(Z67,AO:AP,2,FALSE),\"\")","v":""},{"$f":"IF(AQ67<>0,VLOOKUP(AQ67,Info!A:B,2,FALSE),\"\")","v":""},{"$f":"IF(AO67<>0,VLOOKUP(Z67,AO:AR,4,FALSE),\"\")","v":""},{"$f":"IF($AO67<>0,AT67/$AS67,\"\")","v":""},{"$f":"IF($AO67<>0,AU67/$AS67,\"\")","v":""},{"$f":"IF($AO67<>0,AV67/$AS67,\"\")","v":""},{"$f":"IF($AO67<>0,AW67/$AS67,\"\")","v":""},{"$f":"IF($AO67<>0,AX67/$AS67,\"\")","v":""},{"$f":"IF($AO67<>0,AY67/$AS67,\"\")","v":""},{"$f":"IF($AO67<>0,AZ67/$AS67,\"\")","v":""},{"$f":"IF($AO67<>0,BA67/$AS67,\"\")","v":""},{"$f":"IF($AO67<>0,BB67/$AS67,\"\")","v":""},{"$f":"IF($AO67<>0,BC67/$AS67,\"\")","v":""}]
["","","","Buy",null,null,null,null,null,null,null,null,null,null,{"$error":"#VALUE!"},{"$error":"#VALUE!"},{"$error":"#VALUE!"},{"$error":"#VALUE!"},{"$error":"#VALUE!"},{"$error":"#VALUE!"},{"$error":"#VALUE!"},{"$error":"#VALUE!"},{"$error":"#VALUE!"},{"$error":"#VALUE!"}," ","","",{"$f":"IF(AQ68<>0,VLOOKUP(AQ68,Info!A:B,2,FALSE),\"\")","v":""},"","","","","","","","","","",""]
["","","","Buy",null,null,null,null,null,null,null,null,null,null,{"$error":"#VALUE!"},{"$error":"#VALUE!"},{"$error":"#VALUE!"},{"$error":"#VALUE!"},{"$error":"#VALUE!"},{"$error":"#VALUE!"},{"$error":"#VALUE!"},{"$error":"#VALUE!"},{"$error":"#VALUE!"},{"$error":"#VALUE!"}," ","","",{"$f":"IF(AQ69<>0,VLOOKUP(AQ69,Info!A:B,2,FALSE),\"\")","v":""},"","","","","","","","","","",""]
["","","","Buy",null,null,null,null,null,null,null,null,null,null,{"$error":"#VALUE!"},{"$error":"#VALUE!"},{"$error":"#VALUE!"},{"$error":"#VALUE!"},{"$error":"#VALUE!"},{"$error":"#VALUE!"},{"$error":"#VALUE!"},{"$error":"#VALUE!"},{"$error":"#VALUE!"},{"$error":"#VALUE!"}," ","","",{"$f":"IF(AQ70<>0,VLOOKUP(AQ70,Info!A:B,2,FALSE),\"\")","v":""},"","","","","","","","","","",""]
["","","","Buy",null,null,null,null,null,null,null,null,null,null,{"$error":"#VALUE!"},{"$error":"#VALUE!"},{"$error":"#VALUE!"},{"$error":"#VALUE!"},{"$error":"#VALUE!"},{"$error":"#VALUE!"},{"$error":"#VALUE!"},{"$error":"#VALUE!"},{"$error":"#VALUE!"},{"$error":"#VALUE!"}," ","","",{"$f":"IF(AQ71<>0,VLOOKUP(AQ71,Info!A:B,2,FALSE),\"\")","v":""},"","","","","","","","","","",""]
[{"$f":"IF(Z72<>0,Z72,\"\")","v":""},{"$f":"IF(A72<>0,VLOOKUP(A72,Z:AA,2,FALSE),\"\")","v":""},{"$f":"IF(A72<>0,VLOOKUP(A72,Z:AB,3,FALSE))","v":""},{"$f":"HYPERLINK(\"http://www.jockstocks.com/buysell.php?action=buymax&plid=\"&A72,\"Buy\")","v":"Buy"},null,null,null,null,null,null,null,null,null,null,{"$f":"VLOOKUP($A72,$A:$N,5,FALSE)/VLOOKUP($A72,$Z:$AM,5,FALSE)","v":{"$error":"#VALUE!"}},{"$f":"VLOOKUP($A72,$A:$N,6,FALSE)/VLOOKUP($A72,$Z:$AM,6,FALSE)","v":{"$error":"#VALUE!"}},{"$f":"VLOOKUP($A72,$A:$N,7,FALSE)/VLOOKUP($A72,$Z:$AM,7,FALSE)","v":{"$error":"#VALUE!"}},{"$f":"VLOOKUP($A72,$A:$N,8,FALSE)/VLOOKUP($A72,$Z:$AM,8,FALSE)","v":{"$error":"#VALUE!"}},{"$f":"VLOOKUP($A72,$A:$N,9,FALSE)/VLOOKUP($A72,$Z:$AM,9,FALSE)","v":{"$error":"#VALUE!"}},{"$f":"VLOOKUP($A72,$A:$N,10,FALSE)/VLOOKUP($A72,$Z:$AM,10,FALSE)","v":{"$error":"#VALUE!"}},{"$f":"VLOOKUP($A72,$A:$N,11,FALSE)/VLOOKUP($A72,$Z:$AM,11,FALSE)","v":{"$error":"#VALUE!"}},{"$f":"VLOOKUP($A72,$A:$N,12,FALSE)/VLOOKUP($A72,$Z:$AM,12,FALSE)","v":{"$error":"#VALUE!"}},{"$f":"VLOOKUP($A72,$A:$N,13,FALSE)/VLOOKUP($A72,$Z:$AM,13,FALSE)","v":{"$error":"#VALUE!"}},{"$f":"VLOOKUP($A72,$A:$N,14,FALSE)/VLOOKUP($A72,$Z:$AM,14,FALSE)","v":{"$error":"#VALUE!"}},null,{"$f":"IF(AO72<>0,AO72,\"\")","v":""},{"$f":"IF(AP72<>0,VLOOKUP(Z72,AO:AP,2,FALSE),\"\")","v":""},{"$f":"IF(AQ72<>0,VLOOKUP(AQ72,Info!A:B,2,FALSE),\"\")","v":""},{"$f":"IF(AO72<>0,VLOOKUP(Z72,AO:AR,4,FALSE),\"\")","v":""},{"$f":"IF($AO72<>0,AT72/$AS72,\"\")","v":""},{"$f":"IF($AO72<>0,AU72/$AS72,\"\")","v":""},{"$f":"IF($AO72<>0,AV72/$AS72,\"\")","v":""},{"$f":"IF($AO72<>0,AW72/$AS72,\"\")","v":""},{"$f":"IF($AO72<>0,AX72/$AS72,\"\")","v":""},{"$f":"IF($AO72<>0,AY72/$AS72,\"\")","v":""},{"$f":"IF($AO72<>0,AZ72/$AS72,\"\")","v":""},{"$f":"IF($AO72<>0,BA72/$AS72,\"\")","v":""},{"$f":"IF($AO72<>0,BB72/$AS72,\"\")","v":""},{"$f":"IF($AO72<>0,BC72/$AS72,\"\")","v":""}]
["","","","Buy",null,null,null,null,null,null,null,null,null,null,{"$error":"#VALUE!"},{"$error":"#VALUE!"},{"$error":"#VALUE!"},{"$error":"#VALUE!"},{"$error":"#VALUE!"},{"$error":"#VALUE!"},{"$error":"#VALUE!"},{"$error":"#VALUE!"},{"$error":"#VALUE!"},{"$error":"#VALUE!"},null,"","",{"$f":"IF(AQ73<>0,VLOOKUP(AQ73,Info!A:B,2,FALSE),\"\")","v":""},"","","","","","","","","","",""]
["","","","Buy",null,null,null,null,null,null,null,null,null,null,{"$error":"#VALUE!"},{"$error":"#VALUE!"},{"$error":"#VALUE!"},{"$error":"#VALUE!"},{"$error":"#VALUE!"},{"$error":"#VALUE!"},{"$error":"#VALUE!"},{"$error":"#VALUE!"},{"$error":"#VALUE!"},{"$error":"#VALUE!"},null,"","",{"$f":"IF(AQ74<>0,VLOOKUP(AQ74,Info!A:B,2,FALSE),\"\")","v":""},"","","","","","","","","","",""]
["","","","Buy",null,null,null,null,null,null,null,null,null,null,{"$error":"#VALUE!"},{"$error":"#VALUE!"},{"$error":"#VALUE!"},{"$error":"#VALUE!"},{"$error":"#VALUE!"},{"$error":"#VALUE!"},{"$error":"#VALUE!"},{"$error":"#VALUE!"},{"$error":"#VALUE!"},{"$error":"#VALUE!"},null,"","",{"$f":"IF(AQ75<>0,VLOOKUP(AQ75,Info!A:B,2,FALSE),\"\")","v":""},"","","","","","","","","","",""]
["","","","Buy",null,null,null,null,null,null,null,null,null,null,{"$error":"#VALUE!"},{"$error":"#VALUE!"},{"$error":"#VALUE!"},{"$error":"#VALUE!"},{"$error":"#VALUE!"},{"$error":"#VALUE!"},{"$error":"#VALUE!"},{"$error":"#VALUE!"},{"$error":"#VALUE!"},{"$error":"#VALUE!"},null,"","",{"$f":"IF(AQ76<>0,VLOOKUP(AQ76,Info!A:B,2,FALSE),\"\")","v":""},"","","","","","","","","","",""]
["","","","Buy",null,null,null,null,null,null,null,null,null,null,{"$error":"#VALUE!"},{"$error":"#VALUE!"},{"$error":"#VALUE!"},{"$error":"#VALUE!"},{"$error":"#VALUE!"},{"$error":"#VALUE!"},{"$error":"#VALUE!"},{"$error":"#VALUE!"},{"$error":"#VALUE!"},{"$error":"#VALUE!"},null,"","",{"$f":"IF(AQ77<>0,VLOOKUP(AQ77,Info!A:B,2,FALSE),\"\")","v":""},"","","","","","","","","","",""]
["","","","Buy",null,null,null,null,null,null,null,null,null,null,{"$error":"#VALUE!"},{"$error":"#VALUE!"},{"$error":"#VALUE!"},{"$error":"#VALUE!"},{"$error":"#VALUE!"},{"$error":"#VALUE!"},{"$error":"#VALUE!"},{"$error":"#VALUE!"},{"$error":"#VALUE!"},{"$error":"#VALUE!"},null,"","",{"$f":"IF(AQ78<>0,VLOOKUP(AQ78,Info!A:B,2,FALSE),\"\")","v":""},"","","","","","","","","","",""]
["","","","Buy",null,null,null,null,null,null,null,null,null,null,{"$error":"#VALUE!"},{"$error":"#VALUE!"},{"$error":"#VALUE!"},{"$error":"#VALUE!"},{"$error":"#VALUE!"},{"$error":"#VALUE!"},{"$error":"#VALUE!"},{"$error":"#VALUE!"},{"$error":"#VALUE!"},{"$error":"#VALUE!"},null,"","",{"$f":"IF(AQ79<>0,VLOOKUP(AQ79,Info!A:B,2,FALSE),\"\")","v":""},"","","","","","","","","","",""]
["","","","Buy",null,null,null,null,null,null,null,null,null,null,{"$error":"#VALUE!"},{"$error":"#VALUE!"},{"$error":"#VALUE!"},{"$error":"#VALUE!"},{"$error":"#VALUE!"},{"$error":"#VALUE!"},{"$error":"#VALUE!"},{"$error":"#VALUE!"},{"$error":"#VALUE!"},{"$error":"#VALUE!"},null,"","",{"$f":"IF(AQ80<>0,VLOOKUP(AQ80,Info!A:B,2,FALSE),\"\")","v":""},"","","","","","","","","","",""]
["","","","Buy",null,null,null,null,null,null,null,null,null,null,{"$error":"#VALUE!"},{"$error":"#VALUE!"},{"$error":"#VALUE!"},{"$error":"#VALUE!"},{"$error":"#VALUE!"},{"$error":"#VALUE!"},{"$error":"#VALUE!"},{"$error":"#VALUE!"},{"$error":"#VALUE!"},{"$error":"#VALUE!"},null,"","",{"$f":"IF(AQ81<>0,VLOOKUP(AQ81,Info!A:B,2,FALSE),\"\")","v":""},"","","","","","","","","","",""]
["","","","Buy",null,null,null,null,null,null,null,null,null,null,{"$error":"#VALUE!"},{"$error":"#VALUE!"},{"$error":"#VALUE!"},{"$error":"#VALUE!"},{"$error":"#VALUE!"},{"$error":"#VALUE!"},{"$error":"#VALUE!"},{"$error":"#VALUE!"},{"$error":"#VALUE!"},{"$error":"#VALUE!"},null,"","",{"$f":"IF(AQ82<>0,VLOOKUP(AQ82,Info!A:B,2,FALSE),\"\")","v":""},"","","","","","","","","","",""]
["","","","Buy",null,null,null,null,null,null,null,null,null,null,{"$error":"#VALUE!"},{"$error":"#VALUE!"},{"$error":"#VALUE!"},{"$error":"#VALUE!"},{"$error":"#VALUE!"},{"$error":"#VALUE!"},{"$error":"#VALUE!"},{"$error":"#VALUE!"},{"$error":"#VALUE!"},{"$error":"#VALUE!"},null,"","",{"$f":"IF(AQ83<>0,VLOOKUP(AQ83,Info!A:B,2,FALSE),\"\")","v":""},"","","","","","","","","","",""]
["","","","Buy",null,null,null,null,null,null,null,null,null,null,{"$error":"#VALUE!"},{"$error":"#VALUE!"},{"$error":"#VALUE!"},{"$error":"#VALUE!"},{"$error":"#VALUE!"},{"$error":"#VALUE!"},{"$error":"#VALUE!"},{"$error":"#VALUE!"},{"$error":"#VALUE!"},{"$error":"#VALUE!"},null,"","",{"$f":"IF(AQ84<>0,VLOOKUP(AQ84,Info!A:B,2,FALSE),\"\")","v":""},"","","","","","","","","","",""]
["","","","Buy",null,null,null,null,null,null,null,null,null,null,{"$error":"#VALUE!"},{"$error":"#VALUE!"},{"$error":"#VALUE!"},{"$error":"#VALUE!"},{"$error":"#VALUE!"},{"$error":"#VALUE!"},{"$error":"#VALUE!"},{"$error":"#VALUE!"},{"$error":"#VALUE!"},{"$error":"#VALUE!"},null,"","",{"$f":"IF(AQ85<>0,VLOOKUP(AQ85,Info!A:B,2,FALSE),\"\")","v":""},"","","","","","","","","","",""]
["","","","Buy",null,null,null,null,null,null,null,null,null,null,{"$error":"#VALUE!"},{"$error":"#VALUE!"},{"$error":"#VALUE!"},{"$error":"#VALUE!"},{"$error":"#VALUE!"},{"$error":"#VALUE!"},{"$error":"#VALUE!"},{"$error":"#VALUE!"},{"$error":"#VALUE!"},{"$error":"#VALUE!"},null,"","",{"$f":"IF(AQ86<>0,VLOOKUP(AQ86,Info!A:B,2,FALSE),\"\")","v":""},"","","","","","","","","","",""]
["","","","Buy",null,null,null,null,null,null,null,null,null,null,{"$error":"#VALUE!"},{"$error":"#VALUE!"},{"$error":"#VALUE!"},{"$error":"#VALUE!"},{"$error":"#VALUE!"},{"$error":"#VALUE!"},{"$error":"#VALUE!"},{"$error":"#VALUE!"},{"$error":"#VALUE!"},{"$error":"#VALUE!"},null,"","",{"$f":"IF(AQ87<>0,VLOOKUP(AQ87,Info!A:B,2,FALSE),\"\")","v":""},"","","","","","","","","","",""]
["","","","Buy",null,null,null,null,null,null,null,null,null,null,{"$error":"#VALUE!"},{"$error":"#VALUE!"},{"$error":"#VALUE!"},{"$error":"#VALUE!"},{"$error":"#VALUE!"},{"$error":"#VALUE!"},{"$error":"#VALUE!"},{"$error":"#VALUE!"},{"$error":"#VALUE!"},{"$error":"#VALUE!"},null,"","",{"$f":"IF(AQ88<>0,VLOOKUP(AQ88,Info!A:B,2,FALSE),\"\")","v":""},"","","","","","","","","","",""]
["","","","Buy",null,null,null,null,null,null,null,null,null,null,{"$error":"#VALUE!"},{"$error":"#VALUE!"},{"$error":"#VALUE!"},{"$error":"#VALUE!"},{"$error":"#VALUE!"},{"$error":"#VALUE!"},{"$error":"#VALUE!"},{"$error":"#VALUE!"},{"$error":"#VALUE!"},{"$error":"#VALUE!"},null,"","",{"$f":"IF(AQ89<>0,VLOOKUP(AQ89,Info!A:B,2,FALSE),\"\")","v":""},"","","","","","","","","","",""]
["","","","Buy",null,null,null,null,null,null,null,null,null,null,{"$error":"#VALUE!"},{"$error":"#VALUE!"},{"$error":"#VALUE!"},{"$error":"#VALUE!"},{"$error":"#VALUE!"},{"$error":"#VALUE!"},{"$error":"#VALUE!"},{"$error":"#VALUE!"},{"$error":"#VALUE!"},{"$error":"#VALUE!"},null,"","",{"$f":"IF(AQ90<>0,VLOOKUP(AQ90,Info!A:B,2,FALSE),\"\")","v":""},"","","","","","","","","","",""]
["","","","Buy",null,null,null,null,null,null,null,null,null,null,{"$error":"#VALUE!"},{"$error":"#VALUE!"},{"$error":"#VALUE!"},{"$error":"#VALUE!"},{"$error":"#VALUE!"},{"$error":"#VALUE!"},{"$error":"#VALUE!"},{"$error":"#VALUE!"},{"$error":"#VALUE!"},{"$error":"#VALUE!"},null,"","",{"$f":"IF(AQ91<>0,VLOOKUP(AQ91,Info!A:B,2,FALSE),\"\")","v":""},"","","","","","","","","","",""]
["","","","Buy",null,null,null,null,null,null,null,null,null,null,{"$error":"#VALUE!"},{"$error":"#VALUE!"},{"$error":"#VALUE!"},{"$error":"#VALUE!"},{"$error":"#VALUE!"},{"$error":"#VALUE!"},{"$error":"#VALUE!"},{"$error":"#VALUE!"},{"$error":"#VALUE!"},{"$error":"#VALUE!"},null,"","",{"$f":"IF(AQ92<>0,VLOOKUP(AQ92,Info!A:B,2,FALSE),\"\")","v":""},"","","","","","","","","","",""]
["","","","Buy",null,null,null,null,null,null,null,null,null,null,{"$error":"#VALUE!"},{"$error":"#VALUE!"},{"$error":"#VALUE!"},{"$error":"#VALUE!"},{"$error":"#VALUE!"},{"$error":"#VALUE!"},{"$error":"#VALUE!"},{"$error":"#VALUE!"},{"$error":"#VALUE!"},{"$error":"#VALUE!"},null,"","",{"$f":"IF(AQ93<>0,VLOOKUP(AQ93,Info!A:B,2,FALSE),\"\")","v":""},"","","","","","","","","","",""]
["","","","Buy",null,null,null,null,null,null,null,null,null,null,{"$error":"#VALUE!"},{"$error":"#VALUE!"},{"$error":"#VALUE!"},{"$error":"#VALUE!"},{"$error":"#VALUE!"},{"$error":"#VALUE!"},{"$error":"#VALUE!"},{"$error":"#VALUE!"},{"$error":"#VALUE!"},{"$error":"#VALUE!"},null,"","",{"$f":"IF(AQ94<>0,VLOOKUP(AQ94,Info!A:B,2,FALSE),\"\")","v":""},"","","","","","","","","","",""]
["","","","Buy",null,null,null,null,null,null,null,null,null,null,{"$error":"#VALUE!"},{"$error":"#VALUE!"},{"$error":"#VALUE!"},{"$error":"#VALUE!"},{"$error":"#VALUE!"},{"$error":"#VALUE!"},{"$error":"#VALUE!"},{"$error":"#VALUE!"},{"$error":"#VALUE!"},{"$error":"#VALUE!"},null,"","",{"$f":"IF(AQ95<>0,VLOOKUP(AQ95,Info!A:B,2,FALSE),\"\")","v":""},"","","","","","","","","","",""]
["","","","Buy",null,null,null,null,null,null,null,null,null,null,{"$error":"#VALUE!"},{"$error":"#VALUE!"},{"$error":"#VALUE!"},{"$error":"#VALUE!"},{"$error":"#VALUE!"},{"$error":"#VALUE!"},{"$error":"#VALUE!"},{"$error":"#VALUE!"},{"$error":"#VALUE!"},{"$error":"#VALUE!"},null,"","",{"$f":"IF(AQ96<>0,VLOOKUP(AQ96,Info!A:B,2,FALSE),\"\")","v":""},"","","","","","","","","","",""]
["","","","Buy",null,null,null,null,null,null,null,null,null,null,{"$error":"#VALUE!"},{"$error":"#VALUE!"},{"$error":"#VALUE!"},{"$error":"#VALUE!"},{"$error":"#VALUE!"},{"$error":"#VALUE!"},{"$error":"#VALUE!"},{"$error":"#VALUE!"},{"$error":"#VALUE!"},{"$error":"#VALUE!"},null,"","",{"$f":"IF(AQ97<>0,VLOOKUP(AQ97,Info!A:B,2,FALSE),\"\")","v":""},"","","","","","","","","","",""]
["","","","Buy",null,null,null,null,null,null,null,null,null,null,{"$error":"#VALUE!"},{"$error":"#VALUE!"},{"$error":"#VALUE!"},{"$error":"#VALUE!"},{"$error":"#VALUE!"},{"$error":"#VALUE!"},{"$error":"#VALUE!"},{"$error":"#VALUE!"},{"$error":"#VALUE!"},{"$error":"#VALUE!"},null,"","",{"$f":"IF(AQ98<>0,VLOOKUP(AQ98,Info!A:B,2,FALSE),\"\")","v":""},"","","","","","","","","","",""]
["","","","Buy",null,null,null,null,null,null,null,null,null,null,{"$error":"#VALUE!"},{"$error":"#VALUE!"},{"$error":"#VALUE!"},{"$error":"#VALUE!"},{"$error":"#VALUE!"},{"$error":"#VALUE!"},{"$error":"#VALUE!"},{"$error":"#VALUE!"},{"$error":"#VALUE!"},{"$error":"#VALUE!"},null,"","",{"$f":"IF(AQ99<>0,VLOOKUP(AQ99,Info!A:B,2,FALSE),\"\")","v":""},"","","","","","","","","","",""]
["","","","Buy",null,null,null,null,null,null,null,null,null,null,{"$error":"#VALUE!"},{"$error":"#VALUE!"},{"$error":"#VALUE!"},{"$error":"#VALUE!"},{"$error":"#VALUE!"},{"$error":"#VALUE!"},{"$error":"#VALUE!"},{"$error":"#VALUE!"},{"$error":"#VALUE!"},{"$error":"#VALUE!"},null,"","",{"$f":"IF(AQ100<>0,VLOOKUP(AQ100,Info!A:B,2,FALSE),\"\")","v":""},"","","","","","","","","","",""]

{"sheet":"NFLQ","index":7,"n_rows":80,"n_cols":52,"rows_kept":80,"cut":false,"hidden":false,"merged":[]}
["plid","Name","Team",null,"Comps","PassYds","PassTDs","Picks","RushYds","RushTDs","Fumbles",null,null,null,"Comps","PassYds","PassTDs","Picks","RushYds","RushTDs","Fumbles",null,null,null,null,{"$f":"IF(AO1<>0,AO1,\"\")","v":"ID"},{"$f":"IF(AP1<>0,AP1,\"\")","v":"Name"},{"$f":"IF(AQ1<>0,AQ1,\"\")","v":"Team"},{"$f":"IF(AR1<>0,AR1,\"\")","v":"Symbol"},{"$f":"IF(AT1<>0,AT1,\"\")","v":"Completions"},{"$f":"IF(AU1<>0,AU1,\"\")","v":"Yds Passing"},"TDs Passing","Interceptions","Yds Rushing","TDs Rushing","Fumbles Lost","","","",null,"ID","Name","Team","Symbol","Games","Completions","Yds Passing","TDs Passing","Interceptions","Yds Rushing","TDs Rushing","Fumbles Lost"]
[{"$f":"IF(Z2<>0,Z2,\"\")","v":2957},{"$f":"IF(A2<>0,VLOOKUP(A2,Z:AA,2,FALSE),\"\")","v":"Blaine Gabbert"},{"$f":"IF(A2<>0,VLOOKUP(A2,Z:AB,3,FALSE))","v":"ARI"},{"$f":"HYPERLINK(\"http://www.jockstocks.com/buysell.php?action=buymax&plid=\"&A2,\"Buy\")","v":"Buy"},null,null,null,null,null,null,null,null,null,null,{"$f":"VLOOKUP($A2,$A:$N,5,FALSE)/VLOOKUP($A2,$Z:$AM,5,FALSE)","v":0},{"$f":"VLOOKUP($A2,$A:$N,6,FALSE)/VLOOKUP($A2,$Z:$AM,6,FALSE)","v":0},{"$f":"VLOOKUP($A2,$A:$N,7,FALSE)/VLOOKUP($A2,$Z:$AM,7,FALSE)","v":0},{"$f":"VLOOKUP($A2,$A:$N,8,FALSE)/VLOOKUP($A2,$Z:$AM,8,FALSE)","v":0},{"$f":"VLOOKUP($A2,$A:$N,9,FALSE)/VLOOKUP($A2,$Z:$AM,9,FALSE)","v":0},{"$f":"VLOOKUP($A2,$A:$N,10,FALSE)/VLOOKUP($A2,$Z:$AM,10,FALSE)","v":0},{"$f":"VLOOKUP($A2,$A:$N,11,FALSE)/VLOOKUP($A2,$Z:$AM,11,FALSE)","v":0},{"$f":"VLOOKUP($A2,$A:$N,12,FALSE)/VLOOKUP($A2,$Z:$AM,12,FALSE)","v":{"$error":"#DIV/0!"}},{"$f":"VLOOKUP($A2,$A:$N,13,FALSE)/VLOOKUP($A2,$Z:$AM,13,FALSE)","v":{"$error":"#DIV/0!"}},{"$f":"VLOOKUP($A2,$A:$N,14,FALSE)/VLOOKUP($A2,$Z:$AM,14,FALSE)","v":{"$error":"#DIV/0!"}}," ",{"$f":"IF(AO2<>0,AO2,\"\")","v":2957},{"$f":"IF(AP2<>0,VLOOKUP(Z2,AO:AP,2,FALSE),\"\")","v":"Blaine Gabbert"},{"$f":"IF(AQ2<>0,VLOOKUP(AQ2,Info!A:B,2,FALSE),\"\")","v":"ARI"},{"$f":"IF(AO2<>0,VLOOKUP(Z2,AO:AR,4,FALSE),\"\")","v":"gabbl"},{"$f":"IF($AO2<>0,AT2/$AS2,\"\")","v":15.1875},154.1875,0.8125,1,28.8125,0.3125,0.125,0,0,0,null,2957,"Blaine Gabbert","Arizona Cardinals","gabbl",16,243,2467,13,16,461,5,2]
[{"$f":"IF(Z3<>0,Z3,\"\")","v":1207},{"$f":"IF(A3<>0,VLOOKUP(A3,Z:AA,2,FALSE),\"\")","v":"Carson Palmer"},{"$f":"IF(A3<>0,VLOOKUP(A3,Z:AB,3,FALSE))","v":"ARI"},{"$f":"HYPERLINK(\"http://www.jockstocks.com/buysell.php?action=buymax&plid=\"&A3,\"Buy\")","v":"Buy"},null,null,null,null,null,null,null,null,null,null,0,0,0,0,0,0,0,{"$error":"#DIV/0!"},{"$error":"#DIV/0!"},{"$error":"#DIV/0!"}," ",{"$f":"IF(AO3<>0,AO3,\"\")","v":1207},{"$f":"IF(AP3<>0,VLOOKUP(Z3,AO:AP,2,FALSE),\"\")","v":"Carson Palmer"},{"$f":"IF(AQ3<>0,VLOOKUP(AQ3,Info!A:B,2,FALSE),\"\")","v":"ARI"},{"$f":"IF(AO3<>0,VLOOKUP(Z3,AO:AR,4,FALSE),\"\")","v":"palca"},{"$f":"IF($AO3<>0,AT3/$AS3,\"\")","v":24.3125},{"$f":"IF($AO3<>0,AU3/$AS3,\"\")","v":250},{"$f":"IF($AO3<>0,AV3/$AS3,\"\")","v":1.75},{"$f":"IF($AO3<>0,AW3/$AS3,\"\")","v":0.9375},{"$f":"IF($AO3<>0,AX3/$AS3,\"\")","v":3.125},{"$f":"IF($AO3<>0,AY3/$AS3,\"\")","v":0.125},{"$f":"IF($AO3<>0,AZ3/$AS3,\"\")","v":0.25},{"$f":"IF($AO3<>0,BA3/$AS3,\"\")","v":0},{"$f":"IF($AO3<>0,BB3/$AS3,\"\")","v":0},{"$f":"IF($AO3<>0,BC3/$AS3,\"\")","v":0},null,1207,"Carson Palmer","Arizona Cardinals","palca",16,389,4000,28,15,50,2,4]
[3679,"Drew Stanton","ARI","Buy",null,null,null,null,null,null,null,null,null,null,0,0,0,0,0,0,0,{"$error":"#DIV/0!"},{"$error":"#DIV/0!"},{"$error":"#DIV/0!"}," ",3679,"Drew Stanton",{"$f":"IF(AQ4<>0,VLOOKUP(AQ4,Info!A:B,2,FALSE),\"\")","v":"ARI"},"stand",9.375,93.75,0.625,0.625,3.125,0.125,0.125,0,0,0,null,3679,"Drew Stanton","Arizona Cardinals","stand",16,150,1500,10,10,50,2,2]
[2238,"Matt Ryan","ATL","Buy",null,null,null,null,null,null,null,null,null,null,0,0,0,0,0,0,0,{"$error":"#DIV/0!"},{"$error":"#DIV/0!"},{"$error":"#DIV/0!"}," ",2238,"Matt Ryan",{"$f":"IF(AQ5<>0,VLOOKUP(AQ5,Info!A:B,2,FALSE),\"\")","v":"ATL"},"ryama",23.3125,250,1.875,0.625,7.3125,0.125,0.125,0,0,0,null,2238,"Matt Ryan","Atlanta Falcons","ryama",16,373,4000,30,10,117,2,2]
[2016,"Matt Schaub","ATL","Buy",null,null,null,null,null,null,null,null,null,null,0,0,0,0,0,0,0,{"$error":"#DIV/0!"},{"$error":"#DIV/0!"},{"$error":"#DIV/0!"}," ",2016,"Matt Schaub",{"$f":"IF(AQ6<>0,VLOOKUP(AQ6,Info!A:B,2,FALSE),\"\")","v":"ATL"},"scham",21.875,231,1,1.25,3.125,0.125,0.125,0,0,0,null,2016,"Matt Schaub","Atlanta Falcons","scham",16,350,3696,16,20,50,2,2]
[2240,"Joe Flacco","BAL","Buy",null,null,null,null,null,null,null,null,null,null,0,0,0,0,0,0,0,{"$error":"#DIV/0!"},{"$error":"#DIV/0!"},{"$error":"#DIV/0!"}," ",2240,"Joe Flacco",{"$f":"IF(AQ7<>0,VLOOKUP(AQ7,Info!A:B,2,FALSE),\"\")","v":"BAL"},"flajo",27.3125,250,1.25,0.9375,3.3125,0.125,0.1875,0,0,0,null,2240,"Joe Flacco","Baltimore Ravens","flajo",16,437,4000,20,15,53,2,3]
[3680,"Ryan Mallett","BAL","Buy",null,null,null,null,null,null,null,null,null,null,0,0,0,0,0,0,0,{"$error":"#DIV/0!"},{"$error":"#DIV/0!"},{"$error":"#DIV/0!"}," ",3680,"Ryan Mallett",{"$f":"IF(AQ8<>0,VLOOKUP(AQ8,Info!A:B,2,FALSE),\"\")","v":"BAL"},"mallr",17,167,0.625,0.75,3.125,0.125,0.125,0,0,0,null,3680,"Ryan Mallett","Baltimore Ravens","mallr",16,272,2672,10,12,50,2,2]
[3883,"Tyrod Taylor","BUF","Buy",null,null,null,null,null,null,null,null,null,null,0,0,0,0,0,0,0,{"$error":"#DIV/0!"},{"$error":"#DIV/0!"},{"$error":"#DIV/0!"}," ",3883,"Tyrod Taylor",{"$f":"IF(AQ9<>0,VLOOKUP(AQ9,Info!A:B,2,FALSE),\"\")","v":"BUF"},"tayty",18,201.5625,1.125,0.625,38.6875,0.375,0.125,0,0,0,null,3883,"Tyrod Taylor","Buffalo Bills","tayty",16,288,3225,18,10,619,6,2]
[2922,"Cam Newton","CAR","Buy",null,null,null,null,null,null,null,null,null,null,0,0,0,0,0,0,0,{"$error":"#DIV/0!"},{"$error":"#DIV/0!"},{"$error":"#DIV/0!"}," ",2922,"Cam Newton",{"$f":"IF(AQ10<>0,VLOOKUP(AQ10,Info!A:B,2,FALSE),\"\")","v":"CAR"},"newca",18,233.9375,1.25,0.9375,23.9375,0.3125,0.125,0,0,0,null,2922,"Cam Newton","Carolina Panthers","newca",16,288,3743,20,15,383,5,2]
[2045,"Derek Anderson","CAR","Buy",null,null,null,null,null,null,null,null,null,null,0,0,0,0,0,0,0,{"$error":"#DIV/0!"},{"$error":"#DIV/0!"},{"$error":"#DIV/0!"}," ",2045,"Derek Anderson",{"$f":"IF(AQ11<>0,VLOOKUP(AQ11,Info!A:B,2,FALSE),\"\")","v":"CAR"},"anded",9.375,93.75,0.625,1,3.125,0.125,0.1875,0,0,0,null,2045,"Derek Anderson","Carolina Panthers","anded",16,150,1500,10,16,50,2,3]
[2489,"Mark Sanchez","CHI","Buy",null,null,null,null,null,null,null,null,null,null,0,0,0,0,0,0,0,{"$error":"#DIV/0!"},{"$error":"#DIV/0!"},{"$error":"#DIV/0!"}," ",2489,"Mark Sanchez",{"$f":"IF(AQ12<>0,VLOOKUP(AQ12,Info!A:B,2,FALSE),\"\")","v":"CHI"},"sanma",22,250,1.5625,1.25,9.6875,0.125,0.3125,0,0,0,null,2489,"Mark Sanchez","Chicago Bears","sanma",16,352,4000,25,20,155,2,5]
[3343,"Mike Glennon","CHI","Buy",null,null,null,null,null,null,null,null,null,null,0,0,0,0,0,0,0,{"$error":"#DIV/0!"},{"$error":"#DIV/0!"},{"$error":"#DIV/0!"}," ",3343,"Mike Glennon",{"$f":"IF(AQ13<>0,VLOOKUP(AQ13,Info!A:B,2,FALSE),\"\")","v":"CHI"},"glemi",19.5,236.1875,1.6875,1,8.1875,0.125,0.125,0,0,0,null,3343,"Mike Glennon","Chicago Bears","glemi",16,312,3779,27,16,131,2,2]
[4228,"Mitchell Trubisky","CHI","Buy",null,null,null,null,null,null,null,null,null,null,0,0,0,0,0,0,0,{"$error":"#DIV/0!"},{"$error":"#DIV/0!"},{"$error":"#DIV/0!"}," ",4228,"Mitchell Trubisky",{"$f":"IF(AQ14<>0,VLOOKUP(AQ14,Info!A:B,2,FALSE),\"\")","v":"CHI"},"trumi",17.1875,175,1.25,0.875,15.625,0.125,0.375,0,0,0,null,4228,"Mitchell Trubisky","Chicago Bears","trumi",16,275,2800,20,14,250,2,6]
[2923,"Andy Dalton","CIN","Buy",null,null,null,null,null,null,null,null,null,null,0,0,0,0,0,0,0,{"$error":"#DIV/0!"},{"$error":"#DIV/0!"},{"$error":"#DIV/0!"}," ",2923,"Andy Dalton",{"$f":"IF(AQ15<>0,VLOOKUP(AQ15,Info!A:B,2,FALSE),\"\")","v":"CIN"},"dalan",22.75,250,1.125,0.625,11.5,0.25,0.1875,0,0,0,null,2923,"Andy Dalton","Cincinnati Bengals","dalan",16,364,4000,18,10,184,4,3]
[1890,"Bruce Gradkowski","CIN","Buy",null,null,null,null,null,null,null,null,null,null,0,0,0,0,0,0,0,{"$error":"#DIV/0!"},{"$error":"#DIV/0!"},{"$error":"#DIV/0!"}," ",1890,"Bruce Gradkowski",{"$f":"IF(AQ16<>0,VLOOKUP(AQ16,Info!A:B,2,FALSE),\"\")","v":"CIN"},"grabr",9.375,93.75,0.625,0.625,3.125,0.125,0.125,0,0,0,null,1890,"Bruce Gradkowski","Cincinnati Bengals","grabr",16,150,1500,10,10,50,2,2]
[4102,"Cody Kessler","CLE","Buy",null,null,null,null,null,null,null,null,null,null,0,0,0,0,0,0,0,{"$error":"#DIV/0!"},{"$error":"#DIV/0!"},{"$error":"#DIV/0!"}," ",4102,"Cody Kessler",{"$f":"IF(AQ17<>0,VLOOKUP(AQ17,Info!A:B,2,FALSE),\"\")","v":"CLE"},"kesco",14.25,153.3125,0.6875,0.625,3.125,0.125,0.125,0,0,0,null,4102,"Cody Kessler","Cleveland Browns","kesco",16,228,2453,11,10,50,2,2]
[4224,"DeShone Kizer","CLE","Buy",null,null,null,null,null,null,null,null,null,null,0,0,0,0,0,0,0,{"$error":"#DIV/0!"},{"$error":"#DIV/0!"},{"$error":"#DIV/0!"}," ",4224,"DeShone Kizer",{"$f":"IF(AQ18<>0,VLOOKUP(AQ18,Info!A:B,2,FALSE),\"\")","v":"CLE"},"kizde",17.1875,175,1.25,0.9375,15.625,0.125,0.3125,0,0,0,null,4224,"DeShone Kizer","Cleveland Browns","kizde",16,275,2800,20,15,250,2,5]
[4064,"Dak Prescott","DAL","Buy",null,null,null,null,null,null,null,null,null,null,0,0,0,0,0,0,0,{"$error":"#DIV/0!"},{"$error":"#DIV/0!"},{"$error":"#DIV/0!"}," ",4064,"Dak Prescott",{"$f":"IF(AQ19<>0,VLOOKUP(AQ19,Info!A:B,2,FALSE),\"\")","v":"DAL"},"preda",19.4375,229.1875,1.4375,0.625,17.625,0.375,0.25,0,0,0,null,4064,"Dak Prescott","Dallas Cowboys","preda",16,311,3667,23,10,282,6,4]
[3944,"Brock Osweiler","DEN","Buy",null,null,null,null,null,null,null,null,null,null,0,0,0,0,0,0,0,{"$error":"#DIV/0!"},{"$error":"#DIV/0!"},{"$error":"#DIV/0!"}," ",3944,"Brock Osweiler",{"$f":"IF(AQ20<>0,VLOOKUP(AQ20,Info!A:B,2,FALSE),\"\")","v":"DEN"},"oswbr",20.0625,197.125,1,1.0625,8.75,0.125,0.125,0,0,0,null,3944,"Brock Osweiler","Denver Broncos","oswbr",16,321,3154,16,17,140,2,2]
[4061,"Trevor Siemian","DEN","Buy",null,null,null,null,null,null,null,null,null,null,0,0,0,0,0,0,0,{"$error":"#DIV/0!"},{"$error":"#DIV/0!"},{"$error":"#DIV/0!"}," ",4061,"Trevor Siemian",{"$f":"IF(AQ21<>0,VLOOKUP(AQ21,Info!A:B,2,FALSE),\"\")","v":"DEN"},"sietr",20.625,242.9375,1.3125,0.6875,4.0625,0.125,0.125,0,0,0,null,4061,"Trevor Siemian","Denver Broncos","sietr",16,330,3887,21,11,65,2,2]
[2488,"Matthew Stafford","DET","Buy",null,null,null,null,null,null,null,null,null,null,0,0,0,0,0,0,0,{"$error":"#DIV/0!"},{"$error":"#DIV/0!"},{"$error":"#DIV/0!"}," ",2488,"Matthew Stafford",{"$f":"IF(AQ22<>0,VLOOKUP(AQ22,Info!A:B,2,FALSE),\"\")","v":"DET"},"stafm",24.25,250,1.5,0.625,12.9375,0.125,0.125,0,0,0,null,2488,"Matthew Stafford","Detroit Lions","stafm",16,388,4000,24,10,207,2,2]
[3111,"Brandon Weeden","XXX","Buy",null,null,null,null,null,null,null,null,null,null,0,0,0,0,0,0,0,{"$error":"#DIV/0!"},{"$error":"#DIV/0!"},{"$error":"#DIV/0!"}," ",3111,"Brandon Weeden",{"$f":"IF(AQ23<>0,VLOOKUP(AQ23,Info!A:B,2,FALSE),\"\")","v":"XXX"},"weebr",16.1875,174,0.8125,0.625,8.5,0.1875,0.1875,0,0,0,null,3111,"Brandon Weeden","FA/RET/DEC/HON","weebr",16,259,2784,13,10,136,3,3]
[3184,"Colin Kaepernick","XXX","Buy",null,null,null,null,null,null,null,null,null,null,0,0,0,0,0,0,0,{"$error":"#DIV/0!"},{"$error":"#DIV/0!"},{"$error":"#DIV/0!"}," ",3184,"Colin Kaepernick",{"$f":"IF(AQ24<>0,VLOOKUP(AQ24,Info!A:B,2,FALSE),\"\")","v":"XXX"},"kaeco",16.3125,186.75,1.3125,0.625,39,0.1875,0.25,0,0,0,null,3184,"Colin Kaepernick","FA/RET/DEC/HON","kaeco",16,261,2988,21,10,624,3,4]
[2136,"Darrell Kane, Sr.","XXX","Buy",null,null,null,null,null,null,null,null,null,null,0,0,0,0,0,0,0,{"$error":"#DIV/0!"},{"$error":"#DIV/0!"},{"$error":"#DIV/0!"}," ",2136,"Darrell Kane, Sr.",{"$f":"IF(AQ25<>0,VLOOKUP(AQ25,Info!A:B,2,FALSE),\"\")","v":"XXX"},"rhino",1,1,1,1,1,1,1,0,0,0,null,2136,"Darrell Kane, Sr.","FA/RET/DEC/HON","rhino",1,1,1,1,1,1,1,1]
[2924,"Luke McCown","XXX","Buy",null,null,null,null,null,null,null,null,null,null,0,0,0,0,0,0,0,{"$error":"#DIV/0!"},{"$error":"#DIV/0!"},{"$error":"#DIV/0!"}," ",2924,"Luke McCown",{"$f":"IF(AQ26<>0,VLOOKUP(AQ26,Info!A:B,2,FALSE),\"\")","v":"XXX"},"mcclu",9.375,93.75,0.625,1,5.75,0.125,0.25,0,0,0,null,2924,"Luke McCown","FA/RET/DEC/HON","mcclu",16,150,1500,10,16,92,2,4]
[3109,"Robert Griffin III","XXX","Buy",null,null,null,null,null,null,null,null,null,null,0,0,0,0,0,0,0,{"$error":"#DIV/0!"},{"$error":"#DIV/0!"},{"$error":"#DIV/0!"}," ",3109,"Robert Griffin III",{"$f":"IF(AQ27<>0,VLOOKUP(AQ27,Info!A:B,2,FALSE),\"\")","v":"XXX"},"griro",17.375,177.1875,0.625,0.625,38,0.375,0.1875,0,0,0,null,3109,"Robert Griffin III","FA/RET/DEC/HON","griro",16,278,2835,10,10,608,6,3]
[2335,"Shaun Hill","XXX","Buy",null,null,null,null,null,null,null,null,null,null,0,0,0,0,0,0,0,{"$error":"#DIV/0!"},{"$error":"#DIV/0!"},{"$error":"#DIV/0!"}," ",2335,"Shaun Hill",{"$f":"IF(AQ28<>0,VLOOKUP(AQ28,Info!A:B,2,FALSE),\"\")","v":"XXX"},"hills",18.125,207.125,1,0.875,3.125,0.125,0.125,0,0,0,null,2335,"Shaun Hill","FA/RET/DEC/HON","hills",16,290,3314,16,14,50,2,2]
[1891,"Tony Romo","XXX","Buy",null,null,null,null,null,null,null,null,null,null,0,0,0,0,0,0,0,{"$error":"#DIV/0!"},{"$error":"#DIV/0!"},{"$error":"#DIV/0!"}," ",1891,"Tony Romo",{"$f":"IF(AQ29<>0,VLOOKUP(AQ29,Info!A:B,2,FALSE),\"\")","v":"XXX"},"romto",22.8125,250,1.875,0.6875,3.125,0.125,0.125,0,0,0,null,1891,"Tony Romo","FA/RET/DEC/HON","romto",16,365,4000,30,11,50,2,2]
[3671,"Zach Mettenberger","XXX","Buy",null,null,null,null,null,null,null,null,null,null,0,0,0,0,0,0,0,{"$error":"#DIV/0!"},{"$error":"#DIV/0!"},{"$error":"#DIV/0!"}," ",3671,"Zach Mettenberger",{"$f":"IF(AQ30<>0,VLOOKUP(AQ30,Info!A:B,2,FALSE),\"\")","v":"XXX"},"metza",14.4375,133.5625,0.625,1,3.125,0.125,0.3125,0,0,0,null,3671,"Zach Mettenberger","FA/RET/DEC/HON","metza",16,231,2137,10,16,50,2,5]
[2239,"Aaron Rodgers","GRB","Buy",null,null,null,null,null,null,null,null,null,null,0,0,0,0,0,0,0,{"$error":"#DIV/0!"},{"$error":"#DIV/0!"},{"$error":"#DIV/0!"}," ",2239,"Aaron Rodgers",{"$f":"IF(AQ31<>0,VLOOKUP(AQ31,Info!A:B,2,FALSE),\"\")","v":"GRB"},"rodaa",25.0625,250,1.875,0.625,23.0625,0.25,0.25,0,0,0,null,2239,"Aaron Rodgers","Green Bay Packers","rodaa",16,401,4000,30,10,369,4,4]
[4239,"Brett Hundley","GRB","Buy",null,null,null,null,null,null,null,null,null,null,0,0,0,0,0,0,0,{"$error":"#DIV/0!"},{"$error":"#DIV/0!"},{"$error":"#DIV/0!"}," ",4239,"Brett Hundley",{"$f":"IF(AQ32<>0,VLOOKUP(AQ32,Info!A:B,2,FALSE),\"\")","v":"GRB"},"hunbr",14.0625,175,1.25,0.875,15.625,0.1875,0.3125,0,0,0,null,4239,"Brett Hundley","Green Bay Packers","hunbr",16,225,2800,20,14,250,3,5]
[4223,"Deshaun Watson","HOU","Buy",null,null,null,null,null,null,null,null,null,null,0,0,0,0,0,0,0,{"$error":"#DIV/0!"},{"$error":"#DIV/0!"},{"$error":"#DIV/0!"}," ",4223,"Deshaun Watson",{"$f":"IF(AQ33<>0,VLOOKUP(AQ33,Info!A:B,2,FALSE),\"\")","v":"HOU"},"watde",17.1875,187.5,1.5625,0.875,18.75,0.25,0.25,0,0,0,null,4223,"Deshaun Watson","Houston Texans","watde",16,275,3000,25,14,300,4,4]
[4240,"Tom Savage","HOU","Buy",null,null,null,null,null,null,null,null,null,null,0,0,0,0,0,0,0,{"$error":"#DIV/0!"},{"$error":"#DIV/0!"},{"$error":"#DIV/0!"}," ",4240,"Tom Savage",{"$f":"IF(AQ34<>0,VLOOKUP(AQ34,Info!A:B,2,FALSE),\"\")","v":"HOU"},"savto",14.0625,175,1.25,0.875,6.25,0.125,0.3125,0,0,0,null,4240,"Tom Savage","Houston Texans","savto",16,225,2800,20,14,100,2,5]
[3108,"Andrew Luck","IND","Buy",null,null,null,null,null,null,null,null,null,null,0,0,0,0,0,0,0,{"$error":"#DIV/0!"},{"$error":"#DIV/0!"},{"$error":"#DIV/0!"}," ",3108,"Andrew Luck",{"$f":"IF(AQ35<>0,VLOOKUP(AQ35,Info!A:B,2,FALSE),\"\")","v":"IND"},"lucan",23.0625,250,1.875,0.875,22.75,0.125,0.3125,0,0,0,null,3108,"Andrew Luck","Indianapolis Colts","lucan",16,369,4000,30,14,364,2,5]
[4226,"Jacoby Brissett","IND","Buy",null,null,null,null,null,null,null,null,null,null,0,0,0,0,0,0,0,{"$error":"#DIV/0!"},{"$error":"#DIV/0!"},{"$error":"#DIV/0!"}," ",4226,"Jacoby Brissett",{"$f":"IF(AQ36<>0,VLOOKUP(AQ36,Info!A:B,2,FALSE),\"\")","v":"IND"},"brija",15.625,175,1.25,0.875,15.625,0.25,0.3125,0,0,0,null,4226,"Jacoby Brissett","Indianapolis Colts","brija",16,250,2800,20,14,250,4,5]
[3629,"Blake Bortles","JAC","Buy",null,null,null,null,null,null,null,null,null,null,0,0,0,0,0,0,0,{"$error":"#DIV/0!"},{"$error":"#DIV/0!"},{"$error":"#DIV/0!"}," ",3629,"Blake Bortles",{"$f":"IF(AQ37<>0,VLOOKUP(AQ37,Info!A:B,2,FALSE),\"\")","v":"JAC"},"borbl",23,244.0625,1.4375,1,22.4375,0.1875,0.375,0,0,0,null,3629,"Blake Bortles","Jacksonville Jaguars","borbl",16,368,3905,23,16,359,3,6]
[2510,"Chad Henne","JAC","Buy",null,null,null,null,null,null,null,null,null,null,0,0,0,0,0,0,0,{"$error":"#DIV/0!"},{"$error":"#DIV/0!"},{"$error":"#DIV/0!"}," ",2510,"Chad Henne",{"$f":"IF(AQ38<>0,VLOOKUP(AQ38,Info!A:B,2,FALSE),\"\")","v":"JAC"},"hennc",20.3125,216.0625,0.875,0.9375,5.125,0.125,0.125,0,0,0,null,2510,"Chad Henne","Jacksonville Jaguars","hennc",16,325,3457,14,15,82,2,2]
[1822,"Alex Smith","KAN","Buy",null,null,null,null,null,null,null,null,null,null,0,0,0,0,0,0,0,{"$error":"#DIV/0!"},{"$error":"#DIV/0!"},{"$error":"#DIV/0!"}," ",1822,"Alex Smith",{"$f":"IF(AQ39<>0,VLOOKUP(AQ39,Info!A:B,2,FALSE),\"\")","v":"KAN"},"smial",21.875,233.4375,1,0.625,8.9375,0.3125,0.25,0,0,0,null,1822,"Alex Smith","Kansas City Chiefs","smial",16,350,3735,16,10,143,5,4]
[2091,"Kellen Clemens","LAC","Buy",null,null,null,null,null,null,null,null,null,null,0,0,0,0,0,0,0,{"$error":"#DIV/0!"},{"$error":"#DIV/0!"},{"$error":"#DIV/0!"}," ",2091,"Kellen Clemens",{"$f":"IF(AQ40<>0,VLOOKUP(AQ40,Info!A:B,2,FALSE),\"\")","v":"LAC"},"cleke",9.375,93.75,0.625,0.625,3.125,0.125,0.125,0,0,0,null,2091,"Kellen Clemens","Los Angeles Chargers","cleke",16,150,1500,10,10,50,2,2]
[1824,"Philip Rivers","LAC","Buy",null,null,null,null,null,null,null,null,null,null,0,0,0,0,0,0,0,{"$error":"#DIV/0!"},{"$error":"#DIV/0!"},{"$error":"#DIV/0!"}," ",1824,"Philip Rivers",{"$f":"IF(AQ41<>0,VLOOKUP(AQ41,Info!A:B,2,FALSE),\"\")","v":"LAC"},"rivph",21.8125,250,1.875,1.25,3.125,0.125,0.3125,0,0,0,null,1824,"Philip Rivers","Los Angeles Chargers","rivph",16,349,4000,30,20,50,2,5]
[4113,"Jared Goff","LAR","Buy",null,null,null,null,null,null,null,null,null,null,0,0,0,0,0,0,0,{"$error":"#DIV/0!"},{"$error":"#DIV/0!"},{"$error":"#DIV/0!"}," ",4113,"Jared Goff",{"$f":"IF(AQ42<>0,VLOOKUP(AQ42,Info!A:B,2,FALSE),\"\")","v":"LAR"},"gofja",16,155.5625,0.6875,1,3.125,0.4375,0.625,0,0,0,null,4113,"Jared Goff","Los Angeles Rams","gofja",16,256,2489,11,16,50,7,10]
[2015,"Jay Cutler","MIA","Buy",null,null,null,null,null,null,null,null,null,null,0,0,0,0,0,0,0,{"$error":"#DIV/0!"},{"$error":"#DIV/0!"},{"$error":"#DIV/0!"}," ",2015,"Jay Cutler",{"$f":"IF(AQ43<>0,VLOOKUP(AQ43,Info!A:B,2,FALSE),\"\")","v":"MIA"},"cutja",16.1875,211.8125,0.8125,1,4.8125,0.125,0.375,0,0,0,null,2015,"Jay Cutler","Miami Dolphins","cutja",16,259,3389,13,16,77,2,6]
[2687,"Matt Moore","MIA","Buy",null,null,null,null,null,null,null,null,null,null,0,0,0,0,0,0,0,{"$error":"#DIV/0!"},{"$error":"#DIV/0!"},{"$error":"#DIV/0!"}," ",2687,"Matt Moore",{"$f":"IF(AQ44<>0,VLOOKUP(AQ44,Info!A:B,2,FALSE),\"\")","v":"MIA"},"mooma",16.25,193.0625,1.25,0.6875,5.5625,0.125,0.4375,0,0,0,null,2687,"Matt Moore","Miami Dolphins","mooma",16,260,3089,20,11,89,2,7]
[3110,"Ryan Tannehill","MIA","Buy",null,null,null,null,null,null,null,null,null,null,0,0,0,0,0,0,0,{"$error":"#DIV/0!"},{"$error":"#DIV/0!"},{"$error":"#DIV/0!"}," ",3110,"Ryan Tannehill",{"$f":"IF(AQ45<>0,VLOOKUP(AQ45,Info!A:B,2,FALSE),\"\")","v":"MIA"},"tanry",20.0625,230.5625,1.4375,0.9375,12.625,0.125,0.25,0,0,0,null,3110,"Ryan Tannehill","Miami Dolphins","tanry",16,321,3689,23,15,202,2,4]
[3418,"Case Keenum","MIN","Buy",null,null,null,null,null,null,null,null,null,null,0,0,0,0,0,0,0,{"$error":"#DIV/0!"},{"$error":"#DIV/0!"},{"$error":"#DIV/0!"}," ",3418,"Case Keenum",{"$f":"IF(AQ46<>0,VLOOKUP(AQ46,Info!A:B,2,FALSE),\"\")","v":"MIN"},"keeca",19.625,220.125,0.875,1.125,5.125,0.125,0.125,0,0,0,null,3418,"Case Keenum","Minnesota Vikings","keeca",16,314,3522,14,18,82,2,2]
[2686,"Sam Bradford","MIN","Buy",null,null,null,null,null,null,null,null,null,null,0,0,0,0,0,0,0,{"$error":"#DIV/0!"},{"$error":"#DIV/0!"},{"$error":"#DIV/0!"}," ",2686,"Sam Bradford",{"$f":"IF(AQ47<>0,VLOOKUP(AQ47,Info!A:B,2,FALSE),\"\")","v":"MIN"},"brasa",26.3125,250,1.3125,0.625,3.5625,0.125,0.3125,0,0,0,null,2686,"Sam Bradford","Minnesota Vikings","brasa",16,421,4000,21,10,57,2,5]
[3628,"Teddy Bridgewater","MIN","Buy",null,null,null,null,null,null,null,null,null,null,0,0,0,0,0,0,0,{"$error":"#DIV/0!"},{"$error":"#DIV/0!"},{"$error":"#DIV/0!"}," ",3628,"Teddy Bridgewater",{"$f":"IF(AQ48<>0,VLOOKUP(AQ48,Info!A:B,2,FALSE),\"\")","v":"MIN"},"brite",18.25,201.9375,0.875,0.625,12,0.1875,0.1875,0,0,0,null,3628,"Teddy Bridgewater","Minnesota Vikings","brite",16,292,3231,14,10,192,3,3]
[3595,"Brian Hoyer","NEW","Buy",null,null,null,null,null,null,null,null,null,null,0,0,0,0,0,0,0,{"$error":"#DIV/0!"},{"$error":"#DIV/0!"},{"$error":"#DIV/0!"}," ",3595,"Brian Hoyer",{"$f":"IF(AQ49<>0,VLOOKUP(AQ49,Info!A:B,2,FALSE),\"\")","v":"NEW"},"hoybr",22.3125,240.8125,1,0.625,3.125,0.125,0.1875,0,0,0,null,3595,"Brian Hoyer","New England Patriots","hoybr",16,357,3853,16,10,50,2,3]
[24,"Tom Brady","NEW","Buy",null,null,null,null,null,null,null,null,null,null,0,0,0,0,0,0,0,{"$error":"#DIV/0!"},{"$error":"#DIV/0!"},{"$error":"#DIV/0!"}," ",24,"Tom Brady",{"$f":"IF(AQ50<>0,VLOOKUP(AQ50,Info!A:B,2,FALSE),\"\")","v":"NEW"},"brato",24.25,250,1.875,0.625,5.3125,0.125,0.125,0,0,0,null,24,"Tom Brady","New England Patriots","brato",16,388,4000,30,10,85,2,2]
[216,"Drew Brees","NOS","Buy",null,null,null,null,null,null,null,null,null,null,0,0,0,0,0,0,0,{"$error":"#DIV/0!"},{"$error":"#DIV/0!"},{"$error":"#DIV/0!"}," ",216,"Drew Brees",{"$f":"IF(AQ51<>0,VLOOKUP(AQ51,Info!A:B,2,FALSE),\"\")","v":"NOS"},"bredr",29.4375,250,1.875,0.9375,3.125,0.125,0.25,0,0,0,null,216,"Drew Brees","New Orleans Saints","bredr",16,471,4000,30,15,50,2,4]
[1557,"Eli Manning","NYG","Buy",null,null,null,null,null,null,null,null,null,null,0,0,0,0,0,0,0,{"$error":"#DIV/0!"},{"$error":"#DIV/0!"},{"$error":"#DIV/0!"}," ",1557,"Eli Manning",{"$f":"IF(AQ52<>0,VLOOKUP(AQ52,Info!A:B,2,FALSE),\"\")","v":"NYG"},"manel",23.5625,250,1.625,1,3.125,0.125,0.25,0,0,0,null,1557,"Eli Manning","New York Giants","manel",16,377,4000,26,16,50,2,4]
[3314,"Geno Smith","NYG","Buy",null,null,null,null,null,null,null,null,null,null,0,0,0,0,0,0,0,{"$error":"#DIV/0!"},{"$error":"#DIV/0!"},{"$error":"#DIV/0!"}," ",3314,"Geno Smith",{"$f":"IF(AQ53<>0,VLOOKUP(AQ53,Info!A:B,2,FALSE),\"\")","v":"NYG"},"smige",15.625,180.375,0.9375,0.9375,17,0.125,0.1875,0,0,0,null,3314,"Geno Smith","New York Giants","smige",16,250,2886,15,15,272,2,3]
[4225,"Y.A. Tittle","NYG","Buy",null,null,null,null,null,null,null,null,null,null,0,0,0,0,0,0,0,{"$error":"#DIV/0!"},{"$error":"#DIV/0!"},{"$error":"#DIV/0!"}," ",4225,"Y.A. Tittle",{"$f":"IF(AQ54<>0,VLOOKUP(AQ54,Info!A:B,2,FALSE),\"\")","v":"NYG"},"titya",1,1,1,1,1,1,1,0,0,0,null,4225,"Y.A. Tittle","New York Giants","titya",1,1,1,1,1,1,1,1]
[1203,"Josh McCown","NYJ","Buy",null,null,null,null,null,null,null,null,null,null,0,0,0,0,0,0,0,{"$error":"#DIV/0!"},{"$error":"#DIV/0!"},{"$error":"#DIV/0!"}," ",1203,"Josh McCown",{"$f":"IF(AQ55<>0,VLOOKUP(AQ55,Info!A:B,2,FALSE),\"\")","v":"NYJ"},"mccjo",18,220,1.1875,1.1875,4.1875,0.125,0.625,0,0,0,null,1203,"Josh McCown","New York Jets","mccjo",16,288,3520,19,19,67,2,10]
[3596,"Derek Carr","OAK","Buy",null,null,null,null,null,null,null,null,null,null,0,0,0,0,0,0,0,{"$error":"#DIV/0!"},{"$error":"#DIV/0!"},{"$error":"#DIV/0!"}," ",3596,"Derek Carr",{"$f":"IF(AQ56<>0,VLOOKUP(AQ56,Info!A:B,2,FALSE),\"\")","v":"OAK"},"carde",23.75,250,1.875,0.625,4.625,0.125,0.1875,0,0,0,null,3596,"Derek Carr","Oakland Raiders","carde",16,380,4000,30,10,74,2,3]
[3318,"EJ Manuel","OAK","Buy",null,null,null,null,null,null,null,null,null,null,0,0,0,0,0,0,0,{"$error":"#DIV/0!"},{"$error":"#DIV/0!"},{"$error":"#DIV/0!"}," ",3318,"EJ Manuel",{"$f":"IF(AQ57<>0,VLOOKUP(AQ57,Info!A:B,2,FALSE),\"\")","v":"OAK"},"manej",9.375,93.75,0.625,0.625,3.6875,0.125,0.1875,0,0,0,null,3318,"EJ Manuel","Oakland Raiders","manej",16,150,1500,10,10,59,2,3]
[4063,"Carson Wentz","PHI","Buy",null,null,null,null,null,null,null,null,null,null,0,0,0,0,0,0,0,{"$error":"#DIV/0!"},{"$error":"#DIV/0!"},{"$error":"#DIV/0!"}," ",4063,"Carson Wentz",{"$f":"IF(AQ58<>0,VLOOKUP(AQ58,Info!A:B,2,FALSE),\"\")","v":"PHI"},"wenca",23.6875,236.375,1,0.875,9.375,0.125,0.1875,0,0,0,null,4063,"Carson Wentz","Philadelphia Eagles","wenca",16,379,3782,16,14,150,2,3]
[3183,"Nick Foles","PHI","Buy",null,null,null,null,null,null,null,null,null,null,0,0,0,0,0,0,0,{"$error":"#DIV/0!"},{"$error":"#DIV/0!"},{"$error":"#DIV/0!"}," ",3183,"Nick Foles",{"$f":"IF(AQ59<>0,VLOOKUP(AQ59,Info!A:B,2,FALSE),\"\")","v":"PHI"},"folen",17.25,186.5625,0.625,0.9375,3.125,0.125,0.1875,0,0,0,null,3183,"Nick Foles","Philadelphia Eagles","folen",16,276,2985,10,15,50,2,3]
[1298,"Ben Roethlisberger","PIT","Buy",null,null,null,null,null,null,null,null,null,null,0,0,0,0,0,0,0,{"$error":"#DIV/0!"},{"$error":"#DIV/0!"},{"$error":"#DIV/0!"}," ",1298,"Ben Roethlisberger",{"$f":"IF(AQ60<>0,VLOOKUP(AQ60,Info!A:B,2,FALSE),\"\")","v":"PIT"},"roebe",23.4375,250,1.875,0.9375,3.125,0.125,0.125,0,0,0,null,1298,"Ben Roethlisberger","Pittsburgh Steelers","roebe",16,375,4000,30,15,50,2,2]
[4062,"Jimmy Garoppolo","SFO","Buy",null,null,null,null,null,null,null,null,null,null,0,0,0,0,0,0,0,{"$error":"#DIV/0!"},{"$error":"#DIV/0!"},{"$error":"#DIV/0!"}," ",4062,"Jimmy Garoppolo",{"$f":"IF(AQ61<>0,VLOOKUP(AQ61,Info!A:B,2,FALSE),\"\")","v":"SFO"},"garji",9.375,93.75,0.6875,0.625,3.125,0.125,0.125,0,0,0,null,4062,"Jimmy Garoppolo","San Francisco 49ers","garji",16,150,1500,11,10,50,2,2]
[3641,"Austin Davis","SEA","Buy",null,null,null,null,null,null,null,null,null,null,0,0,0,0,0,0,0,{"$error":"#DIV/0!"},{"$error":"#DIV/0!"},{"$error":"#DIV/0!"}," ",3641,"Austin Davis",{"$f":"IF(AQ62<>0,VLOOKUP(AQ62,Info!A:B,2,FALSE),\"\")","v":"SEA"},"davau",20.125,222,1.3125,1,4,0.125,0.125,0,0,0,null,3641,"Austin Davis","Seattle Seahawks","davau",16,322,3552,21,16,64,2,2]
[3112,"Russell Wilson","SEA","Buy",null,null,null,null,null,null,null,null,null,null,0,0,0,0,0,0,0,{"$error":"#DIV/0!"},{"$error":"#DIV/0!"},{"$error":"#DIV/0!"}," ",3112,"Russell Wilson",{"$f":"IF(AQ63<>0,VLOOKUP(AQ63,Info!A:B,2,FALSE),\"\")","v":"SEA"},"wilru",22.0625,250,1.3125,0.6875,16.1875,0.125,0.125,0,0,0,null,3112,"Russell Wilson","Seattle Seahawks","wilru",16,353,4000,21,11,259,2,2]
[3884,"Jameis Winston","TAM","Buy",null,null,null,null,null,null,null,null,null,null,0,0,0,0,0,0,0,{"$error":"#DIV/0!"},{"$error":"#DIV/0!"},{"$error":"#DIV/0!"}," ",3884,"Jameis Winston",{"$f":"IF(AQ64<>0,VLOOKUP(AQ64,Info!A:B,2,FALSE),\"\")","v":"TAM"},"winja",21.5625,250,1.75,1.125,10.5,0.125,0.375,0,0,0,null,3884,"Jameis Winston","Tampa Bay Buccaneers","winja",16,345,4000,28,18,168,2,6]
[2336,"Ryan Fitzpatrick","TAM","Buy",null,null,null,null,null,null,null,null,null,null,0,0,0,0,0,0,0,{"$error":"#DIV/0!"},{"$error":"#DIV/0!"},{"$error":"#DIV/0!"}," ",2336,"Ryan Fitzpatrick",{"$f":"IF(AQ65<>0,VLOOKUP(AQ65,Info!A:B,2,FALSE),\"\")","v":"TAM"},"fitry",16.375,193.5,0.875,1.1875,9.3125,0.125,0.125,0,0,0,null,2336,"Ryan Fitzpatrick","Tampa Bay Buccaneers","fitry",16,262,3096,14,19,149,2,2]
[3882,"Marcus Mariota","TEN","Buy",null,null,null,null,null,null,null,null,null,null,{"$f":"VLOOKUP($A66,$A:$N,5,FALSE)/VLOOKUP($A66,$Z:$AM,5,FALSE)","v":0},{"$f":"VLOOKUP($A66,$A:$N,6,FALSE)/VLOOKUP($A66,$Z:$AM,6,FALSE)","v":0},{"$f":"VLOOKUP($A66,$A:$N,7,FALSE)/VLOOKUP($A66,$Z:$AM,7,FALSE)","v":0},{"$f":"VLOOKUP($A66,$A:$N,8,FALSE)/VLOOKUP($A66,$Z:$AM,8,FALSE)","v":0},{"$f":"VLOOKUP($A66,$A:$N,9,FALSE)/VLOOKUP($A66,$Z:$AM,9,FALSE)","v":0},{"$f":"VLOOKUP($A66,$A:$N,10,FALSE)/VLOOKUP($A66,$Z:$AM,10,FALSE)","v":0},{"$f":"VLOOKUP($A66,$A:$N,11,FALSE)/VLOOKUP($A66,$Z:$AM,11,FALSE)","v":0},{"$f":"VLOOKUP($A66,$A:$N,12,FALSE)/VLOOKUP($A66,$Z:$AM,12,FALSE)","v":{"$error":"#DIV/0!"}},{"$f":"VLOOKUP($A66,$A:$N,13,FALSE)/VLOOKUP($A66,$Z:$AM,13,FALSE)","v":{"$error":"#DIV/0!"}},{"$f":"VLOOKUP($A66,$A:$N,14,FALSE)/VLOOKUP($A66,$Z:$AM,14,FALSE)","v":{"$error":"#DIV/0!"}}," ",3882,"Marcus Mariota",{"$f":"IF(AQ66<>0,VLOOKUP(AQ66,Info!A:B,2,FALSE),\"\")","v":"TEN"},"marim",18.375,228.375,1.75,0.625,23.8125,0.125,0.3125,0,0,0,null,3882,"Marcus Mariota","Tennessee Titans","marim",16,294,3654,28,10,381,2,5]
[{"$f":"IF(Z67<>0,Z67,\"\")","v":2274},{"$f":"IF(A67<>0,VLOOKUP(A67,Z:AA,2,FALSE),\"\")","v":"Matt Cassel"},{"$f":"IF(A67<>0,VLOOKUP(A67,Z:AB,3,FALSE))","v":"TEN"},{"$f":"HYPERLINK(\"http://www.jockstocks.com/buysell.php?action=buymax&plid=\"&A67,\"Buy\")","v":"Buy"},null,null,null,null,null,null,null,null,null,null,0,0,0,0,0,0,0,{"$error":"#DIV/0!"},{"$error":"#DIV/0!"},{"$error":"#DIV/0!"}," ",{"$f":"IF(AO67<>0,AO67,\"\")","v":2274},{"$f":"IF(AP67<>0,VLOOKUP(Z67,AO:AP,2,FALSE),\"\")","v":"Matt Cassel"},{"$f":"IF(AQ67<>0,VLOOKUP(AQ67,Info!A:B,2,FALSE),\"\")","v":"TEN"},{"$f":"IF(AO67<>0,VLOOKUP(Z67,AO:AR,4,FALSE),\"\")","v":"casma"},{"$f":"IF($AO67<>0,AT67/$AS67,\"\")","v":14.875},{"$f":"IF($AO67<>0,AU67/$AS67,\"\")","v":159.375},{"$f":"IF($AO67<>0,AV67/$AS67,\"\")","v":0.625},{"$f":"IF($AO67<>0,AW67/$AS67,\"\")","v":0.875},{"$f":"IF($AO67<>0,AX67/$AS67,\"\")","v":9.75},{"$f":"IF($AO67<>0,AY67/$AS67,\"\")","v":0.125},{"$f":"IF($AO67<>0,AZ67/$AS67,\"\")","v":0.125},{"$f":"IF($AO67<>0,BA67/$AS67,\"\")","v":0},{"$f":"IF($AO67<>0,BB67/$AS67,\"\")","v":0},{"$f":"IF($AO67<>0,BC67/$AS67,\"\")","v":0},null,2274,"Matt Cassel","Tennessee Titans","casma",16,238,2550,10,14,156,2,2]
[2723,"Colt McCoy","WAS","Buy",null,null,null,null,null,null,null,null,null,null,0,0,0,0,0,0,0,{"$error":"#DIV/0!"},{"$error":"#DIV/0!"},{"$error":"#DIV/0!"}," ",2723,"Colt McCoy",{"$f":"IF(AQ68<>0,VLOOKUP(AQ68,Info!A:B,2,FALSE),\"\")","v":"WAS"},"mccco",18.1875,211.375,0.8125,0.625,13.1875,0.1875,0.1875,0,0,0,null,2723,"Colt McCoy","Washington Redskins","mccco",16,291,3382,13,10,211,3,3]
[3640,"Kirk Cousins","WAS","Buy",null,null,null,null,null,null,null,null,null,null,0,0,0,0,0,0,0,{"$error":"#DIV/0!"},{"$error":"#DIV/0!"},{"$error":"#DIV/0!"}," ",3640,"Kirk Cousins",{"$f":"IF(AQ69<>0,VLOOKUP(AQ69,Info!A:B,2,FALSE),\"\")","v":"WAS"},"couki",25.375,250,1.5625,0.75,6.25,0.25,0.1875,0,0,0,null,3640,"Kirk Cousins","Washington Redskins","couki",16,406,4000,25,12,100,4,3]
["","","","Buy",null,null,null,null,null,null,null,null,null,null,{"$error":"#VALUE!"},{"$error":"#VALUE!"},{"$error":"#VALUE!"},{"$error":"#VALUE!"},{"$error":"#VALUE!"},{"$error":"#VALUE!"},{"$error":"#VALUE!"},{"$error":"#VALUE!"},{"$error":"#VALUE!"},{"$error":"#VALUE!"}," ","","",{"$f":"IF(AQ70<>0,VLOOKUP(AQ70,Info!A:B,2,FALSE),\"\")","v":""},"","","","","","","","","","",""]
["","","","Buy",null,null,null,null,null,null,null,null,null,null,{"$error":"#VALUE!"},{"$error":"#VALUE!"},{"$error":"#VALUE!"},{"$error":"#VALUE!"},{"$error":"#VALUE!"},{"$error":"#VALUE!"},{"$error":"#VALUE!"},{"$error":"#VALUE!"},{"$error":"#VALUE!"},{"$error":"#VALUE!"}," ","","",{"$f":"IF(AQ71<>0,VLOOKUP(AQ71,Info!A:B,2,FALSE),\"\")","v":""},"","","","","","","","","","",""]
[{"$f":"IF(Z72<>0,Z72,\"\")","v":""},{"$f":"IF(A72<>0,VLOOKUP(A72,Z:AA,2,FALSE),\"\")","v":""},{"$f":"IF(A72<>0,VLOOKUP(A72,Z:AB,3,FALSE))","v":""},{"$f":"HYPERLINK(\"http://www.jockstocks.com/buysell.php?action=buymax&plid=\"&A72,\"Buy\")","v":"Buy"},null,null,null,null,null,null,null,null,null,null,{"$f":"VLOOKUP($A72,$A:$N,5,FALSE)/VLOOKUP($A72,$Z:$AM,5,FALSE)","v":{"$error":"#VALUE!"}},{"$f":"VLOOKUP($A72,$A:$N,6,FALSE)/VLOOKUP($A72,$Z:$AM,6,FALSE)","v":{"$error":"#VALUE!"}},{"$f":"VLOOKUP($A72,$A:$N,7,FALSE)/VLOOKUP($A72,$Z:$AM,7,FALSE)","v":{"$error":"#VALUE!"}},{"$f":"VLOOKUP($A72,$A:$N,8,FALSE)/VLOOKUP($A72,$Z:$AM,8,FALSE)","v":{"$error":"#VALUE!"}},{"$f":"VLOOKUP($A72,$A:$N,9,FALSE)/VLOOKUP($A72,$Z:$AM,9,FALSE)","v":{"$error":"#VALUE!"}},{"$f":"VLOOKUP($A72,$A:$N,10,FALSE)/VLOOKUP($A72,$Z:$AM,10,FALSE)","v":{"$error":"#VALUE!"}},{"$f":"VLOOKUP($A72,$A:$N,11,FALSE)/VLOOKUP($A72,$Z:$AM,11,FALSE)","v":{"$error":"#VALUE!"}},{"$f":"VLOOKUP($A72,$A:$N,12,FALSE)/VLOOKUP($A72,$Z:$AM,12,FALSE)","v":{"$error":"#VALUE!"}},{"$f":"VLOOKUP($A72,$A:$N,13,FALSE)/VLOOKUP($A72,$Z:$AM,13,FALSE)","v":{"$error":"#VALUE!"}},{"$f":"VLOOKUP($A72,$A:$N,14,FALSE)/VLOOKUP($A72,$Z:$AM,14,FALSE)","v":{"$error":"#VALUE!"}}," ",{"$f":"IF(AO78<>0,AO78,\"\")","v":""},{"$f":"IF(AP78<>0,VLOOKUP(Z72,AO:AP,2,FALSE),\"\")","v":""},{"$f":"IF(AQ78<>0,VLOOKUP(AQ78,Info!A:B,2,FALSE),\"\")","v":""},{"$f":"IF(AO78<>0,VLOOKUP(Z72,AO:AR,4,FALSE),\"\")","v":""},{"$f":"IF($AO78<>0,AT78/$AS78,\"\")","v":""},"","","","","","",{"$f":"IF($AO78<>0,BA72/$AS78,\"\")","v":""},"",""]
["","","","Buy",null,null,null,null,null,null,null,null,null,null,{"$error":"#VALUE!"},{"$error":"#VALUE!"},{"$error":"#VALUE!"},{"$error":"#VALUE!"},{"$error":"#VALUE!"},{"$error":"#VALUE!"},{"$error":"#VALUE!"},{"$error":"#VALUE!"},{"$error":"#VALUE!"},{"$error":"#VALUE!"}," ",{"$f":"IF(AO79<>0,AO79,\"\")","v":""},{"$f":"IF(AP79<>0,VLOOKUP(Z73,AO:AP,2,FALSE),\"\")","v":""},{"$f":"IF(AQ79<>0,VLOOKUP(AQ79,Info!A:B,2,FALSE),\"\")","v":""},{"$f":"IF(AO79<>0,VLOOKUP(Z73,AO:AR,4,FALSE),\"\")","v":""},"","","","","","","","","",""]
["","","","Buy",null,null,null,null,null,null,null,null,null,null,{"$error":"#VALUE!"},{"$error":"#VALUE!"},{"$error":"#VALUE!"},{"$error":"#VALUE!"},{"$error":"#VALUE!"},{"$error":"#VALUE!"},{"$error":"#VALUE!"},{"$error":"#VALUE!"},{"$error":"#VALUE!"},{"$error":"#VALUE!"}," ",{"$f":"IF(AO73<>0,AO73,\"\")","v":""},{"$f":"IF(AP73<>0,VLOOKUP(Z74,AO:AP,2,FALSE),\"\")","v":""},{"$f":"IF(AQ73<>0,VLOOKUP(AQ73,Info!A:B,2,FALSE),\"\")","v":""},{"$f":"IF(AO73<>0,VLOOKUP(Z74,AO:AR,4,FALSE),\"\")","v":""},{"$f":"IF($AO73<>0,AT73/$AS73,\"\")","v":""},"","","","","","",{"$f":"IF($AO73<>0,BA74/$AS73,\"\")","v":""},"",""]
["","","","Buy",null,null,null,null,null,null,null,null,null,null,{"$error":"#VALUE!"},{"$error":"#VALUE!"},{"$error":"#VALUE!"},{"$error":"#VALUE!"},{"$error":"#VALUE!"},{"$error":"#VALUE!"},{"$error":"#VALUE!"},{"$error":"#VALUE!"},{"$error":"#VALUE!"},{"$error":"#VALUE!"}," ","","",{"$f":"IF(AQ74<>0,VLOOKUP(AQ74,Info!A:B,2,FALSE),\"\")","v":""},"","","","","","","","","","",""]
["","","","Buy",null,null,null,null,null,null,null,null,null,null,{"$error":"#VALUE!"},{"$error":"#VALUE!"},{"$error":"#VALUE!"},{"$error":"#VALUE!"},{"$error":"#VALUE!"},{"$error":"#VALUE!"},{"$error":"#VALUE!"},{"$error":"#VALUE!"},{"$error":"#VALUE!"},{"$error":"#VALUE!"}," ","","",{"$f":"IF(AQ75<>0,VLOOKUP(AQ75,Info!A:B,2,FALSE),\"\")","v":""},"","","","","","","","","","",""]
["","","","Buy",null,null,null,null,null,null,null,null,null,null,{"$error":"#VALUE!"},{"$error":"#VALUE!"},{"$error":"#VALUE!"},{"$error":"#VALUE!"},{"$error":"#VALUE!"},{"$error":"#VALUE!"},{"$error":"#VALUE!"},{"$error":"#VALUE!"},{"$error":"#VALUE!"},{"$error":"#VALUE!"}," ","","",{"$f":"IF(AQ76<>0,VLOOKUP(AQ76,Info!A:B,2,FALSE),\"\")","v":""},"","","","","","","","","","",""]
["","","","Buy",null,null,null,null,null,null,null,null,null,null,{"$error":"#VALUE!"},{"$error":"#VALUE!"},{"$error":"#VALUE!"},{"$error":"#VALUE!"},{"$error":"#VALUE!"},{"$error":"#VALUE!"},{"$error":"#VALUE!"},{"$error":"#VALUE!"},{"$error":"#VALUE!"},{"$error":"#VALUE!"}," ","","",{"$f":"IF(AQ77<>0,VLOOKUP(AQ77,Info!A:B,2,FALSE),\"\")","v":""},"","","","","","","","","","",""]
["","","","Buy",null,null,null,null,null,null,null,null,null,null,{"$error":"#VALUE!"},{"$error":"#VALUE!"},{"$error":"#VALUE!"},{"$error":"#VALUE!"},{"$error":"#VALUE!"},{"$error":"#VALUE!"},{"$error":"#VALUE!"},{"$error":"#VALUE!"},{"$error":"#VALUE!"},{"$error":"#VALUE!"}," ","","",{"$f":"IF(AQ78<>0,VLOOKUP(AQ78,Info!A:B,2,FALSE),\"\")","v":""},"","","","","","","","","","",""]
["","","","Buy",null,null,null,null,null,null,null,null,null,null,{"$error":"#VALUE!"},{"$error":"#VALUE!"},{"$error":"#VALUE!"},{"$error":"#VALUE!"},{"$error":"#VALUE!"},{"$error":"#VALUE!"},{"$error":"#VALUE!"},{"$error":"#VALUE!"},{"$error":"#VALUE!"},{"$error":"#VALUE!"}," ","","",{"$f":"IF(AQ79<>0,VLOOKUP(AQ79,Info!A:B,2,FALSE),\"\")","v":""},"","","","","","","","","","",""]

{"sheet":"NFLB","index":8,"n_rows":100,"n_cols":51,"rows_kept":100,"cut":false,"hidden":false,"merged":[]}
["plid","Name","Team",null,"RushYds","RushTDs","Catches","RecYds","RecTDs","Fumbles",null,null,null,null,"RushYds","RushTDs","Catches","RecYds","RecTDs","Fumbles",null,null,null,null,null,{"$f":"IF(AO1<>0,AO1,\"\")","v":"ID"},{"$f":"IF(AP1<>0,AP1,\"\")","v":"Name"},{"$f":"IF(AQ1<>0,AQ1,\"\")","v":"Team"},{"$f":"IF(AR1<>0,AR1,\"\")","v":"Symbol"},{"$f":"IF(AT1<>0,AT1,\"\")","v":"Yds Rushing"},{"$f":"IF(AU1<>0,AU1,\"\")","v":"TDs Rushing"},"Receptions","Yds Receiving","TDs Received","Fumbles Lost","","","","",null,"ID","Name","Team","Symbol","Games","Yds Rushing","TDs Rushing","Receptions","Yds Receiving","TDs Received","Fumbles Lost"]
[{"$f":"IF(Z2<>0,Z2,\"\")","v":2022},{"$f":"IF(A2<>0,VLOOKUP(A2,Z:AA,2,FALSE),\"\")","v":"Adrian Peterson"},{"$f":"IF(A2<>0,VLOOKUP(A2,Z:AB,3,FALSE))","v":"ARI"},{"$f":"HYPERLINK(\"http://www.jockstocks.com/buysell.php?action=buymax&plid=\"&A2,\"Buy\")","v":"Buy"},null,null,null,null,null,null,null,null,null,null,{"$f":"VLOOKUP($A2,$A:$N,5,FALSE)/VLOOKUP($A2,$Z:$AM,5,FALSE)","v":0},{"$f":"VLOOKUP($A2,$A:$N,6,FALSE)/VLOOKUP($A2,$Z:$AM,6,FALSE)","v":0},{"$f":"VLOOKUP($A2,$A:$N,7,FALSE)/VLOOKUP($A2,$Z:$AM,7,FALSE)","v":0},{"$f":"VLOOKUP($A2,$A:$N,8,FALSE)/VLOOKUP($A2,$Z:$AM,8,FALSE)","v":0},{"$f":"VLOOKUP($A2,$A:$N,9,FALSE)/VLOOKUP($A2,$Z:$AM,9,FALSE)","v":0},{"$f":"VLOOKUP($A2,$A:$N,10,FALSE)/VLOOKUP($A2,$Z:$AM,10,FALSE)","v":0},{"$f":"VLOOKUP($A2,$A:$N,11,FALSE)/VLOOKUP($A2,$Z:$AM,11,FALSE)","v":{"$error":"#DIV/0!"}},{"$f":"VLOOKUP($A2,$A:$N,12,FALSE)/VLOOKUP($A2,$Z:$AM,12,FALSE)","v":{"$error":"#DIV/0!"}},{"$f":"VLOOKUP($A2,$A:$N,13,FALSE)/VLOOKUP($A2,$Z:$AM,13,FALSE)","v":{"$error":"#DIV/0!"}},{"$f":"VLOOKUP($A2,$A:$N,14,FALSE)/VLOOKUP($A2,$Z:$AM,14,FALSE)","v":{"$error":"#DIV/0!"}}," ",{"$f":"IF(AO2<>0,AO2,\"\")","v":2022},{"$f":"IF(AP2<>0,VLOOKUP(Z2,AO:AP,2,FALSE),\"\")","v":"Adrian Peterson"},{"$f":"IF(AQ2<>0,VLOOKUP(AQ2,Info!A:B,2,FALSE),\"\")","v":"ARI"},{"$f":"IF(AO2<>0,VLOOKUP(Z2,AO:AR,4,FALSE),\"\")","v":"petad"},{"$f":"IF($AO2<>0,AT2/$AS2,\"\")","v":95.875},0.75,1.6875,15.375,0.125,0.25,0,0,0,0,null,2022,"Adrian Peterson","Arizona Cardinals","petad",16,1534,12,27,246,2,4]
[{"$f":"IF(Z3<>0,Z3,\"\")","v":2279},{"$f":"IF(A3<>0,VLOOKUP(A3,Z:AA,2,FALSE),\"\")","v":"Chris Johnson"},{"$f":"IF(A3<>0,VLOOKUP(A3,Z:AB,3,FALSE))","v":"ARI"},{"$f":"HYPERLINK(\"http://www.jockstocks.com/buysell.php?action=buymax&plid=\"&A3,\"Buy\")","v":"Buy"},null,null,null,null,null,null,null,null,null,null,0,0,0,0,0,0,{"$error":"#DIV/0!"},{"$error":"#DIV/0!"},{"$error":"#DIV/0!"},{"$error":"#DIV/0!"}," ",{"$f":"IF(AO3<>0,AO3,\"\")","v":2279},{"$f":"IF(AP3<>0,VLOOKUP(Z3,AO:AP,2,FALSE),\"\")","v":"Chris Johnson"},{"$f":"IF(AQ3<>0,VLOOKUP(AQ3,Info!A:B,2,FALSE),\"\")","v":"ARI"},{"$f":"IF(AO3<>0,VLOOKUP(Z3,AO:AR,4,FALSE),\"\")","v":"johch"},{"$f":"IF($AO3<>0,AT3/$AS3,\"\")","v":66.5625},{"$f":"IF($AO3<>0,AU3/$AS3,\"\")","v":0.3125},{"$f":"IF($AO3<>0,AV3/$AS3,\"\")","v":0.625},{"$f":"IF($AO3<>0,AW3/$AS3,\"\")","v":6.25},{"$f":"IF($AO3<>0,AX3/$AS3,\"\")","v":0.125},{"$f":"IF($AO3<>0,AY3/$AS3,\"\")","v":0.3125},{"$f":"IF($AO3<>0,AZ3/$AS3,\"\")","v":0},{"$f":"IF($AO3<>0,BA3/$AS3,\"\")","v":0},{"$f":"IF($AO3<>0,BB3/$AS3,\"\")","v":0},{"$f":"IF($AO3<>0,BC3/$AS3,\"\")","v":0},null,2279,"Chris Johnson","Arizona Cardinals","johch",16,1065,5,10,100,2,5]
[3947,"David Johnson","ARI","Buy",null,null,null,null,null,null,null,null,null,null,0,0,0,0,0,0,{"$error":"#DIV/0!"},{"$error":"#DIV/0!"},{"$error":"#DIV/0!"},{"$error":"#DIV/0!"}," ",3947,"David Johnson",{"$f":"IF(AQ4<>0,VLOOKUP(AQ4,Info!A:B,2,FALSE),\"\")","v":"ARI"},"johda",77.4375,1,4.6875,37.5,0.25,0.1875,0,0,0,0,null,3947,"David Johnson","Arizona Cardinals","johda",16,1239,16,75,600,4,3]
[3938,"Devonta Freeman","ATL","Buy",null,null,null,null,null,null,null,null,null,null,0,0,0,0,0,0,{"$error":"#DIV/0!"},{"$error":"#DIV/0!"},{"$error":"#DIV/0!"},{"$error":"#DIV/0!"}," ",3938,"Devonta Freeman",{"$f":"IF(AQ5<>0,VLOOKUP(AQ5,Info!A:B,2,FALSE),\"\")","v":"ATL"},"frede",67.4375,0.6875,3.375,28.875,0.125,0.125,0,0,0,0,null,3938,"Devonta Freeman","Atlanta Falcons","frede",16,1079,11,54,462,2,2]
[3890,"Tevin Coleman","ATL","Buy",null,null,null,null,null,null,null,null,null,null,0,0,0,0,0,0,{"$error":"#DIV/0!"},{"$error":"#DIV/0!"},{"$error":"#DIV/0!"},{"$error":"#DIV/0!"}," ",3890,"Tevin Coleman",{"$f":"IF(AQ6<>0,VLOOKUP(AQ6,Info!A:B,2,FALSE),\"\")","v":"ATL"},"colte",40,0.625,2.375,32.375,0.25,0.125,0,0,0,0,null,3890,"Tevin Coleman","Atlanta Falcons","colte",16,640,10,38,518,4,2]
[4252,"Alex Collins","BAL","Buy",null,null,null,null,null,null,null,null,null,null,0,0,0,0,0,0,{"$error":"#DIV/0!"},{"$error":"#DIV/0!"},{"$error":"#DIV/0!"},{"$error":"#DIV/0!"}," ",4252,"Alex Collins",{"$f":"IF(AQ7<>0,VLOOKUP(AQ7,Info!A:B,2,FALSE),\"\")","v":"BAL"},"coale",62.5,0.125,1.25,6.25,0.125,0.25,0,0,0,0,null,4252,"Alex Collins","Baltimore Ravens","coale",16,1000,2,20,100,2,4]
[3348,"Danny Woodhead","BAL","Buy",null,null,null,null,null,null,null,null,null,null,0,0,0,0,0,0,{"$error":"#DIV/0!"},{"$error":"#DIV/0!"},{"$error":"#DIV/0!"},{"$error":"#DIV/0!"}," ",3348,"Danny Woodhead",{"$f":"IF(AQ8<>0,VLOOKUP(AQ8,Info!A:B,2,FALSE),\"\")","v":"BAL"},"wooda",31.25,0.25,4.6875,37.5,0.3125,0.125,0,0,0,0,null,3348,"Danny Woodhead","Baltimore Ravens","wooda",16,500,4,75,600,5,2]
[3599,"Terrance West","BAL","Buy",null,null,null,null,null,null,null,null,null,null,0,0,0,0,0,0,{"$error":"#DIV/0!"},{"$error":"#DIV/0!"},{"$error":"#DIV/0!"},{"$error":"#DIV/0!"}," ",3599,"Terrance West",{"$f":"IF(AQ9<>0,VLOOKUP(AQ9,Info!A:B,2,FALSE),\"\")","v":"BAL"},"weste",48.375,0.3125,2.125,14.75,0.125,0.125,0,0,0,0,null,3599,"Terrance West","Baltimore Ravens","weste",16,774,5,34,236,2,2]
[2504,"LeSean McCoy","BUF","Buy",null,null,null,null,null,null,null,null,null,null,0,0,0,0,0,0,{"$error":"#DIV/0!"},{"$error":"#DIV/0!"},{"$error":"#DIV/0!"},{"$error":"#DIV/0!"}," ",2504,"LeSean McCoy",{"$f":"IF(AQ10<>0,VLOOKUP(AQ10,Info!A:B,2,FALSE),\"\")","v":"BUF"},"mccol",84.4375,0.875,3.375,23.75,0.125,0.125,0,0,0,0,null,2504,"LeSean McCoy","Buffalo Bills","mccol",16,1351,14,54,380,2,2]
[2727,"Mike Tolbert","BUF","Buy",null,null,null,null,null,null,null,null,null,null,0,0,0,0,0,0,{"$error":"#DIV/0!"},{"$error":"#DIV/0!"},{"$error":"#DIV/0!"},{"$error":"#DIV/0!"}," ",2727,"Mike Tolbert",{"$f":"IF(AQ11<>0,VLOOKUP(AQ11,Info!A:B,2,FALSE),\"\")","v":"BUF"},"tolmi",31.25,0.125,0.625,6.25,0.125,0.125,0,0,0,0,null,2727,"Mike Tolbert","Buffalo Bills","tolmi",16,500,2,10,100,2,2]
[4212,"Christian McCaffrey","CAR","Buy",null,null,null,null,null,null,null,null,null,null,0,0,0,0,0,0,{"$error":"#DIV/0!"},{"$error":"#DIV/0!"},{"$error":"#DIV/0!"},{"$error":"#DIV/0!"}," ",4212,"Christian McCaffrey",{"$f":"IF(AQ12<>0,VLOOKUP(AQ12,Info!A:B,2,FALSE),\"\")","v":"CAR"},"mccch",37.5,0.1875,3.75,37.5,0.1875,0.25,0,0,0,0,null,4212,"Christian McCaffrey","Carolina Panthers","mccch",16,600,3,60,600,3,4]
[2247,"Jonathan Stewart","CAR","Buy",null,null,null,null,null,null,null,null,null,null,0,0,0,0,0,0,{"$error":"#DIV/0!"},{"$error":"#DIV/0!"},{"$error":"#DIV/0!"},{"$error":"#DIV/0!"}," ",2247,"Jonathan Stewart",{"$f":"IF(AQ13<>0,VLOOKUP(AQ13,Info!A:B,2,FALSE),\"\")","v":"CAR"},"stejo",63.375,0.6875,0.625,6.25,0.125,0.125,0,0,0,0,null,2247,"Jonathan Stewart","Carolina Panthers","stejo",16,1014,11,10,100,2,2]
[3394,"Joique Bell","CHI","Buy",null,null,null,null,null,null,null,null,null,null,0,0,0,0,0,0,{"$error":"#DIV/0!"},{"$error":"#DIV/0!"},{"$error":"#DIV/0!"},{"$error":"#DIV/0!"}," ",3394,"Joique Bell",{"$f":"IF(AQ14<>0,VLOOKUP(AQ14,Info!A:B,2,FALSE),\"\")","v":"CHI"},"beljo",31.25,0.125,0.625,6.25,0.125,0.125,0,0,0,0,null,3394,"Joique Bell","Chicago Bears","beljo",16,500,2,10,100,2,2]
[4100,"Jordan Howard","CHI","Buy",null,null,null,null,null,null,null,null,null,null,0,0,0,0,0,0,{"$error":"#DIV/0!"},{"$error":"#DIV/0!"},{"$error":"#DIV/0!"},{"$error":"#DIV/0!"}," ",4100,"Jordan Howard",{"$f":"IF(AQ15<>0,VLOOKUP(AQ15,Info!A:B,2,FALSE),\"\")","v":"CHI"},"howjo",87.5625,0.375,1.9375,19.875,0.125,0.125,0,0,0,0,null,4100,"Jordan Howard","Chicago Bears","howjo",16,1401,6,31,318,2,2]
[3344,"Giovani Bernard","CIN","Buy",null,null,null,null,null,null,null,null,null,null,0,0,0,0,0,0,{"$error":"#DIV/0!"},{"$error":"#DIV/0!"},{"$error":"#DIV/0!"},{"$error":"#DIV/0!"}," ",3344,"Giovani Bernard",{"$f":"IF(AQ16<>0,VLOOKUP(AQ16,Info!A:B,2,FALSE),\"\")","v":"CIN"},"bergi",33.6875,0.1875,3.875,33.625,0.125,0.125,0,0,0,0,null,3344,"Giovani Bernard","Cincinnati Bengals","bergi",16,539,3,62,538,2,2]
[3632,"Jeremy Hill","CIN","Buy",null,null,null,null,null,null,null,null,null,null,0,0,0,0,0,0,{"$error":"#DIV/0!"},{"$error":"#DIV/0!"},{"$error":"#DIV/0!"},{"$error":"#DIV/0!"}," ",3632,"Jeremy Hill",{"$f":"IF(AQ17<>0,VLOOKUP(AQ17,Info!A:B,2,FALSE),\"\")","v":"CIN"},"hilje",55.9375,0.625,1.375,11.625,0.125,0.125,0,0,0,0,null,3632,"Jeremy Hill","Cincinnati Bengals","hilje",16,895,10,22,186,2,2]
[4054,"Duke Johnson Jr","CLE","Buy",null,null,null,null,null,null,null,null,null,null,0,0,0,0,0,0,{"$error":"#DIV/0!"},{"$error":"#DIV/0!"},{"$error":"#DIV/0!"},{"$error":"#DIV/0!"}," ",4054,"Duke Johnson Jr",{"$f":"IF(AQ18<>0,VLOOKUP(AQ18,Info!A:B,2,FALSE),\"\")","v":"CLE"},"joduk",31.25,0.125,3.3125,32.75,0.125,0.125,0,0,0,0,null,4054,"Duke Johnson Jr","Cleveland Browns","joduk",16,500,2,53,524,2,2]
[3651,"Isaiah Crowell","CLE","Buy",null,null,null,null,null,null,null,null,null,null,0,0,0,0,0,0,{"$error":"#DIV/0!"},{"$error":"#DIV/0!"},{"$error":"#DIV/0!"},{"$error":"#DIV/0!"}," ",3651,"Isaiah Crowell",{"$f":"IF(AQ19<>0,VLOOKUP(AQ19,Info!A:B,2,FALSE),\"\")","v":"CLE"},"crois",59,0.4375,2.5,19.9375,0.125,0.125,0,0,0,0,null,3651,"Isaiah Crowell","Cleveland Browns","crois",16,944,7,40,319,2,2]
[3147,"Alfred Morris","DAL","Buy",null,null,null,null,null,null,null,null,null,null,0,0,0,0,0,0,{"$error":"#DIV/0!"},{"$error":"#DIV/0!"},{"$error":"#DIV/0!"},{"$error":"#DIV/0!"}," ",3147,"Alfred Morris",{"$f":"IF(AQ20<>0,VLOOKUP(AQ20,Info!A:B,2,FALSE),\"\")","v":"DAL"},"moral",31.25,0.125,0.625,6.25,0.125,0.125,0,0,0,0,null,3147,"Alfred Morris","Dallas Cowboys","moral",16,500,2,10,100,2,2]
[2242,"Darren McFadden","DAL","Buy",null,null,null,null,null,null,null,null,null,null,0,0,0,0,0,0,{"$error":"#DIV/0!"},{"$error":"#DIV/0!"},{"$error":"#DIV/0!"},{"$error":"#DIV/0!"}," ",2242,"Darren McFadden",{"$f":"IF(AQ21<>0,VLOOKUP(AQ21,Info!A:B,2,FALSE),\"\")","v":"DAL"},"mcfda",68.4375,0.125,2.25,19.6875,0.125,0.125,0,0,0,0,null,2242,"Darren McFadden","Dallas Cowboys","mcfda",16,1095,2,36,315,2,2]
[4065,"Ezekiel Elliott","DAL","Buy",null,null,null,null,null,null,null,null,null,null,0,0,0,0,0,0,{"$error":"#DIV/0!"},{"$error":"#DIV/0!"},{"$error":"#DIV/0!"},{"$error":"#DIV/0!"}," ",4065,"Ezekiel Elliott",{"$f":"IF(AQ22<>0,VLOOKUP(AQ22,Info!A:B,2,FALSE),\"\")","v":"DAL"},"ellez",108.75,1,2.125,24.1875,0.125,0.125,0,0,0,0,null,4065,"Ezekiel Elliott","Dallas Cowboys","ellez",16,1740,16,34,387,2,2]
[3713,"C.J. Anderson","DEN","Buy",null,null,null,null,null,null,null,null,null,null,0,0,0,0,0,0,{"$error":"#DIV/0!"},{"$error":"#DIV/0!"},{"$error":"#DIV/0!"},{"$error":"#DIV/0!"}," ",3713,"C.J. Anderson",{"$f":"IF(AQ23<>0,VLOOKUP(AQ23,Info!A:B,2,FALSE),\"\")","v":"DEN"},"andcj",62.4375,0.5625,2.3125,18.3125,0.125,0.125,0,0,0,0,null,3713,"C.J. Anderson","Denver Broncos","andcj",16,999,9,37,293,2,2]
[4104,"Devontae Booker","DEN","Buy",null,null,null,null,null,null,null,null,null,null,0,0,0,0,0,0,{"$error":"#DIV/0!"},{"$error":"#DIV/0!"},{"$error":"#DIV/0!"},{"$error":"#DIV/0!"}," ",4104,"Devontae Booker",{"$f":"IF(AQ24<>0,VLOOKUP(AQ24,Info!A:B,2,FALSE),\"\")","v":"DEN"},"boode",38.25,0.25,1.9375,16.5625,0.125,0.1875,0,0,0,0,null,4104,"Devontae Booker","Denver Broncos","boode",16,612,4,31,265,2,3]
[2557,"Jamaal Charles","DEN","Buy",null,null,null,null,null,null,null,null,null,null,0,0,0,0,0,0,{"$error":"#DIV/0!"},{"$error":"#DIV/0!"},{"$error":"#DIV/0!"},{"$error":"#DIV/0!"}," ",2557,"Jamaal Charles",{"$f":"IF(AQ25<>0,VLOOKUP(AQ25,Info!A:B,2,FALSE),\"\")","v":"DEN"},"chaja",69.25,0.625,2.6875,19.375,0.3125,0.125,0,0,0,0,null,2557,"Jamaal Charles","Denver Broncos","chaja",16,1108,10,43,310,5,2]
[3888,"Ameer Abdullah","DET","Buy",null,null,null,null,null,null,null,null,null,null,0,0,0,0,0,0,{"$error":"#DIV/0!"},{"$error":"#DIV/0!"},{"$error":"#DIV/0!"},{"$error":"#DIV/0!"}," ",3888,"Ameer Abdullah",{"$f":"IF(AQ26<>0,VLOOKUP(AQ26,Info!A:B,2,FALSE),\"\")","v":"DET"},"abdam",38.0625,0.1875,1.5625,11.8125,0.125,0.125,0,0,0,0,null,3888,"Ameer Abdullah","Detroit Lions","abdam",16,609,3,25,189,2,2]
[4122,"Zach Zenner","DET","Buy",null,null,null,null,null,null,null,null,null,null,0,0,0,0,0,0,{"$error":"#DIV/0!"},{"$error":"#DIV/0!"},{"$error":"#DIV/0!"},{"$error":"#DIV/0!"}," ",4122,"Zach Zenner",{"$f":"IF(AQ27<>0,VLOOKUP(AQ27,Info!A:B,2,FALSE),\"\")","v":"DET"},"zenza",31.25,0.3125,1.3125,14,0.125,0.125,0,0,0,0,null,4122,"Zach Zenner","Detroit Lions","zenza",16,500,5,21,224,2,2]
[3412,"Andre Ellington","XXX","Buy",null,null,null,null,null,null,null,null,null,null,0,0,0,0,0,0,{"$error":"#DIV/0!"},{"$error":"#DIV/0!"},{"$error":"#DIV/0!"},{"$error":"#DIV/0!"}," ",3412,"Andre Ellington",{"$f":"IF(AQ28<>0,VLOOKUP(AQ28,Info!A:B,2,FALSE),\"\")","v":"XXX"},"ellan",31.25,0.125,0.75,6.25,0.125,0.125,0,0,0,0,null,3412,"Andre Ellington","FA/RET/DEC/HON","ellan",16,500,2,12,100,2,2]
[2694,"Arian Foster","XXX","Buy",null,null,null,null,null,null,null,null,null,null,0,0,0,0,0,0,{"$error":"#DIV/0!"},{"$error":"#DIV/0!"},{"$error":"#DIV/0!"},{"$error":"#DIV/0!"}," ",2694,"Arian Foster",{"$f":"IF(AQ29<>0,VLOOKUP(AQ29,Info!A:B,2,FALSE),\"\")","v":"XXX"},"fosar",95.875,0.625,2.9375,25.125,0.375,0.125,0,0,0,0,null,2694,"Arian Foster","FA/RET/DEC/HON","fosar",16,1534,10,47,402,6,2]
[3408,"Bobby Rainey","XXX","Buy",null,null,null,null,null,null,null,null,null,null,0,0,0,0,0,0,{"$error":"#DIV/0!"},{"$error":"#DIV/0!"},{"$error":"#DIV/0!"},{"$error":"#DIV/0!"}," ",3408,"Bobby Rainey",{"$f":"IF(AQ30<>0,VLOOKUP(AQ30,Info!A:B,2,FALSE),\"\")","v":"XXX"},"raibo",31.25,0.125,1.3125,10.1875,0.125,0.125,0,0,0,0,null,3408,"Bobby Rainey","FA/RET/DEC/HON","raibo",16,500,2,21,163,2,2]
[2248,"DeAngelo Williams","XXX","Buy",null,null,null,null,null,null,null,null,null,null,0,0,0,0,0,0,{"$error":"#DIV/0!"},{"$error":"#DIV/0!"},{"$error":"#DIV/0!"},{"$error":"#DIV/0!"}," ",2248,"DeAngelo Williams",{"$f":"IF(AQ31<>0,VLOOKUP(AQ31,Info!A:B,2,FALSE),\"\")","v":"XXX"},"widea",38.125,0.4375,2,13.125,0.25,0.125,0,0,0,0,null,2248,"DeAngelo Williams","FA/RET/DEC/HON","widea",16,610,7,32,210,4,2]
[3673,"Denard Robinson","XXX","Buy",null,null,null,null,null,null,null,null,null,null,0,0,0,0,0,0,{"$error":"#DIV/0!"},{"$error":"#DIV/0!"},{"$error":"#DIV/0!"},{"$error":"#DIV/0!"}," ",3673,"Denard Robinson",{"$f":"IF(AQ32<>0,VLOOKUP(AQ32,Info!A:B,2,FALSE),\"\")","v":"XXX"},"robde",31.25,0.125,0.625,6.25,0.125,0.125,0,0,0,0,null,3673,"Denard Robinson","FA/RET/DEC/HON","robde",16,500,2,10,100,2,2]
[2729,"Dexter McCluster","XXX","Buy",null,null,null,null,null,null,null,null,null,null,0,0,0,0,0,0,{"$error":"#DIV/0!"},{"$error":"#DIV/0!"},{"$error":"#DIV/0!"},{"$error":"#DIV/0!"}," ",2729,"Dexter McCluster",{"$f":"IF(AQ33<>0,VLOOKUP(AQ33,Info!A:B,2,FALSE),\"\")","v":"XXX"},"mccld",31.25,0.125,1.1875,6.25,0.125,0.125,0,0,0,0,null,2729,"Dexter McCluster","FA/RET/DEC/HON","mccld",16,500,2,19,100,2,2]
[2919,"James Starks","XXX","Buy",null,null,null,null,null,null,null,null,null,null,0,0,0,0,0,0,{"$error":"#DIV/0!"},{"$error":"#DIV/0!"},{"$error":"#DIV/0!"},{"$error":"#DIV/0!"}," ",2919,"James Starks",{"$f":"IF(AQ34<>0,VLOOKUP(AQ34,Info!A:B,2,FALSE),\"\")","v":"XXX"},"staja",31.25,0.125,2.125,14.875,0.25,0.125,0,0,0,0,null,2919,"James Starks","FA/RET/DEC/HON","staja",16,500,2,34,238,4,2]
[3945,"Jeremy Langford","XXX","Buy",null,null,null,null,null,null,null,null,null,null,0,0,0,0,0,0,{"$error":"#DIV/0!"},{"$error":"#DIV/0!"},{"$error":"#DIV/0!"},{"$error":"#DIV/0!"}," ",3945,"Jeremy Langford",{"$f":"IF(AQ35<>0,VLOOKUP(AQ35,Info!A:B,2,FALSE),\"\")","v":"XXX"},"lanje",31.25,0.3125,1.5625,11.8125,0.125,0.1875,0,0,0,0,null,3945,"Jeremy Langford","FA/RET/DEC/HON","lanje",16,500,5,25,189,2,3]
[2692,"Justin Forsett","XXX","Buy",null,null,null,null,null,null,null,null,null,null,0,0,0,0,0,0,{"$error":"#DIV/0!"},{"$error":"#DIV/0!"},{"$error":"#DIV/0!"},{"$error":"#DIV/0!"}," ",2692,"Justin Forsett",{"$f":"IF(AQ36<>0,VLOOKUP(AQ36,Info!A:B,2,FALSE),\"\")","v":"XXX"},"forju",32.3125,0.125,2.3125,9.4375,0.125,0.125,0,0,0,0,null,2692,"Justin Forsett","FA/RET/DEC/HON","forju",16,517,2,37,151,2,2]
[3631,"Khiry Robinson","XXX","Buy",null,null,null,null,null,null,null,null,null,null,0,0,0,0,0,0,{"$error":"#DIV/0!"},{"$error":"#DIV/0!"},{"$error":"#DIV/0!"},{"$error":"#DIV/0!"}," ",3631,"Khiry Robinson",{"$f":"IF(AQ37<>0,VLOOKUP(AQ37,Info!A:B,2,FALSE),\"\")","v":"XXX"},"robkh",40.25,0.3125,0.875,7,0.125,0.125,0,0,0,0,null,3631,"Khiry Robinson","FA/RET/DEC/HON","robkh",16,644,5,14,112,2,2]
[3630,"Knile Davis","XXX","Buy",null,null,null,null,null,null,null,null,null,null,0,0,0,0,0,0,{"$error":"#DIV/0!"},{"$error":"#DIV/0!"},{"$error":"#DIV/0!"},{"$error":"#DIV/0!"}," ",3630,"Knile Davis",{"$f":"IF(AQ38<>0,VLOOKUP(AQ38,Info!A:B,2,FALSE),\"\")","v":"XXX"},"davkn",31.25,0.125,0.625,6.25,0.125,0.125,0,0,0,0,null,3630,"Knile Davis","FA/RET/DEC/HON","davkn",16,500,2,10,100,2,2]
[3601,"Matt Asiata","XXX","Buy",null,null,null,null,null,null,null,null,null,null,0,0,0,0,0,0,{"$error":"#DIV/0!"},{"$error":"#DIV/0!"},{"$error":"#DIV/0!"},{"$error":"#DIV/0!"}," ",3601,"Matt Asiata",{"$f":"IF(AQ39<>0,VLOOKUP(AQ39,Info!A:B,2,FALSE),\"\")","v":"XXX"},"asima",31.25,0.375,2,16.4375,0.125,0.125,0,0,0,0,null,3601,"Matt Asiata","FA/RET/DEC/HON","asima",16,500,6,32,263,2,2]
[3162,"Rashad Jennings","XXX","Buy",null,null,null,null,null,null,null,null,null,null,0,0,0,0,0,0,{"$error":"#DIV/0!"},{"$error":"#DIV/0!"},{"$error":"#DIV/0!"},{"$error":"#DIV/0!"}," ",3162,"Rashad Jennings",{"$f":"IF(AQ40<>0,VLOOKUP(AQ40,Info!A:B,2,FALSE),\"\")","v":"XXX"},"jenra",45.625,0.25,2.6875,15.4375,0.125,0.125,0,0,0,0,null,3162,"Rashad Jennings","FA/RET/DEC/HON","jenra",16,730,4,43,247,2,2]
[1840,"Reggie Bush","XXX","Buy",null,null,null,null,null,null,null,null,null,null,0,0,0,0,0,0,{"$error":"#DIV/0!"},{"$error":"#DIV/0!"},{"$error":"#DIV/0!"},{"$error":"#DIV/0!"}," ",1840,"Reggie Bush",{"$f":"IF(AQ41<>0,VLOOKUP(AQ41,Info!A:B,2,FALSE),\"\")","v":"XXX"},"busre",31.25,0.125,0.625,6.9375,0.125,0.125,0,0,0,0,null,1840,"Reggie Bush","FA/RET/DEC/HON","busre",16,500,2,10,111,2,2]
[3940,"Ronnie Hillman","XXX","Buy",null,null,null,null,null,null,null,null,null,null,0,0,0,0,0,0,{"$error":"#DIV/0!"},{"$error":"#DIV/0!"},{"$error":"#DIV/0!"},{"$error":"#DIV/0!"}," ",3940,"Ronnie Hillman",{"$f":"IF(AQ42<>0,VLOOKUP(AQ42,Info!A:B,2,FALSE),\"\")","v":"XXX"},"hilro",31.25,0.125,0.875,11.625,0.125,0.125,0,0,0,0,null,3940,"Ronnie Hillman","FA/RET/DEC/HON","hilro",16,500,2,14,186,2,2]
[2690,"Ryan Mathews","XXX","Buy",null,null,null,null,null,null,null,null,null,null,0,0,0,0,0,0,{"$error":"#DIV/0!"},{"$error":"#DIV/0!"},{"$error":"#DIV/0!"},{"$error":"#DIV/0!"}," ",2690,"Ryan Mathews",{"$f":"IF(AQ43<>0,VLOOKUP(AQ43,Info!A:B,2,FALSE),\"\")","v":"XXX"},"matry",50.875,0.625,1,8.875,0.125,0.125,0,0,0,0,null,2690,"Ryan Mathews","FA/RET/DEC/HON","matry",16,814,10,16,142,2,2]
[3683,"Tre Mason","XXX","Buy",null,null,null,null,null,null,null,null,null,null,0,0,0,0,0,0,{"$error":"#DIV/0!"},{"$error":"#DIV/0!"},{"$error":"#DIV/0!"},{"$error":"#DIV/0!"}," ",3683,"Tre Mason",{"$f":"IF(AQ44<>0,VLOOKUP(AQ44,Info!A:B,2,FALSE),\"\")","v":"XXX"},"mastr",31.25,0.125,1.625,8,0.125,0.125,0,0,0,0,null,3683,"Tre Mason","FA/RET/DEC/HON","mastr",16,500,2,26,128,2,2]
[4123,"Ty Montgomery","GRB","Buy",null,null,null,null,null,null,null,null,null,null,0,0,0,0,0,0,{"$error":"#DIV/0!"},{"$error":"#DIV/0!"},{"$error":"#DIV/0!"},{"$error":"#DIV/0!"}," ",4123,"Ty Montgomery",{"$f":"IF(AQ45<>0,VLOOKUP(AQ45,Info!A:B,2,FALSE),\"\")","v":"GRB"},"monty",31.25,0.1875,2.9375,23.1875,0.125,0.125,0,0,0,0,null,4123,"Ty Montgomery","Green Bay Packers","monty",16,500,3,47,371,2,2]
[3941,"Alfred Blue","HOU","Buy",null,null,null,null,null,null,null,null,null,null,0,0,0,0,0,0,{"$error":"#DIV/0!"},{"$error":"#DIV/0!"},{"$error":"#DIV/0!"},{"$error":"#DIV/0!"}," ",3941,"Alfred Blue",{"$f":"IF(AQ46<>0,VLOOKUP(AQ46,Info!A:B,2,FALSE),\"\")","v":"HOU"},"blual",31.25,0.125,0.875,6.25,0.125,0.125,0,0,0,0,null,3941,"Alfred Blue","Houston Texans","blual",16,500,2,14,100,2,2]
[3325,"Daryl Richardson","HOU","Buy",null,null,null,null,null,null,null,null,null,null,0,0,0,0,0,0,{"$error":"#DIV/0!"},{"$error":"#DIV/0!"},{"$error":"#DIV/0!"},{"$error":"#DIV/0!"}," ",3325,"Daryl Richardson",{"$f":"IF(AQ47<>0,VLOOKUP(AQ47,Info!A:B,2,FALSE),\"\")","v":"HOU"},"ricda",31.25,0.125,2,17.3125,0.125,0.125,0,0,0,0,null,3325,"Daryl Richardson","Houston Texans","ricda",16,500,2,32,277,2,2]
[3346,"Lamar Miller","HOU","Buy",null,null,null,null,null,null,null,null,null,null,0,0,0,0,0,0,{"$error":"#DIV/0!"},{"$error":"#DIV/0!"},{"$error":"#DIV/0!"},{"$error":"#DIV/0!"}," ",3346,"Lamar Miller",{"$f":"IF(AQ48<>0,VLOOKUP(AQ48,Info!A:B,2,FALSE),\"\")","v":"HOU"},"milla",76.625,0.375,2.1875,13.4375,0.125,0.125,0,0,0,0,null,3346,"Lamar Miller","Houston Texans","milla",16,1226,6,35,215,2,2]
[4053,"Christine Michael","IND","Buy",null,null,null,null,null,null,null,null,null,null,0,0,0,0,0,0,{"$error":"#DIV/0!"},{"$error":"#DIV/0!"},{"$error":"#DIV/0!"},{"$error":"#DIV/0!"}," ",4053,"Christine Michael",{"$f":"IF(AQ49<>0,VLOOKUP(AQ49,Info!A:B,2,FALSE),\"\")","v":"IND"},"micch",38.875,0.4375,1.4375,7.125,0.125,0.125,0,0,0,0,null,4053,"Christine Michael","Indianapolis Colts","micch",16,622,7,23,114,2,2]
[1827,"Frank Gore","IND","Buy",null,null,null,null,null,null,null,null,null,null,0,0,0,0,0,0,{"$error":"#DIV/0!"},{"$error":"#DIV/0!"},{"$error":"#DIV/0!"},{"$error":"#DIV/0!"}," ",1827,"Frank Gore",{"$f":"IF(AQ50<>0,VLOOKUP(AQ50,Info!A:B,2,FALSE),\"\")","v":"IND"},"gorfr",64.125,0.25,2.375,17.3125,0.25,0.125,0,0,0,0,null,1827,"Frank Gore","Indianapolis Colts","gorfr",16,1026,4,38,277,4,2]
[4052,"Matt Jones","IND","Buy",null,null,null,null,null,null,null,null,null,null,0,0,0,0,0,0,{"$error":"#DIV/0!"},{"$error":"#DIV/0!"},{"$error":"#DIV/0!"},{"$error":"#DIV/0!"}," ",4052,"Matt Jones",{"$f":"IF(AQ51<>0,VLOOKUP(AQ51,Info!A:B,2,FALSE),\"\")","v":"IND"},"jomat",65.6875,0.4375,1.125,10.4375,0.125,0.3125,0,0,0,0,null,4052,"Matt Jones","Indianapolis Colts","jomat",16,1051,7,18,167,2,5]
[3316,"Chris Ivory","JAC","Buy",null,null,null,null,null,null,null,null,null,null,0,0,0,0,0,0,{"$error":"#DIV/0!"},{"$error":"#DIV/0!"},{"$error":"#DIV/0!"},{"$error":"#DIV/0!"}," ",3316,"Chris Ivory",{"$f":"IF(AQ52<>0,VLOOKUP(AQ52,Info!A:B,2,FALSE),\"\")","v":"JAC"},"ivoch",39.9375,0.25,1.8125,16.9375,0.125,0.25,0,0,0,0,null,3316,"Chris Ivory","Jacksonville Jaguars","ivoch",16,639,4,29,271,2,4]
[4206,"Leonard Fournette","JAC","Buy",null,null,null,null,null,null,null,null,null,null,0,0,0,0,0,0,{"$error":"#DIV/0!"},{"$error":"#DIV/0!"},{"$error":"#DIV/0!"},{"$error":"#DIV/0!"}," ",4206,"Leonard Fournette",{"$f":"IF(AQ53<>0,VLOOKUP(AQ53,Info!A:B,2,FALSE),\"\")","v":"JAC"},"foule",75,0.375,2.5,25,0.1875,0.25,0,0,0,0,null,4206,"Leonard Fournette","Jacksonville Jaguars","foule",16,1200,6,40,400,3,4]
[3886,"T.J. Yeldon","JAC","Buy",null,null,null,null,null,null,null,null,null,null,0,0,0,0,0,0,{"$error":"#DIV/0!"},{"$error":"#DIV/0!"},{"$error":"#DIV/0!"},{"$error":"#DIV/0!"}," ",3886,"T.J. Yeldon",{"$f":"IF(AQ54<>0,VLOOKUP(AQ54,Info!A:B,2,FALSE),\"\")","v":"JAC"},"yeltj",31.25,0.125,3.3125,20.8125,0.125,0.125,0,0,0,0,null,3886,"T.J. Yeldon","Jacksonville Jaguars","yeltj",16,500,2,53,333,2,2]
[2693,"C.J. Spiller","KAN","Buy",null,null,null,null,null,null,null,null,null,null,0,0,0,0,0,0,{"$error":"#DIV/0!"},{"$error":"#DIV/0!"},{"$error":"#DIV/0!"},{"$error":"#DIV/0!"}," ",2693,"C.J. Spiller",{"$f":"IF(AQ55<>0,VLOOKUP(AQ55,Info!A:B,2,FALSE),\"\")","v":"KAN"},"spicj",31.25,0.125,1,8.3125,0.1875,0.125,0,0,0,0,null,2693,"C.J. Spiller","Kansas City Chiefs","spicj",16,500,2,16,133,3,2]
[3942,"Charcandrick West","KAN","Buy",null,null,null,null,null,null,null,null,null,null,0,0,0,0,0,0,{"$error":"#DIV/0!"},{"$error":"#DIV/0!"},{"$error":"#DIV/0!"},{"$error":"#DIV/0!"}," ",3942,"Charcandrick West",{"$f":"IF(AQ56<>0,VLOOKUP(AQ56,Info!A:B,2,FALSE),\"\")","v":"KAN"},"wesch",31.25,0.125,1.875,12.5625,0.125,0.125,0,0,0,0,null,3942,"Charcandrick West","Kansas City Chiefs","wesch",16,500,2,30,201,2,2]
[4205,"Kareem Hunt","KAN","Buy",null,null,null,null,null,null,null,null,null,null,0,0,0,0,0,0,{"$error":"#DIV/0!"},{"$error":"#DIV/0!"},{"$error":"#DIV/0!"},{"$error":"#DIV/0!"}," ",4205,"Kareem Hunt",{"$f":"IF(AQ57<>0,VLOOKUP(AQ57,Info!A:B,2,FALSE),\"\")","v":"KAN"},"hunka",75,0.375,2.5,25,0.25,0.3125,0,0,0,0,null,4205,"Kareem Hunt","Kansas City Chiefs","hunka",16,1200,6,40,400,4,5]
[3948,"Spencer Ware","KAN","Buy",null,null,null,null,null,null,null,null,null,null,0,0,0,0,0,0,{"$error":"#DIV/0!"},{"$error":"#DIV/0!"},{"$error":"#DIV/0!"},{"$error":"#DIV/0!"}," ",3948,"Spencer Ware",{"$f":"IF(AQ58<>0,VLOOKUP(AQ58,Info!A:B,2,FALSE),\"\")","v":"KAN"},"warsp",65.875,0.1875,2.375,31.9375,0.125,0.1875,0,0,0,0,null,3948,"Spencer Ware","Kansas City Chiefs","warsp",16,1054,3,38,511,2,3]
[3652,"Andre Williams","LAC","Buy",null,null,null,null,null,null,null,null,null,null,0,0,0,0,0,0,{"$error":"#DIV/0!"},{"$error":"#DIV/0!"},{"$error":"#DIV/0!"},{"$error":"#DIV/0!"}," ",3652,"Andre Williams",{"$f":"IF(AQ59<>0,VLOOKUP(AQ59,Info!A:B,2,FALSE),\"\")","v":"LAC"},"wilan",31.25,0.125,0.625,6.25,0.125,0.125,0,0,0,0,null,3652,"Andre Williams","Los Angeles Chargers","wilan",16,500,2,10,100,2,2]
[3650,"Branden Oliver","LAC","Buy",null,null,null,null,null,null,null,null,null,null,0,0,0,0,0,0,{"$error":"#DIV/0!"},{"$error":"#DIV/0!"},{"$error":"#DIV/0!"},{"$error":"#DIV/0!"}," ",3650,"Branden Oliver",{"$f":"IF(AQ60<>0,VLOOKUP(AQ60,Info!A:B,2,FALSE),\"\")","v":"LAC"},"olibr",41.5625,0.1875,2.5625,19.375,0.125,0.125,0,0,0,0,null,3650,"Branden Oliver","Los Angeles Chargers","olibr",16,665,3,41,310,2,2]
[3885,"Melvin Gordon","LAC","Buy",null,null,null,null,null,null,null,null,null,null,0,0,0,0,0,0,{"$error":"#DIV/0!"},{"$error":"#DIV/0!"},{"$error":"#DIV/0!"},{"$error":"#DIV/0!"}," ",3885,"Melvin Gordon",{"$f":"IF(AQ61<>0,VLOOKUP(AQ61,Info!A:B,2,FALSE),\"\")","v":"LAC"},"gorme",76.6875,0.75,3.125,32.25,0.125,0.125,0,0,0,0,null,3885,"Melvin Gordon","Los Angeles Chargers","gorme",16,1227,12,50,516,2,2]
[3939,"Todd Gurley","LAR","Buy",null,null,null,null,null,null,null,null,null,null,0,0,0,0,0,0,{"$error":"#DIV/0!"},{"$error":"#DIV/0!"},{"$error":"#DIV/0!"},{"$error":"#DIV/0!"}," ",3939,"Todd Gurley",{"$f":"IF(AQ62<>0,VLOOKUP(AQ62,Info!A:B,2,FALSE),\"\")","v":"LAR"},"gurto",55.3125,0.375,2.6875,20.4375,0.125,0.125,0,0,0,0,null,3939,"Todd Gurley","Los Angeles Rams","gurto",16,885,6,43,327,2,2]
[3672,"Bishop Sankey","MIN","Buy",null,null,null,null,null,null,null,null,null,null,0,0,0,0,0,0,{"$error":"#DIV/0!"},{"$error":"#DIV/0!"},{"$error":"#DIV/0!"},{"$error":"#DIV/0!"}," ",3672,"Bishop Sankey",{"$f":"IF(AQ63<>0,VLOOKUP(AQ63,Info!A:B,2,FALSE),\"\")","v":"MIN"},"sanbi",31.25,0.125,1,9.875,0.125,0.125,0,0,0,0,null,3672,"Bishop Sankey","Minnesota Vikings","sanbi",16,500,2,16,158,2,2]
[4204,"Dalvin Cook","MIN","Buy",null,null,null,null,null,null,null,null,null,null,0,0,0,0,0,0,{"$error":"#DIV/0!"},{"$error":"#DIV/0!"},{"$error":"#DIV/0!"},{"$error":"#DIV/0!"}," ",4204,"Dalvin Cook",{"$f":"IF(AQ64<>0,VLOOKUP(AQ64,Info!A:B,2,FALSE),\"\")","v":"MIN"},"cooda",75,0.375,2.5,25,0.1875,0.25,0,0,0,0,null,4204,"Dalvin Cook","Minnesota Vikings","cooda",16,1200,6,40,400,3,4]
[3681,"Jerick McKinnon","MIN","Buy",null,null,null,null,null,null,null,null,null,null,0,0,0,0,0,0,{"$error":"#DIV/0!"},{"$error":"#DIV/0!"},{"$error":"#DIV/0!"},{"$error":"#DIV/0!"}," ",3681,"Jerick McKinnon",{"$f":"IF(AQ65<>0,VLOOKUP(AQ65,Info!A:B,2,FALSE),\"\")","v":"MIN"},"mckje",35.9375,0.125,2.875,17,0.125,0.125,0,0,0,0,null,3681,"Jerick McKinnon","Minnesota Vikings","mckje",16,575,2,46,272,2,2]
[3887,"Latavius Murray","MIN","Buy",null,null,null,null,null,null,null,null,null,null,{"$f":"VLOOKUP($A66,$A:$N,5,FALSE)/VLOOKUP($A66,$Z:$AM,5,FALSE)","v":0},{"$f":"VLOOKUP($A66,$A:$N,6,FALSE)/VLOOKUP($A66,$Z:$AM,6,FALSE)","v":0},{"$f":"VLOOKUP($A66,$A:$N,7,FALSE)/VLOOKUP($A66,$Z:$AM,7,FALSE)","v":0},{"$f":"VLOOKUP($A66,$A:$N,8,FALSE)/VLOOKUP($A66,$Z:$AM,8,FALSE)","v":0},{"$f":"VLOOKUP($A66,$A:$N,9,FALSE)/VLOOKUP($A66,$Z:$AM,9,FALSE)","v":0},{"$f":"VLOOKUP($A66,$A:$N,10,FALSE)/VLOOKUP($A66,$Z:$AM,10,FALSE)","v":0},{"$f":"VLOOKUP($A66,$A:$N,11,FALSE)/VLOOKUP($A66,$Z:$AM,11,FALSE)","v":{"$error":"#DIV/0!"}},{"$f":"VLOOKUP($A66,$A:$N,12,FALSE)/VLOOKUP($A66,$Z:$AM,12,FALSE)","v":{"$error":"#DIV/0!"}},{"$f":"VLOOKUP($A66,$A:$N,13,FALSE)/VLOOKUP($A66,$Z:$AM,13,FALSE)","v":{"$error":"#DIV/0!"}},{"$f":"VLOOKUP($A66,$A:$N,14,FALSE)/VLOOKUP($A66,$Z:$AM,14,FALSE)","v":{"$error":"#DIV/0!"}}," ",3887,"Latavius Murray",{"$f":"IF(AQ66<>0,VLOOKUP(AQ66,Info!A:B,2,FALSE),\"\")","v":"MIN"},"murla",56.3125,0.875,2.375,18.875,0.125,0.125,0,0,0,0,null,3887,"Latavius Murray","Minnesota Vikings","murla",16,901,14,38,302,2,2]
[{"$f":"IF(Z67<>0,Z67,\"\")","v":4106},{"$f":"IF(A67<>0,VLOOKUP(A67,Z:AA,2,FALSE),\"\")","v":"James White"},{"$f":"IF(A67<>0,VLOOKUP(A67,Z:AB,3,FALSE))","v":"NEW"},{"$f":"HYPERLINK(\"http://www.jockstocks.com/buysell.php?action=buymax&plid=\"&A67,\"Buy\")","v":"Buy"},null,null,null,null,null,null,null,null,null,null,0,0,0,0,0,0,{"$error":"#DIV/0!"},{"$error":"#DIV/0!"},{"$error":"#DIV/0!"},{"$error":"#DIV/0!"}," ",{"$f":"IF(AO67<>0,AO67,\"\")","v":4106},{"$f":"IF(AP67<>0,VLOOKUP(Z67,AO:AP,2,FALSE),\"\")","v":"James White"},{"$f":"IF(AQ67<>0,VLOOKUP(AQ67,Info!A:B,2,FALSE),\"\")","v":"NEW"},{"$f":"IF(AO67<>0,VLOOKUP(Z67,AO:AR,4,FALSE),\"\")","v":"whija"},{"$f":"IF($AO67<>0,AT67/$AS67,\"\")","v":31.25},{"$f":"IF($AO67<>0,AU67/$AS67,\"\")","v":0.125},{"$f":"IF($AO67<>0,AV67/$AS67,\"\")","v":3.75},{"$f":"IF($AO67<>0,AW67/$AS67,\"\")","v":34.4375},{"$f":"IF($AO67<>0,AX67/$AS67,\"\")","v":0.3125},{"$f":"IF($AO67<>0,AY67/$AS67,\"\")","v":0.125},{"$f":"IF($AO67<>0,AZ67/$AS67,\"\")","v":0},{"$f":"IF($AO67<>0,BA67/$AS67,\"\")","v":0},{"$f":"IF($AO67<>0,BB67/$AS67,\"\")","v":0},{"$f":"IF($AO67<>0,BC67/$AS67,\"\")","v":0},null,4106,"James White","New England Patriots","whija",16,500,2,60,551,5,2]
[4213,"Mike Gillislee","NEW","Buy",null,null,null,null,null,null,null,null,null,null,0,0,0,0,0,0,{"$error":"#DIV/0!"},{"$error":"#DIV/0!"},{"$error":"#DIV/0!"},{"$error":"#DIV/0!"}," ",4213,"Mike Gillislee",{"$f":"IF(AQ68<>0,VLOOKUP(AQ68,Info!A:B,2,FALSE),\"\")","v":"NEW"},"gilmi",56.25,0.5,1.25,12.5,0.125,0.25,0,0,0,0,null,4213,"Mike Gillislee","New England Patriots","gilmi",16,900,8,20,200,2,4]
[4251,"Alvin Kamara","NOS","Buy",null,null,null,null,null,null,null,null,null,null,0,0,0,0,0,0,{"$error":"#DIV/0!"},{"$error":"#DIV/0!"},{"$error":"#DIV/0!"},{"$error":"#DIV/0!"}," ",4251,"Alvin Kamara",{"$f":"IF(AQ69<>0,VLOOKUP(AQ69,Info!A:B,2,FALSE),\"\")","v":"NOS"},"kamal",46.875,0.4375,4.375,37.5,0.1875,0.25,0,0,0,0,null,4251,"Alvin Kamara","New Orleans Saints","kamal",16,750,7,70,600,3,4]
[2926,"Mark Ingram","NOS","Buy",null,null,null,null,null,null,null,null,null,null,0,0,0,0,0,0,{"$error":"#DIV/0!"},{"$error":"#DIV/0!"},{"$error":"#DIV/0!"},{"$error":"#DIV/0!"}," ",2926,"Mark Ingram",{"$f":"IF(AQ70<>0,VLOOKUP(AQ70,Info!A:B,2,FALSE),\"\")","v":"NOS"},"ingma",65.1875,0.375,2.875,19.9375,0.25,0.125,0,0,0,0,null,2926,"Mark Ingram","New Orleans Saints","ingma",16,1043,6,46,319,4,2]
[3594,"Shane Vereen","NYG","Buy",null,null,null,null,null,null,null,null,null,null,0,0,0,0,0,0,{"$error":"#DIV/0!"},{"$error":"#DIV/0!"},{"$error":"#DIV/0!"},{"$error":"#DIV/0!"}," ",3594,"Shane Vereen",{"$f":"IF(AQ71<>0,VLOOKUP(AQ71,Info!A:B,2,FALSE),\"\")","v":"NYG"},"versh",31.625,0.1875,2.1875,18.8125,0.125,0.3125,0,0,0,0,null,3594,"Shane Vereen","New York Giants","versh",16,506,3,35,301,2,5]
[3345,"Bilal Powell","NYJ","Buy",null,null,null,null,null,null,null,null,null,null,0,0,0,0,0,0,{"$error":"#DIV/0!"},{"$error":"#DIV/0!"},{"$error":"#DIV/0!"},{"$error":"#DIV/0!"}," ",3345,"Bilal Powell",{"$f":"IF(AQ72<>0,VLOOKUP(AQ72,Info!A:B,2,FALSE),\"\")","v":"NYJ"},"powbi",45.125,0.1875,3.625,24.25,0.125,0.125,0,0,0,0,null,3345,"Bilal Powell","New York Jets","powbi",16,722,3,58,388,2,2]
[4112,"Joe McKnight","NYJ","Buy",null,null,null,null,null,null,null,null,null,null,0,0,0,0,0,0,{"$error":"#DIV/0!"},{"$error":"#DIV/0!"},{"$error":"#DIV/0!"},{"$error":"#DIV/0!"}," ",4112,"Joe McKnight",{"$f":"IF(AQ73<>0,VLOOKUP(AQ73,Info!A:B,2,FALSE),\"\")","v":"NYJ"},"mckjo",1,1,1,1,1,1,0,0,0,0,null,4112,"Joe McKnight","New York Jets","mckjo",1,1,1,1,1,1,1]
[2244,"Matt Forte","NYJ","Buy",null,null,null,null,null,null,null,null,null,null,0,0,0,0,0,0,{"$error":"#DIV/0!"},{"$error":"#DIV/0!"},{"$error":"#DIV/0!"},{"$error":"#DIV/0!"}," ",2244,"Matt Forte",{"$f":"IF(AQ74<>0,VLOOKUP(AQ74,Info!A:B,2,FALSE),\"\")","v":"NYJ"},"forma",58.0625,0.5,2.125,18.8125,0.125,0.125,0,0,0,0,null,2244,"Matt Forte","New York Jets","forma",16,929,8,34,301,2,2]
[2023,"Marshawn Lynch","OAK","Buy",null,null,null,null,null,null,null,null,null,null,0,0,0,0,0,0,{"$error":"#DIV/0!"},{"$error":"#DIV/0!"},{"$error":"#DIV/0!"},{"$error":"#DIV/0!"}," ",2023,"Marshawn Lynch",{"$f":"IF(AQ75<>0,VLOOKUP(AQ75,Info!A:B,2,FALSE),\"\")","v":"OAK"},"lynma",62.5,0.375,1.5625,15.625,0.125,0.25,0,0,0,0,null,2023,"Marshawn Lynch","Oakland Raiders","lynma",16,1000,6,25,250,2,4]
[2352,"Darren Sproles","PHI","Buy",null,null,null,null,null,null,null,null,null,null,0,0,0,0,0,0,{"$error":"#DIV/0!"},{"$error":"#DIV/0!"},{"$error":"#DIV/0!"},{"$error":"#DIV/0!"}," ",2352,"Darren Sproles",{"$f":"IF(AQ76<>0,VLOOKUP(AQ76,Info!A:B,2,FALSE),\"\")","v":"PHI"},"sprda",31.25,0.125,3.4375,28.4375,0.125,0.125,0,0,0,0,null,2352,"Darren Sproles","Philadelphia Eagles","sprda",16,500,2,55,455,2,2]
[4105,"Jay Ajayi","PHI","Buy",null,null,null,null,null,null,null,null,null,null,0,0,0,0,0,0,{"$error":"#DIV/0!"},{"$error":"#DIV/0!"},{"$error":"#DIV/0!"},{"$error":"#DIV/0!"}," ",4105,"Jay Ajayi",{"$f":"IF(AQ77<>0,VLOOKUP(AQ77,Info!A:B,2,FALSE),\"\")","v":"PHI"},"ajaja",81.875,0.3125,2.125,11.3125,0.125,0.125,0,0,0,0,null,4105,"Jay Ajayi","Philadelphia Eagles","ajaja",16,1310,5,34,181,2,2]
[2925,"LeGarrette Blount","PHI","Buy",null,null,null,null,null,null,null,null,null,null,0,0,0,0,0,0,{"$error":"#DIV/0!"},{"$error":"#DIV/0!"},{"$error":"#DIV/0!"},{"$error":"#DIV/0!"}," ",2925,"LeGarrette Blount",{"$f":"IF(AQ78<>0,VLOOKUP(AQ78,Info!A:B,2,FALSE),\"\")","v":"PHI"},"blole",72.5625,1.125,0.625,6.25,0.125,0.125,0,0,0,0,null,2925,"LeGarrette Blount","Philadelphia Eagles","blole",16,1161,18,10,100,2,2]
[3347,"Le'Veon Bell","PIT","Buy",null,null,null,null,null,null,null,null,null,null,0,0,0,0,0,0,{"$error":"#DIV/0!"},{"$error":"#DIV/0!"},{"$error":"#DIV/0!"},{"$error":"#DIV/0!"}," ",3347,"Le'Veon Bell",{"$f":"IF(AQ79<>0,VLOOKUP(AQ79,Info!A:B,2,FALSE),\"\")","v":"PIT"},"belle",105.6875,0.5625,4.6875,37.5,0.1875,0.125,0,0,0,0,null,3347,"Le'Veon Bell","Pittsburgh Steelers","belle",16,1691,9,75,600,3,2]
[3600,"Carlos Hyde","SFO","Buy",null,null,null,null,null,null,null,null,null,null,0,0,0,0,0,0,{"$error":"#DIV/0!"},{"$error":"#DIV/0!"},{"$error":"#DIV/0!"},{"$error":"#DIV/0!"}," ",3600,"Carlos Hyde",{"$f":"IF(AQ80<>0,VLOOKUP(AQ80,Info!A:B,2,FALSE),\"\")","v":"SFO"},"hydca",76,0.4375,2.0625,12.5625,0.25,0.25,0,0,0,0,null,3600,"Carlos Hyde","San Francisco 49ers","hydca",16,1216,7,33,201,4,4]
[3390,"Eddie Lacy","SEA","Buy",null,null,null,null,null,null,null,null,null,null,0,0,0,0,0,0,{"$error":"#DIV/0!"},{"$error":"#DIV/0!"},{"$error":"#DIV/0!"},{"$error":"#DIV/0!"}," ",3390,"Eddie Lacy",{"$f":"IF(AQ81<>0,VLOOKUP(AQ81,Info!A:B,2,FALSE),\"\")","v":"SEA"},"laced",72,0.125,0.8125,6.25,0.125,0.125,0,0,0,0,null,3390,"Eddie Lacy","Seattle Seahawks","laced",16,1152,2,13,100,2,2]
[{"$f":"IF(Z82<>0,Z82,\"\")","v":3946},{"$f":"IF(A82<>0,VLOOKUP(A82,Z:AA,2,FALSE),\"\")","v":"Thomas Rawls"},{"$f":"IF(A82<>0,VLOOKUP(A82,Z:AB,3,FALSE))","v":"SEA"},{"$f":"HYPERLINK(\"http://www.jockstocks.com/buysell.php?action=buymax&plid=\"&A82,\"Buy\")","v":"Buy"},null,null,null,null,null,null,null,null,null,null,{"$f":"VLOOKUP($A82,$A:$N,5,FALSE)/VLOOKUP($A82,$Z:$AM,5,FALSE)","v":0},{"$f":"VLOOKUP($A82,$A:$N,6,FALSE)/VLOOKUP($A82,$Z:$AM,6,FALSE)","v":0},{"$f":"VLOOKUP($A82,$A:$N,7,FALSE)/VLOOKUP($A82,$Z:$AM,7,FALSE)","v":0},{"$f":"VLOOKUP($A82,$A:$N,8,FALSE)/VLOOKUP($A82,$Z:$AM,8,FALSE)","v":0},{"$f":"VLOOKUP($A82,$A:$N,9,FALSE)/VLOOKUP($A82,$Z:$AM,9,FALSE)","v":0},{"$f":"VLOOKUP($A82,$A:$N,10,FALSE)/VLOOKUP($A82,$Z:$AM,10,FALSE)","v":0},{"$f":"VLOOKUP($A82,$A:$N,11,FALSE)/VLOOKUP($A82,$Z:$AM,11,FALSE)","v":{"$error":"#DIV/0!"}},{"$f":"VLOOKUP($A82,$A:$N,12,FALSE)/VLOOKUP($A82,$Z:$AM,12,FALSE)","v":{"$error":"#DIV/0!"}},{"$f":"VLOOKUP($A82,$A:$N,13,FALSE)/VLOOKUP($A82,$Z:$AM,13,FALSE)","v":{"$error":"#DIV/0!"}},{"$f":"VLOOKUP($A82,$A:$N,14,FALSE)/VLOOKUP($A82,$Z:$AM,14,FALSE)","v":{"$error":"#DIV/0!"}}," ",{"$f":"IF(AO82<>0,AO82,\"\")","v":3946},{"$f":"IF(AP82<>0,VLOOKUP(Z82,AO:AP,2,FALSE),\"\")","v":"Thomas Rawls"},{"$f":"IF(AQ82<>0,VLOOKUP(AQ82,Info!A:B,2,FALSE),\"\")","v":"SEA"},{"$f":"IF(AO82<>0,VLOOKUP(Z82,AO:AR,4,FALSE),\"\")","v":"rawth"},{"$f":"IF($AO82<>0,AT82/$AS82,\"\")","v":38.75},{"$f":"IF($AO82<>0,AU82/$AS82,\"\")","v":0.3125},{"$f":"IF($AO82<>0,AV82/$AS82,\"\")","v":1.4375},{"$f":"IF($AO82<>0,AW82/$AS82,\"\")","v":10.6875},{"$f":"IF($AO82<>0,AX82/$AS82,\"\")","v":0.125},{"$f":"IF($AO82<>0,AY82/$AS82,\"\")","v":0.125},{"$f":"IF($AO82<>0,AZ82/$AS82,\"\")","v":0},{"$f":"IF($AO82<>0,BA82/$AS82,\"\")","v":0},{"$f":"IF($AO82<>0,BB82/$AS82,\"\")","v":0},{"$f":"IF($AO82<>0,BC82/$AS82,\"\")","v":0},null,3946,"Thomas Rawls","Seattle Seahawks","rawth",16,620,5,23,171,2,2]
[{"$f":"IF(Z83<>0,Z83,\"\")","v":3117},{"$f":"IF(A83<>0,VLOOKUP(A83,Z:AA,2,FALSE),\"\")","v":"Doug Martin"},{"$f":"IF(A83<>0,VLOOKUP(A83,Z:AB,3,FALSE))","v":"TAM"},{"$f":"HYPERLINK(\"http://www.jockstocks.com/buysell.php?action=buymax&plid=\"&A83,\"Buy\")","v":"Buy"},null,null,null,null,null,null,null,null,null,null,0,0,0,0,0,0,{"$error":"#DIV/0!"},{"$error":"#DIV/0!"},{"$error":"#DIV/0!"},{"$error":"#DIV/0!"}," ",3117,"Doug Martin",{"$f":"IF(AQ83<>0,VLOOKUP(AQ83,Info!A:B,2,FALSE),\"\")","v":"TAM"},"mardo",52.625,0.375,1.75,16.75,0.125,0.125,0,0,0,0,null,3117,"Doug Martin","Tampa Bay Buccaneers","mardo",16,842,6,28,268,2,2]
[3411,"Jacquizz Rodgers","TAM","Buy",null,null,null,null,null,null,null,null,null,null,0,0,0,0,0,0,{"$error":"#DIV/0!"},{"$error":"#DIV/0!"},{"$error":"#DIV/0!"},{"$error":"#DIV/0!"}," ",3411,"Jacquizz Rodgers",{"$f":"IF(AQ84<>0,VLOOKUP(AQ84,Info!A:B,2,FALSE),\"\")","v":"TAM"},"rodja",56,0.1875,1.3125,9.8125,0.125,0.125,0,0,0,0,null,3411,"Jacquizz Rodgers","Tampa Bay Buccaneers","rodja",16,896,3,21,157,2,2]
[2996,"DeMarco Murray","TEN","Buy",null,null,null,null,null,null,null,null,null,null,0,0,0,0,0,0,{"$error":"#DIV/0!"},{"$error":"#DIV/0!"},{"$error":"#DIV/0!"},{"$error":"#DIV/0!"}," ",2996,"DeMarco Murray",{"$f":"IF(AQ85<>0,VLOOKUP(AQ85,Info!A:B,2,FALSE),\"\")","v":"TEN"},"murde",80.4375,0.5625,3.3125,23.5625,0.1875,0.125,0,0,0,0,null,2996,"DeMarco Murray","Tennessee Titans","murde",16,1287,9,53,377,3,2]
[4066,"Derrick Henry","TEN","Buy",null,null,null,null,null,null,null,null,null,null,0,0,0,0,0,0,{"$error":"#DIV/0!"},{"$error":"#DIV/0!"},{"$error":"#DIV/0!"},{"$error":"#DIV/0!"}," ",4066,"Derrick Henry",{"$f":"IF(AQ86<>0,VLOOKUP(AQ86,Info!A:B,2,FALSE),\"\")","v":"TEN"},"hende",32.6875,0.3125,0.875,9.125,0.125,0.125,0,0,0,0,null,4066,"Derrick Henry","Tennessee Titans","hende",16,523,5,14,146,2,2]
[4227,"Chris Thompson","WAS","Buy",null,null,null,null,null,null,null,null,null,null,0,0,0,0,0,0,{"$error":"#DIV/0!"},{"$error":"#DIV/0!"},{"$error":"#DIV/0!"},{"$error":"#DIV/0!"}," ",4227,"Chris Thompson",{"$f":"IF(AQ87<>0,VLOOKUP(AQ87,Info!A:B,2,FALSE),\"\")","v":"WAS"},"thoch",37.5,0.25,3.125,56.25,0.25,0.1875,0,0,0,0,null,4227,"Chris Thompson","Washington Redskins","thoch",16,600,4,50,900,4,3]
["","","","Buy",null,null,null,null,null,null,null,null,null,null,{"$error":"#VALUE!"},{"$error":"#VALUE!"},{"$error":"#VALUE!"},{"$error":"#VALUE!"},{"$error":"#VALUE!"},{"$error":"#VALUE!"},{"$error":"#VALUE!"},{"$error":"#VALUE!"},{"$error":"#VALUE!"},{"$error":"#VALUE!"}," ","","",{"$f":"IF(AQ88<>0,VLOOKUP(AQ88,Info!A:B,2,FALSE),\"\")","v":""},"","","","","","","","","","",""]
["","","","Buy",null,null,null,null,null,null,null,null,null,null,{"$error":"#VALUE!"},{"$error":"#VALUE!"},{"$error":"#VALUE!"},{"$error":"#VALUE!"},{"$error":"#VALUE!"},{"$error":"#VALUE!"},{"$error":"#VALUE!"},{"$error":"#VALUE!"},{"$error":"#VALUE!"},{"$error":"#VALUE!"}," ","","",{"$f":"IF(AQ89<>0,VLOOKUP(AQ89,Info!A:B,2,FALSE),\"\")","v":""},"","","","","","","","","","",""]
["","","","Buy",null,null,null,null,null,null,null,null,null,null,{"$error":"#VALUE!"},{"$error":"#VALUE!"},{"$error":"#VALUE!"},{"$error":"#VALUE!"},{"$error":"#VALUE!"},{"$error":"#VALUE!"},{"$error":"#VALUE!"},{"$error":"#VALUE!"},{"$error":"#VALUE!"},{"$error":"#VALUE!"}," ","","",{"$f":"IF(AQ90<>0,VLOOKUP(AQ90,Info!A:B,2,FALSE),\"\")","v":""},"","","","","","","","","","",""]
["","","","Buy",null,null,null,null,null,null,null,null,null,null,{"$error":"#VALUE!"},{"$error":"#VALUE!"},{"$error":"#VALUE!"},{"$error":"#VALUE!"},{"$error":"#VALUE!"},{"$error":"#VALUE!"},{"$error":"#VALUE!"},{"$error":"#VALUE!"},{"$error":"#VALUE!"},{"$error":"#VALUE!"}," ","","",{"$f":"IF(AQ91<>0,VLOOKUP(AQ91,Info!A:B,2,FALSE),\"\")","v":""},"","","","","","","","","","",""]
["","","","Buy",null,null,null,null,null,null,null,null,null,null,{"$error":"#VALUE!"},{"$error":"#VALUE!"},{"$error":"#VALUE!"},{"$error":"#VALUE!"},{"$error":"#VALUE!"},{"$error":"#VALUE!"},{"$error":"#VALUE!"},{"$error":"#VALUE!"},{"$error":"#VALUE!"},{"$error":"#VALUE!"}," ","","",{"$f":"IF(AQ92<>0,VLOOKUP(AQ92,Info!A:B,2,FALSE),\"\")","v":""},"","","","","","","","","","",""]
["","","","Buy",null,null,null,null,null,null,null,null,null,null,{"$error":"#VALUE!"},{"$error":"#VALUE!"},{"$error":"#VALUE!"},{"$error":"#VALUE!"},{"$error":"#VALUE!"},{"$error":"#VALUE!"},{"$error":"#VALUE!"},{"$error":"#VALUE!"},{"$error":"#VALUE!"},{"$error":"#VALUE!"}," ","","",{"$f":"IF(AQ93<>0,VLOOKUP(AQ93,Info!A:B,2,FALSE),\"\")","v":""},"","","","","","","","","","",""]
["","","","Buy",null,null,null,null,null,null,null,null,null,null,{"$error":"#VALUE!"},{"$error":"#VALUE!"},{"$error":"#VALUE!"},{"$error":"#VALUE!"},{"$error":"#VALUE!"},{"$error":"#VALUE!"},{"$error":"#VALUE!"},{"$error":"#VALUE!"},{"$error":"#VALUE!"},{"$error":"#VALUE!"}," ","","",{"$f":"IF(AQ94<>0,VLOOKUP(AQ94,Info!A:B,2,FALSE),\"\")","v":""},"","","","","","","","","","",""]
["","","","Buy",null,null,null,null,null,null,null,null,null,null,{"$error":"#VALUE!"},{"$error":"#VALUE!"},{"$error":"#VALUE!"},{"$error":"#VALUE!"},{"$error":"#VALUE!"},{"$error":"#VALUE!"},{"$error":"#VALUE!"},{"$error":"#VALUE!"},{"$error":"#VALUE!"},{"$error":"#VALUE!"}," ","","",{"$f":"IF(AQ95<>0,VLOOKUP(AQ95,Info!A:B,2,FALSE),\"\")","v":""},"","","","","","","","","","",""]
["","","","Buy",null,null,null,null,null,null,null,null,null,null,{"$error":"#VALUE!"},{"$error":"#VALUE!"},{"$error":"#VALUE!"},{"$error":"#VALUE!"},{"$error":"#VALUE!"},{"$error":"#VALUE!"},{"$error":"#VALUE!"},{"$error":"#VALUE!"},{"$error":"#VALUE!"},{"$error":"#VALUE!"}," ","","",{"$f":"IF(AQ96<>0,VLOOKUP(AQ96,Info!A:B,2,FALSE),\"\")","v":""},"","","","","","","","","","",""]
["","","","Buy",null,null,null,null,null,null,null,null,null,null,{"$error":"#VALUE!"},{"$error":"#VALUE!"},{"$error":"#VALUE!"},{"$error":"#VALUE!"},{"$error":"#VALUE!"},{"$error":"#VALUE!"},{"$error":"#VALUE!"},{"$error":"#VALUE!"},{"$error":"#VALUE!"},{"$error":"#VALUE!"}," ","","",{"$f":"IF(AQ97<>0,VLOOKUP(AQ97,Info!A:B,2,FALSE),\"\")","v":""},"","","","","","","","","","",""]
["","","","Buy",null,null,null,null,null,null,null,null,null,null,{"$error":"#VALUE!"},{"$error":"#VALUE!"},{"$error":"#VALUE!"},{"$error":"#VALUE!"},{"$error":"#VALUE!"},{"$error":"#VALUE!"},{"$error":"#VALUE!"},{"$error":"#VALUE!"},{"$error":"#VALUE!"},{"$error":"#VALUE!"}," ","","",{"$f":"IF(AQ98<>0,VLOOKUP(AQ98,Info!A:B,2,FALSE),\"\")","v":""},"","","","","","","","","","",""]
["","","","Buy",null,null,null,null,null,null,null,null,null,null,{"$error":"#VALUE!"},{"$error":"#VALUE!"},{"$error":"#VALUE!"},{"$error":"#VALUE!"},{"$error":"#VALUE!"},{"$error":"#VALUE!"},{"$error":"#VALUE!"},{"$error":"#VALUE!"},{"$error":"#VALUE!"},{"$error":"#VALUE!"}," ","","",{"$f":"IF(AQ99<>0,VLOOKUP(AQ99,Info!A:B,2,FALSE),\"\")","v":""},"","","","","","","","","","",""]
["","","","Buy",null,null,null,null,null,null,null,null,null,null,{"$error":"#VALUE!"},{"$error":"#VALUE!"},{"$error":"#VALUE!"},{"$error":"#VALUE!"},{"$error":"#VALUE!"},{"$error":"#VALUE!"},{"$error":"#VALUE!"},{"$error":"#VALUE!"},{"$error":"#VALUE!"},{"$error":"#VALUE!"}," ","","",{"$f":"IF(AQ100<>0,VLOOKUP(AQ100,Info!A:B,2,FALSE),\"\")","v":""},"","","","","","","","","","",""]

{"sheet":"NFLR","index":9,"n_rows":200,"n_cols":50,"rows_kept":200,"cut":false,"hidden":false,"merged":[]}
["plid","Name","Team",null,"Catches","RecYds","RecTDs","RushTDs","Fumbles",null,null,null,null,null,"Catches","RecYds","RecTDs","RushTDs","Fumbles",null,null,null,null,null,null,{"$f":"IF(AO1<>0,AO1,\"\")","v":"ID"},{"$f":"IF(AP1<>0,AP1,\"\")","v":"Name"},{"$f":"IF(AQ1<>0,AQ1,\"\")","v":"Team"},{"$f":"IF(AR1<>0,AR1,\"\")","v":"Symbol"},{"$f":"IF(AT1<>0,AT1,\"\")","v":"Receptions"},{"$f":"IF(AU1<>0,AU1,\"\")","v":"Yds Receiving"},"TDs Receiving","TDs Rushing","Fumbles Lost","","","","","",null,"ID","Name","Team","Symbol","Games","Receptions","Yds Receiving","TDs Receiving","TDs Rushing","Fumbles Lost"]
[{"$f":"IF(Z2<>0,Z2,\"\")","v":2930},{"$f":"IF(A2<>0,VLOOKUP(A2,Z:AA,2,FALSE),\"\")","v":"Jermaine Gresham"},{"$f":"IF(A2<>0,VLOOKUP(A2,Z:AB,3,FALSE))","v":"ARI"},{"$f":"HYPERLINK(\"http://www.jockstocks.com/buysell.php?action=buymax&plid=\"&A2,\"Buy\")","v":"Buy"},null,null,null,null,null,null,null,null,null,null,{"$f":"VLOOKUP($A2,$A:$N,5,FALSE)/VLOOKUP($A2,$Z:$AM,5,FALSE)","v":0},{"$f":"VLOOKUP($A2,$A:$N,6,FALSE)/VLOOKUP($A2,$Z:$AM,6,FALSE)","v":0},{"$f":"VLOOKUP($A2,$A:$N,7,FALSE)/VLOOKUP($A2,$Z:$AM,7,FALSE)","v":0},{"$f":"VLOOKUP($A2,$A:$N,8,FALSE)/VLOOKUP($A2,$Z:$AM,8,FALSE)","v":0},{"$f":"VLOOKUP($A2,$A:$N,9,FALSE)/VLOOKUP($A2,$Z:$AM,9,FALSE)","v":0},{"$f":"VLOOKUP($A2,$A:$N,10,FALSE)/VLOOKUP($A2,$Z:$AM,10,FALSE)","v":{"$error":"#DIV/0!"}},{"$f":"VLOOKUP($A2,$A:$N,11,FALSE)/VLOOKUP($A2,$Z:$AM,11,FALSE)","v":{"$error":"#DIV/0!"}},{"$f":"VLOOKUP($A2,$A:$N,12,FALSE)/VLOOKUP($A2,$Z:$AM,12,FALSE)","v":{"$error":"#DIV/0!"}},{"$f":"VLOOKUP($A2,$A:$N,13,FALSE)/VLOOKUP($A2,$Z:$AM,13,FALSE)","v":{"$error":"#DIV/0!"}},{"$f":"VLOOKUP($A2,$A:$N,14,FALSE)/VLOOKUP($A2,$Z:$AM,14,FALSE)","v":{"$error":"#DIV/0!"}}," ",{"$f":"IF(AO2<>0,AO2,\"\")","v":2930},{"$f":"IF(AP2<>0,VLOOKUP(Z2,AO:AP,2,FALSE),\"\")","v":"Jermaine Gresham"},{"$f":"IF(AQ2<>0,VLOOKUP(AQ2,Info!A:B,2,FALSE),\"\")","v":"ARI"},{"$f":"IF(AO2<>0,VLOOKUP(Z2,AO:AR,4,FALSE),\"\")","v":"gresj"},{"$f":"IF($AO2<>0,AT2/$AS2,\"\")","v":2.3125},25,0.125,0.125,0.125,0,0,0,0,0,null,2930,"Jermaine Gresham","Arizona Cardinals","gresj",16,37,400,2,2,2]
[{"$f":"IF(Z3<>0,Z3,\"\")","v":3685},{"$f":"IF(A3<>0,VLOOKUP(A3,Z:AA,2,FALSE),\"\")","v":"John Brown"},{"$f":"IF(A3<>0,VLOOKUP(A3,Z:AB,3,FALSE))","v":"ARI"},{"$f":"HYPERLINK(\"http://www.jockstocks.com/buysell.php?action=buymax&plid=\"&A3,\"Buy\")","v":"Buy"},null,null,null,null,null,null,null,null,null,null,0,0,0,0,0,{"$error":"#DIV/0!"},{"$error":"#DIV/0!"},{"$error":"#DIV/0!"},{"$error":"#DIV/0!"},{"$error":"#DIV/0!"}," ",{"$f":"IF(AO3<>0,AO3,\"\")","v":3685},{"$f":"IF(AP3<>0,VLOOKUP(Z3,AO:AP,2,FALSE),\"\")","v":"John Brown"},{"$f":"IF(AQ3<>0,VLOOKUP(AQ3,Info!A:B,2,FALSE),\"\")","v":"ARI"},{"$f":"IF(AO3<>0,VLOOKUP(Z3,AO:AR,4,FALSE),\"\")","v":"browj"},{"$f":"IF($AO3<>0,AT3/$AS3,\"\")","v":2.625},{"$f":"IF($AO3<>0,AU3/$AS3,\"\")","v":34.4375},{"$f":"IF($AO3<>0,AV3/$AS3,\"\")","v":0.125},{"$f":"IF($AO3<>0,AW3/$AS3,\"\")","v":0.125},{"$f":"IF($AO3<>0,AX3/$AS3,\"\")","v":0.125},{"$f":"IF($AO3<>0,AY3/$AS3,\"\")","v":0},{"$f":"IF($AO3<>0,AZ3/$AS3,\"\")","v":0},{"$f":"IF($AO3<>0,BA3/$AS3,\"\")","v":0},{"$f":"IF($AO3<>0,BB3/$AS3,\"\")","v":0},{"$f":"IF($AO3<>0,BC3/$AS3,\"\")","v":0},null,3685,"John Brown","Arizona Cardinals","browj",16,42,551,2,2,2]
[1333,"Larry Fitzgerald","ARI","Buy",null,null,null,null,null,null,null,null,null,null,0,0,0,0,0,{"$error":"#DIV/0!"},{"$error":"#DIV/0!"},{"$error":"#DIV/0!"},{"$error":"#DIV/0!"},{"$error":"#DIV/0!"}," ",1333,"Larry Fitzgerald",{"$f":"IF(AQ4<>0,VLOOKUP(AQ4,Info!A:B,2,FALSE),\"\")","v":"ARI"},"fitla",6.25,64.25,0.375,0.125,0.125,0,0,0,0,0,null,1333,"Larry Fitzgerald","Arizona Cardinals","fitla",16,100,1028,6,2,2]
[3159,"Andre Roberts","ATL","Buy",null,null,null,null,null,null,null,null,null,null,0,0,0,0,0,{"$error":"#DIV/0!"},{"$error":"#DIV/0!"},{"$error":"#DIV/0!"},{"$error":"#DIV/0!"},{"$error":"#DIV/0!"}," ",3159,"Andre Roberts",{"$f":"IF(AQ5<>0,VLOOKUP(AQ5,Info!A:B,2,FALSE),\"\")","v":"ATL"},"roban",1.875,25,0.125,0.125,0.125,0,0,0,0,0,null,3159,"Andre Roberts","Atlanta Falcons","roban",16,30,400,2,2,2]
[2935,"Julio Jones","ATL","Buy",null,null,null,null,null,null,null,null,null,null,0,0,0,0,0,{"$error":"#DIV/0!"},{"$error":"#DIV/0!"},{"$error":"#DIV/0!"},{"$error":"#DIV/0!"},{"$error":"#DIV/0!"}," ",2935,"Julio Jones",{"$f":"IF(AQ6<>0,VLOOKUP(AQ6,Info!A:B,2,FALSE),\"\")","v":"ATL"},"jojul",5.9375,100,0.4375,0.125,0.125,0,0,0,0,0,null,2935,"Julio Jones","Atlanta Falcons","jojul",16,95,1600,7,2,2]
[3660,"Mohamed Sanu","ATL","Buy",null,null,null,null,null,null,null,null,null,null,0,0,0,0,0,{"$error":"#DIV/0!"},{"$error":"#DIV/0!"},{"$error":"#DIV/0!"},{"$error":"#DIV/0!"},{"$error":"#DIV/0!"}," ",3660,"Mohamed Sanu",{"$f":"IF(AQ7<>0,VLOOKUP(AQ7,Info!A:B,2,FALSE),\"\")","v":"ATL"},"sanmo",3.9375,43.5625,0.25,0.125,0.125,0,0,0,0,0,null,3660,"Mohamed Sanu","Atlanta Falcons","sanmo",16,63,697,4,2,2]
[1702,"Ben Watson","BAL","Buy",null,null,null,null,null,null,null,null,null,null,0,0,0,0,0,{"$error":"#DIV/0!"},{"$error":"#DIV/0!"},{"$error":"#DIV/0!"},{"$error":"#DIV/0!"},{"$error":"#DIV/0!"}," ",1702,"Ben Watson",{"$f":"IF(AQ8<>0,VLOOKUP(AQ8,Info!A:B,2,FALSE),\"\")","v":"BAL"},"watbe",4.625,51.5625,0.375,0.125,0.125,0,0,0,0,0,null,1702,"Ben Watson","Baltimore Ravens","watbe",16,74,825,6,2,2]
[2567,"Jeremy Maclin","BAL","Buy",null,null,null,null,null,null,null,null,null,null,0,0,0,0,0,{"$error":"#DIV/0!"},{"$error":"#DIV/0!"},{"$error":"#DIV/0!"},{"$error":"#DIV/0!"},{"$error":"#DIV/0!"}," ",2567,"Jeremy Maclin",{"$f":"IF(AQ9<>0,VLOOKUP(AQ9,Info!A:B,2,FALSE),\"\")","v":"BAL"},"macje",3.6875,44.6875,0.1875,0.125,0.125,0,0,0,0,0,null,2567,"Jeremy Maclin","Baltimore Ravens","macje",16,59,715,3,2,2]
[2558,"Mike Wallace","BAL","Buy",null,null,null,null,null,null,null,null,null,null,0,0,0,0,0,{"$error":"#DIV/0!"},{"$error":"#DIV/0!"},{"$error":"#DIV/0!"},{"$error":"#DIV/0!"},{"$error":"#DIV/0!"}," ",2558,"Mike Wallace",{"$f":"IF(AQ10<>0,VLOOKUP(AQ10,Info!A:B,2,FALSE),\"\")","v":"BAL"},"wamik",4.5,63.5625,0.25,0.125,0.125,0,0,0,0,0,null,2558,"Mike Wallace","Baltimore Ravens","wamik",16,72,1017,4,2,2]
[3677,"Andre Holmes","BUF","Buy",null,null,null,null,null,null,null,null,null,null,0,0,0,0,0,{"$error":"#DIV/0!"},{"$error":"#DIV/0!"},{"$error":"#DIV/0!"},{"$error":"#DIV/0!"},{"$error":"#DIV/0!"}," ",3677,"Andre Holmes",{"$f":"IF(AQ11<>0,VLOOKUP(AQ11,Info!A:B,2,FALSE),\"\")","v":"BUF"},"holan",1.875,25,0.1875,0.125,0.125,0,0,0,0,0,null,3677,"Andre Holmes","Buffalo Bills","holan",16,30,400,3,2,2]
[3416,"Charles Clay","BUF","Buy",null,null,null,null,null,null,null,null,null,null,0,0,0,0,0,{"$error":"#DIV/0!"},{"$error":"#DIV/0!"},{"$error":"#DIV/0!"},{"$error":"#DIV/0!"},{"$error":"#DIV/0!"}," ",3416,"Charles Clay",{"$f":"IF(AQ12<>0,VLOOKUP(AQ12,Info!A:B,2,FALSE),\"\")","v":"BUF"},"clach",3.8125,36.8125,0.25,0.125,0.125,0,0,0,0,0,null,3416,"Charles Clay","Buffalo Bills","clach",16,61,589,4,2,2]
[3686,"Jordan Matthews","BUF","Buy",null,null,null,null,null,null,null,null,null,null,0,0,0,0,0,{"$error":"#DIV/0!"},{"$error":"#DIV/0!"},{"$error":"#DIV/0!"},{"$error":"#DIV/0!"},{"$error":"#DIV/0!"}," ",3686,"Jordan Matthews",{"$f":"IF(AQ13<>0,VLOOKUP(AQ13,Info!A:B,2,FALSE),\"\")","v":"BUF"},"matjo",5.1875,57.4375,0.1875,0.125,0.125,0,0,0,0,0,null,3686,"Jordan Matthews","Buffalo Bills","matjo",16,83,919,3,2,2]
[3603,"Kelvin Benjamin","BUF","Buy",null,null,null,null,null,null,null,null,null,null,0,0,0,0,0,{"$error":"#DIV/0!"},{"$error":"#DIV/0!"},{"$error":"#DIV/0!"},{"$error":"#DIV/0!"},{"$error":"#DIV/0!"}," ",3603,"Kelvin Benjamin",{"$f":"IF(AQ14<>0,VLOOKUP(AQ14,Info!A:B,2,FALSE),\"\")","v":"BUF"},"benke",3.9375,58.8125,0.4375,0.125,0.125,0,0,0,0,0,null,3603,"Kelvin Benjamin","Buffalo Bills","benke",16,63,941,7,2,2]
[3893,"Charles Johnson","CAR","Buy",null,null,null,null,null,null,null,null,null,null,0,0,0,0,0,{"$error":"#DIV/0!"},{"$error":"#DIV/0!"},{"$error":"#DIV/0!"},{"$error":"#DIV/0!"},{"$error":"#DIV/0!"}," ",3893,"Charles Johnson",{"$f":"IF(AQ15<>0,VLOOKUP(AQ15,Info!A:B,2,FALSE),\"\")","v":"CAR"},"johns",1.875,25,0.125,0.125,0.125,0,0,0,0,0,null,3893,"Charles Johnson","Carolina Panthers","johns",16,30,400,2,2,2]
[3896,"Devin Funchess","CAR","Buy",null,null,null,null,null,null,null,null,null,null,0,0,0,0,0,{"$error":"#DIV/0!"},{"$error":"#DIV/0!"},{"$error":"#DIV/0!"},{"$error":"#DIV/0!"},{"$error":"#DIV/0!"}," ",3896,"Devin Funchess",{"$f":"IF(AQ16<>0,VLOOKUP(AQ16,Info!A:B,2,FALSE),\"\")","v":"CAR"},"funde",1.875,25,0.25,0.125,0.125,0,0,0,0,0,null,3896,"Devin Funchess","Carolina Panthers","funde",16,30,400,4,2,2]
[2931,"Ed Dickson","CAR","Buy",null,null,null,null,null,null,null,null,null,null,0,0,0,0,0,{"$error":"#DIV/0!"},{"$error":"#DIV/0!"},{"$error":"#DIV/0!"},{"$error":"#DIV/0!"},{"$error":"#DIV/0!"}," ",2931,"Ed Dickson",{"$f":"IF(AQ17<>0,VLOOKUP(AQ17,Info!A:B,2,FALSE),\"\")","v":"CAR"},"diced",1.875,25,0.125,0.125,0.125,0,0,0,0,0,null,2931,"Ed Dickson","Carolina Panthers","diced",16,30,400,2,2,2]
[2099,"Greg Olsen","CAR","Buy",null,null,null,null,null,null,null,null,null,null,0,0,0,0,0,{"$error":"#DIV/0!"},{"$error":"#DIV/0!"},{"$error":"#DIV/0!"},{"$error":"#DIV/0!"},{"$error":"#DIV/0!"}," ",2099,"Greg Olsen",{"$f":"IF(AQ18<>0,VLOOKUP(AQ18,Info!A:B,2,FALSE),\"\")","v":"CAR"},"olsgr",5,67.0625,0.1875,0.125,0.125,0,0,0,0,0,null,2099,"Greg Olsen","Carolina Panthers","olsgr",16,80,1073,3,2,2]
[3364,"Kendall Wright","CHI","Buy",null,null,null,null,null,null,null,null,null,null,0,0,0,0,0,{"$error":"#DIV/0!"},{"$error":"#DIV/0!"},{"$error":"#DIV/0!"},{"$error":"#DIV/0!"},{"$error":"#DIV/0!"}," ",3364,"Kendall Wright",{"$f":"IF(AQ19<>0,VLOOKUP(AQ19,Info!A:B,2,FALSE),\"\")","v":"CHI"},"wrike",2.625,37.8125,0.25,0.125,0.125,0,0,0,0,0,null,3364,"Kendall Wright","Chicago Bears","wrike",16,42,605,4,2,2]
[3636,"Markus Wheaton","CHI","Buy",null,null,null,null,null,null,null,null,null,null,0,0,0,0,0,{"$error":"#DIV/0!"},{"$error":"#DIV/0!"},{"$error":"#DIV/0!"},{"$error":"#DIV/0!"},{"$error":"#DIV/0!"}," ",3636,"Markus Wheaton",{"$f":"IF(AQ20<>0,VLOOKUP(AQ20,Info!A:B,2,FALSE),\"\")","v":"CHI"},"whema",2.625,45.125,0.3125,0.125,0.125,0,0,0,0,0,null,3636,"Markus Wheaton","Chicago Bears","whema",16,42,722,5,2,2]
[4107,"Zach Miller","CHI","Buy",null,null,null,null,null,null,null,null,null,null,0,0,0,0,0,{"$error":"#DIV/0!"},{"$error":"#DIV/0!"},{"$error":"#DIV/0!"},{"$error":"#DIV/0!"},{"$error":"#DIV/0!"}," ",4107,"Zach Miller",{"$f":"IF(AQ21<>0,VLOOKUP(AQ21,Info!A:B,2,FALSE),\"\")","v":"CHI"},"milza",4.6875,48.625,0.375,0.125,0.125,0,0,0,0,0,null,4107,"Zach Miller","Chicago Bears","milza",16,75,778,6,2,2]
[2934,"A.J. Green","CIN","Buy",null,null,null,null,null,null,null,null,null,null,0,0,0,0,0,{"$error":"#DIV/0!"},{"$error":"#DIV/0!"},{"$error":"#DIV/0!"},{"$error":"#DIV/0!"},{"$error":"#DIV/0!"}," ",2934,"A.J. Green",{"$f":"IF(AQ22<>0,VLOOKUP(AQ22,Info!A:B,2,FALSE),\"\")","v":"CIN"},"greaj",6.25,96.375,0.375,0.125,0.125,0,0,0,0,0,null,2934,"A.J. Green","Cincinnati Bengals","greaj",16,100,1542,6,2,2]
[3389,"Brandon LaFell","CIN","Buy",null,null,null,null,null,null,null,null,null,null,0,0,0,0,0,{"$error":"#DIV/0!"},{"$error":"#DIV/0!"},{"$error":"#DIV/0!"},{"$error":"#DIV/0!"},{"$error":"#DIV/0!"}," ",3389,"Brandon LaFell",{"$f":"IF(AQ23<>0,VLOOKUP(AQ23,Info!A:B,2,FALSE),\"\")","v":"CIN"},"lafbr",4,53.875,0.375,0.125,0.125,0,0,0,0,0,null,3389,"Brandon LaFell","Cincinnati Bengals","lafbr",16,64,862,6,2,2]
[3334,"Tyler Eifert","CIN","Buy",null,null,null,null,null,null,null,null,null,null,0,0,0,0,0,{"$error":"#DIV/0!"},{"$error":"#DIV/0!"},{"$error":"#DIV/0!"},{"$error":"#DIV/0!"},{"$error":"#DIV/0!"}," ",3334,"Tyler Eifert",{"$f":"IF(AQ24<>0,VLOOKUP(AQ24,Info!A:B,2,FALSE),\"\")","v":"CIN"},"eifty",4,55,0.6875,0.125,0.125,0,0,0,0,0,null,3334,"Tyler Eifert","Cincinnati Bengals","eifty",16,64,880,11,2,2]
[3357,"Josh Gordon","CLE","Buy",null,null,null,null,null,null,null,null,null,null,0,0,0,0,0,{"$error":"#DIV/0!"},{"$error":"#DIV/0!"},{"$error":"#DIV/0!"},{"$error":"#DIV/0!"},{"$error":"#DIV/0!"}," ",3357,"Josh Gordon",{"$f":"IF(AQ25<>0,VLOOKUP(AQ25,Info!A:B,2,FALSE),\"\")","v":"CLE"},"gorjo",4.8125,60.625,0.125,0.125,0.125,0,0,0,0,0,null,3357,"Josh Gordon","Cleveland Browns","gorjo",16,77,970,2,2,2]
[2507,"Kenny Britt","CLE","Buy",null,null,null,null,null,null,null,null,null,null,0,0,0,0,0,{"$error":"#DIV/0!"},{"$error":"#DIV/0!"},{"$error":"#DIV/0!"},{"$error":"#DIV/0!"},{"$error":"#DIV/0!"}," ",2507,"Kenny Britt",{"$f":"IF(AQ26<>0,VLOOKUP(AQ26,Info!A:B,2,FALSE),\"\")","v":"CLE"},"brike",4.5625,66.8125,0.3125,0.125,0.125,0,0,0,0,0,null,2507,"Kenny Britt","Cleveland Browns","brike",16,73,1069,5,2,2]
[4085,"Sammie Coates","CLE","Buy",null,null,null,null,null,null,null,null,null,null,0,0,0,0,0,{"$error":"#DIV/0!"},{"$error":"#DIV/0!"},{"$error":"#DIV/0!"},{"$error":"#DIV/0!"},{"$error":"#DIV/0!"}," ",4085,"Sammie Coates",{"$f":"IF(AQ27<>0,VLOOKUP(AQ27,Info!A:B,2,FALSE),\"\")","v":"CLE"},"coasa",1.875,31.0625,0.125,0.125,0.125,0,0,0,0,0,null,4085,"Sammie Coates","Cleveland Browns","coasa",16,30,497,2,2,2]
[4087,"Cole Beasley","DAL","Buy",null,null,null,null,null,null,null,null,null,null,0,0,0,0,0,{"$error":"#DIV/0!"},{"$error":"#DIV/0!"},{"$error":"#DIV/0!"},{"$error":"#DIV/0!"},{"$error":"#DIV/0!"}," ",4087,"Cole Beasley",{"$f":"IF(AQ28<>0,VLOOKUP(AQ28,Info!A:B,2,FALSE),\"\")","v":"DAL"},"beaco",4.6875,52.0625,0.3125,0.125,0.125,0,0,0,0,0,null,4087,"Cole Beasley","Dallas Cowboys","beaco",16,75,833,5,2,2]
[2699,"Dez Bryant","DAL","Buy",null,null,null,null,null,null,null,null,null,null,0,0,0,0,0,{"$error":"#DIV/0!"},{"$error":"#DIV/0!"},{"$error":"#DIV/0!"},{"$error":"#DIV/0!"},{"$error":"#DIV/0!"}," ",2699,"Dez Bryant",{"$f":"IF(AQ29<>0,VLOOKUP(AQ29,Info!A:B,2,FALSE),\"\")","v":"DAL"},"bryde",3.875,61.25,0.625,0.125,0.125,0,0,0,0,0,null,2699,"Dez Bryant","Dallas Cowboys","bryde",16,62,980,10,2,2]
[1364,"Jason Witten","DAL","Buy",null,null,null,null,null,null,null,null,null,null,0,0,0,0,0,{"$error":"#DIV/0!"},{"$error":"#DIV/0!"},{"$error":"#DIV/0!"},{"$error":"#DIV/0!"},{"$error":"#DIV/0!"}," ",1364,"Jason Witten",{"$f":"IF(AQ30<>0,VLOOKUP(AQ30,Info!A:B,2,FALSE),\"\")","v":"DAL"},"witja",4.3125,42.0625,0.1875,0.125,0.125,0,0,0,0,0,null,1364,"Jason Witten","Dallas Cowboys","witja",16,69,673,3,2,2]
[3365,"Terrance Williams","DAL","Buy",null,null,null,null,null,null,null,null,null,null,0,0,0,0,0,{"$error":"#DIV/0!"},{"$error":"#DIV/0!"},{"$error":"#DIV/0!"},{"$error":"#DIV/0!"},{"$error":"#DIV/0!"}," ",3365,"Terrance Williams",{"$f":"IF(AQ31<>0,VLOOKUP(AQ31,Info!A:B,2,FALSE),\"\")","v":"DAL"},"wilte",2.75,37.125,0.25,0.125,0.125,0,0,0,0,0,null,3365,"Terrance Williams","Dallas Cowboys","wilte",16,44,594,4,2,2]
[2047,"Brandon Marshall","DEN","Buy",null,null,null,null,null,null,null,null,null,null,0,0,0,0,0,{"$error":"#DIV/0!"},{"$error":"#DIV/0!"},{"$error":"#DIV/0!"},{"$error":"#DIV/0!"},{"$error":"#DIV/0!"}," ",2047,"Brandon Marshall",{"$f":"IF(AQ32<>0,VLOOKUP(AQ32,Info!A:B,2,FALSE),\"\")","v":"DEN"},"marbr",4,52.4375,0.1875,0.125,0.125,0,0,0,0,0,null,2047,"Brandon Marshall","Denver Broncos","marbr",16,64,839,3,2,2]
[3119,"Demaryius Thomas","DEN","Buy",null,null,null,null,null,null,null,null,null,null,0,0,0,0,0,{"$error":"#DIV/0!"},{"$error":"#DIV/0!"},{"$error":"#DIV/0!"},{"$error":"#DIV/0!"},{"$error":"#DIV/0!"}," ",3119,"Demaryius Thomas",{"$f":"IF(AQ33<>0,VLOOKUP(AQ33,Info!A:B,2,FALSE),\"\")","v":"DEN"},"thode",5.625,67.6875,0.3125,0.125,0.125,0,0,0,0,0,null,3119,"Demaryius Thomas","Denver Broncos","thode",16,90,1083,5,2,2]
[3424,"Emmanuel Sanders","DEN","Buy",null,null,null,null,null,null,null,null,null,null,0,0,0,0,0,{"$error":"#DIV/0!"},{"$error":"#DIV/0!"},{"$error":"#DIV/0!"},{"$error":"#DIV/0!"},{"$error":"#DIV/0!"}," ",3424,"Emmanuel Sanders",{"$f":"IF(AQ34<>0,VLOOKUP(AQ34,Info!A:B,2,FALSE),\"\")","v":"DEN"},"sanem",4.9375,64.5,0.3125,0.125,0.125,0,0,0,0,0,null,3424,"Emmanuel Sanders","Denver Broncos","sanem",16,79,1032,5,2,2]
[4058,"Eric Ebron","DET","Buy",null,null,null,null,null,null,null,null,null,null,0,0,0,0,0,{"$error":"#DIV/0!"},{"$error":"#DIV/0!"},{"$error":"#DIV/0!"},{"$error":"#DIV/0!"},{"$error":"#DIV/0!"}," ",4058,"Eric Ebron",{"$f":"IF(AQ35<>0,VLOOKUP(AQ35,Info!A:B,2,FALSE),\"\")","v":"DET"},"ebrer",4.6875,54.6875,0.125,0.125,0.125,0,0,0,0,0,null,4058,"Eric Ebron","Detroit Lions","ebrer",16,75,875,2,2,2]
[3360,"Golden Tate","DET","Buy",null,null,null,null,null,null,null,null,null,null,0,0,0,0,0,{"$error":"#DIV/0!"},{"$error":"#DIV/0!"},{"$error":"#DIV/0!"},{"$error":"#DIV/0!"},{"$error":"#DIV/0!"}," ",3360,"Golden Tate",{"$f":"IF(AQ36<>0,VLOOKUP(AQ36,Info!A:B,2,FALSE),\"\")","v":"DET"},"tatgo",5.6875,67.3125,0.25,0.125,0.125,0,0,0,0,0,null,3360,"Golden Tate","Detroit Lions","tatgo",16,91,1077,4,2,2]
[3415,"Marvin Jones","DET","Buy",null,null,null,null,null,null,null,null,null,null,0,0,0,0,0,{"$error":"#DIV/0!"},{"$error":"#DIV/0!"},{"$error":"#DIV/0!"},{"$error":"#DIV/0!"},{"$error":"#DIV/0!"}," ",3415,"Marvin Jones",{"$f":"IF(AQ37<>0,VLOOKUP(AQ37,Info!A:B,2,FALSE),\"\")","v":"DET"},"jonem",3.6875,62,0.25,0.125,0.125,0,0,0,0,0,null,3415,"Marvin Jones","Detroit Lions","jonem",16,59,992,4,2,2]
[3633,"Andrew Hawkins","XXX","Buy",null,null,null,null,null,null,null,null,null,null,0,0,0,0,0,{"$error":"#DIV/0!"},{"$error":"#DIV/0!"},{"$error":"#DIV/0!"},{"$error":"#DIV/0!"},{"$error":"#DIV/0!"}," ",3633,"Andrew Hawkins",{"$f":"IF(AQ38<>0,VLOOKUP(AQ38,Info!A:B,2,FALSE),\"\")","v":"XXX"},"hawan",2.0625,25,0.1875,0.125,0.125,0,0,0,0,0,null,3633,"Andrew Hawkins","FA/RET/DEC/HON","hawan",16,33,400,3,2,2]
[965,"Anquan Boldin","XXX","Buy",null,null,null,null,null,null,null,null,null,null,0,0,0,0,0,{"$error":"#DIV/0!"},{"$error":"#DIV/0!"},{"$error":"#DIV/0!"},{"$error":"#DIV/0!"},{"$error":"#DIV/0!"}," ",965,"Anquan Boldin",{"$f":"IF(AQ39<>0,VLOOKUP(AQ39,Info!A:B,2,FALSE),\"\")","v":"XXX"},"bolan",4.1875,36.5,0.5,0.125,0.125,0,0,0,0,0,null,965,"Anquan Boldin","FA/RET/DEC/HON","bolan",16,67,584,8,2,2]
[3330,"Brandon Myers","XXX","Buy",null,null,null,null,null,null,null,null,null,null,0,0,0,0,0,{"$error":"#DIV/0!"},{"$error":"#DIV/0!"},{"$error":"#DIV/0!"},{"$error":"#DIV/0!"},{"$error":"#DIV/0!"}," ",3330,"Brandon Myers",{"$f":"IF(AQ40<>0,VLOOKUP(AQ40,Info!A:B,2,FALSE),\"\")","v":"XXX"},"myerb",1.875,25,0.125,0.125,0.125,0,0,0,0,0,null,3330,"Brandon Myers","FA/RET/DEC/HON","myerb",16,30,400,2,2,2]
[2703,"Brandon Pettigrew","XXX","Buy",null,null,null,null,null,null,null,null,null,null,0,0,0,0,0,{"$error":"#DIV/0!"},{"$error":"#DIV/0!"},{"$error":"#DIV/0!"},{"$error":"#DIV/0!"},{"$error":"#DIV/0!"}," ",2703,"Brandon Pettigrew",{"$f":"IF(AQ41<>0,VLOOKUP(AQ41,Info!A:B,2,FALSE),\"\")","v":"XXX"},"petbr",1.875,25,0.125,0.125,0.125,0,0,0,0,0,null,2703,"Brandon Pettigrew","FA/RET/DEC/HON","petbr",16,30,400,2,2,2]
[3186,"Cecil Shorts","XXX","Buy",null,null,null,null,null,null,null,null,null,null,0,0,0,0,0,{"$error":"#DIV/0!"},{"$error":"#DIV/0!"},{"$error":"#DIV/0!"},{"$error":"#DIV/0!"},{"$error":"#DIV/0!"}," ",3186,"Cecil Shorts",{"$f":"IF(AQ42<>0,VLOOKUP(AQ42,Info!A:B,2,FALSE),\"\")","v":"XXX"},"shoce",1.875,25,0.125,0.125,0.125,0,0,0,0,0,null,3186,"Cecil Shorts","FA/RET/DEC/HON","shoce",16,30,400,2,2,2]
[3606,"Dennis Pitta","XXX","Buy",null,null,null,null,null,null,null,null,null,null,0,0,0,0,0,{"$error":"#DIV/0!"},{"$error":"#DIV/0!"},{"$error":"#DIV/0!"},{"$error":"#DIV/0!"},{"$error":"#DIV/0!"}," ",3606,"Dennis Pitta",{"$f":"IF(AQ43<>0,VLOOKUP(AQ43,Info!A:B,2,FALSE),\"\")","v":"XXX"},"pitde",5.375,45.5625,0.125,0.125,0.125,0,0,0,0,0,null,3606,"Dennis Pitta","FA/RET/DEC/HON","pitde",16,86,729,2,2,2]
[2495,"Devin Hester","XXX","Buy",null,null,null,null,null,null,null,null,null,null,0,0,0,0,0,{"$error":"#DIV/0!"},{"$error":"#DIV/0!"},{"$error":"#DIV/0!"},{"$error":"#DIV/0!"},{"$error":"#DIV/0!"}," ",2495,"Devin Hester",{"$f":"IF(AQ44<>0,VLOOKUP(AQ44,Info!A:B,2,FALSE),\"\")","v":"XXX"},"hesde",1.875,25,0.125,0.125,0.125,0,0,0,0,0,null,2495,"Devin Hester","FA/RET/DEC/HON","hesde",16,30,400,2,2,2]
[3897,"Dorial Green-Beckham","XXX","Buy",null,null,null,null,null,null,null,null,null,null,0,0,0,0,0,{"$error":"#DIV/0!"},{"$error":"#DIV/0!"},{"$error":"#DIV/0!"},{"$error":"#DIV/0!"},{"$error":"#DIV/0!"}," ",3897,"Dorial Green-Beckham",{"$f":"IF(AQ45<>0,VLOOKUP(AQ45,Info!A:B,2,FALSE),\"\")","v":"XXX"},"gredo",2.375,26.125,0.125,0.125,0.125,0,0,0,0,0,null,3897,"Dorial Green-Beckham","FA/RET/DEC/HON","gredo",16,38,418,2,2,2]
[2283,"Eddie Royal","XXX","Buy",null,null,null,null,null,null,null,null,null,null,0,0,0,0,0,{"$error":"#DIV/0!"},{"$error":"#DIV/0!"},{"$error":"#DIV/0!"},{"$error":"#DIV/0!"},{"$error":"#DIV/0!"}," ",2283,"Eddie Royal",{"$f":"IF(AQ46<>0,VLOOKUP(AQ46,Info!A:B,2,FALSE),\"\")","v":"XXX"},"royed",3.6875,41,0.25,0.125,0.125,0,0,0,0,0,null,2283,"Eddie Royal","FA/RET/DEC/HON","royed",16,59,656,4,2,2]
[3363,"Garrett Graham","XXX","Buy",null,null,null,null,null,null,null,null,null,null,0,0,0,0,0,{"$error":"#DIV/0!"},{"$error":"#DIV/0!"},{"$error":"#DIV/0!"},{"$error":"#DIV/0!"},{"$error":"#DIV/0!"}," ",3363,"Garrett Graham",{"$f":"IF(AQ47<>0,VLOOKUP(AQ47,Info!A:B,2,FALSE),\"\")","v":"XXX"},"graga",1.875,25,0.1875,0.125,0.125,0,0,0,0,0,null,3363,"Garrett Graham","FA/RET/DEC/HON","graga",16,30,400,3,2,2]
[4056,"Gary Barnidge","XXX","Buy",null,null,null,null,null,null,null,null,null,null,0,0,0,0,0,{"$error":"#DIV/0!"},{"$error":"#DIV/0!"},{"$error":"#DIV/0!"},{"$error":"#DIV/0!"},{"$error":"#DIV/0!"}," ",4056,"Gary Barnidge",{"$f":"IF(AQ48<>0,VLOOKUP(AQ48,Info!A:B,2,FALSE),\"\")","v":"XXX"},"barga",3.4375,38.25,0.125,0.125,0.125,0,0,0,0,0,null,4056,"Gary Barnidge","FA/RET/DEC/HON","barga",16,55,612,2,2,2]
[2802,"Jacob Tamme","XXX","Buy",null,null,null,null,null,null,null,null,null,null,0,0,0,0,0,{"$error":"#DIV/0!"},{"$error":"#DIV/0!"},{"$error":"#DIV/0!"},{"$error":"#DIV/0!"},{"$error":"#DIV/0!"}," ",2802,"Jacob Tamme",{"$f":"IF(AQ49<>0,VLOOKUP(AQ49,Info!A:B,2,FALSE),\"\")","v":"XXX"},"tamja",2.75,26.25,0.375,0.125,0.125,0,0,0,0,0,null,2802,"Jacob Tamme","FA/RET/DEC/HON","tamja",16,44,420,6,2,2]
[3154,"Jeremy Kerley","XXX","Buy",null,null,null,null,null,null,null,null,null,null,0,0,0,0,0,{"$error":"#DIV/0!"},{"$error":"#DIV/0!"},{"$error":"#DIV/0!"},{"$error":"#DIV/0!"},{"$error":"#DIV/0!"}," ",3154,"Jeremy Kerley",{"$f":"IF(AQ50<>0,VLOOKUP(AQ50,Info!A:B,2,FALSE),\"\")","v":"XXX"},"kerje",4,41.6875,0.1875,0.125,0.125,0,0,0,0,0,null,3154,"Jeremy Kerley","FA/RET/DEC/HON","kerje",16,64,667,3,2,2]
[3327,"Jordan Cameron","XXX","Buy",null,null,null,null,null,null,null,null,null,null,0,0,0,0,0,{"$error":"#DIV/0!"},{"$error":"#DIV/0!"},{"$error":"#DIV/0!"},{"$error":"#DIV/0!"},{"$error":"#DIV/0!"}," ",3327,"Jordan Cameron",{"$f":"IF(AQ51<>0,VLOOKUP(AQ51,Info!A:B,2,FALSE),\"\")","v":"XXX"},"camjo",2.125,25,0.1875,0.125,0.125,0,0,0,0,0,null,3327,"Jordan Cameron","FA/RET/DEC/HON","camjo",16,34,400,3,2,2]
[3674,"Larry Donnell","XXX","Buy",null,null,null,null,null,null,null,null,null,null,0,0,0,0,0,{"$error":"#DIV/0!"},{"$error":"#DIV/0!"},{"$error":"#DIV/0!"},{"$error":"#DIV/0!"},{"$error":"#DIV/0!"}," ",3674,"Larry Donnell",{"$f":"IF(AQ52<>0,VLOOKUP(AQ52,Info!A:B,2,FALSE),\"\")","v":"XXX"},"donla",1.875,25,0.125,0.125,0.125,0,0,0,0,0,null,3674,"Larry Donnell","FA/RET/DEC/HON","donla",16,30,400,2,2,2]
[2701,"Louis Murphy Jr.","XXX","Buy",null,null,null,null,null,null,null,null,null,null,0,0,0,0,0,{"$error":"#DIV/0!"},{"$error":"#DIV/0!"},{"$error":"#DIV/0!"},{"$error":"#DIV/0!"},{"$error":"#DIV/0!"}," ",2701,"Louis Murphy Jr.",{"$f":"IF(AQ53<>0,VLOOKUP(AQ53,Info!A:B,2,FALSE),\"\")","v":"XXX"},"murlo",2.8125,34.5625,0.1875,0.125,0.125,0,0,0,0,0,null,2701,"Louis Murphy Jr.","FA/RET/DEC/HON","murlo",16,45,553,3,2,2]
[3598,"Rod Streater","XXX","Buy",null,null,null,null,null,null,null,null,null,null,0,0,0,0,0,{"$error":"#DIV/0!"},{"$error":"#DIV/0!"},{"$error":"#DIV/0!"},{"$error":"#DIV/0!"},{"$error":"#DIV/0!"}," ",3598,"Rod Streater",{"$f":"IF(AQ54<>0,VLOOKUP(AQ54,Info!A:B,2,FALSE),\"\")","v":"XXX"},"strro",1.875,25,0.125,0.125,0.125,0,0,0,0,0,null,3598,"Rod Streater","FA/RET/DEC/HON","strro",16,30,400,2,2,2]
[970,"Steve Smith Sr.","XXX","Buy",null,null,null,null,null,null,null,null,null,null,0,0,0,0,0,{"$error":"#DIV/0!"},{"$error":"#DIV/0!"},{"$error":"#DIV/0!"},{"$error":"#DIV/0!"},{"$error":"#DIV/0!"}," ",970,"Steve Smith Sr.",{"$f":"IF(AQ55<>0,VLOOKUP(AQ55,Info!A:B,2,FALSE),\"\")","v":"XXX"},"smist",5,57.0625,0.375,0.125,0.125,0,0,0,0,0,null,970,"Steve Smith Sr.","FA/RET/DEC/HON","smist",16,80,913,6,2,2]
[2970,"Victor Cruz","XXX","Buy",null,null,null,null,null,null,null,null,null,null,0,0,0,0,0,{"$error":"#DIV/0!"},{"$error":"#DIV/0!"},{"$error":"#DIV/0!"},{"$error":"#DIV/0!"},{"$error":"#DIV/0!"}," ",2970,"Victor Cruz",{"$f":"IF(AQ56<>0,VLOOKUP(AQ56,Info!A:B,2,FALSE),\"\")","v":"XXX"},"cruvi",2.625,39.0625,0.125,0.125,0.125,0,0,0,0,0,null,2970,"Victor Cruz","FA/RET/DEC/HON","cruvi",16,42,625,2,2,2]
[2049,"Vincent Jackson","XXX","Buy",null,null,null,null,null,null,null,null,null,null,0,0,0,0,0,{"$error":"#DIV/0!"},{"$error":"#DIV/0!"},{"$error":"#DIV/0!"},{"$error":"#DIV/0!"},{"$error":"#DIV/0!"}," ",2049,"Vincent Jackson",{"$f":"IF(AQ57<>0,VLOOKUP(AQ57,Info!A:B,2,FALSE),\"\")","v":"XXX"},"jacvi",3,34.625,0.125,0.125,0.125,0,0,0,0,0,null,2049,"Vincent Jackson","FA/RET/DEC/HON","jacvi",16,48,554,2,2,2]
[3892,"Davante Adams","GRB","Buy",null,null,null,null,null,null,null,null,null,null,0,0,0,0,0,{"$error":"#DIV/0!"},{"$error":"#DIV/0!"},{"$error":"#DIV/0!"},{"$error":"#DIV/0!"},{"$error":"#DIV/0!"}," ",3892,"Davante Adams",{"$f":"IF(AQ58<>0,VLOOKUP(AQ58,Info!A:B,2,FALSE),\"\")","v":"GRB"},"adada",4.6875,62.3125,0.75,0.125,0.125,0,0,0,0,0,null,3892,"Davante Adams","Green Bay Packers","adada",16,75,997,12,2,2]
[2800,"Jordy Nelson","GRB","Buy",null,null,null,null,null,null,null,null,null,null,0,0,0,0,0,{"$error":"#DIV/0!"},{"$error":"#DIV/0!"},{"$error":"#DIV/0!"},{"$error":"#DIV/0!"},{"$error":"#DIV/0!"}," ",2800,"Jordy Nelson",{"$f":"IF(AQ59<>0,VLOOKUP(AQ59,Info!A:B,2,FALSE),\"\")","v":"GRB"},"neljo",6.0625,78.5625,0.875,0.125,0.125,0,0,0,0,0,null,2800,"Jordy Nelson","Green Bay Packers","neljo",16,97,1257,14,2,2]
[2932,"Lance Kendricks","GRB","Buy",null,null,null,null,null,null,null,null,null,null,0,0,0,0,0,{"$error":"#DIV/0!"},{"$error":"#DIV/0!"},{"$error":"#DIV/0!"},{"$error":"#DIV/0!"},{"$error":"#DIV/0!"}," ",2932,"Lance Kendricks",{"$f":"IF(AQ60<>0,VLOOKUP(AQ60,Info!A:B,2,FALSE),\"\")","v":"GRB"},"kenla",3.125,31.1875,0.125,0.125,0.125,0,0,0,0,0,null,2932,"Lance Kendricks","Green Bay Packers","kenla",16,50,499,2,2,2]
[3333,"Martellus Bennett","GRB","Buy",null,null,null,null,null,null,null,null,null,null,0,0,0,0,0,{"$error":"#DIV/0!"},{"$error":"#DIV/0!"},{"$error":"#DIV/0!"},{"$error":"#DIV/0!"},{"$error":"#DIV/0!"}," ",3333,"Martellus Bennett",{"$f":"IF(AQ61<>0,VLOOKUP(AQ61,Info!A:B,2,FALSE),\"\")","v":"GRB"},"benma",3.4375,43.8125,0.4375,0.125,0.125,0,0,0,0,0,null,3333,"Martellus Bennett","Green Bay Packers","benma",16,55,701,7,2,2]
[3158,"Randall Cobb","GRB","Buy",null,null,null,null,null,null,null,null,null,null,0,0,0,0,0,{"$error":"#DIV/0!"},{"$error":"#DIV/0!"},{"$error":"#DIV/0!"},{"$error":"#DIV/0!"},{"$error":"#DIV/0!"}," ",3158,"Randall Cobb",{"$f":"IF(AQ62<>0,VLOOKUP(AQ62,Info!A:B,2,FALSE),\"\")","v":"GRB"},"cobra",4.625,46.9375,0.3125,0.125,0.125,0,0,0,0,0,null,3158,"Randall Cobb","Green Bay Packers","cobra",16,74,751,5,2,2]
[3328,"DeAndre Hopkins","HOU","Buy",null,null,null,null,null,null,null,null,null,null,0,0,0,0,0,{"$error":"#DIV/0!"},{"$error":"#DIV/0!"},{"$error":"#DIV/0!"},{"$error":"#DIV/0!"},{"$error":"#DIV/0!"}," ",3328,"DeAndre Hopkins",{"$f":"IF(AQ63<>0,VLOOKUP(AQ63,Info!A:B,2,FALSE),\"\")","v":"HOU"},"hopde",4.875,59.625,0.25,0.125,0.125,0,0,0,0,0,null,3328,"DeAndre Hopkins","Houston Texans","hopde",16,78,954,4,2,2]
[4070,"Will Fuller","HOU","Buy",null,null,null,null,null,null,null,null,null,null,0,0,0,0,0,{"$error":"#DIV/0!"},{"$error":"#DIV/0!"},{"$error":"#DIV/0!"},{"$error":"#DIV/0!"},{"$error":"#DIV/0!"}," ",4070,"Will Fuller",{"$f":"IF(AQ64<>0,VLOOKUP(AQ64,Info!A:B,2,FALSE),\"\")","v":"HOU"},"fulwi",3.3125,49.875,0.25,0.125,0.125,0,0,0,0,0,null,4070,"Will Fuller","Houston Texans","fulwi",16,53,798,4,2,2]
[4055,"Donte Moncrief","IND","Buy",null,null,null,null,null,null,null,null,null,null,0,0,0,0,0,{"$error":"#DIV/0!"},{"$error":"#DIV/0!"},{"$error":"#DIV/0!"},{"$error":"#DIV/0!"},{"$error":"#DIV/0!"}," ",4055,"Donte Moncrief",{"$f":"IF(AQ65<>0,VLOOKUP(AQ65,Info!A:B,2,FALSE),\"\")","v":"IND"},"mondo",3.3125,34.125,0.75,0.125,0.125,0,0,0,0,0,null,4055,"Donte Moncrief","Indianapolis Colts","mondo",16,53,546,12,2,2]
[4210,"Jack Doyle","IND","Buy",null,null,null,null,null,null,null,null,null,null,{"$f":"VLOOKUP($A66,$A:$N,5,FALSE)/VLOOKUP($A66,$Z:$AM,5,FALSE)","v":0},{"$f":"VLOOKUP($A66,$A:$N,6,FALSE)/VLOOKUP($A66,$Z:$AM,6,FALSE)","v":0},{"$f":"VLOOKUP($A66,$A:$N,7,FALSE)/VLOOKUP($A66,$Z:$AM,7,FALSE)","v":0},{"$f":"VLOOKUP($A66,$A:$N,8,FALSE)/VLOOKUP($A66,$Z:$AM,8,FALSE)","v":0},{"$f":"VLOOKUP($A66,$A:$N,9,FALSE)/VLOOKUP($A66,$Z:$AM,9,FALSE)","v":0},{"$f":"VLOOKUP($A66,$A:$N,10,FALSE)/VLOOKUP($A66,$Z:$AM,10,FALSE)","v":{"$error":"#DIV/0!"}},{"$f":"VLOOKUP($A66,$A:$N,11,FALSE)/VLOOKUP($A66,$Z:$AM,11,FALSE)","v":{"$error":"#DIV/0!"}},{"$f":"VLOOKUP($A66,$A:$N,12,FALSE)/VLOOKUP($A66,$Z:$AM,12,FALSE)","v":{"$error":"#DIV/0!"}},{"$f":"VLOOKUP($A66,$A:$N,13,FALSE)/VLOOKUP($A66,$Z:$AM,13,FALSE)","v":{"$error":"#DIV/0!"}},{"$f":"VLOOKUP($A66,$A:$N,14,FALSE)/VLOOKUP($A66,$Z:$AM,14,FALSE)","v":{"$error":"#DIV/0!"}}," ",4210,"Jack Doyle",{"$f":"IF(AQ66<>0,VLOOKUP(AQ66,Info!A:B,2,FALSE),\"\")","v":"IND"},"doyja",4.375,56.25,0.3125,6.25E-2,0.1875,0,0,0,0,0,null,4210,"Jack Doyle","Indianapolis Colts","doyja",16,70,900,5,1,3]
[{"$f":"IF(Z67<>0,Z67,\"\")","v":3950},{"$f":"IF(A67<>0,VLOOKUP(A67,Z:AA,2,FALSE),\"\")","v":"Kamar Aiken"},{"$f":"IF(A67<>0,VLOOKUP(A67,Z:AB,3,FALSE))","v":"IND"},{"$f":"HYPERLINK(\"http://www.jockstocks.com/buysell.php?action=buymax&plid=\"&A67,\"Buy\")","v":"Buy"},null,null,null,null,null,null,null,null,null,null,0,0,0,0,0,{"$error":"#DIV/0!"},{"$error":"#DIV/0!"},{"$error":"#DIV/0!"},{"$error":"#DIV/0!"},{"$error":"#DIV/0!"}," ",{"$f":"IF(AO67<>0,AO67,\"\")","v":3950},{"$f":"IF(AP67<>0,VLOOKUP(Z67,AO:AP,2,FALSE),\"\")","v":"Kamar Aiken"},{"$f":"IF(AQ67<>0,VLOOKUP(AQ67,Info!A:B,2,FALSE),\"\")","v":"IND"},{"$f":"IF(AO67<>0,VLOOKUP(Z67,AO:AR,4,FALSE),\"\")","v":"aikka"},{"$f":"IF($AO67<>0,AT67/$AS67,\"\")","v":1.9375},{"$f":"IF($AO67<>0,AU67/$AS67,\"\")","v":25},{"$f":"IF($AO67<>0,AV67/$AS67,\"\")","v":0.125},{"$f":"IF($AO67<>0,AW67/$AS67,\"\")","v":0.125},{"$f":"IF($AO67<>0,AX67/$AS67,\"\")","v":0.125},{"$f":"IF($AO67<>0,AY67/$AS67,\"\")","v":0},{"$f":"IF($AO67<>0,AZ67/$AS67,\"\")","v":0},{"$f":"IF($AO67<>0,BA67/$AS67,\"\")","v":0},{"$f":"IF($AO67<>0,BB67/$AS67,\"\")","v":0},{"$f":"IF($AO67<>0,BC67/$AS67,\"\")","v":0},null,3950,"Kamar Aiken","Indianapolis Colts","aikka",16,31,400,2,2,2]
[3194,"T.Y. Hilton","IND","Buy",null,null,null,null,null,null,null,null,null,null,0,0,0,0,0,{"$error":"#DIV/0!"},{"$error":"#DIV/0!"},{"$error":"#DIV/0!"},{"$error":"#DIV/0!"},{"$error":"#DIV/0!"}," ",3194,"T.Y. Hilton",{"$f":"IF(AQ68<>0,VLOOKUP(AQ68,Info!A:B,2,FALSE),\"\")","v":"IND"},"hilty",5.6875,90.5,0.375,0.125,0.125,0,0,0,0,0,null,3194,"T.Y. Hilton","Indianapolis Colts","hilty",16,91,1448,6,2,2]
[3635,"Allen Hurns","JAC","Buy",null,null,null,null,null,null,null,null,null,null,0,0,0,0,0,{"$error":"#DIV/0!"},{"$error":"#DIV/0!"},{"$error":"#DIV/0!"},{"$error":"#DIV/0!"},{"$error":"#DIV/0!"}," ",3635,"Allen Hurns",{"$f":"IF(AQ69<>0,VLOOKUP(AQ69,Info!A:B,2,FALSE),\"\")","v":"JAC"},"hural",3.1875,43.375,0.25,0.125,0.125,0,0,0,0,0,null,3635,"Allen Hurns","Jacksonville Jaguars","hural",16,51,694,4,2,2]
[3676,"Allen Robinson","JAC","Buy",null,null,null,null,null,null,null,null,null,null,0,0,0,0,0,{"$error":"#DIV/0!"},{"$error":"#DIV/0!"},{"$error":"#DIV/0!"},{"$error":"#DIV/0!"},{"$error":"#DIV/0!"}," ",3676,"Allen Robinson",{"$f":"IF(AQ70<>0,VLOOKUP(AQ70,Info!A:B,2,FALSE),\"\")","v":"JAC"},"robal",4.5625,55.1875,0.375,0.125,0.125,0,0,0,0,0,null,3676,"Allen Robinson","Jacksonville Jaguars","robal",16,73,883,6,2,2]
[2937,"Arrelious Benn","JAC","Buy",null,null,null,null,null,null,null,null,null,null,0,0,0,0,0,{"$error":"#DIV/0!"},{"$error":"#DIV/0!"},{"$error":"#DIV/0!"},{"$error":"#DIV/0!"},{"$error":"#DIV/0!"}," ",2937,"Arrelious Benn",{"$f":"IF(AQ71<>0,VLOOKUP(AQ71,Info!A:B,2,FALSE),\"\")","v":"JAC"},"benar",1.875,25,0.125,0.125,0.125,0,0,0,0,0,null,2937,"Arrelious Benn","Jacksonville Jaguars","benar",16,30,400,2,2,2]
[2705,"Marcedes Lewis","JAC","Buy",null,null,null,null,null,null,null,null,null,null,0,0,0,0,0,{"$error":"#DIV/0!"},{"$error":"#DIV/0!"},{"$error":"#DIV/0!"},{"$error":"#DIV/0!"},{"$error":"#DIV/0!"}," ",2705,"Marcedes Lewis",{"$f":"IF(AQ72<>0,VLOOKUP(AQ72,Info!A:B,2,FALSE),\"\")","v":"JAC"},"lewma",2,25,0.125,0.125,0.125,0,0,0,0,0,null,2705,"Marcedes Lewis","Jacksonville Jaguars","lewma",16,32,400,2,2,2]
[3688,"Travis Kelce","KAN","Buy",null,null,null,null,null,null,null,null,null,null,0,0,0,0,0,{"$error":"#DIV/0!"},{"$error":"#DIV/0!"},{"$error":"#DIV/0!"},{"$error":"#DIV/0!"},{"$error":"#DIV/0!"}," ",3688,"Travis Kelce",{"$f":"IF(AQ73<>0,VLOOKUP(AQ73,Info!A:B,2,FALSE),\"\")","v":"KAN"},"keltr",5.3125,70.3125,0.25,0.125,0.125,0,0,0,0,0,null,3688,"Travis Kelce","Kansas City Chiefs","keltr",16,85,1125,4,2,2]
[4124,"Tyreek Hill","KAN","Buy",null,null,null,null,null,null,null,null,null,null,0,0,0,0,0,{"$error":"#DIV/0!"},{"$error":"#DIV/0!"},{"$error":"#DIV/0!"},{"$error":"#DIV/0!"},{"$error":"#DIV/0!"}," ",4124,"Tyreek Hill",{"$f":"IF(AQ74<>0,VLOOKUP(AQ74,Info!A:B,2,FALSE),\"\")","v":"KAN"},"hillt",3.8125,37.0625,0.375,0.1875,0.125,0,0,0,0,0,null,4124,"Tyreek Hill","Kansas City Chiefs","hillt",16,61,593,6,3,2]
[1332,"Antonio Gates","LAC","Buy",null,null,null,null,null,null,null,null,null,null,0,0,0,0,0,{"$error":"#DIV/0!"},{"$error":"#DIV/0!"},{"$error":"#DIV/0!"},{"$error":"#DIV/0!"},{"$error":"#DIV/0!"}," ",1332,"Antonio Gates",{"$f":"IF(AQ75<>0,VLOOKUP(AQ75,Info!A:B,2,FALSE),\"\")","v":"LAC"},"gatan",3.8125,39.125,0.5,0.125,0.125,0,0,0,0,0,null,1332,"Antonio Gates","Los Angeles Chargers","gatan",16,61,626,8,2,2]
[4211,"Hunter Henry","LAC","Buy",null,null,null,null,null,null,null,null,null,null,0,0,0,0,0,{"$error":"#DIV/0!"},{"$error":"#DIV/0!"},{"$error":"#DIV/0!"},{"$error":"#DIV/0!"},{"$error":"#DIV/0!"}," ",4211,"Hunter Henry",{"$f":"IF(AQ76<>0,VLOOKUP(AQ76,Info!A:B,2,FALSE),\"\")","v":"LAC"},"henhu",3.125,40.625,0.375,6.25E-2,0.1875,0,0,0,0,0,null,4211,"Hunter Henry","Los Angeles Chargers","henhu",16,50,650,6,1,3]
[3392,"Keenan Allen","LAC","Buy",null,null,null,null,null,null,null,null,null,null,0,0,0,0,0,{"$error":"#DIV/0!"},{"$error":"#DIV/0!"},{"$error":"#DIV/0!"},{"$error":"#DIV/0!"},{"$error":"#DIV/0!"}," ",3392,"Keenan Allen",{"$f":"IF(AQ77<>0,VLOOKUP(AQ77,Info!A:B,2,FALSE),\"\")","v":"LAC"},"allke",6.25,90.625,0.5,0.125,0.125,0,0,0,0,0,null,3392,"Keenan Allen","Los Angeles Chargers","allke",16,100,1450,8,2,2]
[3949,"Travis Benjamin","LAC","Buy",null,null,null,null,null,null,null,null,null,null,0,0,0,0,0,{"$error":"#DIV/0!"},{"$error":"#DIV/0!"},{"$error":"#DIV/0!"},{"$error":"#DIV/0!"},{"$error":"#DIV/0!"}," ",3949,"Travis Benjamin",{"$f":"IF(AQ78<>0,VLOOKUP(AQ78,Info!A:B,2,FALSE),\"\")","v":"LAC"},"bentr",3.375,48.375,0.3125,0.125,0.125,0,0,0,0,0,null,3949,"Travis Benjamin","Los Angeles Chargers","bentr",16,54,774,5,2,2]
[4086,"Tyrell Williams","LAC","Buy",null,null,null,null,null,null,null,null,null,null,0,0,0,0,0,{"$error":"#DIV/0!"},{"$error":"#DIV/0!"},{"$error":"#DIV/0!"},{"$error":"#DIV/0!"},{"$error":"#DIV/0!"}," ",4086,"Tyrell Williams",{"$f":"IF(AQ79<>0,VLOOKUP(AQ79,Info!A:B,2,FALSE),\"\")","v":"LAC"},"wilty",4.3125,66.1875,0.4375,0.125,0.125,0,0,0,0,0,null,4086,"Tyrell Williams","Los Angeles Chargers","wilty",16,69,1059,7,2,2]
[3362,"Robert Woods","LAR","Buy",null,null,null,null,null,null,null,null,null,null,0,0,0,0,0,{"$error":"#DIV/0!"},{"$error":"#DIV/0!"},{"$error":"#DIV/0!"},{"$error":"#DIV/0!"},{"$error":"#DIV/0!"}," ",3362,"Robert Woods",{"$f":"IF(AQ80<>0,VLOOKUP(AQ80,Info!A:B,2,FALSE),\"\")","v":"LAR"},"wooro",3.9375,47.125,0.125,0.125,0.125,0,0,0,0,0,null,3362,"Robert Woods","Los Angeles Rams","wooro",16,63,754,2,2,2]
[3605,"Sammy Watkins","LAR","Buy",null,null,null,null,null,null,null,null,null,null,0,0,0,0,0,{"$error":"#DIV/0!"},{"$error":"#DIV/0!"},{"$error":"#DIV/0!"},{"$error":"#DIV/0!"},{"$error":"#DIV/0!"}," ",3605,"Sammy Watkins",{"$f":"IF(AQ81<>0,VLOOKUP(AQ81,Info!A:B,2,FALSE),\"\")","v":"LAR"},"watsa",3.5,53.75,0.25,0.125,0.125,0,0,0,0,0,null,3605,"Sammy Watkins","Los Angeles Rams","watsa",16,56,860,4,2,2]
[3332,"Tavon Austin","LAR","Buy",null,null,null,null,null,null,null,null,null,null,0,0,0,0,0,{"$error":"#DIV/0!"},{"$error":"#DIV/0!"},{"$error":"#DIV/0!"},{"$error":"#DIV/0!"},{"$error":"#DIV/0!"}," ",3332,"Tavon Austin",{"$f":"IF(AQ82<>0,VLOOKUP(AQ82,Info!A:B,2,FALSE),\"\")","v":"LAR"},"austa",3.875,33.9375,0.1875,0.125,0.125,0,0,0,0,0,null,3332,"Tavon Austin","Los Angeles Rams","austa",16,62,543,3,2,2]
[2704,"Anthony Fasano","MIA","Buy",null,null,null,null,null,null,null,null,null,null,0,0,0,0,0,{"$error":"#DIV/0!"},{"$error":"#DIV/0!"},{"$error":"#DIV/0!"},{"$error":"#DIV/0!"},{"$error":"#DIV/0!"}," ",2704,"Anthony Fasano",{"$f":"IF(AQ83<>0,VLOOKUP(AQ83,Info!A:B,2,FALSE),\"\")","v":"MIA"},"fasan",1.875,25,0.125,0.125,0.125,0,0,0,0,0,null,2704,"Anthony Fasano","Miami Dolphins","fasan",16,30,400,2,2,2]
[4214,"DeVante Parker","MIA","Buy",null,null,null,null,null,null,null,null,null,null,0,0,0,0,0,{"$error":"#DIV/0!"},{"$error":"#DIV/0!"},{"$error":"#DIV/0!"},{"$error":"#DIV/0!"},{"$error":"#DIV/0!"}," ",4214,"DeVante Parker",{"$f":"IF(AQ84<>0,VLOOKUP(AQ84,Info!A:B,2,FALSE),\"\")","v":"MIA"},"parde",3.75,53.125,0.25,6.25E-2,0.1875,0,0,0,0,0,null,4214,"DeVante Parker","Miami Dolphins","parde",16,60,850,4,1,3]
[3891,"Jarvis Landry","MIA","Buy",null,null,null,null,null,null,null,null,null,null,0,0,0,0,0,{"$error":"#DIV/0!"},{"$error":"#DIV/0!"},{"$error":"#DIV/0!"},{"$error":"#DIV/0!"},{"$error":"#DIV/0!"}," ",3891,"Jarvis Landry",{"$f":"IF(AQ85<>0,VLOOKUP(AQ85,Info!A:B,2,FALSE),\"\")","v":"MIA"},"lanja",5.875,71.125,0.25,0.125,0.125,0,0,0,0,0,null,3891,"Jarvis Landry","Miami Dolphins","lanja",16,94,1138,4,2,2]
[3329,"Julius Thomas","MIA","Buy",null,null,null,null,null,null,null,null,null,null,0,0,0,0,0,{"$error":"#DIV/0!"},{"$error":"#DIV/0!"},{"$error":"#DIV/0!"},{"$error":"#DIV/0!"},{"$error":"#DIV/0!"}," ",3329,"Julius Thomas",{"$f":"IF(AQ86<>0,VLOOKUP(AQ86,Info!A:B,2,FALSE),\"\")","v":"MIA"},"thoju",3.3125,31.25,0.4375,0.125,0.125,0,0,0,0,0,null,3329,"Julius Thomas","Miami Dolphins","thoju",16,53,500,7,2,2]
[3714,"Kenny Stills","MIA","Buy",null,null,null,null,null,null,null,null,null,null,0,0,0,0,0,{"$error":"#DIV/0!"},{"$error":"#DIV/0!"},{"$error":"#DIV/0!"},{"$error":"#DIV/0!"},{"$error":"#DIV/0!"}," ",3714,"Kenny Stills",{"$f":"IF(AQ87<>0,VLOOKUP(AQ87,Info!A:B,2,FALSE),\"\")","v":"MIA"},"stike",2.625,45.375,0.5625,0.125,0.125,0,0,0,0,0,null,3714,"Kenny Stills","Miami Dolphins","stike",16,42,726,9,2,2]
[4215,"Adam Thielen","MIN","Buy",null,null,null,null,null,null,null,null,null,null,0,0,0,0,0,{"$error":"#DIV/0!"},{"$error":"#DIV/0!"},{"$error":"#DIV/0!"},{"$error":"#DIV/0!"},{"$error":"#DIV/0!"}," ",4215,"Adam Thielen",{"$f":"IF(AQ88<>0,VLOOKUP(AQ88,Info!A:B,2,FALSE),\"\")","v":"MIN"},"thiad",4.375,56.25,0.3125,6.25E-2,0.1875,0,0,0,0,0,null,4215,"Adam Thielen","Minnesota Vikings","thiad",16,70,900,5,1,3]
[2933,"Kyle Rudolph","MIN","Buy",null,null,null,null,null,null,null,null,null,null,0,0,0,0,0,{"$error":"#DIV/0!"},{"$error":"#DIV/0!"},{"$error":"#DIV/0!"},{"$error":"#DIV/0!"},{"$error":"#DIV/0!"}," ",2933,"Kyle Rudolph",{"$f":"IF(AQ89<>0,VLOOKUP(AQ89,Info!A:B,2,FALSE),\"\")","v":"MIN"},"rudky",5.1875,52.5,0.4375,0.125,0.125,0,0,0,0,0,null,2933,"Kyle Rudolph","Minnesota Vikings","rudky",16,83,840,7,2,2]
[3421,"Michael Floyd","MIN","Buy",null,null,null,null,null,null,null,null,null,null,0,0,0,0,0,{"$error":"#DIV/0!"},{"$error":"#DIV/0!"},{"$error":"#DIV/0!"},{"$error":"#DIV/0!"},{"$error":"#DIV/0!"}," ",3421,"Michael Floyd",{"$f":"IF(AQ90<>0,VLOOKUP(AQ90,Info!A:B,2,FALSE),\"\")","v":"MIN"},"flomi",2.4375,32.5625,0.3125,0.125,0.125,0,0,0,0,0,null,3421,"Michael Floyd","Minnesota Vikings","flomi",16,39,521,5,2,2]
[4067,"Stefon Diggs","MIN","Buy",null,null,null,null,null,null,null,null,null,null,0,0,0,0,0,{"$error":"#DIV/0!"},{"$error":"#DIV/0!"},{"$error":"#DIV/0!"},{"$error":"#DIV/0!"},{"$error":"#DIV/0!"}," ",4067,"Stefon Diggs",{"$f":"IF(AQ91<>0,VLOOKUP(AQ91,Info!A:B,2,FALSE),\"\")","v":"MIN"},"digst",6.25,61.5625,0.25,0.125,0.125,0,0,0,0,0,null,4067,"Stefon Diggs","Minnesota Vikings","digst",16,100,985,4,2,2]
[3602,"Brandin Cooks","NEW","Buy",null,null,null,null,null,null,null,null,null,null,0,0,0,0,0,{"$error":"#DIV/0!"},{"$error":"#DIV/0!"},{"$error":"#DIV/0!"},{"$error":"#DIV/0!"},{"$error":"#DIV/0!"}," ",3602,"Brandin Cooks",{"$f":"IF(AQ92<>0,VLOOKUP(AQ92,Info!A:B,2,FALSE),\"\")","v":"NEW"},"coobr",4.875,73.3125,0.5,0.125,0.125,0,0,0,0,0,null,3602,"Brandin Cooks","New England Patriots","coobr",16,78,1173,8,2,2]
[4108,"Chris Hogan","NEW","Buy",null,null,null,null,null,null,null,null,null,null,0,0,0,0,0,{"$error":"#DIV/0!"},{"$error":"#DIV/0!"},{"$error":"#DIV/0!"},{"$error":"#DIV/0!"},{"$error":"#DIV/0!"}," ",4108,"Chris Hogan",{"$f":"IF(AQ93<>0,VLOOKUP(AQ93,Info!A:B,2,FALSE),\"\")","v":"NEW"},"hogch",2.5625,45.3125,0.25,0.125,0.125,0,0,0,0,0,null,4108,"Chris Hogan","New England Patriots","hogch",16,41,725,4,2,2]
[2732,"Danny Amendola","NEW","Buy",null,null,null,null,null,null,null,null,null,null,0,0,0,0,0,{"$error":"#DIV/0!"},{"$error":"#DIV/0!"},{"$error":"#DIV/0!"},{"$error":"#DIV/0!"},{"$error":"#DIV/0!"}," ",2732,"Danny Amendola",{"$f":"IF(AQ94<>0,VLOOKUP(AQ94,Info!A:B,2,FALSE),\"\")","v":"NEW"},"ameda",1.9375,25,0.3125,0.125,0.125,0,0,0,0,0,null,2732,"Danny Amendola","New England Patriots","ameda",16,31,400,5,2,2]
[3687,"Dwayne Allen","NEW","Buy",null,null,null,null,null,null,null,null,null,null,0,0,0,0,0,{"$error":"#DIV/0!"},{"$error":"#DIV/0!"},{"$error":"#DIV/0!"},{"$error":"#DIV/0!"},{"$error":"#DIV/0!"}," ",3687,"Dwayne Allen",{"$f":"IF(AQ95<>0,VLOOKUP(AQ95,Info!A:B,2,FALSE),\"\")","v":"NEW"},"alldw",2.5,29,0.4375,0.125,0.125,0,0,0,0,0,null,3687,"Dwayne Allen","New England Patriots","alldw",16,40,464,7,2,2]
[3317,"Julian Edelman","NEW","Buy",null,null,null,null,null,null,null,null,null,null,0,0,0,0,0,{"$error":"#DIV/0!"},{"$error":"#DIV/0!"},{"$error":"#DIV/0!"},{"$error":"#DIV/0!"},{"$error":"#DIV/0!"}," ",3317,"Julian Edelman",{"$f":"IF(AQ96<>0,VLOOKUP(AQ96,Info!A:B,2,FALSE),\"\")","v":"NEW"},"edeju",6.125,69.125,0.1875,0.125,0.125,0,0,0,0,0,null,3317,"Julian Edelman","New England Patriots","edeju",16,98,1106,3,2,2]
[2702,"Rob Gronkowski","NEW","Buy",null,null,null,null,null,null,null,null,null,null,0,0,0,0,0,{"$error":"#DIV/0!"},{"$error":"#DIV/0!"},{"$error":"#DIV/0!"},{"$error":"#DIV/0!"},{"$error":"#DIV/0!"}," ",2702,"Rob Gronkowski",{"$f":"IF(AQ97<>0,VLOOKUP(AQ97,Info!A:B,2,FALSE),\"\")","v":"NEW"},"groro",3.5625,77.125,0.4375,0.125,0.125,0,0,0,0,0,null,2702,"Rob Gronkowski","New England Patriots","groro",16,57,1234,7,2,2]
[3118,"Coby Fleener","NOS","Buy",null,null,null,null,null,null,null,null,null,null,0,0,0,0,0,{"$error":"#DIV/0!"},{"$error":"#DIV/0!"},{"$error":"#DIV/0!"},{"$error":"#DIV/0!"},{"$error":"#DIV/0!"}," ",3118,"Coby Fleener",{"$f":"IF(AQ98<>0,VLOOKUP(AQ98,Info!A:B,2,FALSE),\"\")","v":"NOS"},"fleco",3.125,39.4375,0.1875,0.125,0.125,0,0,0,0,0,null,3118,"Coby Fleener","New Orleans Saints","fleco",16,50,631,3,2,2]
[4109,"Michael Thomas","NOS","Buy",null,null,null,null,null,null,null,null,null,null,0,0,0,0,0,{"$error":"#DIV/0!"},{"$error":"#DIV/0!"},{"$error":"#DIV/0!"},{"$error":"#DIV/0!"},{"$error":"#DIV/0!"}," ",4109,"Michael Thomas",{"$f":"IF(AQ99<>0,VLOOKUP(AQ99,Info!A:B,2,FALSE),\"\")","v":"NOS"},"thomi",6.125,75.8125,0.625,0.125,0.125,0,0,0,0,0,null,4109,"Michael Thomas","New Orleans Saints","thomi",16,98,1213,10,2,2]
[2254,"Ted Ginn","NOS","Buy",null,null,null,null,null,null,null,null,null,null,0,0,0,0,0,{"$error":"#DIV/0!"},{"$error":"#DIV/0!"},{"$error":"#DIV/0!"},{"$error":"#DIV/0!"},{"$error":"#DIV/0!"}," ",2254,"Ted Ginn",{"$f":"IF(AQ100<>0,VLOOKUP(AQ100,Info!A:B,2,FALSE),\"\")","v":"NOS"},"ginte",3.375,47,0.25,0.125,0.125,0,0,0,0,0,null,2254,"Ted Ginn","New Orleans Saints","ginte",16,54,752,4,2,2]
[4069,"Willie Snead","NOS","Buy",null,null,null,null,null,null,null,null,null,null,0,0,0,0,0,{"$error":"#DIV/0!"},{"$error":"#DIV/0!"},{"$error":"#DIV/0!"},{"$error":"#DIV/0!"},{"$error":"#DIV/0!"}," ",4069,"Willie Snead",{"$f":"IF(AQ101<>0,VLOOKUP(AQ101,Info!A:B,2,FALSE),\"\")","v":"NOS"},"snewi",4.8125,59.6875,0.25,0.125,0.125,0,0,0,0,0,null,4069,"Willie Snead","New Orleans Saints","snewi",16,77,955,4,2,2]
[3678,"Odell Beckham Jr.","NYG","Buy",null,null,null,null,null,null,null,null,null,null,0,0,0,0,0,{"$error":"#DIV/0!"},{"$error":"#DIV/0!"},{"$error":"#DIV/0!"},{"$error":"#DIV/0!"},{"$error":"#DIV/0!"}," ",3678,"Odell Beckham Jr.",{"$f":"IF(AQ102<>0,VLOOKUP(AQ102,Info!A:B,2,FALSE),\"\")","v":"NYG"},"becod",6.25,85.4375,0.625,0.125,0.125,0,0,0,0,0,null,3678,"Odell Beckham Jr.","New York Giants","becod",16,100,1367,10,2,2]
[4059,"Austin Seferian-Jenkins","NYJ","Buy",null,null,null,null,null,null,null,null,null,null,0,0,0,0,0,{"$error":"#DIV/0!"},{"$error":"#DIV/0!"},{"$error":"#DIV/0!"},{"$error":"#DIV/0!"},{"$error":"#DIV/0!"}," ",4059,"Austin Seferian-Jenkins",{"$f":"IF(AQ103<>0,VLOOKUP(AQ103,Info!A:B,2,FALSE),\"\")","v":"NYJ"},"sefau",1.875,25,0.125,0.125,0.125,0,0,0,0,0,null,4059,"Austin Seferian-Jenkins","New York Jets","sefau",16,30,400,2,2,2]
[4060,"Jermaine Kearse","NYJ","Buy",null,null,null,null,null,null,null,null,null,null,0,0,0,0,0,{"$error":"#DIV/0!"},{"$error":"#DIV/0!"},{"$error":"#DIV/0!"},{"$error":"#DIV/0!"},{"$error":"#DIV/0!"}," ",4060,"Jermaine Kearse",{"$f":"IF(AQ104<>0,VLOOKUP(AQ104,Info!A:B,2,FALSE),\"\")","v":"NYJ"},"keaje",2.5625,31.9375,0.125,0.125,0.125,0,0,0,0,0,null,4060,"Jermaine Kearse","New York Jets","keaje",16,41,511,2,2,2]
[4241,"Robby Anderson","NYJ","Buy",null,null,null,null,null,null,null,null,null,null,0,0,0,0,0,{"$error":"#DIV/0!"},{"$error":"#DIV/0!"},{"$error":"#DIV/0!"},{"$error":"#DIV/0!"},{"$error":"#DIV/0!"}," ",4241,"Robby Anderson",{"$f":"IF(AQ105<>0,VLOOKUP(AQ105,Info!A:B,2,FALSE),\"\")","v":"NYJ"},"andro",3.75,56.25,0.375,0.125,0.1875,0,0,0,0,0,null,4241,"Robby Anderson","New York Jets","andro",16,60,900,6,2,3]
[3894,"Amari Cooper","OAK","Buy",null,null,null,null,null,null,null,null,null,null,0,0,0,0,0,{"$error":"#DIV/0!"},{"$error":"#DIV/0!"},{"$error":"#DIV/0!"},{"$error":"#DIV/0!"},{"$error":"#DIV/0!"}," ",3894,"Amari Cooper",{"$f":"IF(AQ106<>0,VLOOKUP(AQ106,Info!A:B,2,FALSE),\"\")","v":"OAK"},"cooam",5.125,71.8125,0.3125,0.125,0.125,0,0,0,0,0,null,3894,"Amari Cooper","Oakland Raiders","cooam",16,82,1149,5,2,2]
[4057,"Clive Walford","OAK","Buy",null,null,null,null,null,null,null,null,null,null,0,0,0,0,0,{"$error":"#DIV/0!"},{"$error":"#DIV/0!"},{"$error":"#DIV/0!"},{"$error":"#DIV/0!"},{"$error":"#DIV/0!"}," ",4057,"Clive Walford",{"$f":"IF(AQ107<>0,VLOOKUP(AQ107,Info!A:B,2,FALSE),\"\")","v":"OAK"},"walcl",2.1875,25,0.1875,0.125,0.125,0,0,0,0,0,null,4057,"Clive Walford","Oakland Raiders","walcl",16,35,400,3,2,2]
[3423,"Cordarrelle Patterson","OAK","Buy",null,null,null,null,null,null,null,null,null,null,0,0,0,0,0,{"$error":"#DIV/0!"},{"$error":"#DIV/0!"},{"$error":"#DIV/0!"},{"$error":"#DIV/0!"},{"$error":"#DIV/0!"}," ",3423,"Cordarrelle Patterson",{"$f":"IF(AQ108<>0,VLOOKUP(AQ108,Info!A:B,2,FALSE),\"\")","v":"OAK"},"patco",3.25,28.3125,0.125,0.125,0.125,0,0,0,0,0,null,3423,"Cordarrelle Patterson","Oakland Raiders","patco",16,52,453,2,2,2]
[2929,"Jared Cook","OAK","Buy",null,null,null,null,null,null,null,null,null,null,0,0,0,0,0,{"$error":"#DIV/0!"},{"$error":"#DIV/0!"},{"$error":"#DIV/0!"},{"$error":"#DIV/0!"},{"$error":"#DIV/0!"}," ",2929,"Jared Cook",{"$f":"IF(AQ109<>0,VLOOKUP(AQ109,Info!A:B,2,FALSE),\"\")","v":"OAK"},"cooja",3,37.6875,0.125,0.125,0.125,0,0,0,0,0,null,2929,"Jared Cook","Oakland Raiders","cooja",16,48,603,2,2,2]
[2566,"Michael Crabtree","OAK","Buy",null,null,null,null,null,null,null,null,null,null,0,0,0,0,0,{"$error":"#DIV/0!"},{"$error":"#DIV/0!"},{"$error":"#DIV/0!"},{"$error":"#DIV/0!"},{"$error":"#DIV/0!"}," ",2566,"Michael Crabtree",{"$f":"IF(AQ110<>0,VLOOKUP(AQ110,Info!A:B,2,FALSE),\"\")","v":"OAK"},"crami",5.5625,62.6875,0.5,0.125,0.125,0,0,0,0,0,null,2566,"Michael Crabtree","Oakland Raiders","crami",16,89,1003,8,2,2]
[3358,"Alshon Jeffery","PHI","Buy",null,null,null,null,null,null,null,null,null,null,0,0,0,0,0,{"$error":"#DIV/0!"},{"$error":"#DIV/0!"},{"$error":"#DIV/0!"},{"$error":"#DIV/0!"},{"$error":"#DIV/0!"}," ",3358,"Alshon Jeffery",{"$f":"IF(AQ111<>0,VLOOKUP(AQ111,Info!A:B,2,FALSE),\"\")","v":"PHI"},"jeffa",4.3125,68.4375,0.1875,0.125,0.125,0,0,0,0,0,null,3358,"Alshon Jeffery","Philadelphia Eagles","jeffa",16,69,1095,3,2,2]
[2500,"Brent Celek","PHI","Buy",null,null,null,null,null,null,null,null,null,null,0,0,0,0,0,{"$error":"#DIV/0!"},{"$error":"#DIV/0!"},{"$error":"#DIV/0!"},{"$error":"#DIV/0!"},{"$error":"#DIV/0!"}," ",2500,"Brent Celek",{"$f":"IF(AQ112<>0,VLOOKUP(AQ112,Info!A:B,2,FALSE),\"\")","v":"PHI"},"celbr",1.875,25,0.125,0.125,0.125,0,0,0,0,0,null,2500,"Brent Celek","Philadelphia Eagles","celbr",16,30,400,2,2,2]
[3895,"Nelson Agholor","PHI","Buy",null,null,null,null,null,null,null,null,null,null,0,0,0,0,0,{"$error":"#DIV/0!"},{"$error":"#DIV/0!"},{"$error":"#DIV/0!"},{"$error":"#DIV/0!"},{"$error":"#DIV/0!"}," ",3895,"Nelson Agholor",{"$f":"IF(AQ113<>0,VLOOKUP(AQ113,Info!A:B,2,FALSE),\"\")","v":"PHI"},"aghne",2.375,25,0.125,0.125,0.125,0,0,0,0,0,null,3895,"Nelson Agholor","Philadelphia Eagles","aghne",16,38,400,2,2,2]
[3121,"Torrey Smith","PHI","Buy",null,null,null,null,null,null,null,null,null,null,0,0,0,0,0,{"$error":"#DIV/0!"},{"$error":"#DIV/0!"},{"$error":"#DIV/0!"},{"$error":"#DIV/0!"},{"$error":"#DIV/0!"}," ",3121,"Torrey Smith",{"$f":"IF(AQ114<>0,VLOOKUP(AQ114,Info!A:B,2,FALSE),\"\")","v":"PHI"},"smito",1.875,25,0.25,0.125,0.125,0,0,0,0,0,null,3121,"Torrey Smith","Philadelphia Eagles","smito",16,30,400,4,2,2]
[3597,"Zach Ertz","PHI","Buy",null,null,null,null,null,null,null,null,null,null,0,0,0,0,0,{"$error":"#DIV/0!"},{"$error":"#DIV/0!"},{"$error":"#DIV/0!"},{"$error":"#DIV/0!"},{"$error":"#DIV/0!"}," ",3597,"Zach Ertz",{"$f":"IF(AQ115<>0,VLOOKUP(AQ115,Info!A:B,2,FALSE),\"\")","v":"PHI"},"ertza",5.5625,58.3125,0.3125,0.125,0.125,0,0,0,0,0,null,3597,"Zach Ertz","Philadelphia Eagles","ertza",16,89,933,5,2,2]
[3120,"Antonio Brown","PIT","Buy",null,null,null,null,null,null,null,null,null,null,0,0,0,0,0,{"$error":"#DIV/0!"},{"$error":"#DIV/0!"},{"$error":"#DIV/0!"},{"$error":"#DIV/0!"},{"$error":"#DIV/0!"}," ",3120,"Antonio Brown",{"$f":"IF(AQ116<>0,VLOOKUP(AQ116,Info!A:B,2,FALSE),\"\")","v":"PIT"},"broan",6.25,85.625,0.8125,0.125,0.125,0,0,0,0,0,null,3120,"Antonio Brown","Pittsburgh Steelers","broan",16,100,1370,13,2,2]
[2972,"Darrius Heyward-Bey","PIT","Buy",null,null,null,null,null,null,null,null,null,null,0,0,0,0,0,{"$error":"#DIV/0!"},{"$error":"#DIV/0!"},{"$error":"#DIV/0!"},{"$error":"#DIV/0!"},{"$error":"#DIV/0!"}," ",2972,"Darrius Heyward-Bey",{"$f":"IF(AQ117<>0,VLOOKUP(AQ117,Info!A:B,2,FALSE),\"\")","v":"PIT"},"heyda",1.875,25,0.25,0.125,0.125,0,0,0,0,0,null,2972,"Darrius Heyward-Bey","Pittsburgh Steelers","heyda",16,30,400,4,2,2]
[4242,"JuJu Smith-Schuster","PIT","Buy",null,null,null,null,null,null,null,null,null,null,0,0,0,0,0,{"$error":"#DIV/0!"},{"$error":"#DIV/0!"},{"$error":"#DIV/0!"},{"$error":"#DIV/0!"},{"$error":"#DIV/0!"}," ",4242,"JuJu Smith-Schuster",{"$f":"IF(AQ118<>0,VLOOKUP(AQ118,Info!A:B,2,FALSE),\"\")","v":"PIT"},"smiju",3.125,53.125,0.375,0.125,0.1875,0,0,0,0,0,null,4242,"JuJu Smith-Schuster","Pittsburgh Steelers","smiju",16,50,850,6,2,3]
[3684,"Martavis Bryant","PIT","Buy",null,null,null,null,null,null,null,null,null,null,0,0,0,0,0,{"$error":"#DIV/0!"},{"$error":"#DIV/0!"},{"$error":"#DIV/0!"},{"$error":"#DIV/0!"},{"$error":"#DIV/0!"}," ",3684,"Martavis Bryant",{"$f":"IF(AQ119<>0,VLOOKUP(AQ119,Info!A:B,2,FALSE),\"\")","v":"PIT"},"bryam",4.5625,69.5625,0.5625,0.125,0.125,0,0,0,0,0,null,3684,"Martavis Bryant","Pittsburgh Steelers","bryam",16,73,1113,9,2,2]
[3951,"Vance McDonald","PIT","Buy",null,null,null,null,null,null,null,null,null,null,0,0,0,0,0,{"$error":"#DIV/0!"},{"$error":"#DIV/0!"},{"$error":"#DIV/0!"},{"$error":"#DIV/0!"},{"$error":"#DIV/0!"}," ",3951,"Vance McDonald",{"$f":"IF(AQ120<>0,VLOOKUP(AQ120,Info!A:B,2,FALSE),\"\")","v":"PIT"},"mcdva",2.1875,35.5625,0.375,0.125,0.125,0,0,0,0,0,null,3951,"Vance McDonald","Pittsburgh Steelers","mcdva",16,35,569,6,2,2]
[2508,"Pierre Garcon","SFO","Buy",null,null,null,null,null,null,null,null,null,null,0,0,0,0,0,{"$error":"#DIV/0!"},{"$error":"#DIV/0!"},{"$error":"#DIV/0!"},{"$error":"#DIV/0!"},{"$error":"#DIV/0!"}," ",2508,"Pierre Garcon",{"$f":"IF(AQ121<>0,VLOOKUP(AQ121,Info!A:B,2,FALSE),\"\")","v":"SFO"},"garpi",4.9375,65.0625,0.1875,0.125,0.125,0,0,0,0,0,null,2508,"Pierre Garcon","San Francisco 49ers","garpi",16,79,1041,3,2,2]
[2974,"Doug Baldwin","SEA","Buy",null,null,null,null,null,null,null,null,null,null,0,0,0,0,0,{"$error":"#DIV/0!"},{"$error":"#DIV/0!"},{"$error":"#DIV/0!"},{"$error":"#DIV/0!"},{"$error":"#DIV/0!"}," ",2974,"Doug Baldwin",{"$f":"IF(AQ122<>0,VLOOKUP(AQ122,Info!A:B,2,FALSE),\"\")","v":"SEA"},"baldo",5.875,70.5,0.4375,0.125,0.125,0,0,0,0,0,null,2974,"Doug Baldwin","Seattle Seahawks","baldo",16,94,1128,7,2,2]
[2918,"Jimmy Graham","SEA","Buy",null,null,null,null,null,null,null,null,null,null,0,0,0,0,0,{"$error":"#DIV/0!"},{"$error":"#DIV/0!"},{"$error":"#DIV/0!"},{"$error":"#DIV/0!"},{"$error":"#DIV/0!"}," ",2918,"Jimmy Graham",{"$f":"IF(AQ123<>0,VLOOKUP(AQ123,Info!A:B,2,FALSE),\"\")","v":"SEA"},"graji",4.0625,57.6875,0.375,0.125,0.125,0,0,0,0,0,null,2918,"Jimmy Graham","Seattle Seahawks","graji",16,65,923,6,2,2]
[4244,"Paul Richardson","SEA","Buy",null,null,null,null,null,null,null,null,null,null,0,0,0,0,0,{"$error":"#DIV/0!"},{"$error":"#DIV/0!"},{"$error":"#DIV/0!"},{"$error":"#DIV/0!"},{"$error":"#DIV/0!"}," ",4244,"Paul Richardson",{"$f":"IF(AQ124<>0,VLOOKUP(AQ124,Info!A:B,2,FALSE),\"\")","v":"SEA"},"ricpa",3.75,46.875,0.4375,0.125,0.25,0,0,0,0,0,null,4244,"Paul Richardson","Seattle Seahawks","ricpa",16,60,750,7,2,4]
[4243,"Cameron Brate","TAM","Buy",null,null,null,null,null,null,null,null,null,null,0,0,0,0,0,{"$error":"#DIV/0!"},{"$error":"#DIV/0!"},{"$error":"#DIV/0!"},{"$error":"#DIV/0!"},{"$error":"#DIV/0!"}," ",4243,"Cameron Brate",{"$f":"IF(AQ125<>0,VLOOKUP(AQ125,Info!A:B,2,FALSE),\"\")","v":"TAM"},"braca",4.0625,53.125,0.375,0.125,0.25,0,0,0,0,0,null,4243,"Cameron Brate","Tampa Bay Buccaneers","braca",16,65,850,6,2,4]
[2275,"DeSean Jackson","TAM","Buy",null,null,null,null,null,null,null,null,null,null,0,0,0,0,0,{"$error":"#DIV/0!"},{"$error":"#DIV/0!"},{"$error":"#DIV/0!"},{"$error":"#DIV/0!"},{"$error":"#DIV/0!"}," ",2275,"DeSean Jackson",{"$f":"IF(AQ126<>0,VLOOKUP(AQ126,Info!A:B,2,FALSE),\"\")","v":"TAM"},"jacde",3.75,67,0.25,0.125,0.125,0,0,0,0,0,null,2275,"DeSean Jackson","Tampa Bay Buccaneers","jacde",16,60,1072,4,2,2]
[3604,"Mike Evans","TAM","Buy",null,null,null,null,null,null,null,null,null,null,0,0,0,0,0,{"$error":"#DIV/0!"},{"$error":"#DIV/0!"},{"$error":"#DIV/0!"},{"$error":"#DIV/0!"},{"$error":"#DIV/0!"}," ",3604,"Mike Evans",{"$f":"IF(AQ127<>0,VLOOKUP(AQ127,Info!A:B,2,FALSE),\"\")","v":"TAM"},"evami",6,82.5625,0.75,0.125,0.125,0,0,0,0,0,null,3604,"Mike Evans","Tampa Bay Buccaneers","evami",16,96,1321,12,2,2]
[962,"Andre Johnson","TEN","Buy",null,null,null,null,null,null,null,null,null,null,0,0,0,0,0,{"$error":"#DIV/0!"},{"$error":"#DIV/0!"},{"$error":"#DIV/0!"},{"$error":"#DIV/0!"},{"$error":"#DIV/0!"}," ",962,"Andre Johnson",{"$f":"IF(AQ128<>0,VLOOKUP(AQ128,Info!A:B,2,FALSE),\"\")","v":"TEN"},"johna",1.875,25,0.25,0.125,0.125,0,0,0,0,0,null,962,"Andre Johnson","Tennessee Titans","johna",16,30,400,4,2,2]
[3634,"Delanie Walker","TEN","Buy",null,null,null,null,null,null,null,null,null,null,0,0,0,0,0,{"$error":"#DIV/0!"},{"$error":"#DIV/0!"},{"$error":"#DIV/0!"},{"$error":"#DIV/0!"},{"$error":"#DIV/0!"}," ",3634,"Delanie Walker",{"$f":"IF(AQ129<>0,VLOOKUP(AQ129,Info!A:B,2,FALSE),\"\")","v":"TEN"},"walde",4.3125,53.3125,0.4375,0.125,0.125,0,0,0,0,0,null,3634,"Delanie Walker","Tennessee Titans","walde",16,69,853,7,2,2]
[2977,"Eric Decker","TEN","Buy",null,null,null,null,null,null,null,null,null,null,{"$f":"VLOOKUP($A130,$A:$N,5,FALSE)/VLOOKUP($A130,$Z:$AM,5,FALSE)","v":0},{"$f":"VLOOKUP($A130,$A:$N,6,FALSE)/VLOOKUP($A130,$Z:$AM,6,FALSE)","v":0},{"$f":"VLOOKUP($A130,$A:$N,7,FALSE)/VLOOKUP($A130,$Z:$AM,7,FALSE)","v":0},{"$f":"VLOOKUP($A130,$A:$N,8,FALSE)/VLOOKUP($A130,$Z:$AM,8,FALSE)","v":0},{"$f":"VLOOKUP($A130,$A:$N,9,FALSE)/VLOOKUP($A130,$Z:$AM,9,FALSE)","v":0},{"$f":"VLOOKUP($A130,$A:$N,10,FALSE)/VLOOKUP($A130,$Z:$AM,10,FALSE)","v":{"$error":"#DIV/0!"}},{"$f":"VLOOKUP($A130,$A:$N,11,FALSE)/VLOOKUP($A130,$Z:$AM,11,FALSE)","v":{"$error":"#DIV/0!"}},{"$f":"VLOOKUP($A130,$A:$N,12,FALSE)/VLOOKUP($A130,$Z:$AM,12,FALSE)","v":{"$error":"#DIV/0!"}},{"$f":"VLOOKUP($A130,$A:$N,13,FALSE)/VLOOKUP($A130,$Z:$AM,13,FALSE)","v":{"$error":"#DIV/0!"}},{"$f":"VLOOKUP($A130,$A:$N,14,FALSE)/VLOOKUP($A130,$Z:$AM,14,FALSE)","v":{"$error":"#DIV/0!"}}," ",2977,"Eric Decker",{"$f":"IF(AQ130<>0,VLOOKUP(AQ130,Info!A:B,2,FALSE),\"\")","v":"TEN"},"decer",5.3125,68.4375,0.8125,0.125,0.125,0,0,0,0,0,null,2977,"Eric Decker","Tennessee Titans","decer",16,85,1095,13,2,2]
[{"$f":"IF(Z131<>0,Z131,\"\")","v":3359},{"$f":"IF(A131<>0,VLOOKUP(A131,Z:AA,2,FALSE),\"\")","v":"Harry Douglas"},{"$f":"IF(A131<>0,VLOOKUP(A131,Z:AB,3,FALSE))","v":"TEN"},{"$f":"HYPERLINK(\"http://www.jockstocks.com/buysell.php?action=buymax&plid=\"&A131,\"Buy\")","v":"Buy"},null,null,null,null,null,null,null,null,null,null,0,0,0,0,0,{"$error":"#DIV/0!"},{"$error":"#DIV/0!"},{"$error":"#DIV/0!"},{"$error":"#DIV/0!"},{"$error":"#DIV/0!"}," ",{"$f":"IF(AO131<>0,AO131,\"\")","v":3359},{"$f":"IF(AP131<>0,VLOOKUP(Z131,AO:AP,2,FALSE),\"\")","v":"Harry Douglas"},{"$f":"IF(AQ131<>0,VLOOKUP(AQ131,Info!A:B,2,FALSE),\"\")","v":"TEN"},{"$f":"IF(AO131<>0,VLOOKUP(Z131,AO:AR,4,FALSE),\"\")","v":"douha"},{"$f":"IF($AO131<>0,AT131/$AS131,\"\")","v":1.875},{"$f":"IF($AO131<>0,AU131/$AS131,\"\")","v":25},{"$f":"IF($AO131<>0,AV131/$AS131,\"\")","v":0.125},{"$f":"IF($AO131<>0,AW131/$AS131,\"\")","v":0.125},{"$f":"IF($AO131<>0,AX131/$AS131,\"\")","v":0.125},{"$f":"IF($AO131<>0,AY131/$AS131,\"\")","v":0},{"$f":"IF($AO131<>0,AZ131/$AS131,\"\")","v":0},{"$f":"IF($AO131<>0,BA131/$AS131,\"\")","v":0},{"$f":"IF($AO131<>0,BB131/$AS131,\"\")","v":0},{"$f":"IF($AO131<>0,BC131/$AS131,\"\")","v":0},null,3359,"Harry Douglas","Tennessee Titans","douha",16,30,400,2,2,2]
[4253,"Rishard Matthews","TEN","Buy",null,null,null,null,null,null,null,null,null,null,0,0,0,0,0,{"$error":"#DIV/0!"},{"$error":"#DIV/0!"},{"$error":"#DIV/0!"},{"$error":"#DIV/0!"},{"$error":"#DIV/0!"}," ",4253,"Rishard Matthews",{"$f":"IF(AQ132<>0,VLOOKUP(AQ132,Info!A:B,2,FALSE),\"\")","v":"TEN"},"matri",4.6875,59.375,0.3125,0.125,0.1875,0,0,0,0,0,null,4253,"Rishard Matthews","Tennessee Titans","matri",16,75,950,5,2,3]
[4068,"Tajae Sharpe","TEN","Buy",null,null,null,null,null,null,null,null,null,null,0,0,0,0,0,{"$error":"#DIV/0!"},{"$error":"#DIV/0!"},{"$error":"#DIV/0!"},{"$error":"#DIV/0!"},{"$error":"#DIV/0!"}," ",4068,"Tajae Sharpe",{"$f":"IF(AQ133<>0,VLOOKUP(AQ133,Info!A:B,2,FALSE),\"\")","v":"TEN"},"shata",2.5625,32.625,0.125,0.125,0.125,0,0,0,0,0,null,4068,"Tajae Sharpe","Tennessee Titans","shata",16,41,522,2,2,2]
[4110,"Jamison Crowder","WAS","Buy",null,null,null,null,null,null,null,null,null,null,0,0,0,0,0,{"$error":"#DIV/0!"},{"$error":"#DIV/0!"},{"$error":"#DIV/0!"},{"$error":"#DIV/0!"},{"$error":"#DIV/0!"}," ",4110,"Jamison Crowder",{"$f":"IF(AQ134<>0,VLOOKUP(AQ134,Info!A:B,2,FALSE),\"\")","v":"WAS"},"croja",4.1875,52.9375,0.4375,0.125,0.125,0,0,0,0,0,null,4110,"Jamison Crowder","Washington Redskins","croja",16,67,847,7,2,2]
[3413,"Jordan Reed","WAS","Buy",null,null,null,null,null,null,null,null,null,null,0,0,0,0,0,{"$error":"#DIV/0!"},{"$error":"#DIV/0!"},{"$error":"#DIV/0!"},{"$error":"#DIV/0!"},{"$error":"#DIV/0!"}," ",3413,"Jordan Reed",{"$f":"IF(AQ135<>0,VLOOKUP(AQ135,Info!A:B,2,FALSE),\"\")","v":"WAS"},"reejo",5.5,57.1875,0.5,0.125,0.125,0,0,0,0,0,null,3413,"Jordan Reed","Washington Redskins","reejo",16,88,915,8,2,2]
[3675,"Niles Paul","WAS","Buy",null,null,null,null,null,null,null,null,null,null,0,0,0,0,0,{"$error":"#DIV/0!"},{"$error":"#DIV/0!"},{"$error":"#DIV/0!"},{"$error":"#DIV/0!"},{"$error":"#DIV/0!"}," ",3675,"Niles Paul",{"$f":"IF(AQ136<>0,VLOOKUP(AQ136,Info!A:B,2,FALSE),\"\")","v":"WAS"},"pauni",1.875,25,0.125,0.125,0.125,0,0,0,0,0,null,3675,"Niles Paul","Washington Redskins","pauni",16,30,400,2,2,2]
[3319,"Terrelle Pryor","WAS","Buy",null,null,null,null,null,null,null,null,null,null,0,0,0,0,0,{"$error":"#DIV/0!"},{"$error":"#DIV/0!"},{"$error":"#DIV/0!"},{"$error":"#DIV/0!"},{"$error":"#DIV/0!"}," ",3319,"Terrelle Pryor",{"$f":"IF(AQ137<>0,VLOOKUP(AQ137,Info!A:B,2,FALSE),\"\")","v":"WAS"},"pryte",4.8125,62.9375,0.25,0.125,0.125,0,0,0,0,0,null,3319,"Terrelle Pryor","Washington Redskins","pryte",16,77,1007,4,2,2]
[2027,"Vernon Davis","WAS","Buy",null,null,null,null,null,null,null,null,null,null,0,0,0,0,0,{"$error":"#DIV/0!"},{"$error":"#DIV/0!"},{"$error":"#DIV/0!"},{"$error":"#DIV/0!"},{"$error":"#DIV/0!"}," ",2027,"Vernon Davis",{"$f":"IF(AQ138<>0,VLOOKUP(AQ138,Info!A:B,2,FALSE),\"\")","v":"WAS"},"davve",2.75,36.4375,0.125,0.125,0.125,0,0,0,0,0,null,2027,"Vernon Davis","Washington Redskins","davve",16,44,583,2,2,2]
["","","","Buy",null,null,null,null,null,null,null,null,null,null,{"$error":"#VALUE!"},{"$error":"#VALUE!"},{"$error":"#VALUE!"},{"$error":"#VALUE!"},{"$error":"#VALUE!"},{"$error":"#VALUE!"},{"$error":"#VALUE!"},{"$error":"#VALUE!"},{"$error":"#VALUE!"},{"$error":"#VALUE!"}," ","","",{"$f":"IF(AQ139<>0,VLOOKUP(AQ139,Info!A:B,2,FALSE),\"\")","v":""},"","","","","","","","","","",""]
["","","","Buy",null,null,null,null,null,null,null,null,null,null,{"$error":"#VALUE!"},{"$error":"#VALUE!"},{"$error":"#VALUE!"},{"$error":"#VALUE!"},{"$error":"#VALUE!"},{"$error":"#VALUE!"},{"$error":"#VALUE!"},{"$error":"#VALUE!"},{"$error":"#VALUE!"},{"$error":"#VALUE!"}," ","","",{"$f":"IF(AQ140<>0,VLOOKUP(AQ140,Info!A:B,2,FALSE),\"\")","v":""},"","","","","","","","","","",""]
["","","","Buy",null,null,null,null,null,null,null,null,null,null,{"$error":"#VALUE!"},{"$error":"#VALUE!"},{"$error":"#VALUE!"},{"$error":"#VALUE!"},{"$error":"#VALUE!"},{"$error":"#VALUE!"},{"$error":"#VALUE!"},{"$error":"#VALUE!"},{"$error":"#VALUE!"},{"$error":"#VALUE!"}," ","","",{"$f":"IF(AQ141<>0,VLOOKUP(AQ141,Info!A:B,2,FALSE),\"\")","v":""},"","","","","","","","","","",""]
[{"$f":"IF(Z142<>0,Z142,\"\")","v":""},{"$f":"IF(A142<>0,VLOOKUP(A142,Z:AA,2,FALSE),\"\")","v":""},{"$f":"IF(A142<>0,VLOOKUP(A142,Z:AB,3,FALSE))","v":""},{"$f":"HYPERLINK(\"http://www.jockstocks.com/buysell.php?action=buymax&plid=\"&A142,\"Buy\")","v":"Buy"},null,null,null,null,null,null,null,null,null,null,{"$f":"VLOOKUP($A142,$A:$N,5,FALSE)/VLOOKUP($A142,$Z:$AM,5,FALSE)","v":{"$error":"#VALUE!"}},{"$f":"VLOOKUP($A142,$A:$N,6,FALSE)/VLOOKUP($A142,$Z:$AM,6,FALSE)","v":{"$error":"#VALUE!"}},{"$f":"VLOOKUP($A142,$A:$N,7,FALSE)/VLOOKUP($A142,$Z:$AM,7,FALSE)","v":{"$error":"#VALUE!"}},{"$f":"VLOOKUP($A142,$A:$N,8,FALSE)/VLOOKUP($A142,$Z:$AM,8,FALSE)","v":{"$error":"#VALUE!"}},{"$f":"VLOOKUP($A142,$A:$N,9,FALSE)/VLOOKUP($A142,$Z:$AM,9,FALSE)","v":{"$error":"#VALUE!"}},{"$f":"VLOOKUP($A142,$A:$N,10,FALSE)/VLOOKUP($A142,$Z:$AM,10,FALSE)","v":{"$error":"#VALUE!"}},{"$f":"VLOOKUP($A142,$A:$N,11,FALSE)/VLOOKUP($A142,$Z:$AM,11,FALSE)","v":{"$error":"#VALUE!"}},{"$f":"VLOOKUP($A142,$A:$N,12,FALSE)/VLOOKUP($A142,$Z:$AM,12,FALSE)","v":{"$error":"#VALUE!"}},{"$f":"VLOOKUP($A142,$A:$N,13,FALSE)/VLOOKUP($A142,$Z:$AM,13,FALSE)","v":{"$error":"#VALUE!"}},{"$f":"VLOOKUP($A142,$A:$N,14,FALSE)/VLOOKUP($A142,$Z:$AM,14,FALSE)","v":{"$error":"#VALUE!"}}," ",{"$f":"IF(AO156<>0,AO156,\"\")","v":""},{"$f":"IF(AP156<>0,VLOOKUP(Z142,AO:AP,2,FALSE),\"\")","v":""},{"$f":"IF(AQ156<>0,VLOOKUP(AQ156,Info!A:B,2,FALSE),\"\")","v":""},{"$f":"IF(AO156<>0,VLOOKUP(Z142,AO:AR,4,FALSE),\"\")","v":""},{"$f":"IF($AO156<>0,AT156/$AS156,\"\")","v":""},{"$f":"IF($AO156<>0,AU156/$AS156,\"\")","v":""},{"$f":"IF($AO156<>0,AV156/$AS156,\"\")","v":""},{"$f":"IF($AO156<>0,AW156/$AS156,\"\")","v":""},{"$f":"IF($AO156<>0,AX156/$AS156,\"\")","v":""},{"$f":"IF($AO156<>0,AY142/$AS156,\"\")","v":""},{"$f":"IF($AO156<>0,AZ142/$AS156,\"\")","v":""},{"$f":"IF($AO156<>0,BA142/$AS156,\"\")","v":""},{"$f":"IF($AO156<>0,BB142/$AS156,\"\")","v":""},{"$f":"IF($AO156<>0,BC142/$AS156,\"\")","v":""}]
["","","","Buy",null,null,null,null,null,null,null,null,null,null,{"$error":"#VALUE!"},{"$error":"#VALUE!"},{"$error":"#VALUE!"},{"$error":"#VALUE!"},{"$error":"#VALUE!"},{"$error":"#VALUE!"},{"$error":"#VALUE!"},{"$error":"#VALUE!"},{"$error":"#VALUE!"},{"$error":"#VALUE!"}," ","","",{"$f":"IF(AQ157<>0,VLOOKUP(AQ157,Info!A:B,2,FALSE),\"\")","v":""},"","","","","","","","","","",""]
["","","","Buy",null,null,null,null,null,null,null,null,null,null,{"$error":"#VALUE!"},{"$error":"#VALUE!"},{"$error":"#VALUE!"},{"$error":"#VALUE!"},{"$error":"#VALUE!"},{"$error":"#VALUE!"},{"$error":"#VALUE!"},{"$error":"#VALUE!"},{"$error":"#VALUE!"},{"$error":"#VALUE!"}," ","","",{"$f":"IF(AQ158<>0,VLOOKUP(AQ158,Info!A:B,2,FALSE),\"\")","v":""},"","","","","","","","","","",""]
["","","","Buy",null,null,null,null,null,null,null,null,null,null,{"$error":"#VALUE!"},{"$error":"#VALUE!"},{"$error":"#VALUE!"},{"$error":"#VALUE!"},{"$error":"#VALUE!"},{"$error":"#VALUE!"},{"$error":"#VALUE!"},{"$error":"#VALUE!"},{"$error":"#VALUE!"},{"$error":"#VALUE!"}," ","","",{"$f":"IF(AQ159<>0,VLOOKUP(AQ159,Info!A:B,2,FALSE),\"\")","v":""},"","","","","","","","","","",""]
["","","","Buy",null,null,null,null,null,null,null,null,null,null,{"$error":"#VALUE!"},{"$error":"#VALUE!"},{"$error":"#VALUE!"},{"$error":"#VALUE!"},{"$error":"#VALUE!"},{"$error":"#VALUE!"},{"$error":"#VALUE!"},{"$error":"#VALUE!"},{"$error":"#VALUE!"},{"$error":"#VALUE!"}," ","","",{"$f":"IF(AQ160<>0,VLOOKUP(AQ160,Info!A:B,2,FALSE),\"\")","v":""},"","","","","","","","","","",""]
["","","","Buy",null,null,null,null,null,null,null,null,null,null,{"$error":"#VALUE!"},{"$error":"#VALUE!"},{"$error":"#VALUE!"},{"$error":"#VALUE!"},{"$error":"#VALUE!"},{"$error":"#VALUE!"},{"$error":"#VALUE!"},{"$error":"#VALUE!"},{"$error":"#VALUE!"},{"$error":"#VALUE!"}," ","","",{"$f":"IF(AQ161<>0,VLOOKUP(AQ161,Info!A:B,2,FALSE),\"\")","v":""},"","","","","","","","","","",""]
["","","","Buy",null,null,null,null,null,null,null,null,null,null,{"$error":"#VALUE!"},{"$error":"#VALUE!"},{"$error":"#VALUE!"},{"$error":"#VALUE!"},{"$error":"#VALUE!"},{"$error":"#VALUE!"},{"$error":"#VALUE!"},{"$error":"#VALUE!"},{"$error":"#VALUE!"},{"$error":"#VALUE!"}," ","","",{"$f":"IF(AQ162<>0,VLOOKUP(AQ162,Info!A:B,2,FALSE),\"\")","v":""},"","","","","","","","","","",""]
["","","","Buy",null,null,null,null,null,null,null,null,null,null,{"$error":"#VALUE!"},{"$error":"#VALUE!"},{"$error":"#VALUE!"},{"$error":"#VALUE!"},{"$error":"#VALUE!"},{"$error":"#VALUE!"},{"$error":"#VALUE!"},{"$error":"#VALUE!"},{"$error":"#VALUE!"},{"$error":"#VALUE!"}," ","","",{"$f":"IF(AQ163<>0,VLOOKUP(AQ163,Info!A:B,2,FALSE),\"\")","v":""},"","","","","","","","","","",""]
["","","","Buy",null,null,null,null,null,null,null,null,null,null,{"$error":"#VALUE!"},{"$error":"#VALUE!"},{"$error":"#VALUE!"},{"$error":"#VALUE!"},{"$error":"#VALUE!"},{"$error":"#VALUE!"},{"$error":"#VALUE!"},{"$error":"#VALUE!"},{"$error":"#VALUE!"},{"$error":"#VALUE!"}," ","","",{"$f":"IF(AQ164<>0,VLOOKUP(AQ164,Info!A:B,2,FALSE),\"\")","v":""},"","","","","","","","","","",""]
["","","","Buy",null,null,null,null,null,null,null,null,null,null,{"$error":"#VALUE!"},{"$error":"#VALUE!"},{"$error":"#VALUE!"},{"$error":"#VALUE!"},{"$error":"#VALUE!"},{"$error":"#VALUE!"},{"$error":"#VALUE!"},{"$error":"#VALUE!"},{"$error":"#VALUE!"},{"$error":"#VALUE!"}," ","","",{"$f":"IF(AQ165<>0,VLOOKUP(AQ165,Info!A:B,2,FALSE),\"\")","v":""},"","","","","","","","","","",""]
["","","","Buy",null,null,null,null,null,null,null,null,null,null,{"$error":"#VALUE!"},{"$error":"#VALUE!"},{"$error":"#VALUE!"},{"$error":"#VALUE!"},{"$error":"#VALUE!"},{"$error":"#VALUE!"},{"$error":"#VALUE!"},{"$error":"#VALUE!"},{"$error":"#VALUE!"},{"$error":"#VALUE!"}," ","","",{"$f":"IF(AQ166<>0,VLOOKUP(AQ166,Info!A:B,2,FALSE),\"\")","v":""},"","","","","","","","","","",""]
["","","","Buy",null,null,null,null,null,null,null,null,null,null,{"$error":"#VALUE!"},{"$error":"#VALUE!"},{"$error":"#VALUE!"},{"$error":"#VALUE!"},{"$error":"#VALUE!"},{"$error":"#VALUE!"},{"$error":"#VALUE!"},{"$error":"#VALUE!"},{"$error":"#VALUE!"},{"$error":"#VALUE!"}," ","","",{"$f":"IF(AQ167<>0,VLOOKUP(AQ167,Info!A:B,2,FALSE),\"\")","v":""},"","","","","","","","","","",""]
["","","","Buy",null,null,null,null,null,null,null,null,null,null,{"$error":"#VALUE!"},{"$error":"#VALUE!"},{"$error":"#VALUE!"},{"$error":"#VALUE!"},{"$error":"#VALUE!"},{"$error":"#VALUE!"},{"$error":"#VALUE!"},{"$error":"#VALUE!"},{"$error":"#VALUE!"},{"$error":"#VALUE!"}," ","","",{"$f":"IF(AQ168<>0,VLOOKUP(AQ168,Info!A:B,2,FALSE),\"\")","v":""},"","","","","","","","","","",""]
["","","","Buy",null,null,null,null,null,null,null,null,null,null,{"$error":"#VALUE!"},{"$error":"#VALUE!"},{"$error":"#VALUE!"},{"$error":"#VALUE!"},{"$error":"#VALUE!"},{"$error":"#VALUE!"},{"$error":"#VALUE!"},{"$error":"#VALUE!"},{"$error":"#VALUE!"},{"$error":"#VALUE!"}," ","","",{"$f":"IF(AQ169<>0,VLOOKUP(AQ169,Info!A:B,2,FALSE),\"\")","v":""},"","","","","","","","","","",""]
[{"$f":"IF(Z156<>0,Z156,\"\")","v":""},{"$f":"IF(A156<>0,VLOOKUP(A156,Z:AA,2,FALSE),\"\")","v":""},{"$f":"IF(A156<>0,VLOOKUP(A156,Z:AB,3,FALSE))","v":""},{"$f":"HYPERLINK(\"http://www.jockstocks.com/buysell.php?action=buymax&plid=\"&A156,\"Buy\")","v":"Buy"},null,null,null,null,null,null,null,null,null,null,{"$error":"#VALUE!"},{"$error":"#VALUE!"},{"$error":"#VALUE!"},{"$error":"#VALUE!"},{"$error":"#VALUE!"},{"$error":"#VALUE!"},{"$error":"#VALUE!"},{"$error":"#VALUE!"},{"$error":"#VALUE!"},{"$error":"#VALUE!"}," ","","",{"$f":"IF(AQ170<>0,VLOOKUP(AQ170,Info!A:B,2,FALSE),\"\")","v":""},"","","","","","","","","","",""]
["","","","Buy",null,null,null,null,null,null,null,null,null,null,{"$error":"#VALUE!"},{"$error":"#VALUE!"},{"$error":"#VALUE!"},{"$error":"#VALUE!"},{"$error":"#VALUE!"},{"$error":"#VALUE!"},{"$error":"#VALUE!"},{"$error":"#VALUE!"},{"$error":"#VALUE!"},{"$error":"#VALUE!"}," ","","",{"$f":"IF(AQ171<>0,VLOOKUP(AQ171,Info!A:B,2,FALSE),\"\")","v":""},"","","","","","","","","","",""]
["","","","Buy",null,null,null,null,null,null,null,null,null,null,{"$error":"#VALUE!"},{"$error":"#VALUE!"},{"$error":"#VALUE!"},{"$error":"#VALUE!"},{"$error":"#VALUE!"},{"$error":"#VALUE!"},{"$error":"#VALUE!"},{"$error":"#VALUE!"},{"$error":"#VALUE!"},{"$error":"#VALUE!"}," ","","",{"$f":"IF(AQ172<>0,VLOOKUP(AQ172,Info!A:B,2,FALSE),\"\")","v":""},"","","","","","","","","","",""]
["","","","Buy",null,null,null,null,null,null,null,null,null,null,{"$error":"#VALUE!"},{"$error":"#VALUE!"},{"$error":"#VALUE!"},{"$error":"#VALUE!"},{"$error":"#VALUE!"},{"$error":"#VALUE!"},{"$error":"#VALUE!"},{"$error":"#VALUE!"},{"$error":"#VALUE!"},{"$error":"#VALUE!"}," ","","",{"$f":"IF(AQ173<>0,VLOOKUP(AQ173,Info!A:B,2,FALSE),\"\")","v":""},"","","","","","","","","","",""]
["","","","Buy",null,null,null,null,null,null,null,null,null,null,{"$error":"#VALUE!"},{"$error":"#VALUE!"},{"$error":"#VALUE!"},{"$error":"#VALUE!"},{"$error":"#VALUE!"},{"$error":"#VALUE!"},{"$error":"#VALUE!"},{"$error":"#VALUE!"},{"$error":"#VALUE!"},{"$error":"#VALUE!"}," ","","",{"$f":"IF(AQ174<>0,VLOOKUP(AQ174,Info!A:B,2,FALSE),\"\")","v":""},"","","","","","","","","","",""]
["","","","Buy",null,null,null,null,null,null,null,null,null,null,{"$error":"#VALUE!"},{"$error":"#VALUE!"},{"$error":"#VALUE!"},{"$error":"#VALUE!"},{"$error":"#VALUE!"},{"$error":"#VALUE!"},{"$error":"#VALUE!"},{"$error":"#VALUE!"},{"$error":"#VALUE!"},{"$error":"#VALUE!"}," ","","",{"$f":"IF(AQ175<>0,VLOOKUP(AQ175,Info!A:B,2,FALSE),\"\")","v":""},"","","","","","","","","","",""]
["","","","Buy",null,null,null,null,null,null,null,null,null,null,{"$error":"#VALUE!"},{"$error":"#VALUE!"},{"$error":"#VALUE!"},{"$error":"#VALUE!"},{"$error":"#VALUE!"},{"$error":"#VALUE!"},{"$error":"#VALUE!"},{"$error":"#VALUE!"},{"$error":"#VALUE!"},{"$error":"#VALUE!"}," ","","",{"$f":"IF(AQ176<>0,VLOOKUP(AQ176,Info!A:B,2,FALSE),\"\")","v":""},"","","","","","","","","","",""]
["","","","Buy",null,null,null,null,null,null,null,null,null,null,{"$error":"#VALUE!"},{"$error":"#VALUE!"},{"$error":"#VALUE!"},{"$error":"#VALUE!"},{"$error":"#VALUE!"},{"$error":"#VALUE!"},{"$error":"#VALUE!"},{"$error":"#VALUE!"},{"$error":"#VALUE!"},{"$error":"#VALUE!"}," ","","",{"$f":"IF(AQ177<>0,VLOOKUP(AQ177,Info!A:B,2,FALSE),\"\")","v":""},"","","","","","","","","","",""]
["","","","Buy",null,null,null,null,null,null,null,null,null,null,{"$error":"#VALUE!"},{"$error":"#VALUE!"},{"$error":"#VALUE!"},{"$error":"#VALUE!"},{"$error":"#VALUE!"},{"$error":"#VALUE!"},{"$error":"#VALUE!"},{"$error":"#VALUE!"},{"$error":"#VALUE!"},{"$error":"#VALUE!"}," ","","",{"$f":"IF(AQ178<>0,VLOOKUP(AQ178,Info!A:B,2,FALSE),\"\")","v":""},"","","","","","","","","","",""]
["","","","Buy",null,null,null,null,null,null,null,null,null,null,{"$error":"#VALUE!"},{"$error":"#VALUE!"},{"$error":"#VALUE!"},{"$error":"#VALUE!"},{"$error":"#VALUE!"},{"$error":"#VALUE!"},{"$error":"#VALUE!"},{"$error":"#VALUE!"},{"$error":"#VALUE!"},{"$error":"#VALUE!"}," ","","",{"$f":"IF(AQ179<>0,VLOOKUP(AQ179,Info!A:B,2,FALSE),\"\")","v":""},"","","","","","","","","","",""]
["","","","Buy",null,null,null,null,null,null,null,null,null,null,{"$error":"#VALUE!"},{"$error":"#VALUE!"},{"$error":"#VALUE!"},{"$error":"#VALUE!"},{"$error":"#VALUE!"},{"$error":"#VALUE!"},{"$error":"#VALUE!"},{"$error":"#VALUE!"},{"$error":"#VALUE!"},{"$error":"#VALUE!"}," ","","",{"$f":"IF(AQ180<>0,VLOOKUP(AQ180,Info!A:B,2,FALSE),\"\")","v":""},"","","","","","","","","","",""]
["","","","Buy",null,null,null,null,null,null,null,null,null,null,{"$error":"#VALUE!"},{"$error":"#VALUE!"},{"$error":"#VALUE!"},{"$error":"#VALUE!"},{"$error":"#VALUE!"},{"$error":"#VALUE!"},{"$error":"#VALUE!"},{"$error":"#VALUE!"},{"$error":"#VALUE!"},{"$error":"#VALUE!"}," ","","",{"$f":"IF(AQ181<>0,VLOOKUP(AQ181,Info!A:B,2,FALSE),\"\")","v":""},"","","","","","","","","","",""]
["","","","Buy",null,null,null,null,null,null,null,null,null,null,{"$error":"#VALUE!"},{"$error":"#VALUE!"},{"$error":"#VALUE!"},{"$error":"#VALUE!"},{"$error":"#VALUE!"},{"$error":"#VALUE!"},{"$error":"#VALUE!"},{"$error":"#VALUE!"},{"$error":"#VALUE!"},{"$error":"#VALUE!"}," ","","",{"$f":"IF(AQ182<>0,VLOOKUP(AQ182,Info!A:B,2,FALSE),\"\")","v":""},"","","","","","","","","","",""]
["","","","Buy",null,null,null,null,null,null,null,null,null,null,{"$error":"#VALUE!"},{"$error":"#VALUE!"},{"$error":"#VALUE!"},{"$error":"#VALUE!"},{"$error":"#VALUE!"},{"$error":"#VALUE!"},{"$error":"#VALUE!"},{"$error":"#VALUE!"},{"$error":"#VALUE!"},{"$error":"#VALUE!"}," ","","",{"$f":"IF(AQ183<>0,VLOOKUP(AQ183,Info!A:B,2,FALSE),\"\")","v":""},"","","","","","","","","","",""]
["","","","Buy",null,null,null,null,null,null,null,null,null,null,{"$error":"#VALUE!"},{"$error":"#VALUE!"},{"$error":"#VALUE!"},{"$error":"#VALUE!"},{"$error":"#VALUE!"},{"$error":"#VALUE!"},{"$error":"#VALUE!"},{"$error":"#VALUE!"},{"$error":"#VALUE!"},{"$error":"#VALUE!"}," ","","",{"$f":"IF(AQ184<>0,VLOOKUP(AQ184,Info!A:B,2,FALSE),\"\")","v":""},"","","","","","","","","","",""]
["","","","Buy",null,null,null,null,null,null,null,null,null,null,{"$error":"#VALUE!"},{"$error":"#VALUE!"},{"$error":"#VALUE!"},{"$error":"#VALUE!"},{"$error":"#VALUE!"},{"$error":"#VALUE!"},{"$error":"#VALUE!"},{"$error":"#VALUE!"},{"$error":"#VALUE!"},{"$error":"#VALUE!"}," ","","",{"$f":"IF(AQ185<>0,VLOOKUP(AQ185,Info!A:B,2,FALSE),\"\")","v":""},"","","","","","","","","","",""]
["","","","Buy",null,null,null,null,null,null,null,null,null,null,{"$error":"#VALUE!"},{"$error":"#VALUE!"},{"$error":"#VALUE!"},{"$error":"#VALUE!"},{"$error":"#VALUE!"},{"$error":"#VALUE!"},{"$error":"#VALUE!"},{"$error":"#VALUE!"},{"$error":"#VALUE!"},{"$error":"#VALUE!"}," ","","",{"$f":"IF(AQ186<>0,VLOOKUP(AQ186,Info!A:B,2,FALSE),\"\")","v":""},"","","","","","","","","","",""]
["","","","Buy",null,null,null,null,null,null,null,null,null,null,{"$error":"#VALUE!"},{"$error":"#VALUE!"},{"$error":"#VALUE!"},{"$error":"#VALUE!"},{"$error":"#VALUE!"},{"$error":"#VALUE!"},{"$error":"#VALUE!"},{"$error":"#VALUE!"},{"$error":"#VALUE!"},{"$error":"#VALUE!"}," ","","",{"$f":"IF(AQ187<>0,VLOOKUP(AQ187,Info!A:B,2,FALSE),\"\")","v":""},"","","","","","","","","","",""]
["","","","Buy",null,null,null,null,null,null,null,null,null,null,{"$error":"#VALUE!"},{"$error":"#VALUE!"},{"$error":"#VALUE!"},{"$error":"#VALUE!"},{"$error":"#VALUE!"},{"$error":"#VALUE!"},{"$error":"#VALUE!"},{"$error":"#VALUE!"},{"$error":"#VALUE!"},{"$error":"#VALUE!"}," ","","",{"$f":"IF(AQ188<>0,VLOOKUP(AQ188,Info!A:B,2,FALSE),\"\")","v":""},"","","","","","","","","","",""]
["","","","Buy",null,null,null,null,null,null,null,null,null,null,{"$error":"#VALUE!"},{"$error":"#VALUE!"},{"$error":"#VALUE!"},{"$error":"#VALUE!"},{"$error":"#VALUE!"},{"$error":"#VALUE!"},{"$error":"#VALUE!"},{"$error":"#VALUE!"},{"$error":"#VALUE!"},{"$error":"#VALUE!"}," ","","",{"$f":"IF(AQ189<>0,VLOOKUP(AQ189,Info!A:B,2,FALSE),\"\")","v":""},"","","","","","","","","","",""]
["","","","Buy",null,null,null,null,null,null,null,null,null,null,{"$error":"#VALUE!"},{"$error":"#VALUE!"},{"$error":"#VALUE!"},{"$error":"#VALUE!"},{"$error":"#VALUE!"},{"$error":"#VALUE!"},{"$error":"#VALUE!"},{"$error":"#VALUE!"},{"$error":"#VALUE!"},{"$error":"#VALUE!"}," ","","",{"$f":"IF(AQ190<>0,VLOOKUP(AQ190,Info!A:B,2,FALSE),\"\")","v":""},"","","","","","","","","","",""]
["","","","Buy",null,null,null,null,null,null,null,null,null,null,{"$error":"#VALUE!"},{"$error":"#VALUE!"},{"$error":"#VALUE!"},{"$error":"#VALUE!"},{"$error":"#VALUE!"},{"$error":"#VALUE!"},{"$error":"#VALUE!"},{"$error":"#VALUE!"},{"$error":"#VALUE!"},{"$error":"#VALUE!"}," ","","",{"$f":"IF(AQ191<>0,VLOOKUP(AQ191,Info!A:B,2,FALSE),\"\")","v":""},"","","","","","","","","","",""]
["","","","Buy",null,null,null,null,null,null,null,null,null,null,{"$error":"#VALUE!"},{"$error":"#VALUE!"},{"$error":"#VALUE!"},{"$error":"#VALUE!"},{"$error":"#VALUE!"},{"$error":"#VALUE!"},{"$error":"#VALUE!"},{"$error":"#VALUE!"},{"$error":"#VALUE!"},{"$error":"#VALUE!"}," ","","",{"$f":"IF(AQ192<>0,VLOOKUP(AQ192,Info!A:B,2,FALSE),\"\")","v":""},"","","","","","","","","","",""]
["","","","Buy",null,null,null,null,null,null,null,null,null,null,{"$error":"#VALUE!"},{"$error":"#VALUE!"},{"$error":"#VALUE!"},{"$error":"#VALUE!"},{"$error":"#VALUE!"},{"$error":"#VALUE!"},{"$error":"#VALUE!"},{"$error":"#VALUE!"},{"$error":"#VALUE!"},{"$error":"#VALUE!"}," ","","",{"$f":"IF(AQ193<>0,VLOOKUP(AQ193,Info!A:B,2,FALSE),\"\")","v":""},"","","","","","","","","","",""]
["","","","Buy",null,null,null,null,null,null,null,null,null,null,{"$error":"#VALUE!"},{"$error":"#VALUE!"},{"$error":"#VALUE!"},{"$error":"#VALUE!"},{"$error":"#VALUE!"},{"$error":"#VALUE!"},{"$error":"#VALUE!"},{"$error":"#VALUE!"},{"$error":"#VALUE!"},{"$error":"#VALUE!"}," ","","",{"$f":"IF(AQ194<>0,VLOOKUP(AQ194,Info!A:B,2,FALSE),\"\")","v":""},"","","","","","","","","","",""]
[null,null,null,null,null,null,null,null,null,null,null,null,null,null,null,null,null,null,null,null,null,null,null,null,null,{"$f":"IF(AO170<>0,AO170,\"\")","v":""},{"$f":"IF(AP170<>0,VLOOKUP(Z181,AO:AP,2,FALSE),\"\")","v":""},{"$f":"IF(AQ170<>0,VLOOKUP(AQ170,Info!A:B,2,FALSE),\"\")","v":""},{"$f":"IF(AO170<>0,VLOOKUP(Z181,AO:AR,4,FALSE),\"\")","v":""},{"$f":"IF($AO170<>0,AT170/$AS170,\"\")","v":""},{"$f":"IF($AO170<>0,AU170/$AS170,\"\")","v":""},{"$f":"IF($AO170<>0,AV170/$AS170,\"\")","v":""},{"$f":"IF($AO170<>0,AW170/$AS170,\"\")","v":""},{"$f":"IF($AO170<>0,AX170/$AS170,\"\")","v":""},{"$f":"IF($AO170<>0,AY181/$AS170,\"\")","v":""},{"$f":"IF($AO170<>0,AZ181/$AS170,\"\")","v":""},{"$f":"IF($AO170<>0,BA181/$AS170,\"\")","v":""},{"$f":"IF($AO170<>0,BB181/$AS170,\"\")","v":""},{"$f":"IF($AO170<>0,BC181/$AS170,\"\")","v":""}]
[null,null,null,null,null,null,null,null,null,null,null,null,null,null,null,null,null,null,null,null,null,null,null,null,null,"","",{"$f":"IF(AQ171<>0,VLOOKUP(AQ171,Info!A:B,2,FALSE),\"\")","v":""},"","","","","","","","","","",""]
[null,null,null,null,null,null,null,null,null,null,null,null,null,null,null,null,null,null,null,null,null,null,null,null,null,"","",{"$f":"IF(AQ172<>0,VLOOKUP(AQ172,Info!A:B,2,FALSE),\"\")","v":""},"","","","","","","","","","",""]
[null,null,null,null,null,null,null,null,null,null,null,null,null,null,null,null,null,null,null,null,null,null,null,null,null,"","",{"$f":"IF(AQ173<>0,VLOOKUP(AQ173,Info!A:B,2,FALSE),\"\")","v":""},"","","","","","","","","","",""]
[null,null,null,null,null,null,null,null,null,null,null,null,null,null,null,null,null,null,null,null,null,null,null,null,null,"","",{"$f":"IF(AQ174<>0,VLOOKUP(AQ174,Info!A:B,2,FALSE),\"\")","v":""},"","","","","","","","","","",""]
[null,null,null,null,null,null,null,null,null,null,null,null,null,null,null,null,null,null,null,null,null,null,null,null,null,"","",{"$f":"IF(AQ175<>0,VLOOKUP(AQ175,Info!A:B,2,FALSE),\"\")","v":""},"","","","","","","","","","",""]
[null,null,null,null,null,null,null,null,null,null,null,null,null,null,null,null,null,null,null,null,null,null,null,null,null,"","",{"$f":"IF(AQ176<>0,VLOOKUP(AQ176,Info!A:B,2,FALSE),\"\")","v":""},"","","","","","","","","","",""]
[null,null,null,null,null,null,null,null,null,null,null,null,null,null,null,null,null,null,null,null,null,null,null,null,null,"","",{"$f":"IF(AQ177<>0,VLOOKUP(AQ177,Info!A:B,2,FALSE),\"\")","v":""},"","","","","","","","","","",""]
[null,null,null,null,null,null,null,null,null,null,null,null,null,null,null,null,null,null,null,null,null,null,null,null,null,"","",{"$f":"IF(AQ178<>0,VLOOKUP(AQ178,Info!A:B,2,FALSE),\"\")","v":""},"","","","","","","","","","",""]
[null,null,null,null,null,null,null,null,null,null,null,null,null,null,null,null,null,null,null,null,null,null,null,null,null,"","",{"$f":"IF(AQ179<>0,VLOOKUP(AQ179,Info!A:B,2,FALSE),\"\")","v":""},"","","","","","","","","","",""]
[null,null,null,null,null,null,null,null,null,null,null,null,null,null,null,null,null,null,null,null,null,null,null,null,null,"","",{"$f":"IF(AQ180<>0,VLOOKUP(AQ180,Info!A:B,2,FALSE),\"\")","v":""},"","","","","","","","","","",""]
[null,null,null,null,null,null,null,null,null,null,null,null,null,null,null,null,null,null,null,null,null,null,null,null,null,"","",{"$f":"IF(AQ181<>0,VLOOKUP(AQ181,Info!A:B,2,FALSE),\"\")","v":""},"","","","","","","","","","",""]
[null,null,null,null,null,null,null,null,null,null,null,null,null,null,null,null,null,null,null,null,null,null,null,null,null,"","",{"$f":"IF(AQ182<>0,VLOOKUP(AQ182,Info!A:B,2,FALSE),\"\")","v":""},"","","","","","","","","","",""]
[null,null,null,null,null,null,null,null,null,null,null,null,null,null,null,null,null,null,null,null,null,null,null,null,null,"","",{"$f":"IF(AQ183<>0,VLOOKUP(AQ183,Info!A:B,2,FALSE),\"\")","v":""},"","","","","","","","","","",""]
[null,null,null,null,null,null,null,null,null,null,null,null,null,null,null,null,null,null,null,null,null,null,null,null,null,"","",{"$f":"IF(AQ184<>0,VLOOKUP(AQ184,Info!A:B,2,FALSE),\"\")","v":""},"","","","","","","","","","",""]
[null,null,null,null,null,null,null,null,null,null,null,null,null,null,null,null,null,null,null,null,null,null,null,null,null,"","",{"$f":"IF(AQ185<>0,VLOOKUP(AQ185,Info!A:B,2,FALSE),\"\")","v":""},"","","","","","","","","","",""]
[null,null,null,null,null,null,null,null,null,null,null,null,null,null,null,null,null,null,null,null,null,null,null,null,null,"","",{"$f":"IF(AQ186<>0,VLOOKUP(AQ186,Info!A:B,2,FALSE),\"\")","v":""},"","","","","","","","","","",""]
[null,null,null,null,null,null,null,null,null,null,null,null,null,null,null,null,null,null,null,null,null,null,null,null,null,"","",{"$f":"IF(AQ187<>0,VLOOKUP(AQ187,Info!A:B,2,FALSE),\"\")","v":""},"","","","","","","","","","",""]
[null,null,null,null,null,null,null,null,null,null,null,null,null,null,null,null,null,null,null,null,null,null,null,null,null,"","",{"$f":"IF(AQ188<>0,VLOOKUP(AQ188,Info!A:B,2,FALSE),\"\")","v":""},"","","","","","","","","","",""]
[null,null,null,null,null,null,null,null,null,null,null,null,null,null,null,null,null,null,null,null,null,null,null,null,null,"","",{"$f":"IF(AQ189<>0,VLOOKUP(AQ189,Info!A:B,2,FALSE),\"\")","v":""},"","","","","","","","","","",""]

{"sheet":"NFLD","index":10,"n_rows":260,"n_cols":51,"rows_kept":260,"cut":false,"hidden":false,"merged":[]}
["plid","Name","Team",null,"Tackles","Sacks","Picks","TDs","Safety","FF",null,null,null,null,"Tackles","Sacks","Picks","TDs","Safety","FF",null,null,null,null,null,{"$f":"IF(AO1<>0,AO1,\"\")","v":"ID"},{"$f":"IF(AP1<>0,AP1,\"\")","v":"Name"},{"$f":"IF(AQ1<>0,AQ1,\"\")","v":"Team"},{"$f":"IF(AR1<>0,AR1,\"\")","v":"Symbol"},{"$f":"IF(AT1<>0,AT1,\"\")","v":"Tackles"},{"$f":"IF(AU1<>0,AU1,\"\")","v":"Sacks"},"Interceptions","Fumble/Int TD Returns","Safeties","Forced Fumbles","","","","",null,"ID","Name","Team","Symbol","Games","Tackles","Sacks","Interceptions","Fumble/Int TD Returns","Safeties","Forced Fumbles"]
[{"$f":"IF(Z2<>0,Z2,\"\")","v":2720},{"$f":"IF(A2<>0,VLOOKUP(A2,Z:AA,2,FALSE),\"\")","v":"Antoine Bethea"},{"$f":"IF(A2<>0,VLOOKUP(A2,Z:AB,3,FALSE))","v":"ARI"},{"$f":"HYPERLINK(\"http://www.jockstocks.com/buysell.php?action=buymax&plid=\"&A2,\"Buy\")","v":"Buy"},null,null,null,null,null,null,null,null,null,null,{"$f":"VLOOKUP($A2,$A:$N,5,FALSE)/VLOOKUP($A2,$Z:$AM,5,FALSE)","v":0},{"$f":"VLOOKUP($A2,$A:$N,6,FALSE)/VLOOKUP($A2,$Z:$AM,6,FALSE)","v":0},{"$f":"VLOOKUP($A2,$A:$N,7,FALSE)/VLOOKUP($A2,$Z:$AM,7,FALSE)","v":0},{"$f":"VLOOKUP($A2,$A:$N,8,FALSE)/VLOOKUP($A2,$Z:$AM,8,FALSE)","v":0},{"$f":"VLOOKUP($A2,$A:$N,9,FALSE)/VLOOKUP($A2,$Z:$AM,9,FALSE)","v":0},{"$f":"VLOOKUP($A2,$A:$N,10,FALSE)/VLOOKUP($A2,$Z:$AM,10,FALSE)","v":0},{"$f":"VLOOKUP($A2,$A:$N,11,FALSE)/VLOOKUP($A2,$Z:$AM,11,FALSE)","v":{"$error":"#DIV/0!"}},{"$f":"VLOOKUP($A2,$A:$N,12,FALSE)/VLOOKUP($A2,$Z:$AM,12,FALSE)","v":{"$error":"#DIV/0!"}},{"$f":"VLOOKUP($A2,$A:$N,13,FALSE)/VLOOKUP($A2,$Z:$AM,13,FALSE)","v":{"$error":"#DIV/0!"}},{"$f":"VLOOKUP($A2,$A:$N,14,FALSE)/VLOOKUP($A2,$Z:$AM,14,FALSE)","v":{"$error":"#DIV/0!"}}," ",{"$f":"IF(AO2<>0,AO2,\"\")","v":2720},{"$f":"IF(AP2<>0,VLOOKUP(Z2,AO:AP,2,FALSE),\"\")","v":"Antoine Bethea"},{"$f":"IF(AQ2<>0,VLOOKUP(AQ2,Info!A:B,2,FALSE),\"\")","v":"ARI"},{"$f":"IF(AO2<>0,VLOOKUP(Z2,AO:AR,4,FALSE),\"\")","v":"betan"},{"$f":"IF($AO2<>0,AT2/$AS2,\"\")","v":6.875},0.125,0.125,0.125,6.25E-2,6.25E-2,0,0,0,0,null,2720,"Antoine Bethea","Arizona Cardinals","betan",16,110,2,2,2,1,1]
[{"$f":"IF(Z3<>0,Z3,\"\")","v":3371},{"$f":"IF(A3<>0,VLOOKUP(A3,Z:AA,2,FALSE),\"\")","v":"Chandler Jones"},{"$f":"IF(A3<>0,VLOOKUP(A3,Z:AB,3,FALSE))","v":"ARI"},{"$f":"HYPERLINK(\"http://www.jockstocks.com/buysell.php?action=buymax&plid=\"&A3,\"Buy\")","v":"Buy"},null,null,null,null,null,null,null,null,null,null,0,0,0,0,0,0,{"$error":"#DIV/0!"},{"$error":"#DIV/0!"},{"$error":"#DIV/0!"},{"$error":"#DIV/0!"}," ",{"$f":"IF(AO3<>0,AO3,\"\")","v":3371},{"$f":"IF(AP3<>0,VLOOKUP(Z3,AO:AP,2,FALSE),\"\")","v":"Chandler Jones"},{"$f":"IF(AQ3<>0,VLOOKUP(AQ3,Info!A:B,2,FALSE),\"\")","v":"ARI"},{"$f":"IF(AO3<>0,VLOOKUP(Z3,AO:AR,4,FALSE),\"\")","v":"jonch"},{"$f":"IF($AO3<>0,AT3/$AS3,\"\")","v":3.0625},{"$f":"IF($AO3<>0,AU3/$AS3,\"\")","v":0.6875},{"$f":"IF($AO3<>0,AV3/$AS3,\"\")","v":0.125},{"$f":"IF($AO3<>0,AW3/$AS3,\"\")","v":0.125},{"$f":"IF($AO3<>0,AX3/$AS3,\"\")","v":6.25E-2},{"$f":"IF($AO3<>0,AY3/$AS3,\"\")","v":0.25},{"$f":"IF($AO3<>0,AZ3/$AS3,\"\")","v":0},{"$f":"IF($AO3<>0,BA3/$AS3,\"\")","v":0},{"$f":"IF($AO3<>0,BB3/$AS3,\"\")","v":0},{"$f":"IF($AO3<>0,BC3/$AS3,\"\")","v":0},null,3371,"Chandler Jones","Arizona Cardinals","jonch",16,49,11,2,2,1,4]
[2107,"Karlos Dansby","ARI","Buy",null,null,null,null,null,null,null,null,null,null,0,0,0,0,0,0,{"$error":"#DIV/0!"},{"$error":"#DIV/0!"},{"$error":"#DIV/0!"},{"$error":"#DIV/0!"}," ",2107,"Karlos Dansby",{"$f":"IF(AQ4<>0,VLOOKUP(AQ4,Info!A:B,2,FALSE),\"\")","v":"ARI"},"danka",7.125,0.125,0.125,0.125,6.25E-2,6.25E-2,0,0,0,0,null,2107,"Karlos Dansby","Arizona Cardinals","danka",16,114,2,2,2,1,1]
[4084,"Markus Golden","ARI","Buy",null,null,null,null,null,null,null,null,null,null,0,0,0,0,0,0,{"$error":"#DIV/0!"},{"$error":"#DIV/0!"},{"$error":"#DIV/0!"},{"$error":"#DIV/0!"}," ",4084,"Markus Golden",{"$f":"IF(AQ5<>0,VLOOKUP(AQ5,Info!A:B,2,FALSE),\"\")","v":"ARI"},"golma",3.1875,0.8125,0.125,0.125,6.25E-2,0.25,0,0,0,0,null,4084,"Markus Golden","Arizona Cardinals","golma",16,51,13,2,2,1,4]
[3366,"Patrick Peterson","ARI","Buy",null,null,null,null,null,null,null,null,null,null,0,0,0,0,0,0,{"$error":"#DIV/0!"},{"$error":"#DIV/0!"},{"$error":"#DIV/0!"},{"$error":"#DIV/0!"}," ",3366,"Patrick Peterson",{"$f":"IF(AQ6<>0,VLOOKUP(AQ6,Info!A:B,2,FALSE),\"\")","v":"ARI"},"petpa",3.1875,0.125,0.1875,0.125,6.25E-2,6.25E-2,0,0,0,0,null,3366,"Patrick Peterson","Arizona Cardinals","petpa",16,51,2,3,2,1,1]
[2816,"Tramon Williams","ARI","Buy",null,null,null,null,null,null,null,null,null,null,0,0,0,0,0,0,{"$error":"#DIV/0!"},{"$error":"#DIV/0!"},{"$error":"#DIV/0!"},{"$error":"#DIV/0!"}," ",2816,"Tramon Williams",{"$f":"IF(AQ7<>0,VLOOKUP(AQ7,Info!A:B,2,FALSE),\"\")","v":"ARI"},"willt",3,0.125,0.125,0.125,6.25E-2,6.25E-2,0,0,0,0,null,2816,"Tramon Williams","Arizona Cardinals","willt",16,48,2,2,2,1,1]
[3373,"Tyrann Mathieu","ARI","Buy",null,null,null,null,null,null,null,null,null,null,0,0,0,0,0,0,{"$error":"#DIV/0!"},{"$error":"#DIV/0!"},{"$error":"#DIV/0!"},{"$error":"#DIV/0!"}," ",3373,"Tyrann Mathieu",{"$f":"IF(AQ8<>0,VLOOKUP(AQ8,Info!A:B,2,FALSE),\"\")","v":"ARI"},"matty",3.5,0.125,0.125,0.125,6.25E-2,0.125,0,0,0,0,null,3373,"Tyrann Mathieu","Arizona Cardinals","matty",16,56,2,2,2,1,2]
[2716,"Tyvon Branch","ARI","Buy",null,null,null,null,null,null,null,null,null,null,0,0,0,0,0,0,{"$error":"#DIV/0!"},{"$error":"#DIV/0!"},{"$error":"#DIV/0!"},{"$error":"#DIV/0!"}," ",2716,"Tyvon Branch",{"$f":"IF(AQ9<>0,VLOOKUP(AQ9,Info!A:B,2,FALSE),\"\")","v":"ARI"},"braty",4.6875,0.125,0.125,0.125,6.25E-2,6.25E-2,0,0,0,0,null,2716,"Tyvon Branch","Arizona Cardinals","braty",16,75,2,2,2,1,1]
[4254,"Adrian Clayborn","ATL","Buy",null,null,null,null,null,null,null,null,null,null,0,0,0,0,0,0,{"$error":"#DIV/0!"},{"$error":"#DIV/0!"},{"$error":"#DIV/0!"},{"$error":"#DIV/0!"}," ",4254,"Adrian Clayborn",{"$f":"IF(AQ10<>0,VLOOKUP(AQ10,Info!A:B,2,FALSE),\"\")","v":"ATL"},"claad",1.875,0.75,0.125,0.125,6.25E-2,0.25,0,0,0,0,null,4254,"Adrian Clayborn","Atlanta Falcons","claad",16,30,12,2,2,1,4]
[3432,"Derrick Shelby","ATL","Buy",null,null,null,null,null,null,null,null,null,null,0,0,0,0,0,0,{"$error":"#DIV/0!"},{"$error":"#DIV/0!"},{"$error":"#DIV/0!"},{"$error":"#DIV/0!"}," ",3432,"Derrick Shelby",{"$f":"IF(AQ11<>0,VLOOKUP(AQ11,Info!A:B,2,FALSE),\"\")","v":"ATL"},"shede",1.875,0.125,0.125,0.125,6.25E-2,6.25E-2,0,0,0,0,null,3432,"Derrick Shelby","Atlanta Falcons","shede",16,30,2,2,2,1,1]
[3338,"Dontari Poe","ATL","Buy",null,null,null,null,null,null,null,null,null,null,0,0,0,0,0,0,{"$error":"#DIV/0!"},{"$error":"#DIV/0!"},{"$error":"#DIV/0!"},{"$error":"#DIV/0!"}," ",3338,"Dontari Poe",{"$f":"IF(AQ12<>0,VLOOKUP(AQ12,Info!A:B,2,FALSE),\"\")","v":"ATL"},"poedo",1.875,0.125,0.125,0.125,6.25E-2,6.25E-2,0,0,0,0,null,3338,"Dontari Poe","Atlanta Falcons","poedo",16,30,2,2,2,1,1]
[4219,"Keanu Neal","ATL","Buy",null,null,null,null,null,null,null,null,null,null,0,0,0,0,0,0,{"$error":"#DIV/0!"},{"$error":"#DIV/0!"},{"$error":"#DIV/0!"},{"$error":"#DIV/0!"}," ",4219,"Keanu Neal",{"$f":"IF(AQ13<>0,VLOOKUP(AQ13,Info!A:B,2,FALSE),\"\")","v":"ATL"},"neake",6.875,0.125,0.125,0.125,6.25E-2,0.25,0,0,0,0,null,4219,"Keanu Neal","Atlanta Falcons","neake",16,110,2,2,2,1,4]
[2031,"A.J. Hawk","ATL","Buy",null,null,null,null,null,null,null,null,null,null,0,0,0,0,0,0,{"$error":"#DIV/0!"},{"$error":"#DIV/0!"},{"$error":"#DIV/0!"},{"$error":"#DIV/0!"}," ",2031,"A.J. Hawk",{"$f":"IF(AQ14<>0,VLOOKUP(AQ14,Info!A:B,2,FALSE),\"\")","v":"ATL"},"hawaj",1.875,0.125,0.125,0.125,6.25E-2,6.25E-2,0,0,0,0,null,2031,"A.J. Hawk","Atlanta Hawks","hawaj",16,30,2,2,2,1,1]
[4081,"Brandon Carr","BAL","Buy",null,null,null,null,null,null,null,null,null,null,0,0,0,0,0,0,{"$error":"#DIV/0!"},{"$error":"#DIV/0!"},{"$error":"#DIV/0!"},{"$error":"#DIV/0!"}," ",4081,"Brandon Carr",{"$f":"IF(AQ15<>0,VLOOKUP(AQ15,Info!A:B,2,FALSE),\"\")","v":"BAL"},"carbr",3.8125,0.125,0.125,0.125,6.25E-2,6.25E-2,0,0,0,0,null,4081,"Brandon Carr","Baltimore Ravens","carbr",16,61,2,2,2,1,1]
[3643,"CJ Mosley","BAL","Buy",null,null,null,null,null,null,null,null,null,null,0,0,0,0,0,0,{"$error":"#DIV/0!"},{"$error":"#DIV/0!"},{"$error":"#DIV/0!"},{"$error":"#DIV/0!"}," ",3643,"CJ Mosley",{"$f":"IF(AQ16<>0,VLOOKUP(AQ16,Info!A:B,2,FALSE),\"\")","v":"BAL"},"moscj",6.625,0.125,0.3125,0.125,6.25E-2,6.25E-2,0,0,0,0,null,3643,"CJ Mosley","Baltimore Ravens","moscj",16,106,2,5,2,1,1]
[2580,"Eric Weddle","BAL","Buy",null,null,null,null,null,null,null,null,null,null,0,0,0,0,0,0,{"$error":"#DIV/0!"},{"$error":"#DIV/0!"},{"$error":"#DIV/0!"},{"$error":"#DIV/0!"}," ",2580,"Eric Weddle",{"$f":"IF(AQ17<>0,VLOOKUP(AQ17,Info!A:B,2,FALSE),\"\")","v":"BAL"},"weder",5.5625,0.125,0.25,0.125,6.25E-2,6.25E-2,0,0,0,0,null,2580,"Eric Weddle","Baltimore Ravens","weder",16,89,2,4,2,1,1]
[3140,"Lardarius Webb","BAL","Buy",null,null,null,null,null,null,null,null,null,null,0,0,0,0,0,0,{"$error":"#DIV/0!"},{"$error":"#DIV/0!"},{"$error":"#DIV/0!"},{"$error":"#DIV/0!"}," ",3140,"Lardarius Webb",{"$f":"IF(AQ18<>0,VLOOKUP(AQ18,Info!A:B,2,FALSE),\"\")","v":"BAL"},"webla",4.5625,0.125,0.125,0.125,6.25E-2,6.25E-2,0,0,0,0,null,3140,"Lardarius Webb","Baltimore Ravens","webla",16,73,2,2,2,1,1]
[1213,"Terrell Suggs","BAL","Buy",null,null,null,null,null,null,null,null,null,null,0,0,0,0,0,0,{"$error":"#DIV/0!"},{"$error":"#DIV/0!"},{"$error":"#DIV/0!"},{"$error":"#DIV/0!"}," ",1213,"Terrell Suggs",{"$f":"IF(AQ19<>0,VLOOKUP(AQ19,Info!A:B,2,FALSE),\"\")","v":"BAL"},"sugte",2.3125,0.5625,0.125,0.125,6.25E-2,0.1875,0,0,0,0,null,1213,"Terrell Suggs","Baltimore Ravens","sugte",16,37,9,2,2,1,3]
[3429,"Jerry Hughes","BUF","Buy",null,null,null,null,null,null,null,null,null,null,0,0,0,0,0,0,{"$error":"#DIV/0!"},{"$error":"#DIV/0!"},{"$error":"#DIV/0!"},{"$error":"#DIV/0!"}," ",3429,"Jerry Hughes",{"$f":"IF(AQ20<>0,VLOOKUP(AQ20,Info!A:B,2,FALSE),\"\")","v":"BUF"},"hugje",3,0.375,0.125,0.125,6.25E-2,6.25E-2,0,0,0,0,null,3429,"Jerry Hughes","Buffalo Bills","hugje",16,48,6,2,2,1,1]
[3623,"Kyle Williams","BUF","Buy",null,null,null,null,null,null,null,null,null,null,0,0,0,0,0,0,{"$error":"#DIV/0!"},{"$error":"#DIV/0!"},{"$error":"#DIV/0!"},{"$error":"#DIV/0!"}," ",3623,"Kyle Williams",{"$f":"IF(AQ21<>0,VLOOKUP(AQ21,Info!A:B,2,FALSE),\"\")","v":"BUF"},"wilky",4.25,0.3125,0.125,0.125,6.25E-2,6.25E-2,0,0,0,0,null,3623,"Kyle Williams","Buffalo Bills","wilky",16,68,5,2,2,1,1]
[4083,"Lorenzo Alexander","BUF","Buy",null,null,null,null,null,null,null,null,null,null,0,0,0,0,0,0,{"$error":"#DIV/0!"},{"$error":"#DIV/0!"},{"$error":"#DIV/0!"},{"$error":"#DIV/0!"}," ",4083,"Lorenzo Alexander",{"$f":"IF(AQ22<>0,VLOOKUP(AQ22,Info!A:B,2,FALSE),\"\")","v":"BUF"},"alelo",4.75,0.375,0.5,0.125,6.25E-2,0.1875,0,0,0,0,null,4083,"Lorenzo Alexander","Buffalo Bills","alelo",16,76,6,8,2,1,3]
[4247,"Micah Hyde","BUF","Buy",null,null,null,null,null,null,null,null,null,null,0,0,0,0,0,0,{"$error":"#DIV/0!"},{"$error":"#DIV/0!"},{"$error":"#DIV/0!"},{"$error":"#DIV/0!"}," ",4247,"Micah Hyde",{"$f":"IF(AQ23<>0,VLOOKUP(AQ23,Info!A:B,2,FALSE),\"\")","v":"BUF"},"hydmi",4.375,0.125,0.5,0.125,6.25E-2,0.125,0,0,0,0,null,4247,"Micah Hyde","Buffalo Bills","hydmi",16,70,2,8,2,1,2]
[3905,"Preston Brown","BUF","Buy",null,null,null,null,null,null,null,null,null,null,0,0,0,0,0,0,{"$error":"#DIV/0!"},{"$error":"#DIV/0!"},{"$error":"#DIV/0!"},{"$error":"#DIV/0!"}," ",3905,"Preston Brown",{"$f":"IF(AQ24<>0,VLOOKUP(AQ24,Info!A:B,2,FALSE),\"\")","v":"BUF"},"bropr",8.75,0.125,0.125,0.125,6.25E-2,6.25E-2,0,0,0,0,null,3905,"Preston Brown","Buffalo Bills","bropr",16,140,2,2,2,1,1]
[3123,"Charles Johnson","CAR","Buy",null,null,null,null,null,null,null,null,null,null,0,0,0,0,0,0,{"$error":"#DIV/0!"},{"$error":"#DIV/0!"},{"$error":"#DIV/0!"},{"$error":"#DIV/0!"}," ",3123,"Charles Johnson",{"$f":"IF(AQ25<>0,VLOOKUP(AQ25,Info!A:B,2,FALSE),\"\")","v":"CAR"},"johnc",2,0.3125,0.125,0.125,6.25E-2,0.125,0,0,0,0,null,3123,"Charles Johnson","Carolina Panthers","johnc",16,32,5,2,2,1,2]
[897,"Julius Peppers","CAR","Buy",null,null,null,null,null,null,null,null,null,null,0,0,0,0,0,0,{"$error":"#DIV/0!"},{"$error":"#DIV/0!"},{"$error":"#DIV/0!"},{"$error":"#DIV/0!"}," ",897,"Julius Peppers",{"$f":"IF(AQ26<>0,VLOOKUP(AQ26,Info!A:B,2,FALSE),\"\")","v":"CAR"},"pepju",2.5,0.75,0.125,0.125,6.25E-2,0.125,0,0,0,0,null,897,"Julius Peppers","Carolina Panthers","pepju",16,40,12,2,2,1,2]
[3952,"Kawann Short","CAR","Buy",null,null,null,null,null,null,null,null,null,null,0,0,0,0,0,0,{"$error":"#DIV/0!"},{"$error":"#DIV/0!"},{"$error":"#DIV/0!"},{"$error":"#DIV/0!"}," ",3952,"Kawann Short",{"$f":"IF(AQ27<>0,VLOOKUP(AQ27,Info!A:B,2,FALSE),\"\")","v":"CAR"},"shoka",3.4375,0.375,0.125,0.125,6.25E-2,6.25E-2,0,0,0,0,null,3952,"Kawann Short","Carolina Panthers","shoka",16,55,6,2,2,1,1]
[2988,"Kurt Coleman","CAR","Buy",null,null,null,null,null,null,null,null,null,null,0,0,0,0,0,0,{"$error":"#DIV/0!"},{"$error":"#DIV/0!"},{"$error":"#DIV/0!"},{"$error":"#DIV/0!"}," ",2988,"Kurt Coleman",{"$f":"IF(AQ28<>0,VLOOKUP(AQ28,Info!A:B,2,FALSE),\"\")","v":"CAR"},"colku",6.375,0.125,0.25,0.125,6.25E-2,6.25E-2,0,0,0,0,null,2988,"Kurt Coleman","Carolina Panthers","colku",16,102,2,4,2,1,1]
[3322,"Luke Kuechly","CAR","Buy",null,null,null,null,null,null,null,null,null,null,0,0,0,0,0,0,{"$error":"#DIV/0!"},{"$error":"#DIV/0!"},{"$error":"#DIV/0!"},{"$error":"#DIV/0!"}," ",3322,"Luke Kuechly",{"$f":"IF(AQ29<>0,VLOOKUP(AQ29,Info!A:B,2,FALSE),\"\")","v":"CAR"},"kuelu",9.375,0.1875,0.125,0.125,6.25E-2,0.125,0,0,0,0,null,3322,"Luke Kuechly","Carolina Panthers","kuelu",16,150,3,2,2,1,2]
[4255,"Mario Addison","CAR","Buy",null,null,null,null,null,null,null,null,null,null,0,0,0,0,0,0,{"$error":"#DIV/0!"},{"$error":"#DIV/0!"},{"$error":"#DIV/0!"},{"$error":"#DIV/0!"}," ",4255,"Mario Addison",{"$f":"IF(AQ30<>0,VLOOKUP(AQ30,Info!A:B,2,FALSE),\"\")","v":"CAR"},"addma",3.125,0.625,0.125,0.125,6.25E-2,0.125,0,0,0,0,null,4255,"Mario Addison","Carolina Panthers","addma",16,50,10,2,2,1,2]
[3912,"Mike Adams","CAR","Buy",null,null,null,null,null,null,null,null,null,null,0,0,0,0,0,0,{"$error":"#DIV/0!"},{"$error":"#DIV/0!"},{"$error":"#DIV/0!"},{"$error":"#DIV/0!"}," ",3912,"Mike Adams",{"$f":"IF(AQ31<>0,VLOOKUP(AQ31,Info!A:B,2,FALSE),\"\")","v":"CAR"},"adamm",5.25,0.125,0.125,0.125,6.25E-2,0.125,0,0,0,0,null,3912,"Mike Adams","Carolina Panthers","adamm",16,84,2,2,2,1,2]
[3431,"Thomas Davis","CAR","Buy",null,null,null,null,null,null,null,null,null,null,0,0,0,0,0,0,{"$error":"#DIV/0!"},{"$error":"#DIV/0!"},{"$error":"#DIV/0!"},{"$error":"#DIV/0!"}," ",3431,"Thomas Davis",{"$f":"IF(AQ32<>0,VLOOKUP(AQ32,Info!A:B,2,FALSE),\"\")","v":"CAR"},"davth",6.625,0.1875,0.1875,0.125,6.25E-2,6.25E-2,0,0,0,0,null,3431,"Thomas Davis","Carolina Panthers","davth",16,106,3,3,2,1,1]
[4246,"Akiem Hicks","CHI","Buy",null,null,null,null,null,null,null,null,null,null,0,0,0,0,0,0,{"$error":"#DIV/0!"},{"$error":"#DIV/0!"},{"$error":"#DIV/0!"},{"$error":"#DIV/0!"}," ",4246,"Akiem Hicks",{"$f":"IF(AQ33<>0,VLOOKUP(AQ33,Info!A:B,2,FALSE),\"\")","v":"CHI"},"hicak",3.25,0.75,0.125,0.125,6.25E-2,0.125,0,0,0,0,null,4246,"Akiem Hicks","Chicago Bears","hicak",16,52,12,2,2,1,2]
[3427,"Danny Trevathan","CHI","Buy",null,null,null,null,null,null,null,null,null,null,0,0,0,0,0,0,{"$error":"#DIV/0!"},{"$error":"#DIV/0!"},{"$error":"#DIV/0!"},{"$error":"#DIV/0!"}," ",3427,"Danny Trevathan",{"$f":"IF(AQ34<>0,VLOOKUP(AQ34,Info!A:B,2,FALSE),\"\")","v":"CHI"},"treda",7.3125,0.125,0.125,0.125,6.25E-2,6.25E-2,0,0,0,0,null,3427,"Danny Trevathan","Chicago Bears","treda",16,117,2,2,2,1,1]
[3354,"Jerrell Freeman","CHI","Buy",null,null,null,null,null,null,null,null,null,null,0,0,0,0,0,0,{"$error":"#DIV/0!"},{"$error":"#DIV/0!"},{"$error":"#DIV/0!"},{"$error":"#DIV/0!"}," ",3354,"Jerrell Freeman",{"$f":"IF(AQ35<>0,VLOOKUP(AQ35,Info!A:B,2,FALSE),\"\")","v":"CHI"},"freje",9.1875,0.125,0.125,0.125,6.25E-2,6.25E-2,0,0,0,0,null,3354,"Jerrell Freeman","Chicago Bears","freje",16,147,2,2,2,1,1]
[3639,"Kyle Fuller","CHI","Buy",null,null,null,null,null,null,null,null,null,null,0,0,0,0,0,0,{"$error":"#DIV/0!"},{"$error":"#DIV/0!"},{"$error":"#DIV/0!"},{"$error":"#DIV/0!"}," ",3639,"Kyle Fuller",{"$f":"IF(AQ36<>0,VLOOKUP(AQ36,Info!A:B,2,FALSE),\"\")","v":"CHI"},"fulky",3.5,0.125,0.125,0.125,6.25E-2,6.25E-2,0,0,0,0,null,3639,"Kyle Fuller","Chicago Bears","fulky",16,56,2,2,2,1,1]
[3621,"Lamarr Houston","CHI","Buy",null,null,null,null,null,null,null,null,null,null,0,0,0,0,0,0,{"$error":"#DIV/0!"},{"$error":"#DIV/0!"},{"$error":"#DIV/0!"},{"$error":"#DIV/0!"}," ",3621,"Lamarr Houston",{"$f":"IF(AQ37<>0,VLOOKUP(AQ37,Info!A:B,2,FALSE),\"\")","v":"CHI"},"houla",2.9375,0.5,0.125,0.125,6.25E-2,6.25E-2,0,0,0,0,null,3621,"Lamarr Houston","Chicago Bears","houla",16,47,8,2,2,1,1]
[3954,"Pernell McPhee","CHI","Buy",null,null,null,null,null,null,null,null,null,null,0,0,0,0,0,0,{"$error":"#DIV/0!"},{"$error":"#DIV/0!"},{"$error":"#DIV/0!"},{"$error":"#DIV/0!"}," ",3954,"Pernell McPhee",{"$f":"IF(AQ38<>0,VLOOKUP(AQ38,Info!A:B,2,FALSE),\"\")","v":"CHI"},"mcppe",1.875,0.4375,0.125,0.125,6.25E-2,0.125,0,0,0,0,null,3954,"Pernell McPhee","Chicago Bears","mcppe",16,30,7,2,2,1,2]
[3341,"Prince Amukamara","CHI","Buy",null,null,null,null,null,null,null,null,null,null,0,0,0,0,0,0,{"$error":"#DIV/0!"},{"$error":"#DIV/0!"},{"$error":"#DIV/0!"},{"$error":"#DIV/0!"}," ",3341,"Prince Amukamara",{"$f":"IF(AQ39<>0,VLOOKUP(AQ39,Info!A:B,2,FALSE),\"\")","v":"CHI"},"amupr",3.5,0.125,0.125,0.125,6.25E-2,6.25E-2,0,0,0,0,null,3341,"Prince Amukamara","Chicago Bears","amupr",16,56,2,2,2,1,1]
[3637,"Willie Young","CHI","Buy",null,null,null,null,null,null,null,null,null,null,0,0,0,0,0,0,{"$error":"#DIV/0!"},{"$error":"#DIV/0!"},{"$error":"#DIV/0!"},{"$error":"#DIV/0!"}," ",3637,"Willie Young",{"$f":"IF(AQ40<>0,VLOOKUP(AQ40,Info!A:B,2,FALSE),\"\")","v":"CHI"},"youwi",2.375,0.5,0.125,0.125,6.25E-2,6.25E-2,0,0,0,0,null,3637,"Willie Young","Chicago Bears","youwi",16,38,8,2,2,1,1]
[2939,"Carlos Dunlap","CIN","Buy",null,null,null,null,null,null,null,null,null,null,0,0,0,0,0,0,{"$error":"#DIV/0!"},{"$error":"#DIV/0!"},{"$error":"#DIV/0!"},{"$error":"#DIV/0!"}," ",2939,"Carlos Dunlap",{"$f":"IF(AQ41<>0,VLOOKUP(AQ41,Info!A:B,2,FALSE),\"\")","v":"CIN"},"dunca",3.0625,0.5,0.125,0.125,6.25E-2,0.1875,0,0,0,0,null,2939,"Carlos Dunlap","Cincinnati Bengals","dunca",16,49,8,2,2,1,3]
[3164,"Geno Atkins","CIN","Buy",null,null,null,null,null,null,null,null,null,null,0,0,0,0,0,0,{"$error":"#DIV/0!"},{"$error":"#DIV/0!"},{"$error":"#DIV/0!"},{"$error":"#DIV/0!"}," ",3164,"Geno Atkins",{"$f":"IF(AQ42<>0,VLOOKUP(AQ42,Info!A:B,2,FALSE),\"\")","v":"CIN"},"atkge",2,0.5625,0.125,0.125,6.25E-2,6.25E-2,0,0,0,0,null,3164,"Geno Atkins","Cincinnati Bengals","atkge",16,32,9,2,2,1,1]
[3610,"Michael Johnson","CIN","Buy",null,null,null,null,null,null,null,null,null,null,0,0,0,0,0,0,{"$error":"#DIV/0!"},{"$error":"#DIV/0!"},{"$error":"#DIV/0!"},{"$error":"#DIV/0!"}," ",3610,"Michael Johnson",{"$f":"IF(AQ43<>0,VLOOKUP(AQ43,Info!A:B,2,FALSE),\"\")","v":"CIN"},"johmi",2.8125,0.25,0.125,0.125,6.25E-2,6.25E-2,0,0,0,0,null,3610,"Michael Johnson","Cincinnati Bengals","johmi",16,45,4,2,2,1,1]
[3351,"Vontaze Burfict","CIN","Buy",null,null,null,null,null,null,null,null,null,null,0,0,0,0,0,0,{"$error":"#DIV/0!"},{"$error":"#DIV/0!"},{"$error":"#DIV/0!"},{"$error":"#DIV/0!"}," ",3351,"Vontaze Burfict",{"$f":"IF(AQ44<>0,VLOOKUP(AQ44,Info!A:B,2,FALSE),\"\")","v":"CIN"},"burvo",9.1875,0.1875,0.1875,0.125,6.25E-2,6.25E-2,0,0,0,0,null,3351,"Vontaze Burfict","Cincinnati Bengals","burvo",16,147,3,3,2,1,1]
[3626,"Calvin Pryor","CLE","Buy",null,null,null,null,null,null,null,null,null,null,0,0,0,0,0,0,{"$error":"#DIV/0!"},{"$error":"#DIV/0!"},{"$error":"#DIV/0!"},{"$error":"#DIV/0!"}," ",3626,"Calvin Pryor",{"$f":"IF(AQ45<>0,VLOOKUP(AQ45,Info!A:B,2,FALSE),\"\")","v":"CLE"},"pryca",4.125,0.125,0.125,0.125,6.25E-2,6.25E-2,0,0,0,0,null,3626,"Calvin Pryor","Cleveland Browns","pryca",16,66,2,2,2,1,1]
[4082,"Jamar Taylor","CLE","Buy",null,null,null,null,null,null,null,null,null,null,0,0,0,0,0,0,{"$error":"#DIV/0!"},{"$error":"#DIV/0!"},{"$error":"#DIV/0!"},{"$error":"#DIV/0!"}," ",4082,"Jamar Taylor",{"$f":"IF(AQ46<>0,VLOOKUP(AQ46,Info!A:B,2,FALSE),\"\")","v":"CLE"},"tayja",3.8125,0.125,0.1875,0.125,6.25E-2,6.25E-2,0,0,0,0,null,4082,"Jamar Taylor","Cleveland Browns","tayja",16,61,2,3,2,1,1]
[3917,"Jamie Collins","CLE","Buy",null,null,null,null,null,null,null,null,null,null,0,0,0,0,0,0,{"$error":"#DIV/0!"},{"$error":"#DIV/0!"},{"$error":"#DIV/0!"},{"$error":"#DIV/0!"}," ",3917,"Jamie Collins",{"$f":"IF(AQ47<>0,VLOOKUP(AQ47,Info!A:B,2,FALSE),\"\")","v":"CLE"},"colja",7.375,0.1875,0.125,0.125,6.25E-2,0.125,0,0,0,0,null,3917,"Jamie Collins","Cleveland Browns","colja",16,118,3,2,2,1,2]
[3137,"Jason McCourty","CLE","Buy",null,null,null,null,null,null,null,null,null,null,0,0,0,0,0,0,{"$error":"#DIV/0!"},{"$error":"#DIV/0!"},{"$error":"#DIV/0!"},{"$error":"#DIV/0!"}," ",3137,"Jason McCourty",{"$f":"IF(AQ48<>0,VLOOKUP(AQ48,Info!A:B,2,FALSE),\"\")","v":"CLE"},"mccja",4.9375,0.125,0.125,0.125,6.25E-2,6.25E-2,0,0,0,0,null,3137,"Jason McCourty","Cleveland Browns","mccja",16,79,2,2,2,1,1]
[4245,"DeMarcus Lawrence","DAL","Buy",null,null,null,null,null,null,null,null,null,null,0,0,0,0,0,0,{"$error":"#DIV/0!"},{"$error":"#DIV/0!"},{"$error":"#DIV/0!"},{"$error":"#DIV/0!"}," ",4245,"DeMarcus Lawrence",{"$f":"IF(AQ49<>0,VLOOKUP(AQ49,Info!A:B,2,FALSE),\"\")","v":"DAL"},"lawde",4.0625,0.875,0.125,0.125,6.25E-2,0.3125,0,0,0,0,null,4245,"DeMarcus Lawrence","Dallas Cowboys","lawde",16,65,14,2,2,1,5]
[2987,"Sean Lee","DAL","Buy",null,null,null,null,null,null,null,null,null,null,0,0,0,0,0,0,{"$error":"#DIV/0!"},{"$error":"#DIV/0!"},{"$error":"#DIV/0!"},{"$error":"#DIV/0!"}," ",2987,"Sean Lee",{"$f":"IF(AQ50<>0,VLOOKUP(AQ50,Info!A:B,2,FALSE),\"\")","v":"DAL"},"leese",9.375,0.125,0.125,0.125,6.25E-2,6.25E-2,0,0,0,0,null,2987,"Sean Lee","Dallas Cowboys","leese",16,150,2,2,2,1,1]
[3645,"Stephen Paea","DAL","Buy",null,null,null,null,null,null,null,null,null,null,0,0,0,0,0,0,{"$error":"#DIV/0!"},{"$error":"#DIV/0!"},{"$error":"#DIV/0!"},{"$error":"#DIV/0!"}," ",3645,"Stephen Paea",{"$f":"IF(AQ51<>0,VLOOKUP(AQ51,Info!A:B,2,FALSE),\"\")","v":"DAL"},"paest",1.875,0.125,0.125,0.125,6.25E-2,6.25E-2,0,0,0,0,null,3645,"Stephen Paea","Dallas Cowboys","paest",16,30,2,2,2,1,1]
[2743,"Aqib Talib","DEN","Buy",null,null,null,null,null,null,null,null,null,null,0,0,0,0,0,0,{"$error":"#DIV/0!"},{"$error":"#DIV/0!"},{"$error":"#DIV/0!"},{"$error":"#DIV/0!"}," ",2743,"Aqib Talib",{"$f":"IF(AQ52<>0,VLOOKUP(AQ52,Info!A:B,2,FALSE),\"\")","v":"DEN"},"talaq",3.125,0.125,0.1875,0.125,6.25E-2,6.25E-2,0,0,0,0,null,2743,"Aqib Talib","Denver Broncos","talaq",16,50,2,3,2,1,1]
[3136,"Darian Stewart","DEN","Buy",null,null,null,null,null,null,null,null,null,null,0,0,0,0,0,0,{"$error":"#DIV/0!"},{"$error":"#DIV/0!"},{"$error":"#DIV/0!"},{"$error":"#DIV/0!"}," ",3136,"Darian Stewart",{"$f":"IF(AQ53<>0,VLOOKUP(AQ53,Info!A:B,2,FALSE),\"\")","v":"DEN"},"steda",4.25,0.125,0.1875,0.125,6.25E-2,0.125,0,0,0,0,null,3136,"Darian Stewart","Denver Broncos","steda",16,68,2,3,2,1,2]
[2945,"Von Miller","DEN","Buy",null,null,null,null,null,null,null,null,null,null,0,0,0,0,0,0,{"$error":"#DIV/0!"},{"$error":"#DIV/0!"},{"$error":"#DIV/0!"},{"$error":"#DIV/0!"}," ",2945,"Von Miller",{"$f":"IF(AQ54<>0,VLOOKUP(AQ54,Info!A:B,2,FALSE),\"\")","v":"DEN"},"milvo",4.75,0.8125,0.125,0.125,6.25E-2,0.125,0,0,0,0,null,2945,"Von Miller","Denver Broncos","milvo",16,76,13,2,2,1,2]
[4256,"Darius Slay","DET","Buy",null,null,null,null,null,null,null,null,null,null,0,0,0,0,0,0,{"$error":"#DIV/0!"},{"$error":"#DIV/0!"},{"$error":"#DIV/0!"},{"$error":"#DIV/0!"}," ",4256,"Darius Slay",{"$f":"IF(AQ55<>0,VLOOKUP(AQ55,Info!A:B,2,FALSE),\"\")","v":"DET"},"slada",3.4375,0.125,0.4375,0.125,6.25E-2,0.125,0,0,0,0,null,4256,"Darius Slay","Detroit Lions","slada",16,55,2,7,2,1,2]
[902,"Dwight Freeney","DET","Buy",null,null,null,null,null,null,null,null,null,null,0,0,0,0,0,0,{"$error":"#DIV/0!"},{"$error":"#DIV/0!"},{"$error":"#DIV/0!"},{"$error":"#DIV/0!"}," ",902,"Dwight Freeney",{"$f":"IF(AQ56<>0,VLOOKUP(AQ56,Info!A:B,2,FALSE),\"\")","v":"DET"},"fredw",1.875,0.1875,0.125,0.125,6.25E-2,6.25E-2,0,0,0,0,null,902,"Dwight Freeney","Detroit Lions","fredw",16,30,3,2,2,1,1]
[3370,"Ezekiel Ansah","DET","Buy",null,null,null,null,null,null,null,null,null,null,0,0,0,0,0,0,{"$error":"#DIV/0!"},{"$error":"#DIV/0!"},{"$error":"#DIV/0!"},{"$error":"#DIV/0!"}," ",3370,"Ezekiel Ansah",{"$f":"IF(AQ57<>0,VLOOKUP(AQ57,Info!A:B,2,FALSE),\"\")","v":"DET"},"ansez",2.625,0.125,0.125,0.125,6.25E-2,6.25E-2,0,0,0,0,null,3370,"Ezekiel Ansah","Detroit Lions","ansez",16,42,2,2,2,1,1]
[2738,"Haloti Ngata","DET","Buy",null,null,null,null,null,null,null,null,null,null,0,0,0,0,0,0,{"$error":"#DIV/0!"},{"$error":"#DIV/0!"},{"$error":"#DIV/0!"},{"$error":"#DIV/0!"}," ",2738,"Haloti Ngata",{"$f":"IF(AQ58<>0,VLOOKUP(AQ58,Info!A:B,2,FALSE),\"\")","v":"DET"},"ngaha",1.875,0.125,0.125,0.125,6.25E-2,6.25E-2,0,0,0,0,null,2738,"Haloti Ngata","Detroit Lions","ngaha",16,30,2,2,2,1,1]
[3612,"Paul Worrilow","DET","Buy",null,null,null,null,null,null,null,null,null,null,0,0,0,0,0,0,{"$error":"#DIV/0!"},{"$error":"#DIV/0!"},{"$error":"#DIV/0!"},{"$error":"#DIV/0!"}," ",3612,"Paul Worrilow",{"$f":"IF(AQ59<>0,VLOOKUP(AQ59,Info!A:B,2,FALSE),\"\")","v":"DET"},"worpa",1.875,0.125,0.125,0.125,6.25E-2,6.25E-2,0,0,0,0,null,3612,"Paul Worrilow","Detroit Lions","worpa",16,30,2,2,2,1,1]
[3336,"Aaron Williams","XXX","Buy",null,null,null,null,null,null,null,null,null,null,0,0,0,0,0,0,{"$error":"#DIV/0!"},{"$error":"#DIV/0!"},{"$error":"#DIV/0!"},{"$error":"#DIV/0!"}," ",3336,"Aaron Williams",{"$f":"IF(AQ60<>0,VLOOKUP(AQ60,Info!A:B,2,FALSE),\"\")","v":"XXX"},"wilaa",2.875,0.125,0.125,0.125,6.25E-2,6.25E-2,0,0,0,0,null,3336,"Aaron Williams","FA/RET/DEC/HON","wilaa",16,46,2,2,2,1,1]
[3163,"Akeem Ayers","XXX","Buy",null,null,null,null,null,null,null,null,null,null,0,0,0,0,0,0,{"$error":"#DIV/0!"},{"$error":"#DIV/0!"},{"$error":"#DIV/0!"},{"$error":"#DIV/0!"}," ",3163,"Akeem Ayers",{"$f":"IF(AQ61<>0,VLOOKUP(AQ61,Info!A:B,2,FALSE),\"\")","v":"XXX"},"ayeak",1.875,0.125,0.125,0.125,6.25E-2,6.25E-2,0,0,0,0,null,3163,"Akeem Ayers","FA/RET/DEC/HON","ayeak",16,30,2,2,2,1,1]
[2101,"Antonio Cromartie","XXX","Buy",null,null,null,null,null,null,null,null,null,null,0,0,0,0,0,0,{"$error":"#DIV/0!"},{"$error":"#DIV/0!"},{"$error":"#DIV/0!"},{"$error":"#DIV/0!"}," ",2101,"Antonio Cromartie",{"$f":"IF(AQ62<>0,VLOOKUP(AQ62,Info!A:B,2,FALSE),\"\")","v":"XXX"},"crant",2.1875,0.125,0.125,0.125,6.25E-2,6.25E-2,0,0,0,0,null,2101,"Antonio Cromartie","FA/RET/DEC/HON","crant",16,35,2,2,2,1,1]
[2062,"Chad Greenway","XXX","Buy",null,null,null,null,null,null,null,null,null,null,0,0,0,0,0,0,{"$error":"#DIV/0!"},{"$error":"#DIV/0!"},{"$error":"#DIV/0!"},{"$error":"#DIV/0!"}," ",2062,"Chad Greenway",{"$f":"IF(AQ63<>0,VLOOKUP(AQ63,Info!A:B,2,FALSE),\"\")","v":"XXX"},"grech",2.5,0.125,0.125,0.125,6.25E-2,6.25E-2,0,0,0,0,null,2062,"Chad Greenway","FA/RET/DEC/HON","grech",16,40,2,2,2,1,1]
[2289,"Cortland Finnegan","XXX","Buy",null,null,null,null,null,null,null,null,null,null,0,0,0,0,0,0,{"$error":"#DIV/0!"},{"$error":"#DIV/0!"},{"$error":"#DIV/0!"},{"$error":"#DIV/0!"}," ",2289,"Cortland Finnegan",{"$f":"IF(AQ64<>0,VLOOKUP(AQ64,Info!A:B,2,FALSE),\"\")","v":"XXX"},"finco",3.625,0.125,0.125,0.125,6.25E-2,6.25E-2,0,0,0,0,null,2289,"Cortland Finnegan","FA/RET/DEC/HON","finco",16,58,2,2,2,1,1]
[2979,"Cullen Jenkins","XXX","Buy",null,null,null,null,null,null,null,null,null,null,0,0,0,0,0,0,{"$error":"#DIV/0!"},{"$error":"#DIV/0!"},{"$error":"#DIV/0!"},{"$error":"#DIV/0!"}," ",2979,"Cullen Jenkins",{"$f":"IF(AQ65<>0,VLOOKUP(AQ65,Info!A:B,2,FALSE),\"\")","v":"XXX"},"jencu",1.875,0.125,0.125,0.125,6.25E-2,6.25E-2,0,0,0,0,null,2979,"Cullen Jenkins","FA/RET/DEC/HON","jencu",16,30,2,2,2,1,1]
[3324,"Dannell Ellerbe","XXX","Buy",null,null,null,null,null,null,null,null,null,null,{"$f":"VLOOKUP($A66,$A:$N,5,FALSE)/VLOOKUP($A66,$Z:$AM,5,FALSE)","v":0},{"$f":"VLOOKUP($A66,$A:$N,6,FALSE)/VLOOKUP($A66,$Z:$AM,6,FALSE)","v":0},{"$f":"VLOOKUP($A66,$A:$N,7,FALSE)/VLOOKUP($A66,$Z:$AM,7,FALSE)","v":0},{"$f":"VLOOKUP($A66,$A:$N,8,FALSE)/VLOOKUP($A66,$Z:$AM,8,FALSE)","v":0},{"$f":"VLOOKUP($A66,$A:$N,9,FALSE)/VLOOKUP($A66,$Z:$AM,9,FALSE)","v":0},{"$f":"VLOOKUP($A66,$A:$N,10,FALSE)/VLOOKUP($A66,$Z:$AM,10,FALSE)","v":0},{"$f":"VLOOKUP($A66,$A:$N,11,FALSE)/VLOOKUP($A66,$Z:$AM,11,FALSE)","v":{"$error":"#DIV/0!"}},{"$f":"VLOOKUP($A66,$A:$N,12,FALSE)/VLOOKUP($A66,$Z:$AM,12,FALSE)","v":{"$error":"#DIV/0!"}},{"$f":"VLOOKUP($A66,$A:$N,13,FALSE)/VLOOKUP($A66,$Z:$AM,13,FALSE)","v":{"$error":"#DIV/0!"}},{"$f":"VLOOKUP($A66,$A:$N,14,FALSE)/VLOOKUP($A66,$Z:$AM,14,FALSE)","v":{"$error":"#DIV/0!"}}," ",3324,"Dannell Ellerbe",{"$f":"IF(AQ66<>0,VLOOKUP(AQ66,Info!A:B,2,FALSE),\"\")","v":"XXX"},"elled",4.875,0.4375,0.125,0.125,6.25E-2,6.25E-2,0,0,0,0,null,3324,"Dannell Ellerbe","FA/RET/DEC/HON","elled",16,78,7,2,2,1,1]
[{"$f":"IF(Z67<>0,Z67,\"\")","v":2526},{"$f":"IF(A67<>0,VLOOKUP(A67,Z:AA,2,FALSE),\"\")","v":"Daryl Smith"},{"$f":"IF(A67<>0,VLOOKUP(A67,Z:AB,3,FALSE))","v":"XXX"},{"$f":"HYPERLINK(\"http://www.jockstocks.com/buysell.php?action=buymax&plid=\"&A67,\"Buy\")","v":"Buy"},null,null,null,null,null,null,null,null,null,null,0,0,0,0,0,0,{"$error":"#DIV/0!"},{"$error":"#DIV/0!"},{"$error":"#DIV/0!"},{"$error":"#DIV/0!"}," ",{"$f":"IF(AO67<>0,AO67,\"\")","v":2526},{"$f":"IF(AP67<>0,VLOOKUP(Z67,AO:AP,2,FALSE),\"\")","v":"Daryl Smith"},{"$f":"IF(AQ67<>0,VLOOKUP(AQ67,Info!A:B,2,FALSE),\"\")","v":"XXX"},{"$f":"IF(AO67<>0,VLOOKUP(Z67,AO:AR,4,FALSE),\"\")","v":"smida"},{"$f":"IF($AO67<>0,AT67/$AS67,\"\")","v":2.1875},{"$f":"IF($AO67<>0,AU67/$AS67,\"\")","v":0.125},{"$f":"IF($AO67<>0,AV67/$AS67,\"\")","v":0.125},{"$f":"IF($AO67<>0,AW67/$AS67,\"\")","v":0.125},{"$f":"IF($AO67<>0,AX67/$AS67,\"\")","v":6.25E-2},{"$f":"IF($AO67<>0,AY67/$AS67,\"\")","v":6.25E-2},{"$f":"IF($AO67<>0,AZ67/$AS67,\"\")","v":0},{"$f":"IF($AO67<>0,BA67/$AS67,\"\")","v":0},{"$f":"IF($AO67<>0,BB67/$AS67,\"\")","v":0},{"$f":"IF($AO67<>0,BC67/$AS67,\"\")","v":0},null,2526,"Daryl Smith","FA/RET/DEC/HON","smida",16,35,2,2,2,1,1]
[3127,"Daryl Washington","XXX","Buy",null,null,null,null,null,null,null,null,null,null,0,0,0,0,0,0,{"$error":"#DIV/0!"},{"$error":"#DIV/0!"},{"$error":"#DIV/0!"},{"$error":"#DIV/0!"}," ",3127,"Daryl Washington",{"$f":"IF(AQ68<>0,VLOOKUP(AQ68,Info!A:B,2,FALSE),\"\")","v":"XXX"},"wasda",6.25,0.25,0.1875,0.125,6.25E-2,6.25E-2,0,0,0,0,null,3127,"Daryl Washington","FA/RET/DEC/HON","wasda",16,100,4,3,2,1,1]
[3396,"DeAndre Levy","XXX","Buy",null,null,null,null,null,null,null,null,null,null,0,0,0,0,0,0,{"$error":"#DIV/0!"},{"$error":"#DIV/0!"},{"$error":"#DIV/0!"},{"$error":"#DIV/0!"}," ",3396,"DeAndre Levy",{"$f":"IF(AQ69<>0,VLOOKUP(AQ69,Info!A:B,2,FALSE),\"\")","v":"XXX"},"levde",4.1875,0.125,0.125,0.125,6.25E-2,6.25E-2,0,0,0,0,null,3396,"DeAndre Levy","FA/RET/DEC/HON","levde",16,67,2,2,2,1,1]
[1620,"DeMarcus Ware","XXX","Buy",null,null,null,null,null,null,null,null,null,null,0,0,0,0,0,0,{"$error":"#DIV/0!"},{"$error":"#DIV/0!"},{"$error":"#DIV/0!"},{"$error":"#DIV/0!"}," ",1620,"DeMarcus Ware",{"$f":"IF(AQ70<>0,VLOOKUP(AQ70,Info!A:B,2,FALSE),\"\")","v":"XXX"},"warde",1.875,0.25,0.125,0.125,6.25E-2,6.25E-2,0,0,0,0,null,1620,"DeMarcus Ware","FA/RET/DEC/HON","warde",16,30,4,2,2,1,1]
[3130,"Donald Butler","XXX","Buy",null,null,null,null,null,null,null,null,null,null,0,0,0,0,0,0,{"$error":"#DIV/0!"},{"$error":"#DIV/0!"},{"$error":"#DIV/0!"},{"$error":"#DIV/0!"}," ",3130,"Donald Butler",{"$f":"IF(AQ71<>0,VLOOKUP(AQ71,Info!A:B,2,FALSE),\"\")","v":"XXX"},"butdo",2,0.125,0.125,0.125,6.25E-2,6.25E-2,0,0,0,0,null,3130,"Donald Butler","FA/RET/DEC/HON","butdo",16,32,2,2,2,1,1]
[2034,"Donte Whitner","XXX","Buy",null,null,null,null,null,null,null,null,null,null,0,0,0,0,0,0,{"$error":"#DIV/0!"},{"$error":"#DIV/0!"},{"$error":"#DIV/0!"},{"$error":"#DIV/0!"}," ",2034,"Donte Whitner",{"$f":"IF(AQ72<>0,VLOOKUP(AQ72,Info!A:B,2,FALSE),\"\")","v":"XXX"},"whido",6,0.125,0.125,0.125,6.25E-2,6.25E-2,0,0,0,0,null,2034,"Donte Whitner","FA/RET/DEC/HON","whido",16,96,2,2,2,1,1]
[2310,"D'Qwell Jackson","XXX","Buy",null,null,null,null,null,null,null,null,null,null,0,0,0,0,0,0,{"$error":"#DIV/0!"},{"$error":"#DIV/0!"},{"$error":"#DIV/0!"},{"$error":"#DIV/0!"}," ",2310,"D'Qwell Jackson",{"$f":"IF(AQ73<>0,VLOOKUP(AQ73,Info!A:B,2,FALSE),\"\")","v":"XXX"},"jacdq",6.3125,0.125,0.125,0.125,6.25E-2,6.25E-2,0,0,0,0,null,2310,"D'Qwell Jackson","FA/RET/DEC/HON","jacdq",16,101,2,2,2,1,1]
[2941,"Glenn Dorsey","XXX","Buy",null,null,null,null,null,null,null,null,null,null,0,0,0,0,0,0,{"$error":"#DIV/0!"},{"$error":"#DIV/0!"},{"$error":"#DIV/0!"},{"$error":"#DIV/0!"}," ",2941,"Glenn Dorsey",{"$f":"IF(AQ74<>0,VLOOKUP(AQ74,Info!A:B,2,FALSE),\"\")","v":"XXX"},"dorgl",1.9375,0.125,0.125,0.125,6.25E-2,6.25E-2,0,0,0,0,null,2941,"Glenn Dorsey","FA/RET/DEC/HON","dorgl",16,31,2,2,2,1,1]
[2583,"Jairus Byrd","XXX","Buy",null,null,null,null,null,null,null,null,null,null,0,0,0,0,0,0,{"$error":"#DIV/0!"},{"$error":"#DIV/0!"},{"$error":"#DIV/0!"},{"$error":"#DIV/0!"}," ",2583,"Jairus Byrd",{"$f":"IF(AQ75<>0,VLOOKUP(AQ75,Info!A:B,2,FALSE),\"\")","v":"XXX"},"byrja",5.125,0.125,0.125,0.125,6.25E-2,6.25E-2,0,0,0,0,null,2583,"Jairus Byrd","FA/RET/DEC/HON","byrja",16,82,2,2,2,1,1]
[2517,"James Laurinaitis","XXX","Buy",null,null,null,null,null,null,null,null,null,null,0,0,0,0,0,0,{"$error":"#DIV/0!"},{"$error":"#DIV/0!"},{"$error":"#DIV/0!"},{"$error":"#DIV/0!"}," ",2517,"James Laurinaitis",{"$f":"IF(AQ76<>0,VLOOKUP(AQ76,Info!A:B,2,FALSE),\"\")","v":"XXX"},"lauja",3.375,0.125,0.125,0.125,6.25E-2,6.25E-2,0,0,0,0,null,2517,"James Laurinaitis","FA/RET/DEC/HON","lauja",16,54,2,2,2,1,1]
[2522,"Kroy Biermann","XXX","Buy",null,null,null,null,null,null,null,null,null,null,0,0,0,0,0,0,{"$error":"#DIV/0!"},{"$error":"#DIV/0!"},{"$error":"#DIV/0!"},{"$error":"#DIV/0!"}," ",2522,"Kroy Biermann",{"$f":"IF(AQ77<>0,VLOOKUP(AQ77,Info!A:B,2,FALSE),\"\")","v":"XXX"},"biekr",3.375,0.125,0.125,0.125,6.25E-2,6.25E-2,0,0,0,0,null,2522,"Kroy Biermann","FA/RET/DEC/HON","biekr",16,54,2,2,2,1,1]
[2981,"Kyle Arrington","XXX","Buy",null,null,null,null,null,null,null,null,null,null,0,0,0,0,0,0,{"$error":"#DIV/0!"},{"$error":"#DIV/0!"},{"$error":"#DIV/0!"},{"$error":"#DIV/0!"}," ",2981,"Kyle Arrington",{"$f":"IF(AQ78<>0,VLOOKUP(AQ78,Info!A:B,2,FALSE),\"\")","v":"XXX"},"arrky",1.9375,0.125,0.125,0.125,6.25E-2,6.25E-2,0,0,0,0,null,2981,"Kyle Arrington","FA/RET/DEC/HON","arrky",16,31,2,2,2,1,1]
[2573,"Leon Hall","XXX","Buy",null,null,null,null,null,null,null,null,null,null,0,0,0,0,0,0,{"$error":"#DIV/0!"},{"$error":"#DIV/0!"},{"$error":"#DIV/0!"},{"$error":"#DIV/0!"}," ",2573,"Leon Hall",{"$f":"IF(AQ79<>0,VLOOKUP(AQ79,Info!A:B,2,FALSE),\"\")","v":"XXX"},"halle",2.5625,0.1875,0.125,0.125,6.25E-2,6.25E-2,0,0,0,0,null,2573,"Leon Hall","FA/RET/DEC/HON","halle",16,41,3,2,2,1,1]
[2032,"Mario Williams","XXX","Buy",null,null,null,null,null,null,null,null,null,null,0,0,0,0,0,0,{"$error":"#DIV/0!"},{"$error":"#DIV/0!"},{"$error":"#DIV/0!"},{"$error":"#DIV/0!"}," ",2032,"Mario Williams",{"$f":"IF(AQ80<>0,VLOOKUP(AQ80,Info!A:B,2,FALSE),\"\")","v":"XXX"},"wimar",1.875,0.125,0.125,0.125,6.25E-2,6.25E-2,0,0,0,0,null,2032,"Mario Williams","FA/RET/DEC/HON","wimar",16,30,2,2,2,1,1]
[2741,"Michael Griffin","XXX","Buy",null,null,null,null,null,null,null,null,null,null,0,0,0,0,0,0,{"$error":"#DIV/0!"},{"$error":"#DIV/0!"},{"$error":"#DIV/0!"},{"$error":"#DIV/0!"}," ",2741,"Michael Griffin",{"$f":"IF(AQ81<>0,VLOOKUP(AQ81,Info!A:B,2,FALSE),\"\")","v":"XXX"},"grifm",3.0625,0.125,0.125,0.125,6.25E-2,6.25E-2,0,0,0,0,null,2741,"Michael Griffin","FA/RET/DEC/HON","grifm",16,49,2,2,2,1,1]
[3662,"Paul Kruger","XXX","Buy",null,null,null,null,null,null,null,null,null,null,0,0,0,0,0,0,{"$error":"#DIV/0!"},{"$error":"#DIV/0!"},{"$error":"#DIV/0!"},{"$error":"#DIV/0!"}," ",3662,"Paul Kruger",{"$f":"IF(AQ82<>0,VLOOKUP(AQ82,Info!A:B,2,FALSE),\"\")","v":"XXX"},"krupa",1.875,0.125,0.125,0.125,6.25E-2,6.25E-2,0,0,0,0,null,3662,"Paul Kruger","FA/RET/DEC/HON","krupa",16,30,2,2,2,1,1]
[3614,"Perry Riley Jr.","XXX","Buy",null,null,null,null,null,null,null,null,null,null,0,0,0,0,0,0,{"$error":"#DIV/0!"},{"$error":"#DIV/0!"},{"$error":"#DIV/0!"},{"$error":"#DIV/0!"}," ",3614,"Perry Riley Jr.",{"$f":"IF(AQ83<>0,VLOOKUP(AQ83,Info!A:B,2,FALSE),\"\")","v":"XXX"},"rilpe",4.5625,0.125,0.25,0.125,6.25E-2,6.25E-2,0,0,0,0,null,3614,"Perry Riley Jr.","FA/RET/DEC/HON","rilpe",16,73,2,4,2,1,1]
[3720,"Rob Ninkovich","XXX","Buy",null,null,null,null,null,null,null,null,null,null,0,0,0,0,0,0,{"$error":"#DIV/0!"},{"$error":"#DIV/0!"},{"$error":"#DIV/0!"},{"$error":"#DIV/0!"}," ",3720,"Rob Ninkovich",{"$f":"IF(AQ84<>0,VLOOKUP(AQ84,Info!A:B,2,FALSE),\"\")","v":"XXX"},"ninro",2.6875,0.3125,0.125,0.125,6.25E-2,6.25E-2,0,0,0,0,null,3720,"Rob Ninkovich","FA/RET/DEC/HON","ninro",16,43,5,2,2,1,1]
[1366,"Robert Mathis","XXX","Buy",null,null,null,null,null,null,null,null,null,null,0,0,0,0,0,0,{"$error":"#DIV/0!"},{"$error":"#DIV/0!"},{"$error":"#DIV/0!"},{"$error":"#DIV/0!"}," ",1366,"Robert Mathis",{"$f":"IF(AQ85<>0,VLOOKUP(AQ85,Info!A:B,2,FALSE),\"\")","v":"XXX"},"matro",1.875,0.375,0.125,0.125,6.25E-2,0.1875,0,0,0,0,null,1366,"Robert Mathis","FA/RET/DEC/HON","matro",16,30,6,2,2,1,3]
[2576,"Roman Harper","XXX","Buy",null,null,null,null,null,null,null,null,null,null,0,0,0,0,0,0,{"$error":"#DIV/0!"},{"$error":"#DIV/0!"},{"$error":"#DIV/0!"},{"$error":"#DIV/0!"}," ",2576,"Roman Harper",{"$f":"IF(AQ86<>0,VLOOKUP(AQ86,Info!A:B,2,FALSE),\"\")","v":"XXX"},"harro",1.875,0.125,0.125,0.125,6.25E-2,6.25E-2,0,0,0,0,null,2576,"Roman Harper","FA/RET/DEC/HON","harro",16,30,2,2,2,1,1]
[3129,"Sean Weatherspoon","XXX","Buy",null,null,null,null,null,null,null,null,null,null,0,0,0,0,0,0,{"$error":"#DIV/0!"},{"$error":"#DIV/0!"},{"$error":"#DIV/0!"},{"$error":"#DIV/0!"}," ",3129,"Sean Weatherspoon",{"$f":"IF(AQ87<>0,VLOOKUP(AQ87,Info!A:B,2,FALSE),\"\")","v":"XXX"},"wease",1.875,0.125,0.125,0.125,6.25E-2,6.25E-2,0,0,0,0,null,3129,"Sean Weatherspoon","FA/RET/DEC/HON","wease",16,30,2,2,2,1,1]
[2742,"Stephen Tulloch","XXX","Buy",null,null,null,null,null,null,null,null,null,null,0,0,0,0,0,0,{"$error":"#DIV/0!"},{"$error":"#DIV/0!"},{"$error":"#DIV/0!"},{"$error":"#DIV/0!"}," ",2742,"Stephen Tulloch",{"$f":"IF(AQ88<>0,VLOOKUP(AQ88,Info!A:B,2,FALSE),\"\")","v":"XXX"},"tulst",1.875,0.125,0.125,0.125,6.25E-2,6.25E-2,0,0,0,0,null,2742,"Stephen Tulloch","FA/RET/DEC/HON","tulst",16,30,2,2,2,1,1]
[1846,"Trent Cole","XXX","Buy",null,null,null,null,null,null,null,null,null,null,0,0,0,0,0,0,{"$error":"#DIV/0!"},{"$error":"#DIV/0!"},{"$error":"#DIV/0!"},{"$error":"#DIV/0!"}," ",1846,"Trent Cole",{"$f":"IF(AQ89<>0,VLOOKUP(AQ89,Info!A:B,2,FALSE),\"\")","v":"XXX"},"coltr",2.4375,0.3125,0.125,0.125,6.25E-2,6.25E-2,0,0,0,0,null,1846,"Trent Cole","FA/RET/DEC/HON","coltr",16,39,5,2,2,1,1]
[3648,"Ahmad Brooks","GRB","Buy",null,null,null,null,null,null,null,null,null,null,0,0,0,0,0,0,{"$error":"#DIV/0!"},{"$error":"#DIV/0!"},{"$error":"#DIV/0!"},{"$error":"#DIV/0!"}," ",3648,"Ahmad Brooks",{"$f":"IF(AQ90<>0,VLOOKUP(AQ90,Info!A:B,2,FALSE),\"\")","v":"GRB"},"broah",3.25,0.375,0.125,0.125,6.25E-2,6.25E-2,0,0,0,0,null,3648,"Ahmad Brooks","Green Bay Packers","broah",16,52,6,2,2,1,1]
[2569,"Clay Matthews","GRB","Buy",null,null,null,null,null,null,null,null,null,null,0,0,0,0,0,0,{"$error":"#DIV/0!"},{"$error":"#DIV/0!"},{"$error":"#DIV/0!"},{"$error":"#DIV/0!"}," ",2569,"Clay Matthews",{"$f":"IF(AQ91<>0,VLOOKUP(AQ91,Info!A:B,2,FALSE),\"\")","v":"GRB"},"matcl",2,0.4375,0.125,0.125,6.25E-2,6.25E-2,0,0,0,0,null,2569,"Clay Matthews","Green Bay Packers","matcl",16,32,7,2,2,1,1]
[3910,"Ha Ha Clinton-Dix","GRB","Buy",null,null,null,null,null,null,null,null,null,null,0,0,0,0,0,0,{"$error":"#DIV/0!"},{"$error":"#DIV/0!"},{"$error":"#DIV/0!"},{"$error":"#DIV/0!"}," ",3910,"Ha Ha Clinton-Dix",{"$f":"IF(AQ92<>0,VLOOKUP(AQ92,Info!A:B,2,FALSE),\"\")","v":"GRB"},"cliha",5,0.125,0.3125,0.125,6.25E-2,6.25E-2,0,0,0,0,null,3910,"Ha Ha Clinton-Dix","Green Bay Packers","cliha",16,80,2,5,2,1,1]
[2986,"Morgan Burnett","GRB","Buy",null,null,null,null,null,null,null,null,null,null,0,0,0,0,0,0,{"$error":"#DIV/0!"},{"$error":"#DIV/0!"},{"$error":"#DIV/0!"},{"$error":"#DIV/0!"}," ",2986,"Morgan Burnett",{"$f":"IF(AQ93<>0,VLOOKUP(AQ93,Info!A:B,2,FALSE),\"\")","v":"GRB"},"burmo",6.125,0.1875,0.125,0.125,6.25E-2,6.25E-2,0,0,0,0,null,2986,"Morgan Burnett","Green Bay Packers","burmo",16,98,3,2,2,1,1]
[3430,"Nick Perry","GRB","Buy",null,null,null,null,null,null,null,null,null,null,0,0,0,0,0,0,{"$error":"#DIV/0!"},{"$error":"#DIV/0!"},{"$error":"#DIV/0!"},{"$error":"#DIV/0!"}," ",3430,"Nick Perry",{"$f":"IF(AQ94<>0,VLOOKUP(AQ94,Info!A:B,2,FALSE),\"\")","v":"GRB"},"perni",3.6875,0.8125,0.125,0.125,6.25E-2,6.25E-2,0,0,0,0,null,3430,"Nick Perry","Green Bay Packers","perni",16,59,13,2,2,1,1]
[4218,"Benardrick McKinney","HOU","Buy",null,null,null,null,null,null,null,null,null,null,0,0,0,0,0,0,{"$error":"#DIV/0!"},{"$error":"#DIV/0!"},{"$error":"#DIV/0!"},{"$error":"#DIV/0!"}," ",4218,"Benardrick McKinney",{"$f":"IF(AQ95<>0,VLOOKUP(AQ95,Info!A:B,2,FALSE),\"\")","v":"HOU"},"mckbe",7.5,0.375,0.125,0.125,6.25E-2,0.125,0,0,0,0,null,4218,"Benardrick McKinney","Houston Texans","mckbe",16,120,6,2,2,1,2]
[2570,"Brian Cushing","HOU","Buy",null,null,null,null,null,null,null,null,null,null,0,0,0,0,0,0,{"$error":"#DIV/0!"},{"$error":"#DIV/0!"},{"$error":"#DIV/0!"},{"$error":"#DIV/0!"}," ",2570,"Brian Cushing",{"$f":"IF(AQ96<>0,VLOOKUP(AQ96,Info!A:B,2,FALSE),\"\")","v":"HOU"},"cusbr",4.9375,0.125,0.125,0.125,6.25E-2,6.25E-2,0,0,0,0,null,2570,"Brian Cushing","Houston Texans","cusbr",16,79,2,2,2,1,1]
[3149,"J.J. Watt","HOU","Buy",null,null,null,null,null,null,null,null,null,null,0,0,0,0,0,0,{"$error":"#DIV/0!"},{"$error":"#DIV/0!"},{"$error":"#DIV/0!"},{"$error":"#DIV/0!"}," ",3149,"J.J. Watt",{"$f":"IF(AQ97<>0,VLOOKUP(AQ97,Info!A:B,2,FALSE),\"\")","v":"HOU"},"watjj",4.75,1.125,0.125,0.125,6.25E-2,0.1875,0,0,0,0,null,3149,"J.J. Watt","Houston Texans","watjj",16,76,18,2,2,1,3]
[3911,"Jadeveon Clowney","HOU","Buy",null,null,null,null,null,null,null,null,null,null,0,0,0,0,0,0,{"$error":"#DIV/0!"},{"$error":"#DIV/0!"},{"$error":"#DIV/0!"},{"$error":"#DIV/0!"}," ",3911,"Jadeveon Clowney",{"$f":"IF(AQ98<>0,VLOOKUP(AQ98,Info!A:B,2,FALSE),\"\")","v":"HOU"},"cloja",3.6875,0.4375,0.125,0.125,6.25E-2,6.25E-2,0,0,0,0,null,3911,"Jadeveon Clowney","Houston Texans","cloja",16,59,7,2,2,1,1]
[2519,"Johnathan Joseph","HOU","Buy",null,null,null,null,null,null,null,null,null,null,0,0,0,0,0,0,{"$error":"#DIV/0!"},{"$error":"#DIV/0!"},{"$error":"#DIV/0!"},{"$error":"#DIV/0!"}," ",2519,"Johnathan Joseph",{"$f":"IF(AQ99<>0,VLOOKUP(AQ99,Info!A:B,2,FALSE),\"\")","v":"HOU"},"josjo",3.4375,0.125,0.125,0.125,6.25E-2,6.25E-2,0,0,0,0,null,2519,"Johnathan Joseph","Houston Texans","josjo",16,55,2,2,2,1,1]
[3368,"Whitney Mercilus","HOU","Buy",null,null,null,null,null,null,null,null,null,null,0,0,0,0,0,0,{"$error":"#DIV/0!"},{"$error":"#DIV/0!"},{"$error":"#DIV/0!"},{"$error":"#DIV/0!"}," ",3368,"Whitney Mercilus",{"$f":"IF(AQ100<>0,VLOOKUP(AQ100,Info!A:B,2,FALSE),\"\")","v":"HOU"},"merwh",3.375,0.5,0.125,0.125,6.25E-2,6.25E-2,0,0,0,0,null,3368,"Whitney Mercilus","Houston Texans","merwh",16,54,8,2,2,1,1]
[3401,"Barkevious Mingo","IND","Buy",null,null,null,null,null,null,null,null,null,null,0,0,0,0,0,0,{"$error":"#DIV/0!"},{"$error":"#DIV/0!"},{"$error":"#DIV/0!"},{"$error":"#DIV/0!"}," ",3401,"Barkevious Mingo",{"$f":"IF(AQ101<>0,VLOOKUP(AQ101,Info!A:B,2,FALSE),\"\")","v":"IND"},"minba",1.875,0.125,0.125,0.125,6.25E-2,6.25E-2,0,0,0,0,null,3401,"Barkevious Mingo","Indianapolis Colts","minba",16,30,2,2,2,1,1]
[3125,"Jabaal Sheard","IND","Buy",null,null,null,null,null,null,null,null,null,null,0,0,0,0,0,0,{"$error":"#DIV/0!"},{"$error":"#DIV/0!"},{"$error":"#DIV/0!"},{"$error":"#DIV/0!"}," ",3125,"Jabaal Sheard",{"$f":"IF(AQ102<>0,VLOOKUP(AQ102,Info!A:B,2,FALSE),\"\")","v":"IND"},"sheja",2.125,0.3125,0.125,0.125,6.25E-2,6.25E-2,0,0,0,0,null,3125,"Jabaal Sheard","Indianapolis Colts","sheja",16,34,5,2,2,1,1]
[3403,"Barry Church","JAC","Buy",null,null,null,null,null,null,null,null,null,null,0,0,0,0,0,0,{"$error":"#DIV/0!"},{"$error":"#DIV/0!"},{"$error":"#DIV/0!"},{"$error":"#DIV/0!"}," ",3403,"Barry Church",{"$f":"IF(AQ103<>0,VLOOKUP(AQ103,Info!A:B,2,FALSE),\"\")","v":"JAC"},"chuba",7.0625,0.125,0.1875,0.125,6.25E-2,6.25E-2,0,0,0,0,null,3403,"Barry Church","Jacksonville Jaguars","chuba",16,113,2,3,2,1,1]
[2574,"Calais Campbell","JAC","Buy",null,null,null,null,null,null,null,null,null,null,0,0,0,0,0,0,{"$error":"#DIV/0!"},{"$error":"#DIV/0!"},{"$error":"#DIV/0!"},{"$error":"#DIV/0!"}," ",2574,"Calais Campbell",{"$f":"IF(AQ104<>0,VLOOKUP(AQ104,Info!A:B,2,FALSE),\"\")","v":"JAC"},"camca",3.3125,0.5,0.125,0.125,6.25E-2,0.125,0,0,0,0,null,2574,"Calais Campbell","Jacksonville Jaguars","camca",16,53,8,2,2,1,2]
[4249,"Jalen Ramsey","JAC","Buy",null,null,null,null,null,null,null,null,null,null,0,0,0,0,0,0,{"$error":"#DIV/0!"},{"$error":"#DIV/0!"},{"$error":"#DIV/0!"},{"$error":"#DIV/0!"}," ",4249,"Jalen Ramsey",{"$f":"IF(AQ105<>0,VLOOKUP(AQ105,Info!A:B,2,FALSE),\"\")","v":"JAC"},"ramja",3.4375,0.125,0.25,0.125,6.25E-2,0.125,0,0,0,0,null,4249,"Jalen Ramsey","Jacksonville Jaguars","ramja",16,55,2,4,2,1,2]
[3609,"Marcell Dareus","JAC","Buy",null,null,null,null,null,null,null,null,null,null,0,0,0,0,0,0,{"$error":"#DIV/0!"},{"$error":"#DIV/0!"},{"$error":"#DIV/0!"},{"$error":"#DIV/0!"}," ",3609,"Marcell Dareus",{"$f":"IF(AQ106<>0,VLOOKUP(AQ106,Info!A:B,2,FALSE),\"\")","v":"JAC"},"darma",4.875,0.4375,0.125,0.125,6.25E-2,6.25E-2,0,0,0,0,null,3609,"Marcell Dareus","Jacksonville Jaguars","darma",16,78,7,2,2,1,1]
[3428,"Michael Bennett","JAC","Buy",null,null,null,null,null,null,null,null,null,null,0,0,0,0,0,0,{"$error":"#DIV/0!"},{"$error":"#DIV/0!"},{"$error":"#DIV/0!"},{"$error":"#DIV/0!"}," ",3428,"Michael Bennett",{"$f":"IF(AQ107<>0,VLOOKUP(AQ107,Info!A:B,2,FALSE),\"\")","v":"JAC"},"benmi",3.0625,0.4375,0.125,0.125,6.25E-2,6.25E-2,0,0,0,0,null,3428,"Michael Bennett","Jacksonville Jaguars","benmi",16,49,7,2,2,1,1]
[4208,"Myles Jack","JAC","Buy",null,null,null,null,null,null,null,null,null,null,0,0,0,0,0,0,{"$error":"#DIV/0!"},{"$error":"#DIV/0!"},{"$error":"#DIV/0!"},{"$error":"#DIV/0!"}," ",4208,"Myles Jack",{"$f":"IF(AQ108<>0,VLOOKUP(AQ108,Info!A:B,2,FALSE),\"\")","v":"JAC"},"jacmy",7.5,0.25,0.125,0.125,6.25E-2,0.125,0,0,0,0,null,4208,"Myles Jack","Jacksonville Jaguars","jacmy",16,120,4,2,2,1,2]
[2329,"Paul Posluszny","JAC","Buy",null,null,null,null,null,null,null,null,null,null,0,0,0,0,0,0,{"$error":"#DIV/0!"},{"$error":"#DIV/0!"},{"$error":"#DIV/0!"},{"$error":"#DIV/0!"}," ",2329,"Paul Posluszny",{"$f":"IF(AQ109<>0,VLOOKUP(AQ109,Info!A:B,2,FALSE),\"\")","v":"JAC"},"pospa",8.25,0.125,0.125,0.125,6.25E-2,6.25E-2,0,0,0,0,null,2329,"Paul Posluszny","Jacksonville Jaguars","pospa",16,132,2,2,2,1,1]
[3661,"Tashaun Gipson","JAC","Buy",null,null,null,null,null,null,null,null,null,null,0,0,0,0,0,0,{"$error":"#DIV/0!"},{"$error":"#DIV/0!"},{"$error":"#DIV/0!"},{"$error":"#DIV/0!"}," ",3661,"Tashaun Gipson",{"$f":"IF(AQ110<>0,VLOOKUP(AQ110,Info!A:B,2,FALSE),\"\")","v":"JAC"},"gipta",2.5625,0.125,0.125,0.125,6.25E-2,6.25E-2,0,0,0,0,null,3661,"Tashaun Gipson","Jacksonville Jaguars","gipta",16,41,2,2,2,1,1]
[3913,"Telvin Smith","JAC","Buy",null,null,null,null,null,null,null,null,null,null,0,0,0,0,0,0,{"$error":"#DIV/0!"},{"$error":"#DIV/0!"},{"$error":"#DIV/0!"},{"$error":"#DIV/0!"}," ",3913,"Telvin Smith",{"$f":"IF(AQ111<>0,VLOOKUP(AQ111,Info!A:B,2,FALSE),\"\")","v":"JAC"},"smite",7.4375,0.125,0.125,0.125,6.25E-2,6.25E-2,0,0,0,0,null,3913,"Telvin Smith","Jacksonville Jaguars","smite",16,119,2,2,2,1,1]
[2346,"Darrelle Revis","KAN","Buy",null,null,null,null,null,null,null,null,null,null,0,0,0,0,0,0,{"$error":"#DIV/0!"},{"$error":"#DIV/0!"},{"$error":"#DIV/0!"},{"$error":"#DIV/0!"}," ",2346,"Darrelle Revis",{"$f":"IF(AQ112<>0,VLOOKUP(AQ112,Info!A:B,2,FALSE),\"\")","v":"KAN"},"revda",3.5625,0.125,0.125,0.125,6.25E-2,6.25E-2,0,0,0,0,null,2346,"Darrelle Revis","Kansas City Chiefs","revda",16,57,2,2,2,1,1]
[4125,"Dee Ford","KAN","Buy",null,null,null,null,null,null,null,null,null,null,0,0,0,0,0,0,{"$error":"#DIV/0!"},{"$error":"#DIV/0!"},{"$error":"#DIV/0!"},{"$error":"#DIV/0!"}," ",4125,"Dee Ford",{"$f":"IF(AQ113<>0,VLOOKUP(AQ113,Info!A:B,2,FALSE),\"\")","v":"KAN"},"forde",2.5625,0.6875,0.125,0.125,6.25E-2,6.25E-2,0,0,0,0,null,4125,"Dee Ford","Kansas City Chiefs","forde",16,41,11,2,2,1,1]
[1619,"Derrick Johnson","KAN","Buy",null,null,null,null,null,null,null,null,null,null,0,0,0,0,0,0,{"$error":"#DIV/0!"},{"$error":"#DIV/0!"},{"$error":"#DIV/0!"},{"$error":"#DIV/0!"}," ",1619,"Derrick Johnson",{"$f":"IF(AQ114<>0,VLOOKUP(AQ114,Info!A:B,2,FALSE),\"\")","v":"KAN"},"johde",7,0.125,0.125,0.125,6.25E-2,6.25E-2,0,0,0,0,null,1619,"Derrick Johnson","Kansas City Chiefs","johde",16,112,2,2,2,1,1]
[2713,"Eric Berry","KAN","Buy",null,null,null,null,null,null,null,null,null,null,0,0,0,0,0,0,{"$error":"#DIV/0!"},{"$error":"#DIV/0!"},{"$error":"#DIV/0!"},{"$error":"#DIV/0!"}," ",2713,"Eric Berry",{"$f":"IF(AQ115<>0,VLOOKUP(AQ115,Info!A:B,2,FALSE),\"\")","v":"KAN"},"berer",4.8125,0.125,0.25,0.25,6.25E-2,6.25E-2,0,0,0,0,null,2713,"Eric Berry","Kansas City Chiefs","berer",16,77,2,4,4,1,1]
[3908,"Jarvis Jenkins","KAN","Buy",null,null,null,null,null,null,null,null,null,null,0,0,0,0,0,0,{"$error":"#DIV/0!"},{"$error":"#DIV/0!"},{"$error":"#DIV/0!"},{"$error":"#DIV/0!"}," ",3908,"Jarvis Jenkins",{"$f":"IF(AQ116<>0,VLOOKUP(AQ116,Info!A:B,2,FALSE),\"\")","v":"KAN"},"jenkj",1.875,0.125,0.125,0.125,6.25E-2,6.25E-2,0,0,0,0,null,3908,"Jarvis Jenkins","Kansas City Chiefs","jenkj",16,30,2,2,2,1,1]
[3337,"Justin Houston","KAN","Buy",null,null,null,null,null,null,null,null,null,null,0,0,0,0,0,0,{"$error":"#DIV/0!"},{"$error":"#DIV/0!"},{"$error":"#DIV/0!"},{"$error":"#DIV/0!"}," ",3337,"Justin Houston",{"$f":"IF(AQ117<>0,VLOOKUP(AQ117,Info!A:B,2,FALSE),\"\")","v":"KAN"},"houju",4.375,0.875,0.125,0.125,6.25E-2,0.1875,0,0,0,0,null,3337,"Justin Houston","Kansas City Chiefs","houju",16,70,14,2,2,1,3]
[4075,"Marcus Peters","KAN","Buy",null,null,null,null,null,null,null,null,null,null,0,0,0,0,0,0,{"$error":"#DIV/0!"},{"$error":"#DIV/0!"},{"$error":"#DIV/0!"},{"$error":"#DIV/0!"}," ",4075,"Marcus Peters",{"$f":"IF(AQ118<>0,VLOOKUP(AQ118,Info!A:B,2,FALSE),\"\")","v":"KAN"},"petma",3,0.125,0.375,0.125,6.25E-2,6.25E-2,0,0,0,0,null,4075,"Marcus Peters","Kansas City Chiefs","petma",16,48,2,6,2,1,1]
[2264,"Tamba Hali","KAN","Buy",null,null,null,null,null,null,null,null,null,null,0,0,0,0,0,0,{"$error":"#DIV/0!"},{"$error":"#DIV/0!"},{"$error":"#DIV/0!"},{"$error":"#DIV/0!"}," ",2264,"Tamba Hali",{"$f":"IF(AQ119<>0,VLOOKUP(AQ119,Info!A:B,2,FALSE),\"\")","v":"KAN"},"halta",2.125,0.25,0.125,0.125,6.25E-2,6.25E-2,0,0,0,0,null,2264,"Tamba Hali","Kansas City Chiefs","halta",16,34,4,2,2,1,1]
[4079,"Casey Hayward","LAC","Buy",null,null,null,null,null,null,null,null,null,null,0,0,0,0,0,0,{"$error":"#DIV/0!"},{"$error":"#DIV/0!"},{"$error":"#DIV/0!"},{"$error":"#DIV/0!"}," ",4079,"Casey Hayward",{"$f":"IF(AQ120<>0,VLOOKUP(AQ120,Info!A:B,2,FALSE),\"\")","v":"LAC"},"hayca",3.625,0.125,0.4375,0.125,6.25E-2,6.25E-2,0,0,0,0,null,4079,"Casey Hayward","Los Angeles Chargers","hayca",16,58,2,7,2,1,1]
[4078,"Jatavis Brown","LAC","Buy",null,null,null,null,null,null,null,null,null,null,0,0,0,0,0,0,{"$error":"#DIV/0!"},{"$error":"#DIV/0!"},{"$error":"#DIV/0!"},{"$error":"#DIV/0!"}," ",4078,"Jatavis Brown",{"$f":"IF(AQ121<>0,VLOOKUP(AQ121,Info!A:B,2,FALSE),\"\")","v":"LAC"},"broja",6.6875,0.3125,0.125,0.125,6.25E-2,0.1875,0,0,0,0,null,4078,"Jatavis Brown","Los Angeles Chargers","broja",16,107,5,2,2,1,3]
[4217,"Joey Bosa","LAC","Buy",null,null,null,null,null,null,null,null,null,null,0,0,0,0,0,0,{"$error":"#DIV/0!"},{"$error":"#DIV/0!"},{"$error":"#DIV/0!"},{"$error":"#DIV/0!"}," ",4217,"Joey Bosa",{"$f":"IF(AQ122<>0,VLOOKUP(AQ122,Info!A:B,2,FALSE),\"\")","v":"LAC"},"bosjo",5.625,0.4375,0.125,0.125,6.25E-2,0.125,0,0,0,0,null,4217,"Joey Bosa","Los Angeles Chargers","bosjo",16,90,7,2,2,1,2]
[4073,"Melvin Ingram","LAC","Buy",null,null,null,null,null,null,null,null,null,null,0,0,0,0,0,0,{"$error":"#DIV/0!"},{"$error":"#DIV/0!"},{"$error":"#DIV/0!"},{"$error":"#DIV/0!"}," ",4073,"Melvin Ingram",{"$f":"IF(AQ123<>0,VLOOKUP(AQ123,Info!A:B,2,FALSE),\"\")","v":"LAC"},"ingme",3.75,0.5,0.125,0.125,6.25E-2,0.3125,0,0,0,0,null,4073,"Melvin Ingram","Los Angeles Chargers","ingme",16,60,8,2,2,1,5]
[3922,"Aaron Donald","LAR","Buy",null,null,null,null,null,null,null,null,null,null,0,0,0,0,0,0,{"$error":"#DIV/0!"},{"$error":"#DIV/0!"},{"$error":"#DIV/0!"},{"$error":"#DIV/0!"}," ",3922,"Aaron Donald",{"$f":"IF(AQ124<>0,VLOOKUP(AQ124,Info!A:B,2,FALSE),\"\")","v":"LAR"},"donaa",2.9375,0.5,0.125,0.125,6.25E-2,0.125,0,0,0,0,null,3922,"Aaron Donald","Los Angeles Rams","donaa",16,47,8,2,2,1,2]
[3340,"Alec Ogletree","LAR","Buy",null,null,null,null,null,null,null,null,null,null,0,0,0,0,0,0,{"$error":"#DIV/0!"},{"$error":"#DIV/0!"},{"$error":"#DIV/0!"},{"$error":"#DIV/0!"}," ",3340,"Alec Ogletree",{"$f":"IF(AQ125<>0,VLOOKUP(AQ125,Info!A:B,2,FALSE),\"\")","v":"LAR"},"oglal",8.5625,0.125,0.125,0.125,6.25E-2,6.25E-2,0,0,0,0,null,3340,"Alec Ogletree","Los Angeles Rams","oglal",16,137,2,2,2,1,1]
[3124,"Connor Barwin","LAR","Buy",null,null,null,null,null,null,null,null,null,null,0,0,0,0,0,0,{"$error":"#DIV/0!"},{"$error":"#DIV/0!"},{"$error":"#DIV/0!"},{"$error":"#DIV/0!"}," ",3124,"Connor Barwin",{"$f":"IF(AQ126<>0,VLOOKUP(AQ126,Info!A:B,2,FALSE),\"\")","v":"LAR"},"barwc",2.125,0.3125,0.125,0.125,6.25E-2,6.25E-2,0,0,0,0,null,3124,"Connor Barwin","Los Angeles Rams","barwc",16,34,5,2,2,1,1]
[3625,"Mark Barron","LAR","Buy",null,null,null,null,null,null,null,null,null,null,0,0,0,0,0,0,{"$error":"#DIV/0!"},{"$error":"#DIV/0!"},{"$error":"#DIV/0!"},{"$error":"#DIV/0!"}," ",3625,"Mark Barron",{"$f":"IF(AQ127<>0,VLOOKUP(AQ127,Info!A:B,2,FALSE),\"\")","v":"LAR"},"barma",7.3125,0.125,0.125,0.125,6.25E-2,6.25E-2,0,0,0,0,null,3625,"Mark Barron","Los Angeles Rams","barma",16,117,2,2,2,1,1]
[3165,"Robert Quinn","LAR","Buy",null,null,null,null,null,null,null,null,null,null,0,0,0,0,0,0,{"$error":"#DIV/0!"},{"$error":"#DIV/0!"},{"$error":"#DIV/0!"},{"$error":"#DIV/0!"}," ",3165,"Robert Quinn",{"$f":"IF(AQ128<>0,VLOOKUP(AQ128,Info!A:B,2,FALSE),\"\")","v":"LAR"},"quiro",1.875,0.4375,0.125,0.125,6.25E-2,0.25,0,0,0,0,null,3165,"Robert Quinn","Los Angeles Rams","quiro",16,30,7,2,2,1,4]
[4076,"Trumaine Johnson","LAR","Buy",null,null,null,null,null,null,null,null,null,null,0,0,0,0,0,0,{"$error":"#DIV/0!"},{"$error":"#DIV/0!"},{"$error":"#DIV/0!"},{"$error":"#DIV/0!"}," ",4076,"Trumaine Johnson",{"$f":"IF(AQ129<>0,VLOOKUP(AQ129,Info!A:B,2,FALSE),\"\")","v":"LAR"},"johtr",4.0625,0.125,0.125,0.125,6.25E-2,6.25E-2,0,0,0,0,null,4076,"Trumaine Johnson","Los Angeles Rams","johtr",16,65,2,2,2,1,1]
[3356,"Alterraun Verner","MIA","Buy",null,null,null,null,null,null,null,null,null,null,{"$f":"VLOOKUP($A130,$A:$N,5,FALSE)/VLOOKUP($A130,$Z:$AM,5,FALSE)","v":0},{"$f":"VLOOKUP($A130,$A:$N,6,FALSE)/VLOOKUP($A130,$Z:$AM,6,FALSE)","v":0},{"$f":"VLOOKUP($A130,$A:$N,7,FALSE)/VLOOKUP($A130,$Z:$AM,7,FALSE)","v":0},{"$f":"VLOOKUP($A130,$A:$N,8,FALSE)/VLOOKUP($A130,$Z:$AM,8,FALSE)","v":0},{"$f":"VLOOKUP($A130,$A:$N,9,FALSE)/VLOOKUP($A130,$Z:$AM,9,FALSE)","v":0},{"$f":"VLOOKUP($A130,$A:$N,10,FALSE)/VLOOKUP($A130,$Z:$AM,10,FALSE)","v":0},{"$f":"VLOOKUP($A130,$A:$N,11,FALSE)/VLOOKUP($A130,$Z:$AM,11,FALSE)","v":{"$error":"#DIV/0!"}},{"$f":"VLOOKUP($A130,$A:$N,12,FALSE)/VLOOKUP($A130,$Z:$AM,12,FALSE)","v":{"$error":"#DIV/0!"}},{"$f":"VLOOKUP($A130,$A:$N,13,FALSE)/VLOOKUP($A130,$Z:$AM,13,FALSE)","v":{"$error":"#DIV/0!"}},{"$f":"VLOOKUP($A130,$A:$N,14,FALSE)/VLOOKUP($A130,$Z:$AM,14,FALSE)","v":{"$error":"#DIV/0!"}}," ",3356,"Alterraun Verner",{"$f":"IF(AQ130<>0,VLOOKUP(AQ130,Info!A:B,2,FALSE),\"\")","v":"MIA"},"veral",1.875,0.125,0.125,0.125,6.25E-2,6.25E-2,0,0,0,0,null,3356,"Alterraun Verner","Miami Dolphins","veral",16,30,2,2,2,1,1]
[{"$f":"IF(Z131<>0,Z131,\"\")","v":3638},{"$f":"IF(A131<>0,VLOOKUP(A131,Z:AA,2,FALSE),\"\")","v":"Andre Branch"},{"$f":"IF(A131<>0,VLOOKUP(A131,Z:AB,3,FALSE))","v":"MIA"},{"$f":"HYPERLINK(\"http://www.jockstocks.com/buysell.php?action=buymax&plid=\"&A131,\"Buy\")","v":"Buy"},null,null,null,null,null,null,null,null,null,null,0,0,0,0,0,0,{"$error":"#DIV/0!"},{"$error":"#DIV/0!"},{"$error":"#DIV/0!"},{"$error":"#DIV/0!"}," ",{"$f":"IF(AO131<>0,AO131,\"\")","v":3638},{"$f":"IF(AP131<>0,VLOOKUP(Z131,AO:AP,2,FALSE),\"\")","v":"Andre Branch"},{"$f":"IF(AQ131<>0,VLOOKUP(AQ131,Info!A:B,2,FALSE),\"\")","v":"MIA"},{"$f":"IF(AO131<>0,VLOOKUP(Z131,AO:AR,4,FALSE),\"\")","v":"braan"},{"$f":"IF($AO131<>0,AT131/$AS131,\"\")","v":3.125},{"$f":"IF($AO131<>0,AU131/$AS131,\"\")","v":0.375},{"$f":"IF($AO131<>0,AV131/$AS131,\"\")","v":0.125},{"$f":"IF($AO131<>0,AW131/$AS131,\"\")","v":0.125},{"$f":"IF($AO131<>0,AX131/$AS131,\"\")","v":6.25E-2},{"$f":"IF($AO131<>0,AY131/$AS131,\"\")","v":0.125},{"$f":"IF($AO131<>0,AZ131/$AS131,\"\")","v":0},{"$f":"IF($AO131<>0,BA131/$AS131,\"\")","v":0},{"$f":"IF($AO131<>0,BB131/$AS131,\"\")","v":0},{"$f":"IF($AO131<>0,BC131/$AS131,\"\")","v":0},null,3638,"Andre Branch","Miami Dolphins","braan",16,50,6,2,2,1,2]
[2735,"Cameron Wake","MIA","Buy",null,null,null,null,null,null,null,null,null,null,0,0,0,0,0,0,{"$error":"#DIV/0!"},{"$error":"#DIV/0!"},{"$error":"#DIV/0!"},{"$error":"#DIV/0!"}," ",2735,"Cameron Wake",{"$f":"IF(AQ132<>0,VLOOKUP(AQ132,Info!A:B,2,FALSE),\"\")","v":"MIA"},"wakca",1.875,0.75,0.125,0.125,6.25E-2,0.3125,0,0,0,0,null,2735,"Cameron Wake","Miami Dolphins","wakca",16,30,12,2,2,1,5]
[3718,"Danny Lansanah","MIA","Buy",null,null,null,null,null,null,null,null,null,null,0,0,0,0,0,0,{"$error":"#DIV/0!"},{"$error":"#DIV/0!"},{"$error":"#DIV/0!"},{"$error":"#DIV/0!"}," ",3718,"Danny Lansanah",{"$f":"IF(AQ133<>0,VLOOKUP(AQ133,Info!A:B,2,FALSE),\"\")","v":"MIA"},"landa",3.625,0.125,0.125,0.125,6.25E-2,6.25E-2,0,0,0,0,null,3718,"Danny Lansanah","Miami Dolphins","landa",16,58,2,2,2,1,1]
[3350,"Kiko Alonso","MIA","Buy",null,null,null,null,null,null,null,null,null,null,0,0,0,0,0,0,{"$error":"#DIV/0!"},{"$error":"#DIV/0!"},{"$error":"#DIV/0!"},{"$error":"#DIV/0!"}," ",3350,"Kiko Alonso",{"$f":"IF(AQ134<>0,VLOOKUP(AQ134,Info!A:B,2,FALSE),\"\")","v":"MIA"},"aloki",7.6875,0.125,0.125,0.125,6.25E-2,6.25E-2,0,0,0,0,null,3350,"Kiko Alonso","Miami Dolphins","aloki",16,123,2,2,2,1,1]
[2746,"Koa Misi","MIA","Buy",null,null,null,null,null,null,null,null,null,null,0,0,0,0,0,0,{"$error":"#DIV/0!"},{"$error":"#DIV/0!"},{"$error":"#DIV/0!"},{"$error":"#DIV/0!"}," ",2746,"Koa Misi",{"$f":"IF(AQ135<>0,VLOOKUP(AQ135,Info!A:B,2,FALSE),\"\")","v":"MIA"},"misko",6.4375,0.125,0.125,0.125,6.25E-2,6.25E-2,0,0,0,0,null,2746,"Koa Misi","Miami Dolphins","misko",16,103,2,2,2,1,1]
[2736,"Lawrence Timmons","MIA","Buy",null,null,null,null,null,null,null,null,null,null,0,0,0,0,0,0,{"$error":"#DIV/0!"},{"$error":"#DIV/0!"},{"$error":"#DIV/0!"},{"$error":"#DIV/0!"}," ",2736,"Lawrence Timmons",{"$f":"IF(AQ136<>0,VLOOKUP(AQ136,Info!A:B,2,FALSE),\"\")","v":"MIA"},"timla",7.0625,0.1875,0.125,0.125,6.25E-2,6.25E-2,0,0,0,0,null,2736,"Lawrence Timmons","Miami Dolphins","timla",16,113,3,2,2,1,1]
[2745,"Nate Allen","MIA","Buy",null,null,null,null,null,null,null,null,null,null,0,0,0,0,0,0,{"$error":"#DIV/0!"},{"$error":"#DIV/0!"},{"$error":"#DIV/0!"},{"$error":"#DIV/0!"}," ",2745,"Nate Allen",{"$f":"IF(AQ137<>0,VLOOKUP(AQ137,Info!A:B,2,FALSE),\"\")","v":"MIA"},"allna",2.375,0.125,0.125,0.125,6.25E-2,6.25E-2,0,0,0,0,null,2745,"Nate Allen","Miami Dolphins","allna",16,38,2,2,2,1,1]
[2711,"Ndamukong Suh","MIA","Buy",null,null,null,null,null,null,null,null,null,null,0,0,0,0,0,0,{"$error":"#DIV/0!"},{"$error":"#DIV/0!"},{"$error":"#DIV/0!"},{"$error":"#DIV/0!"}," ",2711,"Ndamukong Suh",{"$f":"IF(AQ138<>0,VLOOKUP(AQ138,Info!A:B,2,FALSE),\"\")","v":"MIA"},"suhnd",4.5,0.3125,0.125,0.125,6.25E-2,6.25E-2,0,0,0,0,null,2711,"Ndamukong Suh","Miami Dolphins","suhnd",16,72,5,2,2,1,1]
[3914,"Reshad Jones","MIA","Buy",null,null,null,null,null,null,null,null,null,null,0,0,0,0,0,0,{"$error":"#DIV/0!"},{"$error":"#DIV/0!"},{"$error":"#DIV/0!"},{"$error":"#DIV/0!"}," ",3914,"Reshad Jones",{"$f":"IF(AQ139<>0,VLOOKUP(AQ139,Info!A:B,2,FALSE),\"\")","v":"MIA"},"jonre",8.5,0.125,0.1875,0.125,6.25E-2,6.25E-2,0,0,0,0,null,3914,"Reshad Jones","Miami Dolphins","jonre",16,136,2,3,2,1,1]
[3620,"Anthony Barr","MIN","Buy",null,null,null,null,null,null,null,null,null,null,0,0,0,0,0,0,{"$error":"#DIV/0!"},{"$error":"#DIV/0!"},{"$error":"#DIV/0!"},{"$error":"#DIV/0!"}," ",3620,"Anthony Barr",{"$f":"IF(AQ140<>0,VLOOKUP(AQ140,Info!A:B,2,FALSE),\"\")","v":"MIN"},"barra",4.4375,0.125,0.125,0.125,6.25E-2,6.25E-2,0,0,0,0,null,3620,"Anthony Barr","Minnesota Vikings","barra",16,71,2,2,2,1,1]
[2980,"Brian Robison","MIN","Buy",null,null,null,null,null,null,null,null,null,null,0,0,0,0,0,0,{"$error":"#DIV/0!"},{"$error":"#DIV/0!"},{"$error":"#DIV/0!"},{"$error":"#DIV/0!"}," ",2980,"Brian Robison",{"$f":"IF(AQ141<>0,VLOOKUP(AQ141,Info!A:B,2,FALSE),\"\")","v":"MIN"},"robib",1.875,0.5,0.125,0.125,6.25E-2,0.1875,0,0,0,0,null,2980,"Brian Robison","Minnesota Vikings","robib",16,30,8,2,2,1,3]
[4072,"Danielle Hunter","MIN","Buy",null,null,null,null,null,null,null,null,null,null,0,0,0,0,0,0,{"$error":"#DIV/0!"},{"$error":"#DIV/0!"},{"$error":"#DIV/0!"},{"$error":"#DIV/0!"}," ",4072,"Danielle Hunter",{"$f":"IF(AQ142<>0,VLOOKUP(AQ142,Info!A:B,2,FALSE),\"\")","v":"MIN"},"hunda",3.5,0.75,0.125,0.125,6.25E-2,6.25E-2,0,0,0,0,null,4072,"Danielle Hunter","Minnesota Vikings","hunda",16,56,12,2,2,1,1]
[3617,"Emmanuel Lamur","MIN","Buy",null,null,null,null,null,null,null,null,null,null,0,0,0,0,0,0,{"$error":"#DIV/0!"},{"$error":"#DIV/0!"},{"$error":"#DIV/0!"},{"$error":"#DIV/0!"}," ",3617,"Emmanuel Lamur",{"$f":"IF(AQ143<>0,VLOOKUP(AQ143,Info!A:B,2,FALSE),\"\")","v":"MIN"},"lamem",1.875,0.125,0.125,0.125,6.25E-2,6.25E-2,0,0,0,0,null,3617,"Emmanuel Lamur","Minnesota Vikings","lamem",16,30,2,2,2,1,1]
[4101,"Eric Kendricks","MIN","Buy",null,null,null,null,null,null,null,null,null,null,0,0,0,0,0,0,{"$error":"#DIV/0!"},{"$error":"#DIV/0!"},{"$error":"#DIV/0!"},{"$error":"#DIV/0!"}," ",4101,"Eric Kendricks",{"$f":"IF(AQ144<>0,VLOOKUP(AQ144,Info!A:B,2,FALSE),\"\")","v":"MIN"},"kener",7.25,0.1875,0.125,0.125,6.25E-2,6.25E-2,0,0,0,0,null,4101,"Eric Kendricks","Minnesota Vikings","kener",16,116,3,2,2,1,1]
[3607,"Everson Griffen","MIN","Buy",null,null,null,null,null,null,null,null,null,null,0,0,0,0,0,0,{"$error":"#DIV/0!"},{"$error":"#DIV/0!"},{"$error":"#DIV/0!"},{"$error":"#DIV/0!"}," ",3607,"Everson Griffen",{"$f":"IF(AQ145<>0,VLOOKUP(AQ145,Info!A:B,2,FALSE),\"\")","v":"MIN"},"griev",3,0.5,0.125,0.125,6.25E-2,0.125,0,0,0,0,null,3607,"Everson Griffen","Minnesota Vikings","griev",16,48,8,2,2,1,2]
[3166,"Harrison Smith","MIN","Buy",null,null,null,null,null,null,null,null,null,null,0,0,0,0,0,0,{"$error":"#DIV/0!"},{"$error":"#DIV/0!"},{"$error":"#DIV/0!"},{"$error":"#DIV/0!"}," ",3166,"Harrison Smith",{"$f":"IF(AQ146<>0,VLOOKUP(AQ146,Info!A:B,2,FALSE),\"\")","v":"MIN"},"smiha",6.5,0.125,0.125,0.125,6.25E-2,6.25E-2,0,0,0,0,null,3166,"Harrison Smith","Minnesota Vikings","smiha",16,104,2,2,2,1,1]
[1337,"Terence Newman","MIN","Buy",null,null,null,null,null,null,null,null,null,null,0,0,0,0,0,0,{"$error":"#DIV/0!"},{"$error":"#DIV/0!"},{"$error":"#DIV/0!"},{"$error":"#DIV/0!"}," ",1337,"Terence Newman",{"$f":"IF(AQ147<>0,VLOOKUP(AQ147,Info!A:B,2,FALSE),\"\")","v":"MIN"},"newte",2.5625,0.125,0.125,0.125,6.25E-2,6.25E-2,0,0,0,0,null,1337,"Terence Newman","Minnesota Vikings","newte",16,41,2,2,2,1,1]
[3915,"Xavier Rhodes","MIN","Buy",null,null,null,null,null,null,null,null,null,null,0,0,0,0,0,0,{"$error":"#DIV/0!"},{"$error":"#DIV/0!"},{"$error":"#DIV/0!"},{"$error":"#DIV/0!"}," ",3915,"Xavier Rhodes",{"$f":"IF(AQ148<>0,VLOOKUP(AQ148,Info!A:B,2,FALSE),\"\")","v":"MIN"},"rhoxa",3.6875,0.125,0.375,0.125,6.25E-2,6.25E-2,0,0,0,0,null,3915,"Xavier Rhodes","Minnesota Vikings","rhoxa",16,59,2,6,2,1,1]
[2516,"David Harris","NEW","Buy",null,null,null,null,null,null,null,null,null,null,0,0,0,0,0,0,{"$error":"#DIV/0!"},{"$error":"#DIV/0!"},{"$error":"#DIV/0!"},{"$error":"#DIV/0!"}," ",2516,"David Harris",{"$f":"IF(AQ149<>0,VLOOKUP(AQ149,Info!A:B,2,FALSE),\"\")","v":"NEW"},"harrd",6.25,0.125,0.125,0.125,6.25E-2,6.25E-2,0,0,0,0,null,2516,"David Harris","New England Patriots","harrd",16,100,2,2,2,1,1]
[2943,"Devin McCourty","NEW","Buy",null,null,null,null,null,null,null,null,null,null,0,0,0,0,0,0,{"$error":"#DIV/0!"},{"$error":"#DIV/0!"},{"$error":"#DIV/0!"},{"$error":"#DIV/0!"}," ",2943,"Devin McCourty",{"$f":"IF(AQ150<>0,VLOOKUP(AQ150,Info!A:B,2,FALSE),\"\")","v":"NEW"},"mccod",5.1875,0.125,0.125,0.125,6.25E-2,6.25E-2,0,0,0,0,null,2943,"Devin McCourty","New England Patriots","mccod",16,83,2,2,2,1,1]
[2719,"Pat Chung","NEW","Buy",null,null,null,null,null,null,null,null,null,null,0,0,0,0,0,0,{"$error":"#DIV/0!"},{"$error":"#DIV/0!"},{"$error":"#DIV/0!"},{"$error":"#DIV/0!"}," ",2719,"Pat Chung",{"$f":"IF(AQ151<>0,VLOOKUP(AQ151,Info!A:B,2,FALSE),\"\")","v":"NEW"},"chupa",5.6875,0.125,0.125,0.125,6.25E-2,6.25E-2,0,0,0,0,null,2719,"Pat Chung","New England Patriots","chupa",16,91,2,2,2,1,1]
[3400,"Cameron Jordan","NOS","Buy",null,null,null,null,null,null,null,null,null,null,0,0,0,0,0,0,{"$error":"#DIV/0!"},{"$error":"#DIV/0!"},{"$error":"#DIV/0!"},{"$error":"#DIV/0!"}," ",3400,"Cameron Jordan",{"$f":"IF(AQ152<>0,VLOOKUP(AQ152,Info!A:B,2,FALSE),\"\")","v":"NOS"},"jorca",3.625,0.5,0.125,0.125,6.25E-2,6.25E-2,0,0,0,0,null,3400,"Cameron Jordan","New Orleans Saints","jorca",16,58,8,2,2,1,1]
[3916,"Hau'oli Kikaha","NOS","Buy",null,null,null,null,null,null,null,null,null,null,0,0,0,0,0,0,{"$error":"#DIV/0!"},{"$error":"#DIV/0!"},{"$error":"#DIV/0!"},{"$error":"#DIV/0!"}," ",3916,"Hau'oli Kikaha",{"$f":"IF(AQ153<>0,VLOOKUP(AQ153,Info!A:B,2,FALSE),\"\")","v":"NOS"},"kikha",3.4375,0.25,0.125,0.125,6.25E-2,0.25,0,0,0,0,null,3916,"Hau'oli Kikaha","New Orleans Saints","kikha",16,55,4,2,2,1,4]
[3624,"Kenny Vaccaro","NOS","Buy",null,null,null,null,null,null,null,null,null,null,0,0,0,0,0,0,{"$error":"#DIV/0!"},{"$error":"#DIV/0!"},{"$error":"#DIV/0!"},{"$error":"#DIV/0!"}," ",3624,"Kenny Vaccaro",{"$f":"IF(AQ154<>0,VLOOKUP(AQ154,Info!A:B,2,FALSE),\"\")","v":"NOS"},"vacke",6.25,0.125,0.1875,0.125,6.25E-2,0.1875,0,0,0,0,null,3624,"Kenny Vaccaro","New Orleans Saints","vacke",16,100,2,3,2,1,3]
[4250,"Marshon Lattimore","NOS","Buy",null,null,null,null,null,null,null,null,null,null,0,0,0,0,0,0,{"$error":"#DIV/0!"},{"$error":"#DIV/0!"},{"$error":"#DIV/0!"},{"$error":"#DIV/0!"}," ",4250,"Marshon Lattimore",{"$f":"IF(AQ155<>0,VLOOKUP(AQ155,Info!A:B,2,FALSE),\"\")","v":"NOS"},"lattm",3.75,0.125,0.25,0.125,6.25E-2,0.1875,0,0,0,0,null,4250,"Marshon Lattimore","New Orleans Saints","lattm",16,60,2,4,2,1,3]
[2521,"Dominique Rodgers-Cromartie","NYG","Buy",null,null,null,null,null,null,null,null,null,null,0,0,0,0,0,0,{"$error":"#DIV/0!"},{"$error":"#DIV/0!"},{"$error":"#DIV/0!"},{"$error":"#DIV/0!"}," ",2521,"Dominique Rodgers-Cromartie",{"$f":"IF(AQ156<>0,VLOOKUP(AQ156,Info!A:B,2,FALSE),\"\")","v":"NYG"},"roddo",3.25,0.125,0.375,0.125,6.25E-2,6.25E-2,0,0,0,0,null,2521,"Dominique Rodgers-Cromartie","New York Giants","roddo",16,52,2,6,2,1,1]
[3399,"Duke Ihenacho","NYG","Buy",null,null,null,null,null,null,null,null,null,null,0,0,0,0,0,0,{"$error":"#DIV/0!"},{"$error":"#DIV/0!"},{"$error":"#DIV/0!"},{"$error":"#DIV/0!"}," ",3399,"Duke Ihenacho",{"$f":"IF(AQ157<>0,VLOOKUP(AQ157,Info!A:B,2,FALSE),\"\")","v":"NYG"},"ihedu",4.4375,0.125,0.125,0.125,6.25E-2,6.25E-2,0,0,0,0,null,3399,"Duke Ihenacho","New York Giants","ihedu",16,71,2,2,2,1,1]
[3921,"Janoris Jenkins","NYG","Buy",null,null,null,null,null,null,null,null,null,null,0,0,0,0,0,0,{"$error":"#DIV/0!"},{"$error":"#DIV/0!"},{"$error":"#DIV/0!"},{"$error":"#DIV/0!"}," ",3921,"Janoris Jenkins",{"$f":"IF(AQ158<>0,VLOOKUP(AQ158,Info!A:B,2,FALSE),\"\")","v":"NYG"},"jejan",3.25,0.125,0.1875,0.125,6.25E-2,6.25E-2,0,0,0,0,null,3921,"Janoris Jenkins","New York Giants","jejan",16,52,2,3,2,1,1]
[2938,"Jason Pierre-Paul","NYG","Buy",null,null,null,null,null,null,null,null,null,null,0,0,0,0,0,0,{"$error":"#DIV/0!"},{"$error":"#DIV/0!"},{"$error":"#DIV/0!"},{"$error":"#DIV/0!"}," ",2938,"Jason Pierre-Paul",{"$f":"IF(AQ159<>0,VLOOKUP(AQ159,Info!A:B,2,FALSE),\"\")","v":"NYG"},"pieja",4.5,0.5625,0.125,0.125,6.25E-2,0.25,0,0,0,0,null,2938,"Jason Pierre-Paul","New York Giants","pieja",16,72,9,2,2,1,4]
[3618,"Keenan Robinson","NYG","Buy",null,null,null,null,null,null,null,null,null,null,0,0,0,0,0,0,{"$error":"#DIV/0!"},{"$error":"#DIV/0!"},{"$error":"#DIV/0!"},{"$error":"#DIV/0!"}," ",3618,"Keenan Robinson",{"$f":"IF(AQ160<>0,VLOOKUP(AQ160,Info!A:B,2,FALSE),\"\")","v":"NYG"},"robke",5.125,0.125,0.125,0.125,6.25E-2,6.25E-2,0,0,0,0,null,3618,"Keenan Robinson","New York Giants","robke",16,82,2,2,2,1,1]
[4216,"Landon Collins","NYG","Buy",null,null,null,null,null,null,null,null,null,null,0,0,0,0,0,0,{"$error":"#DIV/0!"},{"$error":"#DIV/0!"},{"$error":"#DIV/0!"},{"$error":"#DIV/0!"}," ",4216,"Landon Collins",{"$f":"IF(AQ161<>0,VLOOKUP(AQ161,Info!A:B,2,FALSE),\"\")","v":"NYG"},"colla",7.5,0.25,0.25,0.125,6.25E-2,0.125,0,0,0,0,null,4216,"Landon Collins","New York Giants","colla",16,120,4,4,2,1,2]
[3622,"Olivier Vernon","NYG","Buy",null,null,null,null,null,null,null,null,null,null,0,0,0,0,0,0,{"$error":"#DIV/0!"},{"$error":"#DIV/0!"},{"$error":"#DIV/0!"},{"$error":"#DIV/0!"}," ",3622,"Olivier Vernon",{"$f":"IF(AQ162<>0,VLOOKUP(AQ162,Info!A:B,2,FALSE),\"\")","v":"NYG"},"verol",3.875,0.5,0.125,0.125,6.25E-2,6.25E-2,0,0,0,0,null,3622,"Olivier Vernon","New York Giants","verol",16,62,8,2,2,1,1]
[4080,"Morris Claiborne","NYJ","Buy",null,null,null,null,null,null,null,null,null,null,0,0,0,0,0,0,{"$error":"#DIV/0!"},{"$error":"#DIV/0!"},{"$error":"#DIV/0!"},{"$error":"#DIV/0!"}," ",4080,"Morris Claiborne",{"$f":"IF(AQ163<>0,VLOOKUP(AQ163,Info!A:B,2,FALSE),\"\")","v":"NYJ"},"clamo",3.6875,0.125,0.125,0.125,6.25E-2,6.25E-2,0,0,0,0,null,4080,"Morris Claiborne","New York Jets","clamo",16,59,2,2,2,1,1]
[3367,"Muhammad Wilkerson","NYJ","Buy",null,null,null,null,null,null,null,null,null,null,0,0,0,0,0,0,{"$error":"#DIV/0!"},{"$error":"#DIV/0!"},{"$error":"#DIV/0!"},{"$error":"#DIV/0!"}," ",3367,"Muhammad Wilkerson",{"$f":"IF(AQ164<>0,VLOOKUP(AQ164,Info!A:B,2,FALSE),\"\")","v":"NYJ"},"wilmu",3.875,0.3125,0.125,0.125,6.25E-2,6.25E-2,0,0,0,0,null,3367,"Muhammad Wilkerson","New York Jets","wilmu",16,62,5,2,2,1,1]
[2978,"Aldon Smith","OAK","Buy",null,null,null,null,null,null,null,null,null,null,0,0,0,0,0,0,{"$error":"#DIV/0!"},{"$error":"#DIV/0!"},{"$error":"#DIV/0!"},{"$error":"#DIV/0!"}," ",2978,"Aldon Smith",{"$f":"IF(AQ165<>0,VLOOKUP(AQ165,Info!A:B,2,FALSE),\"\")","v":"OAK"},"smita",3.25,0.375,0.125,0.125,6.25E-2,6.25E-2,0,0,0,0,null,2978,"Aldon Smith","Oakland Raiders","smita",16,52,6,2,2,1,1]
[3150,"Bruce Irvin","OAK","Buy",null,null,null,null,null,null,null,null,null,null,0,0,0,0,0,0,{"$error":"#DIV/0!"},{"$error":"#DIV/0!"},{"$error":"#DIV/0!"},{"$error":"#DIV/0!"}," ",3150,"Bruce Irvin",{"$f":"IF(AQ166<>0,VLOOKUP(AQ166,Info!A:B,2,FALSE),\"\")","v":"OAK"},"irvbr",3.5625,0.4375,0.125,0.125,6.25E-2,0.3125,0,0,0,0,null,3150,"Bruce Irvin","Oakland Raiders","irvbr",16,57,7,2,2,1,5]
[3619,"Khalil Mack","OAK","Buy",null,null,null,null,null,null,null,null,null,null,0,0,0,0,0,0,{"$error":"#DIV/0!"},{"$error":"#DIV/0!"},{"$error":"#DIV/0!"},{"$error":"#DIV/0!"}," ",3619,"Khalil Mack",{"$f":"IF(AQ167<>0,VLOOKUP(AQ167,Info!A:B,2,FALSE),\"\")","v":"OAK"},"mackh",4.5625,0.6875,0.125,0.125,6.25E-2,0.3125,0,0,0,0,null,3619,"Khalil Mack","Oakland Raiders","mackh",16,73,11,2,2,1,5]
[3128,"NaVorro Bowman","OAK","Buy",null,null,null,null,null,null,null,null,null,null,0,0,0,0,0,0,{"$error":"#DIV/0!"},{"$error":"#DIV/0!"},{"$error":"#DIV/0!"},{"$error":"#DIV/0!"}," ",3128,"NaVorro Bowman",{"$f":"IF(AQ168<>0,VLOOKUP(AQ168,Info!A:B,2,FALSE),\"\")","v":"OAK"},"bowna",9.375,0.25,0.125,0.125,6.25E-2,6.25E-2,0,0,0,0,null,3128,"NaVorro Bowman","Oakland Raiders","bowna",16,150,4,2,2,1,1]
[3955,"Reggie Nelson","OAK","Buy",null,null,null,null,null,null,null,null,null,null,0,0,0,0,0,0,{"$error":"#DIV/0!"},{"$error":"#DIV/0!"},{"$error":"#DIV/0!"},{"$error":"#DIV/0!"}," ",3955,"Reggie Nelson",{"$f":"IF(AQ169<>0,VLOOKUP(AQ169,Info!A:B,2,FALSE),\"\")","v":"OAK"},"nelre",4.0625,0.125,0.3125,0.125,6.25E-2,6.25E-2,0,0,0,0,null,3955,"Reggie Nelson","Oakland Raiders","nelre",16,65,2,5,2,1,1]
[2717,"Chris Long","PHI","Buy",null,null,null,null,null,null,null,null,null,null,0,0,0,0,0,0,{"$error":"#DIV/0!"},{"$error":"#DIV/0!"},{"$error":"#DIV/0!"},{"$error":"#DIV/0!"}," ",2717,"Chris Long",{"$f":"IF(AQ170<>0,VLOOKUP(AQ170,Info!A:B,2,FALSE),\"\")","v":"PHI"},"lonch",2.1875,0.25,0.125,0.125,6.25E-2,6.25E-2,0,0,0,0,null,2717,"Chris Long","Philadelphia Eagles","lonch",16,35,4,2,2,1,1]
[3906,"Corey Graham","PHI","Buy",null,null,null,null,null,null,null,null,null,null,0,0,0,0,0,0,{"$error":"#DIV/0!"},{"$error":"#DIV/0!"},{"$error":"#DIV/0!"},{"$error":"#DIV/0!"}," ",3906,"Corey Graham",{"$f":"IF(AQ171<>0,VLOOKUP(AQ171,Info!A:B,2,FALSE),\"\")","v":"PHI"},"graco",5.5625,0.125,0.125,0.125,6.25E-2,6.25E-2,0,0,0,0,null,3906,"Corey Graham","Philadelphia Eagles","graco",16,89,2,2,2,1,1]
[4071,"Fletcher Cox","PHI","Buy",null,null,null,null,null,null,null,null,null,null,0,0,0,0,0,0,{"$error":"#DIV/0!"},{"$error":"#DIV/0!"},{"$error":"#DIV/0!"},{"$error":"#DIV/0!"}," ",4071,"Fletcher Cox",{"$f":"IF(AQ172<>0,VLOOKUP(AQ172,Info!A:B,2,FALSE),\"\")","v":"PHI"},"coxfl",2.75,0.4375,0.125,0.125,6.25E-2,6.25E-2,0,0,0,0,null,4071,"Fletcher Cox","Philadelphia Eagles","coxfl",16,44,7,2,2,1,1]
[3372,"Malcolm Jenkins","PHI","Buy",null,null,null,null,null,null,null,null,null,null,0,0,0,0,0,0,{"$error":"#DIV/0!"},{"$error":"#DIV/0!"},{"$error":"#DIV/0!"},{"$error":"#DIV/0!"}," ",3372,"Malcolm Jenkins",{"$f":"IF(AQ173<>0,VLOOKUP(AQ173,Info!A:B,2,FALSE),\"\")","v":"PHI"},"jenma",4.5625,0.125,0.125,0.1875,6.25E-2,6.25E-2,0,0,0,0,null,3372,"Malcolm Jenkins","Philadelphia Eagles","jenma",16,73,2,2,3,1,1]
[3335,"Mychal Kendricks","PHI","Buy",null,null,null,null,null,null,null,null,null,null,0,0,0,0,0,0,{"$error":"#DIV/0!"},{"$error":"#DIV/0!"},{"$error":"#DIV/0!"},{"$error":"#DIV/0!"}," ",3335,"Mychal Kendricks",{"$f":"IF(AQ174<>0,VLOOKUP(AQ174,Info!A:B,2,FALSE),\"\")","v":"PHI"},"kenmy",2.0625,0.125,0.125,0.125,6.25E-2,6.25E-2,0,0,0,0,null,3335,"Mychal Kendricks","Philadelphia Eagles","kenmy",16,33,2,2,2,1,1]
[3646,"Vinny Curry","PHI","Buy",null,null,null,null,null,null,null,null,null,null,0,0,0,0,0,0,{"$error":"#DIV/0!"},{"$error":"#DIV/0!"},{"$error":"#DIV/0!"},{"$error":"#DIV/0!"}," ",3646,"Vinny Curry",{"$f":"IF(AQ175<>0,VLOOKUP(AQ175,Info!A:B,2,FALSE),\"\")","v":"PHI"},"curvi",1.875,0.1875,0.125,0.125,6.25E-2,6.25E-2,0,0,0,0,null,3646,"Vinny Curry","Philadelphia Eagles","curvi",16,30,3,2,2,1,1]
[2106,"James Harrison","PIT","Buy",null,null,null,null,null,null,null,null,null,null,0,0,0,0,0,0,{"$error":"#DIV/0!"},{"$error":"#DIV/0!"},{"$error":"#DIV/0!"},{"$error":"#DIV/0!"}," ",2106,"James Harrison",{"$f":"IF(AQ176<>0,VLOOKUP(AQ176,Info!A:B,2,FALSE),\"\")","v":"PIT"},"harja",3.625,0.3125,0.125,0.125,6.25E-2,0.125,0,0,0,0,null,2106,"James Harrison","Pittsburgh Steelers","harja",16,58,5,2,2,1,2]
[2944,"Joe Haden","PIT","Buy",null,null,null,null,null,null,null,null,null,null,0,0,0,0,0,0,{"$error":"#DIV/0!"},{"$error":"#DIV/0!"},{"$error":"#DIV/0!"},{"$error":"#DIV/0!"}," ",2944,"Joe Haden",{"$f":"IF(AQ177<>0,VLOOKUP(AQ177,Info!A:B,2,FALSE),\"\")","v":"PIT"},"hadjo",3.6875,0.125,0.25,0.125,6.25E-2,6.25E-2,0,0,0,0,null,2944,"Joe Haden","Pittsburgh Steelers","hadjo",16,59,2,4,2,1,1]
[3405,"Mike Mitchell","PIT","Buy",null,null,null,null,null,null,null,null,null,null,0,0,0,0,0,0,{"$error":"#DIV/0!"},{"$error":"#DIV/0!"},{"$error":"#DIV/0!"},{"$error":"#DIV/0!"}," ",3405,"Mike Mitchell",{"$f":"IF(AQ178<>0,VLOOKUP(AQ178,Info!A:B,2,FALSE),\"\")","v":"PIT"},"mitmi",4.875,0.125,0.125,0.125,6.25E-2,6.25E-2,0,0,0,0,null,3405,"Mike Mitchell","Pittsburgh Steelers","mitmi",16,78,2,2,2,1,1]
[4220,"Ryan Shazier","PIT","Buy",null,null,null,null,null,null,null,null,null,null,0,0,0,0,0,0,{"$error":"#DIV/0!"},{"$error":"#DIV/0!"},{"$error":"#DIV/0!"},{"$error":"#DIV/0!"}," ",4220,"Ryan Shazier",{"$f":"IF(AQ179<>0,VLOOKUP(AQ179,Info!A:B,2,FALSE),\"\")","v":"PIT"},"shary",5.625,0.3125,0.1875,0.125,6.25E-2,0.1875,0,0,0,0,null,4220,"Ryan Shazier","Pittsburgh Steelers","shary",16,90,5,3,2,1,3]
[3920,"Stephon Tuitt","PIT","Buy",null,null,null,null,null,null,null,null,null,null,0,0,0,0,0,0,{"$error":"#DIV/0!"},{"$error":"#DIV/0!"},{"$error":"#DIV/0!"},{"$error":"#DIV/0!"}," ",3920,"Stephon Tuitt",{"$f":"IF(AQ180<>0,VLOOKUP(AQ180,Info!A:B,2,FALSE),\"\")","v":"PIT"},"tuist",2.5625,0.3125,0.125,0.125,6.25E-2,6.25E-2,0,0,0,0,null,3920,"Stephon Tuitt","Pittsburgh Steelers","tuist",16,41,5,2,2,1,1]
[4207,"T.J. Watt","PIT","Buy",null,null,null,null,null,null,null,null,null,null,0,0,0,0,0,0,{"$error":"#DIV/0!"},{"$error":"#DIV/0!"},{"$error":"#DIV/0!"},{"$error":"#DIV/0!"}," ",4207,"T.J. Watt",{"$f":"IF(AQ181<>0,VLOOKUP(AQ181,Info!A:B,2,FALSE),\"\")","v":"PIT"},"wattj",5.625,0.4375,0.1875,0.125,6.25E-2,0.125,0,0,0,0,null,4207,"T.J. Watt","Pittsburgh Steelers","wattj",16,90,7,3,2,1,2]
[2056,"Elvis Dumervil","SFO","Buy",null,null,null,null,null,null,null,null,null,null,0,0,0,0,0,0,{"$error":"#DIV/0!"},{"$error":"#DIV/0!"},{"$error":"#DIV/0!"},{"$error":"#DIV/0!"}," ",2056,"Elvis Dumervil",{"$f":"IF(AQ182<>0,VLOOKUP(AQ182,Info!A:B,2,FALSE),\"\")","v":"SFO"},"dumel",1.875,0.375,0.125,0.125,6.25E-2,0.25,0,0,0,0,null,2056,"Elvis Dumervil","San Francisco 49ers","dumel",16,30,6,2,2,1,4]
[3397,"Eric Reid","SFO","Buy",null,null,null,null,null,null,null,null,null,null,0,0,0,0,0,0,{"$error":"#DIV/0!"},{"$error":"#DIV/0!"},{"$error":"#DIV/0!"},{"$error":"#DIV/0!"}," ",3397,"Eric Reid",{"$f":"IF(AQ183<>0,VLOOKUP(AQ183,Info!A:B,2,FALSE),\"\")","v":"SFO"},"reier",6.1875,0.125,0.125,0.125,6.25E-2,0.125,0,0,0,0,null,3397,"Eric Reid","San Francisco 49ers","reier",16,99,2,2,2,1,2]
[3918,"Malcolm Smith","SFO","Buy",null,null,null,null,null,null,null,null,null,null,0,0,0,0,0,0,{"$error":"#DIV/0!"},{"$error":"#DIV/0!"},{"$error":"#DIV/0!"},{"$error":"#DIV/0!"}," ",3918,"Malcolm Smith",{"$f":"IF(AQ184<>0,VLOOKUP(AQ184,Info!A:B,2,FALSE),\"\")","v":"SFO"},"smima",6.875,0.125,0.125,0.125,6.25E-2,0.125,0,0,0,0,null,3918,"Malcolm Smith","San Francisco 49ers","smima",16,110,2,2,2,1,2]
[3611,"Bobby Wagner","SEA","Buy",null,null,null,null,null,null,null,null,null,null,0,0,0,0,0,0,{"$error":"#DIV/0!"},{"$error":"#DIV/0!"},{"$error":"#DIV/0!"},{"$error":"#DIV/0!"}," ",3611,"Bobby Wagner",{"$f":"IF(AQ185<>0,VLOOKUP(AQ185,Info!A:B,2,FALSE),\"\")","v":"SEA"},"wagbo",9.375,0.3125,0.125,0.125,6.25E-2,6.25E-2,0,0,0,0,null,3611,"Bobby Wagner","Seattle Seahawks","wagbo",16,150,5,2,2,1,1]
[2946,"Cliff Avril","SEA","Buy",null,null,null,null,null,null,null,null,null,null,0,0,0,0,0,0,{"$error":"#DIV/0!"},{"$error":"#DIV/0!"},{"$error":"#DIV/0!"},{"$error":"#DIV/0!"}," ",2946,"Cliff Avril",{"$f":"IF(AQ186<>0,VLOOKUP(AQ186,Info!A:B,2,FALSE),\"\")","v":"SEA"},"avrcl",2.4375,0.75,0.125,0.125,6.25E-2,0.3125,0,0,0,0,null,2946,"Cliff Avril","Seattle Seahawks","avrcl",16,39,12,2,2,1,5]
[4173,"Cortez Kennedy","SEA","Buy",null,null,null,null,null,null,null,null,null,null,0,0,0,0,0,0,{"$error":"#DIV/0!"},{"$error":"#DIV/0!"},{"$error":"#DIV/0!"},{"$error":"#DIV/0!"}," ",4173,"Cortez Kennedy",{"$f":"IF(AQ187<>0,VLOOKUP(AQ187,Info!A:B,2,FALSE),\"\")","v":"SEA"},"kenco",1,1,1,1,1,1,0,0,0,0,null,4173,"Cortez Kennedy","Seattle Seahawks","kenco",1,1,1,1,1,1,1]
[2714,"Earl Thomas","SEA","Buy",null,null,null,null,null,null,null,null,null,null,0,0,0,0,0,0,{"$error":"#DIV/0!"},{"$error":"#DIV/0!"},{"$error":"#DIV/0!"},{"$error":"#DIV/0!"}," ",2714,"Earl Thomas",{"$f":"IF(AQ188<>0,VLOOKUP(AQ188,Info!A:B,2,FALSE),\"\")","v":"SEA"},"thoea",4.375,0.125,0.1875,0.125,6.25E-2,6.25E-2,0,0,0,0,null,2714,"Earl Thomas","Seattle Seahawks","thoea",16,70,2,3,2,1,1]
[3134,"Kam Chancellor","SEA","Buy",null,null,null,null,null,null,null,null,null,null,0,0,0,0,0,0,{"$error":"#DIV/0!"},{"$error":"#DIV/0!"},{"$error":"#DIV/0!"},{"$error":"#DIV/0!"}," ",3134,"Kam Chancellor",{"$f":"IF(AQ189<>0,VLOOKUP(AQ189,Info!A:B,2,FALSE),\"\")","v":"SEA"},"chaka",7.1875,0.125,0.1875,0.125,6.25E-2,6.25E-2,0,0,0,0,null,3134,"Kam Chancellor","Seattle Seahawks","chaka",16,115,2,3,2,1,1]
[3349,"Richard Sherman","SEA","Buy",null,null,null,null,null,null,null,null,null,null,0,0,0,0,0,0,{"$error":"#DIV/0!"},{"$error":"#DIV/0!"},{"$error":"#DIV/0!"},{"$error":"#DIV/0!"}," ",3349,"Richard Sherman",{"$f":"IF(AQ190<>0,VLOOKUP(AQ190,Info!A:B,2,FALSE),\"\")","v":"SEA"},"sheri",3.625,0.125,0.25,0.125,6.25E-2,6.25E-2,0,0,0,0,null,3349,"Richard Sherman","Seattle Seahawks","sheri",16,58,2,4,2,1,1]
[3608,"Sheldon Richardson","SEA","Buy",null,null,null,null,null,null,null,null,null,null,0,0,0,0,0,0,{"$error":"#DIV/0!"},{"$error":"#DIV/0!"},{"$error":"#DIV/0!"},{"$error":"#DIV/0!"}," ",3608,"Sheldon Richardson",{"$f":"IF(AQ191<>0,VLOOKUP(AQ191,Info!A:B,2,FALSE),\"\")","v":"SEA"},"ricsh",4.25,0.125,0.125,0.125,6.25E-2,6.25E-2,0,0,0,0,null,3608,"Sheldon Richardson","Seattle Seahawks","ricsh",16,68,2,2,2,1,1]
[3717,"Brent Grimes","TAM","Buy",null,null,null,null,null,null,null,null,null,null,0,0,0,0,0,0,{"$error":"#DIV/0!"},{"$error":"#DIV/0!"},{"$error":"#DIV/0!"},{"$error":"#DIV/0!"}," ",3717,"Brent Grimes",{"$f":"IF(AQ192<>0,VLOOKUP(AQ192,Info!A:B,2,FALSE),\"\")","v":"TAM"},"gribr",3.5625,0.125,0.25,0.125,6.25E-2,6.25E-2,0,0,0,0,null,3717,"Brent Grimes","Tampa Bay Buccaneers","gribr",16,57,2,4,2,1,1]
[3953,"Chris Baker","TAM","Buy",null,null,null,null,null,null,null,null,null,null,0,0,0,0,0,0,{"$error":"#DIV/0!"},{"$error":"#DIV/0!"},{"$error":"#DIV/0!"},{"$error":"#DIV/0!"}," ",3953,"Chris Baker",{"$f":"IF(AQ193<>0,VLOOKUP(AQ193,Info!A:B,2,FALSE),\"\")","v":"TAM"},"bakch",3,0.3125,0.125,0.125,6.25E-2,0.125,0,0,0,0,null,3953,"Chris Baker","Tampa Bay Buccaneers","bakch",16,48,5,2,2,1,2]
[3923,"Chris Conte","TAM","Buy",null,null,null,null,null,null,null,null,null,null,{"$f":"VLOOKUP($A194,$A:$N,5,FALSE)/VLOOKUP($A194,$Z:$AM,5,FALSE)","v":0},{"$f":"VLOOKUP($A194,$A:$N,6,FALSE)/VLOOKUP($A194,$Z:$AM,6,FALSE)","v":0},{"$f":"VLOOKUP($A194,$A:$N,7,FALSE)/VLOOKUP($A194,$Z:$AM,7,FALSE)","v":0},{"$f":"VLOOKUP($A194,$A:$N,8,FALSE)/VLOOKUP($A194,$Z:$AM,8,FALSE)","v":0},{"$f":"VLOOKUP($A194,$A:$N,9,FALSE)/VLOOKUP($A194,$Z:$AM,9,FALSE)","v":0},{"$f":"VLOOKUP($A194,$A:$N,10,FALSE)/VLOOKUP($A194,$Z:$AM,10,FALSE)","v":0},{"$f":"VLOOKUP($A194,$A:$N,11,FALSE)/VLOOKUP($A194,$Z:$AM,11,FALSE)","v":{"$error":"#DIV/0!"}},{"$f":"VLOOKUP($A194,$A:$N,12,FALSE)/VLOOKUP($A194,$Z:$AM,12,FALSE)","v":{"$error":"#DIV/0!"}},{"$f":"VLOOKUP($A194,$A:$N,13,FALSE)/VLOOKUP($A194,$Z:$AM,13,FALSE)","v":{"$error":"#DIV/0!"}},{"$f":"VLOOKUP($A194,$A:$N,14,FALSE)/VLOOKUP($A194,$Z:$AM,14,FALSE)","v":{"$error":"#DIV/0!"}}," ",3923,"Chris Conte",{"$f":"IF(AQ194<>0,VLOOKUP(AQ194,Info!A:B,2,FALSE),\"\")","v":"TAM"},"conch",5,0.125,0.125,0.125,6.25E-2,6.25E-2,0,0,0,0,null,3923,"Chris Conte","Tampa Bay Buccaneers","conch",16,80,2,2,2,1,1]
[{"$f":"IF(Z195<>0,Z195,\"\")","v":2269},{"$f":"IF(A195<>0,VLOOKUP(A195,Z:AA,2,FALSE),\"\")","v":"Darryl Tapp"},{"$f":"IF(A195<>0,VLOOKUP(A195,Z:AB,3,FALSE))","v":"TAM"},{"$f":"HYPERLINK(\"http://www.jockstocks.com/buysell.php?action=buymax&plid=\"&A195,\"Buy\")","v":"Buy"},null,null,null,null,null,null,null,null,null,null,0,0,0,0,0,0,{"$error":"#DIV/0!"},{"$error":"#DIV/0!"},{"$error":"#DIV/0!"},{"$error":"#DIV/0!"}," ",{"$f":"IF(AO195<>0,AO195,\"\")","v":2269},{"$f":"IF(AP195<>0,VLOOKUP(Z195,AO:AP,2,FALSE),\"\")","v":"Darryl Tapp"},{"$f":"IF(AQ195<>0,VLOOKUP(AQ195,Info!A:B,2,FALSE),\"\")","v":"TAM"},{"$f":"IF(AO195<>0,VLOOKUP(Z195,AO:AR,4,FALSE),\"\")","v":"tapda"},{"$f":"IF($AO195<>0,AT195/$AS195,\"\")","v":1.875},{"$f":"IF($AO195<>0,AU195/$AS195,\"\")","v":0.125},{"$f":"IF($AO195<>0,AV195/$AS195,\"\")","v":0.125},{"$f":"IF($AO195<>0,AW195/$AS195,\"\")","v":0.125},{"$f":"IF($AO195<>0,AX195/$AS195,\"\")","v":6.25E-2},{"$f":"IF($AO195<>0,AY195/$AS195,\"\")","v":6.25E-2},{"$f":"IF($AO195<>0,AZ195/$AS195,\"\")","v":0},{"$f":"IF($AO195<>0,BA195/$AS195,\"\")","v":0},{"$f":"IF($AO195<>0,BB195/$AS195,\"\")","v":0},{"$f":"IF($AO195<>0,BC195/$AS195,\"\")","v":0},null,2269,"Darryl Tapp","Tampa Bay Buccaneers","tapda",16,30,2,2,2,1,1]
[2712,"Gerald McCoy","TAM","Buy",null,null,null,null,null,null,null,null,null,null,0,0,0,0,0,0,{"$error":"#DIV/0!"},{"$error":"#DIV/0!"},{"$error":"#DIV/0!"},{"$error":"#DIV/0!"}," ",2712,"Gerald McCoy",{"$f":"IF(AQ196<>0,VLOOKUP(AQ196,Info!A:B,2,FALSE),\"\")","v":"TAM"},"mccge",2.3125,0.4375,0.125,0.125,6.25E-2,0.125,0,0,0,0,null,2712,"Gerald McCoy","Tampa Bay Buccaneers","mccge",16,37,7,2,2,1,2]
[3924,"Jacquies Smith","TAM","Buy",null,null,null,null,null,null,null,null,null,null,0,0,0,0,0,0,{"$error":"#DIV/0!"},{"$error":"#DIV/0!"},{"$error":"#DIV/0!"},{"$error":"#DIV/0!"}," ",3924,"Jacquies Smith",{"$f":"IF(AQ197<>0,VLOOKUP(AQ197,Info!A:B,2,FALSE),\"\")","v":"TAM"},"smija",1.875,0.5625,0.125,0.125,6.25E-2,0.25,0,0,0,0,null,3924,"Jacquies Smith","Tampa Bay Buccaneers","smija",16,30,9,2,2,1,4]
[3355,"Lavonte David","TAM","Buy",null,null,null,null,null,null,null,null,null,null,0,0,0,0,0,0,{"$error":"#DIV/0!"},{"$error":"#DIV/0!"},{"$error":"#DIV/0!"},{"$error":"#DIV/0!"}," ",3355,"Lavonte David",{"$f":"IF(AQ198<>0,VLOOKUP(AQ198,Info!A:B,2,FALSE),\"\")","v":"TAM"},"davla",5.375,0.3125,0.125,0.125,6.25E-2,0.25,0,0,0,0,null,3355,"Lavonte David","Tampa Bay Buccaneers","davla",16,86,5,2,2,1,4]
[3398,"Robert Ayers Jr.","TAM","Buy",null,null,null,null,null,null,null,null,null,null,0,0,0,0,0,0,{"$error":"#DIV/0!"},{"$error":"#DIV/0!"},{"$error":"#DIV/0!"},{"$error":"#DIV/0!"}," ",3398,"Robert Ayers Jr.",{"$f":"IF(AQ199<>0,VLOOKUP(AQ199,Info!A:B,2,FALSE),\"\")","v":"TAM"},"ayero",2.4375,0.5625,0.125,0.125,6.25E-2,6.25E-2,0,0,0,0,null,3398,"Robert Ayers Jr.","Tampa Bay Buccaneers","ayero",16,39,9,2,2,1,1]
[2737,"T.J. Ward","TAM","Buy",null,null,null,null,null,null,null,null,null,null,0,0,0,0,0,0,{"$error":"#DIV/0!"},{"$error":"#DIV/0!"},{"$error":"#DIV/0!"},{"$error":"#DIV/0!"}," ",2737,"T.J. Ward",{"$f":"IF(AQ200<>0,VLOOKUP(AQ200,Info!A:B,2,FALSE),\"\")","v":"TAM"},"wartj",6.1875,0.125,0.125,0.125,6.25E-2,0.125,0,0,0,0,null,2737,"T.J. Ward","Tampa Bay Buccaneers","wartj",16,99,2,2,2,1,2]
[2584,"Brian Orakpo","TEN","Buy",null,null,null,null,null,null,null,null,null,null,0,0,0,0,0,0,{"$error":"#DIV/0!"},{"$error":"#DIV/0!"},{"$error":"#DIV/0!"},{"$error":"#DIV/0!"}," ",2584,"Brian Orakpo",{"$f":"IF(AQ201<>0,VLOOKUP(AQ201,Info!A:B,2,FALSE),\"\")","v":"TEN"},"orabr",2.9375,0.6875,0.125,0.125,6.25E-2,6.25E-2,0,0,0,0,null,2584,"Brian Orakpo","Tennessee Titans","orabr",16,47,11,2,2,1,1]
[{"$f":"IF(Z202<>0,Z202,\"\")","v":3323},{"$f":"IF(A202<>0,VLOOKUP(A202,Z:AA,2,FALSE),\"\")","v":"Da'Norris Searcy"},{"$f":"IF(A202<>0,VLOOKUP(A202,Z:AB,3,FALSE))","v":"TEN"},{"$f":"HYPERLINK(\"http://www.jockstocks.com/buysell.php?action=buymax&plid=\"&A202,\"Buy\")","v":"Buy"},null,null,null,null,null,null,null,null,null,null,{"$f":"VLOOKUP($A202,$A:$N,5,FALSE)/VLOOKUP($A202,$Z:$AM,5,FALSE)","v":0},{"$f":"VLOOKUP($A202,$A:$N,6,FALSE)/VLOOKUP($A202,$Z:$AM,6,FALSE)","v":0},{"$f":"VLOOKUP($A202,$A:$N,7,FALSE)/VLOOKUP($A202,$Z:$AM,7,FALSE)","v":0},{"$f":"VLOOKUP($A202,$A:$N,8,FALSE)/VLOOKUP($A202,$Z:$AM,8,FALSE)","v":0},{"$f":"VLOOKUP($A202,$A:$N,9,FALSE)/VLOOKUP($A202,$Z:$AM,9,FALSE)","v":0},{"$f":"VLOOKUP($A202,$A:$N,10,FALSE)/VLOOKUP($A202,$Z:$AM,10,FALSE)","v":0},{"$f":"VLOOKUP($A202,$A:$N,11,FALSE)/VLOOKUP($A202,$Z:$AM,11,FALSE)","v":{"$error":"#DIV/0!"}},{"$f":"VLOOKUP($A202,$A:$N,12,FALSE)/VLOOKUP($A202,$Z:$AM,12,FALSE)","v":{"$error":"#DIV/0!"}},{"$f":"VLOOKUP($A202,$A:$N,13,FALSE)/VLOOKUP($A202,$Z:$AM,13,FALSE)","v":{"$error":"#DIV/0!"}},{"$f":"VLOOKUP($A202,$A:$N,14,FALSE)/VLOOKUP($A202,$Z:$AM,14,FALSE)","v":{"$error":"#DIV/0!"}}," ",{"$f":"IF(AO202<>0,AO202,\"\")","v":3323},{"$f":"IF(AP202<>0,VLOOKUP(Z202,AO:AP,2,FALSE),\"\")","v":"Da'Norris Searcy"},{"$f":"IF(AQ202<>0,VLOOKUP(AQ202,Info!A:B,2,FALSE),\"\")","v":"TEN"},{"$f":"IF(AO202<>0,VLOOKUP(Z202,AO:AR,4,FALSE),\"\")","v":"seada"},{"$f":"IF($AO202<>0,AT202/$AS202,\"\")","v":2.875},{"$f":"IF($AO202<>0,AU202/$AS202,\"\")","v":0.125},{"$f":"IF($AO202<>0,AV202/$AS202,\"\")","v":0.125},{"$f":"IF($AO202<>0,AW202/$AS202,\"\")","v":0.125},{"$f":"IF($AO202<>0,AX202/$AS202,\"\")","v":6.25E-2},{"$f":"IF($AO202<>0,AY202/$AS202,\"\")","v":6.25E-2},{"$f":"IF($AO202<>0,AZ202/$AS202,\"\")","v":0},{"$f":"IF($AO202<>0,BA202/$AS202,\"\")","v":0},{"$f":"IF($AO202<>0,BB202/$AS202,\"\")","v":0},{"$f":"IF($AO202<>0,BC202/$AS202,\"\")","v":0},null,3323,"Da'Norris Searcy","Tennessee Titans","seada",16,46,2,2,2,1,1]
[3369,"John Cyprien","TEN","Buy",null,null,null,null,null,null,null,null,null,null,0,0,0,0,0,0,{"$error":"#DIV/0!"},{"$error":"#DIV/0!"},{"$error":"#DIV/0!"},{"$error":"#DIV/0!"}," ",3369,{"$f":"IF(AP203<>0,VLOOKUP(Z203,AO:AP,2,FALSE),\"\")","v":"John Cyprien"},{"$f":"IF(AQ203<>0,VLOOKUP(AQ203,Info!A:B,2,FALSE),\"\")","v":"TEN"},{"$f":"IF(AO203<>0,VLOOKUP(Z203,AO:AR,4,FALSE),\"\")","v":"cypjo"},8,0.125,0.125,0.125,6.25E-2,6.25E-2,0,0,0,0,null,3369,"John Cyprien","Tennessee Titans","cypjo",16,128,2,2,2,1,1]
[3433,"Jurrell Casey","TEN","Buy",null,null,null,null,null,null,null,null,null,null,0,0,0,0,0,0,{"$error":"#DIV/0!"},{"$error":"#DIV/0!"},{"$error":"#DIV/0!"},{"$error":"#DIV/0!"}," ",3433,{"$f":"IF(AP204<>0,VLOOKUP(Z204,AO:AP,2,FALSE),\"\")","v":"Jurrell Casey"},{"$f":"IF(AQ204<>0,VLOOKUP(AQ204,Info!A:B,2,FALSE),\"\")","v":"TEN"},{"$f":"IF(AO204<>0,VLOOKUP(Z204,AO:AR,4,FALSE),\"\")","v":"casju"},2.9375,0.375,0.125,0.125,6.25E-2,6.25E-2,0,0,0,0,null,3433,"Jurrell Casey","Tennessee Titans","casju",16,47,6,2,2,1,1]
[4248,"Kevin Byard","TEN","Buy",null,null,null,null,null,null,null,null,null,null,0,0,0,0,0,0,{"$error":"#DIV/0!"},{"$error":"#DIV/0!"},{"$error":"#DIV/0!"},{"$error":"#DIV/0!"}," ",4248,{"$f":"IF(AP205<>0,VLOOKUP(Z205,AO:AP,2,FALSE),\"\")","v":"Kevin Byard"},{"$f":"IF(AQ205<>0,VLOOKUP(AQ205,Info!A:B,2,FALSE),\"\")","v":"TEN"},{"$f":"IF(AO205<>0,VLOOKUP(Z205,AO:AR,4,FALSE),\"\")","v":"byake"},5,0.125,0.375,0.125,6.25E-2,0.125,0,0,0,0,null,4248,"Kevin Byard","Tennessee Titans","byake",16,80,2,6,2,1,2]
[3613,"Wesley Woodyard","TEN","Buy",null,null,null,null,null,null,null,null,null,null,0,0,0,0,0,0,{"$error":"#DIV/0!"},{"$error":"#DIV/0!"},{"$error":"#DIV/0!"},{"$error":"#DIV/0!"}," ",{"$f":"IF(AO206<>0,AO206,\"\")","v":3613},{"$f":"IF(AP206<>0,VLOOKUP(Z206,AO:AP,2,FALSE),\"\")","v":"Wesley Woodyard"},{"$f":"IF(AQ206<>0,VLOOKUP(AQ206,Info!A:B,2,FALSE),\"\")","v":"TEN"},{"$f":"IF(AO206<>0,VLOOKUP(Z206,AO:AR,4,FALSE),\"\")","v":"woowe"},{"$f":"IF($AO206<>0,AT206/$AS206,\"\")","v":3.4375},{"$f":"IF($AO206<>0,AU206/$AS206,\"\")","v":0.125},{"$f":"IF($AO206<>0,AV206/$AS206,\"\")","v":0.125},{"$f":"IF($AO206<>0,AW206/$AS206,\"\")","v":0.125},{"$f":"IF($AO206<>0,AX206/$AS206,\"\")","v":6.25E-2},{"$f":"IF($AO206<>0,AY206/$AS206,\"\")","v":6.25E-2},{"$f":"IF($AO206<>0,AZ206/$AS206,\"\")","v":0},{"$f":"IF($AO206<>0,BA206/$AS206,\"\")","v":0},{"$f":"IF($AO206<>0,BB206/$AS206,\"\")","v":0},{"$f":"IF($AO206<>0,BC206/$AS206,\"\")","v":0},null,3613,"Wesley Woodyard","Tennessee Titans","woowe",16,55,2,2,2,1,1]
[1421,"DeAngelo Hall","WAS","Buy",null,null,null,null,null,null,null,null,null,null,0,0,0,0,0,0,{"$error":"#DIV/0!"},{"$error":"#DIV/0!"},{"$error":"#DIV/0!"},{"$error":"#DIV/0!"}," ",1421,"DeAngelo Hall",{"$f":"IF(AQ207<>0,VLOOKUP(AQ207,Info!A:B,2,FALSE),\"\")","v":"WAS"},"halde",4.75,0.125,0.125,0.125,6.25E-2,6.25E-2,0,0,0,0,null,1421,"DeAngelo Hall","Washington Redskins","halde",16,76,2,2,2,1,1]
[3649,"DJ Swearinger","WAS","Buy",null,null,null,null,null,null,null,null,null,null,0,0,0,0,0,0,{"$error":"#DIV/0!"},{"$error":"#DIV/0!"},{"$error":"#DIV/0!"},{"$error":"#DIV/0!"}," ",3649,"DJ Swearinger",{"$f":"IF(AQ208<>0,VLOOKUP(AQ208,Info!A:B,2,FALSE),\"\")","v":"WAS"},"swedj",4.125,0.125,0.1875,0.125,6.25E-2,6.25E-2,0,0,0,0,null,3649,"DJ Swearinger","Washington Redskins","swedj",16,66,2,3,2,1,1]
[3907,"Josh Norman","WAS","Buy",null,null,null,null,null,null,null,null,null,null,0,0,0,0,0,0,{"$error":"#DIV/0!"},{"$error":"#DIV/0!"},{"$error":"#DIV/0!"},{"$error":"#DIV/0!"}," ",3907,"Josh Norman",{"$f":"IF(AQ209<>0,VLOOKUP(AQ209,Info!A:B,2,FALSE),\"\")","v":"WAS"},"norjo",4.1875,0.125,0.1875,0.125,6.25E-2,0.125,0,0,0,0,null,3907,"Josh Norman","Washington Redskins","norjo",16,67,2,3,2,1,2]
[3131,"Mason Foster","WAS","Buy",null,null,null,null,null,null,null,null,null,null,0,0,0,0,0,0,{"$error":"#DIV/0!"},{"$error":"#DIV/0!"},{"$error":"#DIV/0!"},{"$error":"#DIV/0!"}," ",3131,"Mason Foster",{"$f":"IF(AQ210<>0,VLOOKUP(AQ210,Info!A:B,2,FALSE),\"\")","v":"WAS"},"fosma",7.75,0.125,0.125,0.125,6.25E-2,6.25E-2,0,0,0,0,null,3131,"Mason Foster","Washington Redskins","fosma",16,124,2,2,2,1,1]
[4074,"Preston Smith","WAS","Buy",null,null,null,null,null,null,null,null,null,null,0,0,0,0,0,0,{"$error":"#DIV/0!"},{"$error":"#DIV/0!"},{"$error":"#DIV/0!"},{"$error":"#DIV/0!"}," ",4074,"Preston Smith",{"$f":"IF(AQ211<>0,VLOOKUP(AQ211,Info!A:B,2,FALSE),\"\")","v":"WAS"},"smipr",2.5,0.375,0.125,0.125,6.25E-2,6.25E-2,0,0,0,0,null,4074,"Preston Smith","Washington Redskins","smipr",16,40,6,2,2,1,1]
[3353,"Ryan Kerrigan","WAS","Buy",null,null,null,null,null,null,null,null,null,null,0,0,0,0,0,0,{"$error":"#DIV/0!"},{"$error":"#DIV/0!"},{"$error":"#DIV/0!"},{"$error":"#DIV/0!"}," ",3353,"Ryan Kerrigan",{"$f":"IF(AQ212<>0,VLOOKUP(AQ212,Info!A:B,2,FALSE),\"\")","v":"WAS"},"kerry",2.0625,0.6875,0.125,0.125,6.25E-2,0.125,0,0,0,0,null,3353,"Ryan Kerrigan","Washington Redskins","kerry",16,33,11,2,2,1,2]
[3339,"Zach Brown","WAS","Buy",null,null,null,null,null,null,null,null,null,null,0,0,0,0,0,0,{"$error":"#DIV/0!"},{"$error":"#DIV/0!"},{"$error":"#DIV/0!"},{"$error":"#DIV/0!"}," ",3339,"Zach Brown",{"$f":"IF(AQ213<>0,VLOOKUP(AQ213,Info!A:B,2,FALSE),\"\")","v":"WAS"},"broza",8.9375,0.25,0.125,0.125,6.25E-2,0.125,0,0,0,0,null,3339,"Zach Brown","Washington Redskins","broza",16,143,4,2,2,1,2]
[{"$f":"IF(Z214<>0,Z214,\"\")","v":""},{"$f":"IF(A214<>0,VLOOKUP(A214,Z:AA,2,FALSE),\"\")","v":""},{"$f":"IF(A214<>0,VLOOKUP(A214,Z:AB,3,FALSE))","v":""},{"$f":"HYPERLINK(\"http://www.jockstocks.com/buysell.php?action=buymax&plid=\"&A214,\"Buy\")","v":"Buy"},null,null,null,null,null,null,null,null,null,null,{"$error":"#VALUE!"},{"$error":"#VALUE!"},{"$error":"#VALUE!"},{"$error":"#VALUE!"},{"$error":"#VALUE!"},{"$error":"#VALUE!"},{"$error":"#VALUE!"},{"$error":"#VALUE!"},{"$error":"#VALUE!"},{"$error":"#VALUE!"}," ","","",{"$f":"IF(AQ214<>0,VLOOKUP(AQ214,Info!A:B,2,FALSE),\"\")","v":""},"","","","","","","","","","",""]
["","","","Buy",null,null,null,null,null,null,null,null,null,null,{"$error":"#VALUE!"},{"$error":"#VALUE!"},{"$error":"#VALUE!"},{"$error":"#VALUE!"},{"$error":"#VALUE!"},{"$error":"#VALUE!"},{"$error":"#VALUE!"},{"$error":"#VALUE!"},{"$error":"#VALUE!"},{"$error":"#VALUE!"}," ","","",{"$f":"IF(AQ215<>0,VLOOKUP(AQ215,Info!A:B,2,FALSE),\"\")","v":""},"","","","","","","","","","",""]
["","","","Buy",null,null,null,null,null,null,null,null,null,null,{"$error":"#VALUE!"},{"$error":"#VALUE!"},{"$error":"#VALUE!"},{"$error":"#VALUE!"},{"$error":"#VALUE!"},{"$error":"#VALUE!"},{"$error":"#VALUE!"},{"$error":"#VALUE!"},{"$error":"#VALUE!"},{"$error":"#VALUE!"}," ","","",{"$f":"IF(AQ216<>0,VLOOKUP(AQ216,Info!A:B,2,FALSE),\"\")","v":""},"","","","","","","","","","",""]
["","","","Buy",null,null,null,null,null,null,null,null,null,null,{"$error":"#VALUE!"},{"$error":"#VALUE!"},{"$error":"#VALUE!"},{"$error":"#VALUE!"},{"$error":"#VALUE!"},{"$error":"#VALUE!"},{"$error":"#VALUE!"},{"$error":"#VALUE!"},{"$error":"#VALUE!"},{"$error":"#VALUE!"}," ","","",{"$f":"IF(AQ217<>0,VLOOKUP(AQ217,Info!A:B,2,FALSE),\"\")","v":""},"","","","","","","","","","",""]
["","","","Buy",null,null,null,null,null,null,null,null,null,null,{"$error":"#VALUE!"},{"$error":"#VALUE!"},{"$error":"#VALUE!"},{"$error":"#VALUE!"},{"$error":"#VALUE!"},{"$error":"#VALUE!"},{"$error":"#VALUE!"},{"$error":"#VALUE!"},{"$error":"#VALUE!"},{"$error":"#VALUE!"}," ","","",{"$f":"IF(AQ218<>0,VLOOKUP(AQ218,Info!A:B,2,FALSE),\"\")","v":""},"","","","","","","","","","",""]
["","","","Buy",null,null,null,null,null,null,null,null,null,null,{"$error":"#VALUE!"},{"$error":"#VALUE!"},{"$error":"#VALUE!"},{"$error":"#VALUE!"},{"$error":"#VALUE!"},{"$error":"#VALUE!"},{"$error":"#VALUE!"},{"$error":"#VALUE!"},{"$error":"#VALUE!"},{"$error":"#VALUE!"}," ","","",{"$f":"IF(AQ219<>0,VLOOKUP(AQ219,Info!A:B,2,FALSE),\"\")","v":""},"","","","","","","","","","",""]
["","","","Buy",null,null,null,null,null,null,null,null,null,null,{"$error":"#VALUE!"},{"$error":"#VALUE!"},{"$error":"#VALUE!"},{"$error":"#VALUE!"},{"$error":"#VALUE!"},{"$error":"#VALUE!"},{"$error":"#VALUE!"},{"$error":"#VALUE!"},{"$error":"#VALUE!"},{"$error":"#VALUE!"}," ","","",{"$f":"IF(AQ220<>0,VLOOKUP(AQ220,Info!A:B,2,FALSE),\"\")","v":""},"","","","","","","","","","",""]
["","","","Buy",null,null,null,null,null,null,null,null,null,null,{"$error":"#VALUE!"},{"$error":"#VALUE!"},{"$error":"#VALUE!"},{"$error":"#VALUE!"},{"$error":"#VALUE!"},{"$error":"#VALUE!"},{"$error":"#VALUE!"},{"$error":"#VALUE!"},{"$error":"#VALUE!"},{"$error":"#VALUE!"}," ","","",{"$f":"IF(AQ221<>0,VLOOKUP(AQ221,Info!A:B,2,FALSE),\"\")","v":""},"","","","","","","","","","",""]
["","","","Buy",null,null,null,null,null,null,null,null,null,null,{"$error":"#VALUE!"},{"$error":"#VALUE!"},{"$error":"#VALUE!"},{"$error":"#VALUE!"},{"$error":"#VALUE!"},{"$error":"#VALUE!"},{"$error":"#VALUE!"},{"$error":"#VALUE!"},{"$error":"#VALUE!"},{"$error":"#VALUE!"}," ","","",{"$f":"IF(AQ222<>0,VLOOKUP(AQ222,Info!A:B,2,FALSE),\"\")","v":""},"","","","","","","","","","",""]
["","","","Buy",null,null,null,null,null,null,null,null,null,null,{"$error":"#VALUE!"},{"$error":"#VALUE!"},{"$error":"#VALUE!"},{"$error":"#VALUE!"},{"$error":"#VALUE!"},{"$error":"#VALUE!"},{"$error":"#VALUE!"},{"$error":"#VALUE!"},{"$error":"#VALUE!"},{"$error":"#VALUE!"}," ","","",{"$f":"IF(AQ223<>0,VLOOKUP(AQ223,Info!A:B,2,FALSE),\"\")","v":""},"","","","","","","","","","",""]
["","","","Buy",null,null,null,null,null,null,null,null,null,null,{"$error":"#VALUE!"},{"$error":"#VALUE!"},{"$error":"#VALUE!"},{"$error":"#VALUE!"},{"$error":"#VALUE!"},{"$error":"#VALUE!"},{"$error":"#VALUE!"},{"$error":"#VALUE!"},{"$error":"#VALUE!"},{"$error":"#VALUE!"}," ","","",{"$f":"IF(AQ224<>0,VLOOKUP(AQ224,Info!A:B,2,FALSE),\"\")","v":""},"","","","","","","","","","",""]
["","","","Buy",null,null,null,null,null,null,null,null,null,null,{"$error":"#VALUE!"},{"$error":"#VALUE!"},{"$error":"#VALUE!"},{"$error":"#VALUE!"},{"$error":"#VALUE!"},{"$error":"#VALUE!"},{"$error":"#VALUE!"},{"$error":"#VALUE!"},{"$error":"#VALUE!"},{"$error":"#VALUE!"}," ","","",{"$f":"IF(AQ225<>0,VLOOKUP(AQ225,Info!A:B,2,FALSE),\"\")","v":""},"","","","","","","","","","",""]
["","","","Buy",null,null,null,null,null,null,null,null,null,null,{"$error":"#VALUE!"},{"$error":"#VALUE!"},{"$error":"#VALUE!"},{"$error":"#VALUE!"},{"$error":"#VALUE!"},{"$error":"#VALUE!"},{"$error":"#VALUE!"},{"$error":"#VALUE!"},{"$error":"#VALUE!"},{"$error":"#VALUE!"}," ","","",{"$f":"IF(AQ226<>0,VLOOKUP(AQ226,Info!A:B,2,FALSE),\"\")","v":""},"","","","","","","","","","",""]
["","","","Buy",null,null,null,null,null,null,null,null,null,null,{"$error":"#VALUE!"},{"$error":"#VALUE!"},{"$error":"#VALUE!"},{"$error":"#VALUE!"},{"$error":"#VALUE!"},{"$error":"#VALUE!"},{"$error":"#VALUE!"},{"$error":"#VALUE!"},{"$error":"#VALUE!"},{"$error":"#VALUE!"}," ","","",{"$f":"IF(AQ227<>0,VLOOKUP(AQ227,Info!A:B,2,FALSE),\"\")","v":""},"","","","","","","","","","",""]
["","","","Buy",null,null,null,null,null,null,null,null,null,null,{"$error":"#VALUE!"},{"$error":"#VALUE!"},{"$error":"#VALUE!"},{"$error":"#VALUE!"},{"$error":"#VALUE!"},{"$error":"#VALUE!"},{"$error":"#VALUE!"},{"$error":"#VALUE!"},{"$error":"#VALUE!"},{"$error":"#VALUE!"}," ","","",{"$f":"IF(AQ228<>0,VLOOKUP(AQ228,Info!A:B,2,FALSE),\"\")","v":""},"","","","","","","","","","",""]
["","","","Buy",null,null,null,null,null,null,null,null,null,null,{"$error":"#VALUE!"},{"$error":"#VALUE!"},{"$error":"#VALUE!"},{"$error":"#VALUE!"},{"$error":"#VALUE!"},{"$error":"#VALUE!"},{"$error":"#VALUE!"},{"$error":"#VALUE!"},{"$error":"#VALUE!"},{"$error":"#VALUE!"}," ","","",{"$f":"IF(AQ229<>0,VLOOKUP(AQ229,Info!A:B,2,FALSE),\"\")","v":""},"","","","","","","","","","",""]
["","","","Buy",null,null,null,null,null,null,null,null,null,null,{"$error":"#VALUE!"},{"$error":"#VALUE!"},{"$error":"#VALUE!"},{"$error":"#VALUE!"},{"$error":"#VALUE!"},{"$error":"#VALUE!"},{"$error":"#VALUE!"},{"$error":"#VALUE!"},{"$error":"#VALUE!"},{"$error":"#VALUE!"}," ","","",{"$f":"IF(AQ230<>0,VLOOKUP(AQ230,Info!A:B,2,FALSE),\"\")","v":""},"","","","","","","","","","",""]
[{"$f":"IF(Z231<>0,Z231,\"\")","v":""},{"$f":"IF(A231<>0,VLOOKUP(A231,Z:AA,2,FALSE),\"\")","v":""},{"$f":"IF(A231<>0,VLOOKUP(A231,Z:AB,3,FALSE))","v":""},{"$f":"HYPERLINK(\"http://www.jockstocks.com/buysell.php?action=buymax&plid=\"&A231,\"Buy\")","v":"Buy"},null,null,null,null,null,null,null,null,null,null,{"$error":"#VALUE!"},{"$error":"#VALUE!"},{"$error":"#VALUE!"},{"$error":"#VALUE!"},{"$error":"#VALUE!"},{"$error":"#VALUE!"},{"$error":"#VALUE!"},{"$error":"#VALUE!"},{"$error":"#VALUE!"},{"$error":"#VALUE!"}," ","","",{"$f":"IF(AQ231<>0,VLOOKUP(AQ231,Info!A:B,2,FALSE),\"\")","v":""},"","","","","","","","","","",""]
["","","","Buy",null,null,null,null,null,null,null,null,null,null,{"$error":"#VALUE!"},{"$error":"#VALUE!"},{"$error":"#VALUE!"},{"$error":"#VALUE!"},{"$error":"#VALUE!"},{"$error":"#VALUE!"},{"$error":"#VALUE!"},{"$error":"#VALUE!"},{"$error":"#VALUE!"},{"$error":"#VALUE!"}," ","","",{"$f":"IF(AQ232<>0,VLOOKUP(AQ232,Info!A:B,2,FALSE),\"\")","v":""},"","","","","","","","","","",""]
["","","","Buy",null,null,null,null,null,null,null,null,null,null,{"$error":"#VALUE!"},{"$error":"#VALUE!"},{"$error":"#VALUE!"},{"$error":"#VALUE!"},{"$error":"#VALUE!"},{"$error":"#VALUE!"},{"$error":"#VALUE!"},{"$error":"#VALUE!"},{"$error":"#VALUE!"},{"$error":"#VALUE!"}," ","","",{"$f":"IF(AQ233<>0,VLOOKUP(AQ233,Info!A:B,2,FALSE),\"\")","v":""},"","","","","","","","","","",""]
["","","","Buy",null,null,null,null,null,null,null,null,null,null,{"$error":"#VALUE!"},{"$error":"#VALUE!"},{"$error":"#VALUE!"},{"$error":"#VALUE!"},{"$error":"#VALUE!"},{"$error":"#VALUE!"},{"$error":"#VALUE!"},{"$error":"#VALUE!"},{"$error":"#VALUE!"},{"$error":"#VALUE!"}," ","","",{"$f":"IF(AQ234<>0,VLOOKUP(AQ234,Info!A:B,2,FALSE),\"\")","v":""},"","","","","","","","","","",""]
["","","","Buy",null,null,null,null,null,null,null,null,null,null,{"$error":"#VALUE!"},{"$error":"#VALUE!"},{"$error":"#VALUE!"},{"$error":"#VALUE!"},{"$error":"#VALUE!"},{"$error":"#VALUE!"},{"$error":"#VALUE!"},{"$error":"#VALUE!"},{"$error":"#VALUE!"},{"$error":"#VALUE!"}," ","","",{"$f":"IF(AQ235<>0,VLOOKUP(AQ235,Info!A:B,2,FALSE),\"\")","v":""},"","","","","","","","","","",""]
["","","","Buy",null,null,null,null,null,null,null,null,null,null,{"$error":"#VALUE!"},{"$error":"#VALUE!"},{"$error":"#VALUE!"},{"$error":"#VALUE!"},{"$error":"#VALUE!"},{"$error":"#VALUE!"},{"$error":"#VALUE!"},{"$error":"#VALUE!"},{"$error":"#VALUE!"},{"$error":"#VALUE!"}," ","","",{"$f":"IF(AQ236<>0,VLOOKUP(AQ236,Info!A:B,2,FALSE),\"\")","v":""},"","","","","","","","","","",""]
["","","","Buy",null,null,null,null,null,null,null,null,null,null,{"$error":"#VALUE!"},{"$error":"#VALUE!"},{"$error":"#VALUE!"},{"$error":"#VALUE!"},{"$error":"#VALUE!"},{"$error":"#VALUE!"},{"$error":"#VALUE!"},{"$error":"#VALUE!"},{"$error":"#VALUE!"},{"$error":"#VALUE!"}," ","","",{"$f":"IF(AQ237<>0,VLOOKUP(AQ237,Info!A:B,2,FALSE),\"\")","v":""},"","","","","","","","","","",""]
["","","","Buy",null,null,null,null,null,null,null,null,null,null,{"$error":"#VALUE!"},{"$error":"#VALUE!"},{"$error":"#VALUE!"},{"$error":"#VALUE!"},{"$error":"#VALUE!"},{"$error":"#VALUE!"},{"$error":"#VALUE!"},{"$error":"#VALUE!"},{"$error":"#VALUE!"},{"$error":"#VALUE!"}," ","","",{"$f":"IF(AQ238<>0,VLOOKUP(AQ238,Info!A:B,2,FALSE),\"\")","v":""},"","","","","","","","","","",""]
["","","","Buy",null,null,null,null,null,null,null,null,null,null,{"$error":"#VALUE!"},{"$error":"#VALUE!"},{"$error":"#VALUE!"},{"$error":"#VALUE!"},{"$error":"#VALUE!"},{"$error":"#VALUE!"},{"$error":"#VALUE!"},{"$error":"#VALUE!"},{"$error":"#VALUE!"},{"$error":"#VALUE!"}," ","","",{"$f":"IF(AQ239<>0,VLOOKUP(AQ239,Info!A:B,2,FALSE),\"\")","v":""},"","","","","","","","","","",""]
["","","","Buy",null,null,null,null,null,null,null,null,null,null,{"$error":"#VALUE!"},{"$error":"#VALUE!"},{"$error":"#VALUE!"},{"$error":"#VALUE!"},{"$error":"#VALUE!"},{"$error":"#VALUE!"},{"$error":"#VALUE!"},{"$error":"#VALUE!"},{"$error":"#VALUE!"},{"$error":"#VALUE!"}," ","","",{"$f":"IF(AQ240<>0,VLOOKUP(AQ240,Info!A:B,2,FALSE),\"\")","v":""},"","","","","","","","","","",""]
["","","","Buy",null,null,null,null,null,null,null,null,null,null,{"$error":"#VALUE!"},{"$error":"#VALUE!"},{"$error":"#VALUE!"},{"$error":"#VALUE!"},{"$error":"#VALUE!"},{"$error":"#VALUE!"},{"$error":"#VALUE!"},{"$error":"#VALUE!"},{"$error":"#VALUE!"},{"$error":"#VALUE!"}," ","","",{"$f":"IF(AQ241<>0,VLOOKUP(AQ241,Info!A:B,2,FALSE),\"\")","v":""},"","","","","","","","","","",""]
["","","","Buy",null,null,null,null,null,null,null,null,null,null,{"$error":"#VALUE!"},{"$error":"#VALUE!"},{"$error":"#VALUE!"},{"$error":"#VALUE!"},{"$error":"#VALUE!"},{"$error":"#VALUE!"},{"$error":"#VALUE!"},{"$error":"#VALUE!"},{"$error":"#VALUE!"},{"$error":"#VALUE!"}," ","","",{"$f":"IF(AQ242<>0,VLOOKUP(AQ242,Info!A:B,2,FALSE),\"\")","v":""},"","","","","","","","","","",""]
["","","","Buy",null,null,null,null,null,null,null,null,null,null,{"$error":"#VALUE!"},{"$error":"#VALUE!"},{"$error":"#VALUE!"},{"$error":"#VALUE!"},{"$error":"#VALUE!"},{"$error":"#VALUE!"},{"$error":"#VALUE!"},{"$error":"#VALUE!"},{"$error":"#VALUE!"},{"$error":"#VALUE!"}," ","","",{"$f":"IF(AQ243<>0,VLOOKUP(AQ243,Info!A:B,2,FALSE),\"\")","v":""},"","","","","","","","","","",""]
["","","","Buy",null,null,null,null,null,null,null,null,null,null,{"$error":"#VALUE!"},{"$error":"#VALUE!"},{"$error":"#VALUE!"},{"$error":"#VALUE!"},{"$error":"#VALUE!"},{"$error":"#VALUE!"},{"$error":"#VALUE!"},{"$error":"#VALUE!"},{"$error":"#VALUE!"},{"$error":"#VALUE!"}," ","","",{"$f":"IF(AQ244<>0,VLOOKUP(AQ244,Info!A:B,2,FALSE),\"\")","v":""},"","","","","","","","","","",""]
["","","","Buy",null,null,null,null,null,null,null,null,null,null,{"$error":"#VALUE!"},{"$error":"#VALUE!"},{"$error":"#VALUE!"},{"$error":"#VALUE!"},{"$error":"#VALUE!"},{"$error":"#VALUE!"},{"$error":"#VALUE!"},{"$error":"#VALUE!"},{"$error":"#VALUE!"},{"$error":"#VALUE!"}," ","","",{"$f":"IF(AQ245<>0,VLOOKUP(AQ245,Info!A:B,2,FALSE),\"\")","v":""},"","","","","","","","","","",""]
["","","","Buy",null,null,null,null,null,null,null,null,null,null,{"$error":"#VALUE!"},{"$error":"#VALUE!"},{"$error":"#VALUE!"},{"$error":"#VALUE!"},{"$error":"#VALUE!"},{"$error":"#VALUE!"},{"$error":"#VALUE!"},{"$error":"#VALUE!"},{"$error":"#VALUE!"},{"$error":"#VALUE!"}," ","","",{"$f":"IF(AQ246<>0,VLOOKUP(AQ246,Info!A:B,2,FALSE),\"\")","v":""},"","","","","","","","","","",""]
["","","","Buy",null,null,null,null,null,null,null,null,null,null,{"$error":"#VALUE!"},{"$error":"#VALUE!"},{"$error":"#VALUE!"},{"$error":"#VALUE!"},{"$error":"#VALUE!"},{"$error":"#VALUE!"},{"$error":"#VALUE!"},{"$error":"#VALUE!"},{"$error":"#VALUE!"},{"$error":"#VALUE!"}," ","","",{"$f":"IF(AQ247<>0,VLOOKUP(AQ247,Info!A:B,2,FALSE),\"\")","v":""},"","","","","","","","","","",""]
["","","","Buy",null,null,null,null,null,null,null,null,null,null,{"$error":"#VALUE!"},{"$error":"#VALUE!"},{"$error":"#VALUE!"},{"$error":"#VALUE!"},{"$error":"#VALUE!"},{"$error":"#VALUE!"},{"$error":"#VALUE!"},{"$error":"#VALUE!"},{"$error":"#VALUE!"},{"$error":"#VALUE!"}," ","","",{"$f":"IF(AQ248<>0,VLOOKUP(AQ248,Info!A:B,2,FALSE),\"\")","v":""},"","","","","","","","","","",""]
["","","","Buy",null,null,null,null,null,null,null,null,null,null,{"$error":"#VALUE!"},{"$error":"#VALUE!"},{"$error":"#VALUE!"},{"$error":"#VALUE!"},{"$error":"#VALUE!"},{"$error":"#VALUE!"},{"$error":"#VALUE!"},{"$error":"#VALUE!"},{"$error":"#VALUE!"},{"$error":"#VALUE!"}," ","","",{"$f":"IF(AQ249<>0,VLOOKUP(AQ249,Info!A:B,2,FALSE),\"\")","v":""},"","","","","","","","","","",""]
["","","","Buy",null,null,null,null,null,null,null,null,null,null,{"$error":"#VALUE!"},{"$error":"#VALUE!"},{"$error":"#VALUE!"},{"$error":"#VALUE!"},{"$error":"#VALUE!"},{"$error":"#VALUE!"},{"$error":"#VALUE!"},{"$error":"#VALUE!"},{"$error":"#VALUE!"},{"$error":"#VALUE!"}," ","","",{"$f":"IF(AQ250<>0,VLOOKUP(AQ250,Info!A:B,2,FALSE),\"\")","v":""},"","","","","","","","","","",""]
[null,null,null,null,null,null,null,null,null,null,null,null,null,null,null,null,null,null,null,null,null,null,null,null,null,{"$f":"IF(AO227<>0,AO227,\"\")","v":""},{"$f":"IF(AP227<>0,VLOOKUP(Z251,AO:AP,2,FALSE),\"\")","v":""},{"$f":"IF(AQ227<>0,VLOOKUP(AQ227,Info!A:B,2,FALSE),\"\")","v":""},{"$f":"IF(AO227<>0,VLOOKUP(Z251,AO:AR,4,FALSE),\"\")","v":""},{"$f":"IF($AO227<>0,AT227/$AS227,\"\")","v":""},{"$f":"IF($AO227<>0,AU227/$AS227,\"\")","v":""},{"$f":"IF($AO227<>0,AV227/$AS227,\"\")","v":""},{"$f":"IF($AO227<>0,AW227/$AS227,\"\")","v":""},{"$f":"IF($AO227<>0,AX227/$AS227,\"\")","v":""},{"$f":"IF($AO227<>0,AY227/$AS227,\"\")","v":""},{"$f":"IF($AO227<>0,AZ251/$AS227,\"\")","v":""},{"$f":"IF($AO227<>0,BA251/$AS227,\"\")","v":""},{"$f":"IF($AO227<>0,BB251/$AS227,\"\")","v":""},{"$f":"IF($AO227<>0,BC251/$AS227,\"\")","v":""}]
[null,null,null,null,null,null,null,null,null,null,null,null,null,null,null,null,null,null,null,null,null,null,null,null,null,"","",{"$f":"IF(AQ228<>0,VLOOKUP(AQ228,Info!A:B,2,FALSE),\"\")","v":""},"","","","","","","","","","",""]
[null,null,null,null,null,null,null,null,null,null,null,null,null,null,null,null,null,null,null,null,null,null,null,null,null,"","",{"$f":"IF(AQ229<>0,VLOOKUP(AQ229,Info!A:B,2,FALSE),\"\")","v":""},"","","","","","","","","","",""]
[null,null,null,null,null,null,null,null,null,null,null,null,null,null,null,null,null,null,null,null,null,null,null,null,null,"","",{"$f":"IF(AQ230<>0,VLOOKUP(AQ230,Info!A:B,2,FALSE),\"\")","v":""},"","","","","","","","","","",""]
[null,null,null,null,null,null,null,null,null,null,null,null,null,null,null,null,null,null,null,null,null,null,null,null,null,"","",{"$f":"IF(AQ231<>0,VLOOKUP(AQ231,Info!A:B,2,FALSE),\"\")","v":""},"","","","","","","","","","",""]
[null,null,null,null,null,null,null,null,null,null,null,null,null,null,null,null,null,null,null,null,null,null,null,null,null,"","",{"$f":"IF(AQ232<>0,VLOOKUP(AQ232,Info!A:B,2,FALSE),\"\")","v":""},"","","","","","","","","","",""]
[null,null,null,null,null,null,null,null,null,null,null,null,null,null,null,null,null,null,null,null,null,null,null,null,null,"","",{"$f":"IF(AQ233<>0,VLOOKUP(AQ233,Info!A:B,2,FALSE),\"\")","v":""},"","","","","","","","","","",""]
[null,null,null,null,null,null,null,null,null,null,null,null,null,null,null,null,null,null,null,null,null,null,null,null,null,"","",{"$f":"IF(AQ234<>0,VLOOKUP(AQ234,Info!A:B,2,FALSE),\"\")","v":""},"","","","","","","","","","",""]
[null,null,null,null,null,null,null,null,null,null,null,null,null,null,null,null,null,null,null,null,null,null,null,null,null,"","",{"$f":"IF(AQ235<>0,VLOOKUP(AQ235,Info!A:B,2,FALSE),\"\")","v":""},"","","","","","","","","","",""]
[null,null,null,null,null,null,null,null,null,null,null,null,null,null,null,null,null,null,null,null,null,null,null,null,null,"","",{"$f":"IF(AQ236<>0,VLOOKUP(AQ236,Info!A:B,2,FALSE),\"\")","v":""},"","","","","","","","","","",""]

{"sheet":"NFLK","index":11,"n_rows":50,"n_cols":52,"rows_kept":50,"cut":false,"hidden":false,"merged":[]}
["plid","Name","Team",null,"Points","XPs","Xpmiss","FG<40","FG>40","FG 50+","Fgmiss",null,null,null,"Points","XPs","Xpmiss","FG<40","FG>40","FG 50+","Fgmiss",null,null,null,null,{"$f":"IF(AO1<>0,AO1,\"\")","v":"ID"},{"$f":"IF(AP1<>0,AP1,\"\")","v":"Name"},{"$f":"IF(AQ1<>0,AQ1,\"\")","v":"Team"},{"$f":"IF(AR1<>0,AR1,\"\")","v":"Symbol"},{"$f":"IF(AT1<>0,AT1,\"\")","v":"Points"},{"$f":"IF(AU1<>0,AU1,\"\")","v":"XP Made"},"XP Missed","FG under 40 yds","FG 40-49","FG 50+","FG Missed","","","",null,"ID","Name","Team","Symbol","Games","Points","XP Made","XP Missed","FG under 40 yds","FG 40-49","FG 50+","FG Missed"]
[{"$f":"IF(Z2<>0,Z2,\"\")","v":1325},{"$f":"IF(A2<>0,VLOOKUP(A2,Z:AA,2,FALSE),\"\")","v":"Phil Dawson"},{"$f":"IF(A2<>0,VLOOKUP(A2,Z:AB,3,FALSE))","v":"ARI"},{"$f":"HYPERLINK(\"http://www.jockstocks.com/buysell.php?action=buymax&plid=\"&A2,\"Buy\")","v":"Buy"},null,null,null,null,null,null,null,null,null,null,{"$f":"VLOOKUP($A2,$A:$N,5,FALSE)/VLOOKUP($A2,$Z:$AM,5,FALSE)","v":0},{"$f":"VLOOKUP($A2,$A:$N,6,FALSE)/VLOOKUP($A2,$Z:$AM,6,FALSE)","v":0},{"$f":"VLOOKUP($A2,$A:$N,7,FALSE)/VLOOKUP($A2,$Z:$AM,7,FALSE)","v":0},{"$f":"VLOOKUP($A2,$A:$N,8,FALSE)/VLOOKUP($A2,$Z:$AM,8,FALSE)","v":0},{"$f":"VLOOKUP($A2,$A:$N,9,FALSE)/VLOOKUP($A2,$Z:$AM,9,FALSE)","v":0},{"$f":"VLOOKUP($A2,$A:$N,10,FALSE)/VLOOKUP($A2,$Z:$AM,10,FALSE)","v":0},{"$f":"VLOOKUP($A2,$A:$N,11,FALSE)/VLOOKUP($A2,$Z:$AM,11,FALSE)","v":0},{"$f":"VLOOKUP($A2,$A:$N,12,FALSE)/VLOOKUP($A2,$Z:$AM,12,FALSE)","v":{"$error":"#DIV/0!"}},{"$f":"VLOOKUP($A2,$A:$N,13,FALSE)/VLOOKUP($A2,$Z:$AM,13,FALSE)","v":{"$error":"#DIV/0!"}},{"$f":"VLOOKUP($A2,$A:$N,14,FALSE)/VLOOKUP($A2,$Z:$AM,14,FALSE)","v":{"$error":"#DIV/0!"}}," ",{"$f":"IF(AO2<>0,AO2,\"\")","v":1325},{"$f":"IF(AP2<>0,VLOOKUP(Z2,AO:AP,2,FALSE),\"\")","v":"Phil Dawson"},{"$f":"IF(AQ2<>0,VLOOKUP(AQ2,Info!A:B,2,FALSE),\"\")","v":"ARI"},{"$f":"IF(AO2<>0,VLOOKUP(Z2,AO:AR,4,FALSE),\"\")","v":"dawph"},{"$f":"IF($AO2<>0,AT2/$AS2,\"\")","v":5.625},2.0625,6.25E-2,0.625,0.4375,6.25E-2,0.1875,0,0,0,null,1325,"Phil Dawson","Arizona Cardinals","dawph",16,90,33,1,10,7,1,3]
[{"$f":"IF(Z3<>0,Z3,\"\")","v":1560},{"$f":"IF(A3<>0,VLOOKUP(A3,Z:AA,2,FALSE),\"\")","v":"Matt Bryant"},{"$f":"IF(A3<>0,VLOOKUP(A3,Z:AB,3,FALSE))","v":"ATL"},{"$f":"HYPERLINK(\"http://www.jockstocks.com/buysell.php?action=buymax&plid=\"&A3,\"Buy\")","v":"Buy"},null,null,null,null,null,null,null,null,null,null,0,0,0,0,0,0,0,{"$error":"#DIV/0!"},{"$error":"#DIV/0!"},{"$error":"#DIV/0!"}," ",{"$f":"IF(AO3<>0,AO3,\"\")","v":1560},{"$f":"IF(AP3<>0,VLOOKUP(Z3,AO:AP,2,FALSE),\"\")","v":"Matt Bryant"},{"$f":"IF(AQ3<>0,VLOOKUP(AQ3,Info!A:B,2,FALSE),\"\")","v":"ATL"},{"$f":"IF(AO3<>0,VLOOKUP(Z3,AO:AR,4,FALSE),\"\")","v":"bryma"},{"$f":"IF($AO3<>0,AT3/$AS3,\"\")","v":9.375},{"$f":"IF($AO3<>0,AU3/$AS3,\"\")","v":2.5},{"$f":"IF($AO3<>0,AV3/$AS3,\"\")","v":6.25E-2},{"$f":"IF($AO3<>0,AW3/$AS3,\"\")","v":1.1875},{"$f":"IF($AO3<>0,AX3/$AS3,\"\")","v":0.5625},{"$f":"IF($AO3<>0,AY3/$AS3,\"\")","v":0.25},{"$f":"IF($AO3<>0,AZ3/$AS3,\"\")","v":0.1875},{"$f":"IF($AO3<>0,BA3/$AS3,\"\")","v":0},{"$f":"IF($AO3<>0,BB3/$AS3,\"\")","v":0},{"$f":"IF($AO3<>0,BC3/$AS3,\"\")","v":0},null,1560,"Matt Bryant","Atlanta Falcons","bryma",16,150,40,1,19,9,4,3]
[3105,"Justin Tucker","BAL","Buy",null,null,null,null,null,null,null,null,null,null,0,0,0,0,0,0,0,{"$error":"#DIV/0!"},{"$error":"#DIV/0!"},{"$error":"#DIV/0!"}," ",3105,"Justin Tucker",{"$f":"IF(AQ4<>0,VLOOKUP(AQ4,Info!A:B,2,FALSE),\"\")","v":"BAL"},"tuckj",8.8125,1.6875,6.25E-2,0.875,0.875,0.25,0.1875,0,0,0,null,3105,"Justin Tucker","Baltimore Ravens","tuckj",16,141,27,1,14,14,4,3]
[2496,"Stephen Hauschka","BUF","Buy",null,null,null,null,null,null,null,null,null,null,0,0,0,0,0,0,0,{"$error":"#DIV/0!"},{"$error":"#DIV/0!"},{"$error":"#DIV/0!"}," ",2496,"Stephen Hauschka",{"$f":"IF(AQ5<>0,VLOOKUP(AQ5,Info!A:B,2,FALSE),\"\")","v":"BUF"},"haust",7.625,1.875,6.25E-2,1.25,0.5,0.125,0.3125,0,0,0,null,2496,"Stephen Hauschka","Buffalo Bills","haust",16,122,30,1,20,8,2,5]
[2709,"Graham Gano","CAR","Buy",null,null,null,null,null,null,null,null,null,null,0,0,0,0,0,0,0,{"$error":"#DIV/0!"},{"$error":"#DIV/0!"},{"$error":"#DIV/0!"}," ",2709,"Graham Gano",{"$f":"IF(AQ6<>0,VLOOKUP(AQ6,Info!A:B,2,FALSE),\"\")","v":"CAR"},"gangr",7.5625,1.9375,6.25E-2,0.8125,0.875,0.1875,0.5,0,0,0,null,2709,"Graham Gano","Carolina Panthers","gangr",16,121,31,1,13,14,3,8]
[2349,"Connor Barth","CHI","Buy",null,null,null,null,null,null,null,null,null,null,0,0,0,0,0,0,0,{"$error":"#DIV/0!"},{"$error":"#DIV/0!"},{"$error":"#DIV/0!"}," ",2349,"Connor Barth",{"$f":"IF(AQ7<>0,VLOOKUP(AQ7,Info!A:B,2,FALSE),\"\")","v":"CHI"},"barco",5.625,1.9375,6.25E-2,0.875,0.3125,6.25E-2,0.3125,0,0,0,null,2349,"Connor Barth","Chicago Bears","barco",16,90,31,1,14,5,1,5]
[3320,"Randy Bullock","CIN","Buy",null,null,null,null,null,null,null,null,null,null,0,0,0,0,0,0,0,{"$error":"#DIV/0!"},{"$error":"#DIV/0!"},{"$error":"#DIV/0!"}," ",3320,"Randy Bullock",{"$f":"IF(AQ8<>0,VLOOKUP(AQ8,Info!A:B,2,FALSE),\"\")","v":"CIN"},"bulra",6.625,1.8125,6.25E-2,1.1875,0.375,6.25E-2,0.1875,0,0,0,null,3320,"Randy Bullock","Cincinnati Bengals","bulra",16,106,29,1,19,6,1,3]
[3592,"Cody Parkey","CLE","Buy",null,null,null,null,null,null,null,null,null,null,0,0,0,0,0,0,0,{"$error":"#DIV/0!"},{"$error":"#DIV/0!"},{"$error":"#DIV/0!"}," ",3592,"Cody Parkey",{"$f":"IF(AQ9<>0,VLOOKUP(AQ9,Info!A:B,2,FALSE),\"\")","v":"CLE"},"parco",5.6875,1.4375,6.25E-2,0.875,0.5,6.25E-2,0.375,0,0,0,null,3592,"Cody Parkey","Cleveland Browns","parco",16,91,23,1,14,8,1,6]
[4201,"Zane Gonzalez","CLE","Buy",null,null,null,null,null,null,null,null,null,null,0,0,0,0,0,0,0,{"$error":"#DIV/0!"},{"$error":"#DIV/0!"},{"$error":"#DIV/0!"}," ",4201,"Zane Gonzalez",{"$f":"IF(AQ10<>0,VLOOKUP(AQ10,Info!A:B,2,FALSE),\"\")","v":"CLE"},"gonza",5.625,1.5625,6.25E-2,0.9375,0.5,0.1875,0.3125,0,0,0,null,4201,"Zane Gonzalez","Cleveland Browns","gonza",16,90,25,1,15,8,3,5]
[2956,"Dan Bailey","DAL","Buy",null,null,null,null,null,null,null,null,null,null,0,0,0,0,0,0,0,{"$error":"#DIV/0!"},{"$error":"#DIV/0!"},{"$error":"#DIV/0!"}," ",2956,"Dan Bailey",{"$f":"IF(AQ11<>0,VLOOKUP(AQ11,Info!A:B,2,FALSE),\"\")","v":"DAL"},"baida",7.9375,2.5,6.25E-2,1.0625,0.4375,0.1875,0.3125,0,0,0,null,2956,"Dan Bailey","Dallas Cowboys","baida",16,127,40,1,17,7,3,5]
[1558,"Mike Nugent","DAL","Buy",null,null,null,null,null,null,null,null,null,null,0,0,0,0,0,0,0,{"$error":"#DIV/0!"},{"$error":"#DIV/0!"},{"$error":"#DIV/0!"}," ",1558,"Mike Nugent",{"$f":"IF(AQ12<>0,VLOOKUP(AQ12,Info!A:B,2,FALSE),\"\")","v":"DAL"},"nugmi",7.0625,1.75,6.25E-2,1.25,0.375,6.25E-2,0.4375,0,0,0,null,1558,"Mike Nugent","Dallas Cowboys","nugmi",16,113,28,1,20,6,1,7]
[3642,"Brandon McManus","DEN","Buy",null,null,null,null,null,null,null,null,null,null,0,0,0,0,0,0,0,{"$error":"#DIV/0!"},{"$error":"#DIV/0!"},{"$error":"#DIV/0!"}," ",3642,"Brandon McManus",{"$f":"IF(AQ13<>0,VLOOKUP(AQ13,Info!A:B,2,FALSE),\"\")","v":"DEN"},"mckbr",7.4375,2,6.25E-2,1.1875,0.4375,0.1875,0.3125,0,0,0,null,3642,"Brandon McManus","Denver Broncos","mckbr",16,119,32,1,19,7,3,5]
[2021,"Matt Prater","DET","Buy",null,null,null,null,null,null,null,null,null,null,0,0,0,0,0,0,0,{"$error":"#DIV/0!"},{"$error":"#DIV/0!"},{"$error":"#DIV/0!"}," ",2021,"Matt Prater",{"$f":"IF(AQ14<>0,VLOOKUP(AQ14,Info!A:B,2,FALSE),\"\")","v":"DET"},"prama",7.75,1.9375,6.25E-2,0.875,0.625,0.25,0.3125,0,0,0,null,2021,"Matt Prater","Detroit Lions","prama",16,124,31,1,14,10,4,5]
[3902,"Andrew Franks","XXX","Buy",null,null,null,null,null,null,null,null,null,null,0,0,0,0,0,0,0,{"$error":"#DIV/0!"},{"$error":"#DIV/0!"},{"$error":"#DIV/0!"}," ",3902,"Andrew Franks",{"$f":"IF(AQ15<>0,VLOOKUP(AQ15,Info!A:B,2,FALSE),\"\")","v":"XXX"},"fraan",5.625,2.5,6.25E-2,0.875,0.3125,6.25E-2,0.3125,0,0,0,null,3902,"Andrew Franks","FA/RET/DEC/HON","fraan",16,90,40,1,14,5,1,5]
[2236,"Dan Carpenter","XXX","Buy",null,null,null,null,null,null,null,null,null,null,0,0,0,0,0,0,0,{"$error":"#DIV/0!"},{"$error":"#DIV/0!"},{"$error":"#DIV/0!"}," ",2236,"Dan Carpenter",{"$f":"IF(AQ16<>0,VLOOKUP(AQ16,Info!A:B,2,FALSE),\"\")","v":"XXX"},"carpd",6,2.5,6.25E-2,0.875,0.3125,6.25E-2,0.4375,0,0,0,null,2236,"Dan Carpenter","FA/RET/DEC/HON","carpd",16,96,40,1,14,5,1,7]
[1307,"Josh Brown","XXX","Buy",null,null,null,null,null,null,null,null,null,null,0,0,0,0,0,0,0,{"$error":"#DIV/0!"},{"$error":"#DIV/0!"},{"$error":"#DIV/0!"}," ",1307,"Josh Brown",{"$f":"IF(AQ17<>0,VLOOKUP(AQ17,Info!A:B,2,FALSE),\"\")","v":"XXX"},"brojo",8.375,1.8125,6.25E-2,1.25,0.8125,6.25E-2,0.1875,0,0,0,null,1307,"Josh Brown","FA/RET/DEC/HON","brojo",16,134,29,1,20,13,1,3]
[3901,"Josh Lambo","XXX","Buy",null,null,null,null,null,null,null,null,null,null,0,0,0,0,0,0,0,{"$error":"#DIV/0!"},{"$error":"#DIV/0!"},{"$error":"#DIV/0!"}," ",3901,"Josh Lambo",{"$f":"IF(AQ18<>0,VLOOKUP(AQ18,Info!A:B,2,FALSE),\"\")","v":"XXX"},"lamjo",7.5,2.5,6.25E-2,1.25,0.375,6.25E-2,0.375,0,0,0,null,3901,"Josh Lambo","FA/RET/DEC/HON","lamjo",16,120,40,1,20,6,1,6]
[3627,"Patrick Murray","XXX","Buy",null,null,null,null,null,null,null,null,null,null,0,0,0,0,0,0,0,{"$error":"#DIV/0!"},{"$error":"#DIV/0!"},{"$error":"#DIV/0!"}," ",3627,"Patrick Murray",{"$f":"IF(AQ19<>0,VLOOKUP(AQ19,Info!A:B,2,FALSE),\"\")","v":"XXX"},"murpa",5.6875,1.9375,6.25E-2,0.625,0.375,0.25,0.25,0,0,0,null,3627,"Patrick Murray","FA/RET/DEC/HON","murpa",16,91,31,1,10,6,4,4]
[4051,"Roberto Aguayo","XXX","Buy",null,null,null,null,null,null,null,null,null,null,0,0,0,0,0,0,0,{"$error":"#DIV/0!"},{"$error":"#DIV/0!"},{"$error":"#DIV/0!"}," ",4051,"Roberto Aguayo",{"$f":"IF(AQ20<>0,VLOOKUP(AQ20,Info!A:B,2,FALSE),\"\")","v":"XXX"},"aguro",6.125,2,6.25E-2,1.125,0.3125,6.25E-2,0.5625,0,0,0,null,4051,"Roberto Aguayo","FA/RET/DEC/HON","aguro",16,98,32,1,18,5,1,9]
[2019,"Mason Crosby","GRB","Buy",null,null,null,null,null,null,null,null,null,null,0,0,0,0,0,0,0,{"$error":"#DIV/0!"},{"$error":"#DIV/0!"},{"$error":"#DIV/0!"}," ",2019,"Mason Crosby",{"$f":"IF(AQ21<>0,VLOOKUP(AQ21,Info!A:B,2,FALSE),\"\")","v":"GRB"},"croma",7.625,2.5,6.25E-2,1.25,0.3125,6.25E-2,0.25,0,0,0,null,2019,"Mason Crosby","Green Bay Packers","croma",16,122,40,1,20,5,1,4]
[4202,"Ka'imi Fairbairn","HOU","Buy",null,null,null,null,null,null,null,null,null,null,0,0,0,0,0,0,0,{"$error":"#DIV/0!"},{"$error":"#DIV/0!"},{"$error":"#DIV/0!"}," ",4202,"Ka'imi Fairbairn",{"$f":"IF(AQ22<>0,VLOOKUP(AQ22,Info!A:B,2,FALSE),\"\")","v":"HOU"},"faika",5.625,1.5625,6.25E-2,0.9375,0.5,0.1875,0.3125,0,0,0,null,4202,"Ka'imi Fairbairn","Houston Texans","faika",16,90,25,1,15,8,3,5]
[1308,"Adam Vinatieri","IND","Buy",null,null,null,null,null,null,null,null,null,null,0,0,0,0,0,0,0,{"$error":"#DIV/0!"},{"$error":"#DIV/0!"},{"$error":"#DIV/0!"}," ",1308,"Adam Vinatieri",{"$f":"IF(AQ23<>0,VLOOKUP(AQ23,Info!A:B,2,FALSE),\"\")","v":"IND"},"vinad",7.8125,2.5,6.25E-2,0.625,0.625,0.25,0.25,0,0,0,null,1308,"Adam Vinatieri","Indianapolis Colts","vinad",16,125,40,1,10,10,4,4]
[3899,"Jason Myers","JAC","Buy",null,null,null,null,null,null,null,null,null,null,0,0,0,0,0,0,0,{"$error":"#DIV/0!"},{"$error":"#DIV/0!"},{"$error":"#DIV/0!"}," ",3899,"Jason Myers",{"$f":"IF(AQ24<>0,VLOOKUP(AQ24,Info!A:B,2,FALSE),\"\")","v":"JAC"},"myeja",6.875,1.8125,6.25E-2,0.625,0.625,0.25,0.4375,0,0,0,null,3899,"Jason Myers","Jacksonville Jaguars","myeja",16,110,29,1,10,10,4,7]
[4222,"Harrison Butker","KAN","Buy",null,null,null,null,null,null,null,null,null,null,0,0,0,0,0,0,0,{"$error":"#DIV/0!"},{"$error":"#DIV/0!"},{"$error":"#DIV/0!"}," ",4222,"Harrison Butker",{"$f":"IF(AQ25<>0,VLOOKUP(AQ25,Info!A:B,2,FALSE),\"\")","v":"KAN"},"butha",5.625,1.5625,6.25E-2,0.9375,0.5,0.1875,0.3125,0,0,0,null,4222,"Harrison Butker","Kansas City Chiefs","butha",16,90,25,1,15,8,3,5]
[2235,"Nick Novak","LAC","Buy",null,null,null,null,null,null,null,null,null,null,0,0,0,0,0,0,0,{"$error":"#DIV/0!"},{"$error":"#DIV/0!"},{"$error":"#DIV/0!"}," ",2235,"Nick Novak",{"$f":"IF(AQ26<>0,VLOOKUP(AQ26,Info!A:B,2,FALSE),\"\")","v":"LAC"},"novni",8.4375,1.4375,6.25E-2,1.25,0.5625,0.1875,0.375,0,0,0,null,2235,"Nick Novak","Los Angeles Chargers","novni",16,135,23,1,20,9,3,6]
[3107,"Greg Zuerlein","LAR","Buy",null,null,null,null,null,null,null,null,null,null,0,0,0,0,0,0,0,{"$error":"#DIV/0!"},{"$error":"#DIV/0!"},{"$error":"#DIV/0!"}," ",3107,"Greg Zuerlein",{"$f":"IF(AQ27<>0,VLOOKUP(AQ27,Info!A:B,2,FALSE),\"\")","v":"LAR"},"zuegr",5.625,1.4375,6.25E-2,0.9375,0.3125,0.125,0.1875,0,0,0,null,3107,"Greg Zuerlein","Los Angeles Rams","zuegr",16,90,23,1,15,5,2,3]
[3590,"Cairo Santos","MIA","Buy",null,null,null,null,null,null,null,null,null,null,0,0,0,0,0,0,0,{"$error":"#DIV/0!"},{"$error":"#DIV/0!"},{"$error":"#DIV/0!"}," ",3590,"Cairo Santos",{"$f":"IF(AQ28<>0,VLOOKUP(AQ28,Info!A:B,2,FALSE),\"\")","v":"MIA"},"santc",8.0625,2.25,6.25E-2,1.25,0.375,0.125,0.25,0,0,0,null,3590,"Cairo Santos","Miami Dolphins","santc",16,129,36,1,20,6,2,4]
[3156,"Kai Forbath","MIN","Buy",null,null,null,null,null,null,null,null,null,null,0,0,0,0,0,0,0,{"$error":"#DIV/0!"},{"$error":"#DIV/0!"},{"$error":"#DIV/0!"}," ",3156,"Kai Forbath",{"$f":"IF(AQ29<>0,VLOOKUP(AQ29,Info!A:B,2,FALSE),\"\")","v":"MIN"},"forka",8,1.5625,6.25E-2,1.25,0.5625,0.125,0.1875,0,0,0,null,3156,"Kai Forbath","Minnesota Vikings","forka",16,128,25,1,20,9,2,3]
[1832,"Stephen Gostkowski","NEW","Buy",null,null,null,null,null,null,null,null,null,null,0,0,0,0,0,0,0,{"$error":"#DIV/0!"},{"$error":"#DIV/0!"},{"$error":"#DIV/0!"}," ",1832,"Stephen Gostkowski",{"$f":"IF(AQ30<>0,VLOOKUP(AQ30,Info!A:B,2,FALSE),\"\")","v":"NEW"},"gosst",7.8125,2.5,6.25E-2,1,0.5,0.125,0.3125,0,0,0,null,1832,"Stephen Gostkowski","New England Patriots","gosst",16,125,40,1,16,8,2,5]
[4103,"Wil Lutz","NOS","Buy",null,null,null,null,null,null,null,null,null,null,0,0,0,0,0,0,0,{"$error":"#DIV/0!"},{"$error":"#DIV/0!"},{"$error":"#DIV/0!"}," ",4103,"Wil Lutz",{"$f":"IF(AQ31<>0,VLOOKUP(AQ31,Info!A:B,2,FALSE),\"\")","v":"NOS"},"lutwi",8.3125,2.5,6.25E-2,1.0625,0.5,0.1875,0.375,0,0,0,null,4103,"Wil Lutz","New Orleans Saints","lutwi",16,133,40,1,17,8,3,6]
[4203,"Aldrick Rosas","NYG","Buy",null,null,null,null,null,null,null,null,null,null,0,0,0,0,0,0,0,{"$error":"#DIV/0!"},{"$error":"#DIV/0!"},{"$error":"#DIV/0!"}," ",4203,"Aldrick Rosas",{"$f":"IF(AQ32<>0,VLOOKUP(AQ32,Info!A:B,2,FALSE),\"\")","v":"NYG"},"rosal",5.625,1.5625,6.25E-2,0.9375,0.5,0.1875,0.3125,0,0,0,null,4203,"Aldrick Rosas","New York Giants","rosal",16,90,25,1,15,8,3,5]
[3591,"Chandler Catanzaro","NYJ","Buy",null,null,null,null,null,null,null,null,null,null,0,0,0,0,0,0,0,{"$error":"#DIV/0!"},{"$error":"#DIV/0!"},{"$error":"#DIV/0!"}," ",3591,"Chandler Catanzaro",{"$f":"IF(AQ33<>0,VLOOKUP(AQ33,Info!A:B,2,FALSE),\"\")","v":"NYJ"},"catch",6.625,2.5,6.25E-2,0.75,0.375,0.1875,0.4375,0,0,0,null,3591,"Chandler Catanzaro","New York Jets","catch",16,106,40,1,12,6,3,7]
[4209,"Giorgio Tavecchio","OAK","Buy",null,null,null,null,null,null,null,null,null,null,0,0,0,0,0,0,0,{"$error":"#DIV/0!"},{"$error":"#DIV/0!"},{"$error":"#DIV/0!"}," ",4209,"Giorgio Tavecchio",{"$f":"IF(AQ34<>0,VLOOKUP(AQ34,Info!A:B,2,FALSE),\"\")","v":"OAK"},"tavgi",5.625,1.5625,6.25E-2,0.9375,0.5,0.1875,0.3125,0,0,0,null,4209,"Giorgio Tavecchio","Oakland Raiders","tavgi",16,90,25,1,15,8,3,5]
[1318,"Sebastian Janikowski","OAK","Buy",null,null,null,null,null,null,null,null,null,null,0,0,0,0,0,0,0,{"$error":"#DIV/0!"},{"$error":"#DIV/0!"},{"$error":"#DIV/0!"}," ",1318,"Sebastian Janikowski",{"$f":"IF(AQ35<>0,VLOOKUP(AQ35,Info!A:B,2,FALSE),\"\")","v":"OAK"},"janse",7.75,2.3125,6.25E-2,1,0.625,0.1875,0.375,0,0,0,null,1318,"Sebastian Janikowski","Oakland Raiders","janse",16,124,37,1,16,10,3,6]
[3321,"Caleb Sturgis","PHI","Buy",null,null,null,null,null,null,null,null,null,null,0,0,0,0,0,0,0,{"$error":"#DIV/0!"},{"$error":"#DIV/0!"},{"$error":"#DIV/0!"}," ",3321,"Caleb Sturgis",{"$f":"IF(AQ36<>0,VLOOKUP(AQ36,Info!A:B,2,FALSE),\"\")","v":"PHI"},"stuca",8.4375,1.875,6.25E-2,1.25,0.4375,0.25,0.375,0,0,0,null,3321,"Caleb Sturgis","Philadelphia Eagles","stuca",16,135,30,1,20,7,4,6]
[4221,"Jake Elliott","PHI","Buy",null,null,null,null,null,null,null,null,null,null,0,0,0,0,0,0,0,{"$error":"#DIV/0!"},{"$error":"#DIV/0!"},{"$error":"#DIV/0!"}," ",4221,"Jake Elliott",{"$f":"IF(AQ37<>0,VLOOKUP(AQ37,Info!A:B,2,FALSE),\"\")","v":"PHI"},"eljak",5.625,1.5625,6.25E-2,0.9375,0.5,0.1875,0.3125,0,0,0,null,4221,"Jake Elliott","Philadelphia Eagles","eljak",16,90,25,1,15,8,3,5]
[4050,"Chris Boswell","PIT","Buy",null,null,null,null,null,null,null,null,null,null,0,0,0,0,0,0,0,{"$error":"#DIV/0!"},{"$error":"#DIV/0!"},{"$error":"#DIV/0!"}," ",4050,"Chris Boswell",{"$f":"IF(AQ38<>0,VLOOKUP(AQ38,Info!A:B,2,FALSE),\"\")","v":"PIT"},"boswc",6.625,2.375,6.25E-2,0.6875,0.75,6.25E-2,0.25,0,0,0,null,4050,"Chris Boswell","Pittsburgh Steelers","boswc",16,106,38,1,11,12,1,4]
[1830,"Robbie Gould","SFO","Buy",null,null,null,null,null,null,null,null,null,null,0,0,0,0,0,0,0,{"$error":"#DIV/0!"},{"$error":"#DIV/0!"},{"$error":"#DIV/0!"}," ",1830,"Robbie Gould",{"$f":"IF(AQ39<>0,VLOOKUP(AQ39,Info!A:B,2,FALSE),\"\")","v":"SFO"},"gouro",5.625,2,6.25E-2,0.625,0.375,6.25E-2,0.1875,0,0,0,null,1830,"Robbie Gould","San Francisco 49ers","gouro",16,90,32,1,10,6,1,3]
[3104,"Blair Walsh","SEA","Buy",null,null,null,null,null,null,null,null,null,null,0,0,0,0,0,0,0,{"$error":"#DIV/0!"},{"$error":"#DIV/0!"},{"$error":"#DIV/0!"}," ",3104,"Blair Walsh",{"$f":"IF(AQ40<>0,VLOOKUP(AQ40,Info!A:B,2,FALSE),\"\")","v":"SEA"},"walbl",5.6875,1.6875,6.25E-2,0.75,0.4375,0.125,0.4375,0,0,0,null,3104,"Blair Walsh","Seattle Seahawks","walbl",16,91,27,1,12,7,2,7]
[2020,"Nick Folk","TAM","Buy",null,null,null,null,null,null,null,null,null,null,0,0,0,0,0,0,0,{"$error":"#DIV/0!"},{"$error":"#DIV/0!"},{"$error":"#DIV/0!"}," ",2020,"Nick Folk",{"$f":"IF(AQ41<>0,VLOOKUP(AQ41,Info!A:B,2,FALSE),\"\")","v":"TAM"},"folni",6.5625,1.5,6.25E-2,1.25,0.3125,0.125,0.25,0,0,0,null,2020,"Nick Folk","Tampa Bay Buccaneers","folni",16,105,24,1,20,5,2,4]
[2497,"Ryan Succop","TEN","Buy",null,null,null,null,null,null,null,null,null,null,0,0,0,0,0,0,0,{"$error":"#DIV/0!"},{"$error":"#DIV/0!"},{"$error":"#DIV/0!"}," ",2497,"Ryan Succop",{"$f":"IF(AQ42<>0,VLOOKUP(AQ42,Info!A:B,2,FALSE),\"\")","v":"TEN"},"sucry",6.5625,2.4375,6.25E-2,0.6875,0.5,0.1875,0.1875,0,0,0,null,2497,"Ryan Succop","Tennessee Titans","sucry",16,105,39,1,11,8,3,3]
[3900,"Dustin Hopkins","WAS","Buy",null,null,null,null,null,null,null,null,null,null,0,0,0,0,0,0,0,{"$error":"#DIV/0!"},{"$error":"#DIV/0!"},{"$error":"#DIV/0!"}," ",3900,"Dustin Hopkins",{"$f":"IF(AQ43<>0,VLOOKUP(AQ43,Info!A:B,2,FALSE),\"\")","v":"WAS"},"hopdu",8.625,2.25,6.25E-2,1.25,0.4375,0.1875,0.5,0,0,0,null,3900,"Dustin Hopkins","Washington Redskins","hopdu",16,138,36,1,20,7,3,8]
["","","","Buy",null,null,null,null,null,null,null,null,null,null,{"$error":"#VALUE!"},{"$error":"#VALUE!"},{"$error":"#VALUE!"},{"$error":"#VALUE!"},{"$error":"#VALUE!"},{"$error":"#VALUE!"},{"$error":"#VALUE!"},{"$error":"#VALUE!"},{"$error":"#VALUE!"},{"$error":"#VALUE!"}," ","","",{"$f":"IF(AQ44<>0,VLOOKUP(AQ44,Info!A:B,2,FALSE),\"\")","v":""},"","","","","","","","","","",""]
["","","","Buy",null,null,null,null,null,null,null,null,null,null,{"$error":"#VALUE!"},{"$error":"#VALUE!"},{"$error":"#VALUE!"},{"$error":"#VALUE!"},{"$error":"#VALUE!"},{"$error":"#VALUE!"},{"$error":"#VALUE!"},{"$error":"#VALUE!"},{"$error":"#VALUE!"},{"$error":"#VALUE!"}," ","","",{"$f":"IF(AQ45<>0,VLOOKUP(AQ45,Info!A:B,2,FALSE),\"\")","v":""},"","","","","","","","","","",""]
["","","","Buy",null,null,null,null,null,null,null,null,null,null,{"$error":"#VALUE!"},{"$error":"#VALUE!"},{"$error":"#VALUE!"},{"$error":"#VALUE!"},{"$error":"#VALUE!"},{"$error":"#VALUE!"},{"$error":"#VALUE!"},{"$error":"#VALUE!"},{"$error":"#VALUE!"},{"$error":"#VALUE!"}," ","","",{"$f":"IF(AQ46<>0,VLOOKUP(AQ46,Info!A:B,2,FALSE),\"\")","v":""},"","","","","","","","","","",""]
["","","","Buy",null,null,null,null,null,null,null,null,null,null,{"$error":"#VALUE!"},{"$error":"#VALUE!"},{"$error":"#VALUE!"},{"$error":"#VALUE!"},{"$error":"#VALUE!"},{"$error":"#VALUE!"},{"$error":"#VALUE!"},{"$error":"#VALUE!"},{"$error":"#VALUE!"},{"$error":"#VALUE!"}," ","","",{"$f":"IF(AQ47<>0,VLOOKUP(AQ47,Info!A:B,2,FALSE),\"\")","v":""},"","","","","","","","","","",""]
["","","","Buy",null,null,null,null,null,null,null,null,null,null,{"$error":"#VALUE!"},{"$error":"#VALUE!"},{"$error":"#VALUE!"},{"$error":"#VALUE!"},{"$error":"#VALUE!"},{"$error":"#VALUE!"},{"$error":"#VALUE!"},{"$error":"#VALUE!"},{"$error":"#VALUE!"},{"$error":"#VALUE!"}," ","","",{"$f":"IF(AQ48<>0,VLOOKUP(AQ48,Info!A:B,2,FALSE),\"\")","v":""},"","","","","","","","","","",""]
["","","","Buy",null,null,null,null,null,null,null,null,null,null,{"$error":"#VALUE!"},{"$error":"#VALUE!"},{"$error":"#VALUE!"},{"$error":"#VALUE!"},{"$error":"#VALUE!"},{"$error":"#VALUE!"},{"$error":"#VALUE!"},{"$error":"#VALUE!"},{"$error":"#VALUE!"},{"$error":"#VALUE!"}," ","","",{"$f":"IF(AQ49<>0,VLOOKUP(AQ49,Info!A:B,2,FALSE),\"\")","v":""},"","","","","","","","","","",""]
["","","","Buy",null,null,null,null,null,null,null,null,null,null,{"$error":"#VALUE!"},{"$error":"#VALUE!"},{"$error":"#VALUE!"},{"$error":"#VALUE!"},{"$error":"#VALUE!"},{"$error":"#VALUE!"},{"$error":"#VALUE!"},{"$error":"#VALUE!"},{"$error":"#VALUE!"},{"$error":"#VALUE!"}," ","","",{"$f":"IF(AQ50<>0,VLOOKUP(AQ50,Info!A:B,2,FALSE),\"\")","v":""},"","","","","","","","","","",""]

{"sheet":"NFLTO","index":12,"n_rows":35,"n_cols":52,"rows_kept":35,"cut":false,"hidden":false,"merged":[]}
["plid","Name",null,null,"RushYds","PassYds","Points","1sts","Conv.","TOs","Sacks","PenYds",null,null,"RushYds","PassYds","Points","1sts","Conv.","TOs","Sacks","PenYds",null,null,null,{"$f":"IF(AO1<>0,AO1,\"\")","v":"ID"},{"$f":"IF(AP1<>0,AP1,\"\")","v":"Name"},{"$f":"IF(AQ1<>0,AQ1,\"\")","v":"Symbol"},{"$f":"IF(AS1<>0,AS1,\"\")","v":"Rush Yds"},{"$f":"IF(AT1<>0,AT1,\"\")","v":"Pass Yds"},"Points","1st Downs","3rd/4th Down Conversions","Turnovers","Sacks","Penalty Yds","","","",null,"ID","Name","Symbol","Games","Rush Yds","Pass Yds","Points","1st Downs","3rd/4th Down Conversions","Turnovers","Sacks","Penalty Yds"]
[{"$f":"IF(Z2<>0,Z2,\"\")","v":1239},{"$f":"IF(A2<>0,VLOOKUP(A2,Z:AA,2,FALSE),\"\")","v":"Arizona Cardinals Offense"},null,{"$f":"HYPERLINK(\"http://www.jockstocks.com/buysell.php?action=buymax&plid=\"&A2,\"Buy\")","v":"Buy"},null,null,null,null,null,null,null,null,null,null,{"$f":"VLOOKUP($A2,$A:$N,5,FALSE)/VLOOKUP($A2,$Z:$AM,4,FALSE)","v":0},{"$f":"VLOOKUP($A2,$A:$N,6,FALSE)/VLOOKUP($A2,$Z:$AM,5,FALSE)","v":0},{"$f":"VLOOKUP($A2,$A:$N,7,FALSE)/VLOOKUP($A2,$Z:$AM,6,FALSE)","v":0},{"$f":"VLOOKUP($A2,$A:$N,8,FALSE)/VLOOKUP($A2,$Z:$AM,7,FALSE)","v":0},{"$f":"VLOOKUP($A2,$A:$N,9,FALSE)/VLOOKUP($A2,$Z:$AM,8,FALSE)","v":0},{"$f":"VLOOKUP($A2,$A:$N,10,FALSE)/VLOOKUP($A2,$Z:$AM,9,FALSE)","v":0},{"$f":"VLOOKUP($A2,$A:$N,11,FALSE)/VLOOKUP($A2,$Z:$AM,10,FALSE)","v":0},{"$f":"VLOOKUP($A2,$A:$N,12,FALSE)/VLOOKUP($A2,$Z:$AM,11,FALSE)","v":0},{"$f":"VLOOKUP($A2,$A:$N,13,FALSE)/VLOOKUP($A2,$Z:$AM,12,FALSE)","v":{"$error":"#DIV/0!"}},{"$f":"VLOOKUP($A2,$A:$N,14,FALSE)/VLOOKUP($A2,$Z:$AM,13,FALSE)","v":{"$error":"#DIV/0!"}}," ",{"$f":"IF(AO2<>0,AO2,\"\")","v":1239},{"$f":"IF(AP2<>0,VLOOKUP(Z2,AO:AP,2,FALSE),\"\")","v":"Arizona Cardinals Offense"},{"$f":"IF(AQ2<>0,AQ2,\"\")","v":"arito"},{"$f":"IF($AO2<>0,AS2/$AR2,\"\")","v":108},250,25,23,5.75,1.75,2.5625,37.5,0,0,0,null,1239,"Arizona Cardinals Offense","arito",16,1728,4000,400,368,92,28,41,600]
[{"$f":"IF(Z3<>0,Z3,\"\")","v":1238},{"$f":"IF(A3<>0,VLOOKUP(A3,Z:AA,2,FALSE),\"\")","v":"Atlanta Falcons Offense"},null,{"$f":"HYPERLINK(\"http://www.jockstocks.com/buysell.php?action=buymax&plid=\"&A3,\"Buy\")","v":"Buy"},null,null,null,null,null,null,null,null,null,null,0,0,0,0,0,0,0,0,{"$error":"#DIV/0!"},{"$error":"#DIV/0!"}," ",{"$f":"IF(AO3<>0,AO3,\"\")","v":1238},{"$f":"IF(AP3<>0,VLOOKUP(Z3,AO:AP,2,FALSE),\"\")","v":"Atlanta Falcons Offense"},{"$f":"IF(AQ3<>0,AQ3,\"\")","v":"atlto"},{"$f":"IF($AO3<>0,AS3/$AR3,\"\")","v":120.5},{"$f":"IF($AO3<>0,AT3/$AR3,\"\")","v":250},{"$f":"IF($AO3<>0,AU3/$AR3,\"\")","v":25},{"$f":"IF($AO3<>0,AV3/$AR3,\"\")","v":23.6875},{"$f":"IF($AO3<>0,AW3/$AR3,\"\")","v":5.1875},{"$f":"IF($AO3<>0,AX3/$AR3,\"\")","v":0.9375},{"$f":"IF($AO3<>0,AY3/$AR3,\"\")","v":2.3125},{"$f":"IF($AO3<>0,AZ3/$AR3,\"\")","v":37.5},{"$f":"IF($AO3<>0,BA3/$AR3,\"\")","v":0},{"$f":"IF($AO3<>0,BB3/$AR3,\"\")","v":0},{"$f":"IF($AO3<>0,BC3/$AR3,\"\")","v":0},null,1238,"Atlanta Falcons Offense","atlto",16,1928,4000,400,379,83,15,37,600]
[1240,"Baltimore Ravens Offense",null,"Buy",null,null,null,null,null,null,null,null,null,null,0,0,0,0,0,0,0,0,{"$error":"#DIV/0!"},{"$error":"#DIV/0!"}," ",1240,"Baltimore Ravens Offense","balto",91.125,250,21.4375,19.75,5.875,1.4375,2,37.5,0,0,0,null,1240,"Baltimore Ravens Offense","balto",16,1458,4000,343,316,94,23,32,600]
[1241,"Buffalo Bills Offense",null,"Buy",null,null,null,null,null,null,null,null,null,null,0,0,0,0,0,0,0,0,{"$error":"#DIV/0!"},{"$error":"#DIV/0!"}," ",1241,"Buffalo Bills Offense","bufto",156.25,189.75,24.9375,20.5,5.875,0.9375,2.875,37.5,0,0,0,null,1241,"Buffalo Bills Offense","bufto",16,2500,3036,399,328,94,15,46,600]
[1242,"Carolina Panthers Offense",null,"Buy",null,null,null,null,null,null,null,null,null,null,0,0,0,0,0,0,0,0,{"$error":"#DIV/0!"},{"$error":"#DIV/0!"}," ",1242,"Carolina Panthers Offense","carto",113.375,230.3125,23.0625,19.875,5.875,1.8125,2.25,37.5,0,0,0,null,1242,"Carolina Panthers Offense","carto",16,1814,3685,369,318,94,29,36,600]
[1243,"Chicago Bears Offense",null,"Buy",null,null,null,null,null,null,null,null,null,null,0,0,0,0,0,0,0,0,{"$error":"#DIV/0!"},{"$error":"#DIV/0!"}," ",1243,"Chicago Bears Offense","chito",108.4375,248.0625,17.4375,20.25,4.625,1.9375,1.75,37.5,0,0,0,null,1243,"Chicago Bears Offense","chito",16,1735,3969,279,324,74,31,28,600]
[1244,"Cincinnati Bengals Offense",null,"Buy",null,null,null,null,null,null,null,null,null,null,0,0,0,0,0,0,0,0,{"$error":"#DIV/0!"},{"$error":"#DIV/0!"}," ",1244,"Cincinnati Bengals Offense","cinto",112.8125,243.8125,20.1875,21.4375,5.6875,1.125,2.6875,37.5,0,0,0,null,1244,"Cincinnati Bengals Offense","cinto",16,1805,3901,323,343,91,18,43,600]
[1245,"Cleveland Browns Offense",null,"Buy",null,null,null,null,null,null,null,null,null,null,0,0,0,0,0,0,0,0,{"$error":"#DIV/0!"},{"$error":"#DIV/0!"}," ",1245,"Cleveland Browns Offense","cleto",107,204,16.5,18.5,5.625,1.5625,3.75,37.5,0,0,0,null,1245,"Cleveland Browns Offense","cleto",16,1712,3264,264,296,90,25,60,600]
[1246,"Dallas Cowboys Offense",null,"Buy",null,null,null,null,null,null,null,null,null,null,0,0,0,0,0,0,0,0,{"$error":"#DIV/0!"},{"$error":"#DIV/0!"}," ",1246,"Dallas Cowboys Offense","dalto",149.75,226.9375,25,22.375,5.5,0.9375,1.75,37.5,0,0,0,null,1246,"Dallas Cowboys Offense","dalto",16,2396,3631,400,358,88,15,28,600]
[1247,"Denver Broncos Offense",null,"Buy",null,null,null,null,null,null,null,null,null,null,0,0,0,0,0,0,0,0,{"$error":"#DIV/0!"},{"$error":"#DIV/0!"}," ",1247,"Denver Broncos Offense","dento",92.75,230.3125,20.8125,18.125,5.25,1.5625,2.5,37.5,0,0,0,null,1247,"Denver Broncos Offense","dento",16,1484,3685,333,290,84,25,40,600]
[1248,"Detroit Lions Offense",null,"Buy",null,null,null,null,null,null,null,null,null,null,0,0,0,0,0,0,0,0,{"$error":"#DIV/0!"},{"$error":"#DIV/0!"}," ",1248,"Detroit Lions Offense","detto",81.875,250,21.625,20.5625,5.625,0.9375,2.3125,37.5,0,0,0,null,1248,"Detroit Lions Offense","detto",16,1310,4000,346,329,90,15,37,600]
[1234,"Green Bay Packers Offense",null,"Buy",null,null,null,null,null,null,null,null,null,null,0,0,0,0,0,0,0,0,{"$error":"#DIV/0!"},{"$error":"#DIV/0!"}," ",1234,"Green Bay Packers Offense","grbto",106.3125,250,25,21.8125,6.5625,1.0625,2.1875,37.5,0,0,0,null,1234,"Green Bay Packers Offense","grbto",16,1701,4000,400,349,105,17,35,600]
[1249,"Houston Texans Offense",null,"Buy",null,null,null,null,null,null,null,null,null,null,0,0,0,0,0,0,0,0,{"$error":"#DIV/0!"},{"$error":"#DIV/0!"}," ",1249,"Houston Texans Offense","houto",116.1875,198.5,17.4375,19.0625,6,1.5,2,37.5,0,0,0,null,1249,"Houston Texans Offense","houto",16,1859,3176,279,305,96,24,32,600]
[1250,"Indianapolis Colts Offense",null,"Buy",null,null,null,null,null,null,null,null,null,null,0,0,0,0,0,0,0,0,{"$error":"#DIV/0!"},{"$error":"#DIV/0!"}," ",1250,"Indianapolis Colts Offense","indto",101.8125,250,25,21.9375,5.9375,1.375,2.75,37.5,0,0,0,null,1250,"Indianapolis Colts Offense","indto",16,1629,4000,400,351,95,22,44,600]
[1251,"Jacksonville Jaguars Offense",null,"Buy",null,null,null,null,null,null,null,null,null,null,0,0,0,0,0,0,0,0,{"$error":"#DIV/0!"},{"$error":"#DIV/0!"}," ",1251,"Jacksonville Jaguars Offense","jacto",101.9375,233,19.875,20.0625,5.3125,1.8125,2.125,37.5,0,0,0,null,1251,"Jacksonville Jaguars Offense","jacto",16,1631,3728,318,321,85,29,34,600]
[1252,"Kansas City Chiefs Offense",null,"Buy",null,null,null,null,null,null,null,null,null,null,0,0,0,0,0,0,0,0,{"$error":"#DIV/0!"},{"$error":"#DIV/0!"}," ",1252,"Kansas City Chiefs Offense","kanto",109.3125,233.75,24.3125,19.0625,5.6875,1.0625,2,37.5,0,0,0,null,1252,"Kansas City Chiefs Offense","kanto",16,1749,3740,389,305,91,17,32,600]
[1262,"Los Angeles Chargers Offense",null,"Buy",null,null,null,null,null,null,null,null,null,null,0,0,0,0,0,0,0,0,{"$error":"#DIV/0!"},{"$error":"#DIV/0!"}," ",1262,"Los Angeles Chargers Offense","lacto",94.375,250,25,21.25,5.6875,2.1875,2.25,37.5,0,0,0,null,1262,"Los Angeles Chargers Offense","lacto",16,1510,4000,400,340,91,35,36,600]
[1265,"Los Angeles Rams Offense",null,"Buy",null,null,null,null,null,null,null,null,null,null,0,0,0,0,0,0,0,0,{"$error":"#DIV/0!"},{"$error":"#DIV/0!"}," ",1265,"Los Angeles Rams Offense","larto",78.25,184.4375,14,15.3125,4.6875,1.8125,3.0625,37.5,0,0,0,null,1265,"Los Angeles Rams Offense","larto",16,1252,2951,224,245,75,29,49,600]
[1253,"Miami Dolphins Offense",null,"Buy",null,null,null,null,null,null,null,null,null,null,0,0,0,0,0,0,0,0,{"$error":"#DIV/0!"},{"$error":"#DIV/0!"}," ",1253,"Miami Dolphins Offense","miato",117.4375,222.8125,23.75,18,4.4375,1.375,1.6875,37.5,0,0,0,null,1253,"Miami Dolphins Offense","miato",16,1879,3565,380,288,71,22,27,600]
[1254,"Minnesota Vikings Offense",null,"Buy",null,null,null,null,null,null,null,null,null,null,0,0,0,0,0,0,0,0,{"$error":"#DIV/0!"},{"$error":"#DIV/0!"}," ",1254,"Minnesota Vikings Offense","minto",75.3125,239.75,20.4375,18.9375,5.5625,1,2.375,37.5,0,0,0,null,1254,"Minnesota Vikings Offense","minto",16,1205,3836,327,303,89,16,38,600]
[1255,"New England Patriots Offense",null,"Buy",null,null,null,null,null,null,null,null,null,null,0,0,0,0,0,0,0,0,{"$error":"#DIV/0!"},{"$error":"#DIV/0!"}," ",1255,"New England Patriots Offense","newto",117,250,25,21.9375,7,0.9375,1.5625,37.5,0,0,0,null,1255,"New England Patriots Offense","newto",16,1872,4000,400,351,112,15,25,600]
[1256,"New Orleans Saints Offense",null,"Buy",null,null,null,null,null,null,null,null,null,null,0,0,0,0,0,0,0,0,{"$error":"#DIV/0!"},{"$error":"#DIV/0!"}," ",1256,"New Orleans Saints Offense","nosto",108.875,250,25,24.6875,7.5,1.5,1.6875,37.5,0,0,0,null,1256,"New Orleans Saints Offense","nosto",16,1742,4000,400,395,120,24,27,600]
[1257,"New York Giants Offense",null,"Buy",null,null,null,null,null,null,null,null,null,null,0,0,0,0,0,0,0,0,{"$error":"#DIV/0!"},{"$error":"#DIV/0!"}," ",1257,"New York Giants Offense","nygto",88.25,242.3125,19.375,18.0625,5.4375,1.6875,1.5625,37.5,0,0,0,null,1257,"New York Giants Offense","nygto",16,1412,3877,310,289,87,27,25,600]
[1258,"New York Jets Offense",null,"Buy",null,null,null,null,null,null,null,null,null,null,0,0,0,0,0,0,0,0,{"$error":"#DIV/0!"},{"$error":"#DIV/0!"}," ",1258,"New York Jets Offense","nyjto",112.625,216.6875,17.1875,18.1875,5.25,2.125,2.1875,37.5,0,0,0,null,1258,"New York Jets Offense","nyjto",16,1802,3467,275,291,84,34,35,600]
[1259,"Oakland Raiders Offense",null,"Buy",null,null,null,null,null,null,null,null,null,null,0,0,0,0,0,0,0,0,{"$error":"#DIV/0!"},{"$error":"#DIV/0!"}," ",1259,"Oakland Raiders Offense","oakto",120.125,250,25,20.8125,5.5625,0.9375,1.5625,37.5,0,0,0,null,1259,"Oakland Raiders Offense","oakto",16,1922,4000,400,333,89,15,25,600]
[1260,"Philadelphia Eagles Offense",null,"Buy",null,null,null,null,null,null,null,null,null,null,0,0,0,0,0,0,0,0,{"$error":"#DIV/0!"},{"$error":"#DIV/0!"}," ",1260,"Philadelphia Eagles Offense","phito",113.3125,224.0625,22.9375,20.8125,6.125,1.25,2.0625,37.5,0,0,0,null,1260,"Philadelphia Eagles Offense","phito",16,1813,3585,367,333,98,20,33,600]
[1261,"Pittsburgh Steelers Offense",null,"Buy",null,null,null,null,null,null,null,null,null,null,0,0,0,0,0,0,0,0,{"$error":"#DIV/0!"},{"$error":"#DIV/0!"}," ",1261,"Pittsburgh Steelers Offense","pitto",110,250,24.9375,21,5.75,1.125,1.5625,37.5,0,0,0,null,1261,"Pittsburgh Steelers Offense","pitto",16,1760,4000,399,336,92,18,25,600]
[1264,"Seattle Seahawks Offense",null,"Buy",null,null,null,null,null,null,null,null,null,null,0,0,0,0,0,0,0,0,{"$error":"#DIV/0!"},{"$error":"#DIV/0!"}," ",1264,"Seattle Seahawks Offense","seato",99.4375,250,22.125,19.5625,5.1875,1.125,2.625,37.5,0,0,0,null,1264,"Seattle Seahawks Offense","seato",16,1591,4000,354,313,83,18,42,600]
[1263,"San Francisco 49ers Offense",null,"Buy",null,null,null,null,null,null,null,null,null,null,0,0,0,0,0,0,0,0,{"$error":"#DIV/0!"},{"$error":"#DIV/0!"}," ",1263,"San Francisco 49ers Offense","sfoto",126.1875,181.9375,19.3125,17.9375,5.5,1.5625,2.9375,37.5,0,0,0,null,1263,"San Francisco 49ers Offense","sfoto",16,2019,2911,309,287,88,25,47,600]
[1266,"Tampa Bay Buccaneers Offense",null,"Buy",null,null,null,null,null,null,null,null,null,null,0,0,0,0,0,0,0,0,{"$error":"#DIV/0!"},{"$error":"#DIV/0!"}," ",1266,"Tampa Bay Buccaneers Offense","tamto",101.1875,245.1875,22.125,21.25,6.125,1.6875,2.25,37.5,0,0,0,null,1266,"Tampa Bay Buccaneers Offense","tamto",16,1619,3923,354,340,98,27,36,600]
[1237,"Tennessee Titans Offense",null,"Buy",null,null,null,null,null,null,null,null,null,null,0,0,0,0,0,0,0,0,{"$error":"#DIV/0!"},{"$error":"#DIV/0!"}," ",1237,"Tennessee Titans Offense","tento",137.1875,220.8125,23.8125,20.0625,6.5,1.125,1.8125,37.5,0,0,0,null,1237,"Tennessee Titans Offense","tento",16,2195,3533,381,321,104,18,29,600]
[1267,"Washington Redskins Offense",null,"Buy",null,null,null,null,null,null,null,null,null,null,0,0,0,0,0,0,0,0,{"$error":"#DIV/0!"},{"$error":"#DIV/0!"}," ",1267,"Washington Redskins Offense","wasto",106.25,250,24.75,21.5625,6.0625,1.3125,1.5625,37.5,0,0,0,null,1267,"Washington Redskins Offense","wasto",16,1700,4000,396,345,97,21,25,600]
["","",null,"Buy",null,null,null,null,null,null,null,null,null,null,{"$error":"#VALUE!"},{"$error":"#VALUE!"},{"$error":"#VALUE!"},{"$error":"#VALUE!"},{"$error":"#VALUE!"},{"$error":"#VALUE!"},{"$error":"#VALUE!"},{"$error":"#VALUE!"},{"$error":"#VALUE!"},{"$error":"#VALUE!"}," ","","","","","","","","","","","","","",""]
["","",null,"Buy",null,null,null,null,null,null,null,null,null,null,{"$error":"#VALUE!"},{"$error":"#VALUE!"},{"$error":"#VALUE!"},{"$error":"#VALUE!"},{"$error":"#VALUE!"},{"$error":"#VALUE!"},{"$error":"#VALUE!"},{"$error":"#VALUE!"},{"$error":"#VALUE!"},{"$error":"#VALUE!"}," ","","","","","","","","","","","","","",""]

{"sheet":"NFLTD","index":13,"n_rows":35,"n_cols":52,"rows_kept":35,"cut":false,"hidden":false,"merged":[]}
["plid","Name",null,null,"RushYds","PassYds","Points","Tackles","TDs","Takes","Sacks","PenYds",null,null,"RushYds","PassYds","Points","Tackles","TDs","Takes","Sacks","PenYds",null,null,null,{"$f":"IF(AO1<>0,AO1,\"\")","v":"ID"},{"$f":"IF(AP1<>0,AP1,\"\")","v":"Name"},{"$f":"IF(AQ1<>0,AQ1,\"\")","v":"Symbol"},{"$f":"IF(AS1<>0,AS1,\"\")","v":"Rush Yds"},{"$f":"IF(AT1<>0,AT1,\"\")","v":"Pass Yds"},"Points","Tackles","TDs Scored","Takeaway","Sacks","Penalty Yds","","","",null,"ID","Name","Symbol","Games","Rush Yds","Pass Yds","Points","Tackles","TDs Scored","Takeaway","Sacks","Penalty Yds"]
[{"$f":"IF(Z2<>0,Z2,\"\")","v":1269},{"$f":"IF(A2<>0,VLOOKUP(A2,Z:AA,2,FALSE),\"\")","v":"Arizona Cardinals Defense"},null,{"$f":"HYPERLINK(\"http://www.jockstocks.com/buysell.php?action=buymax&plid=\"&A2,\"Buy\")","v":"Buy"},null,null,null,null,null,null,null,null,null,null,{"$f":"VLOOKUP($A2,$A:$N,5,FALSE)/VLOOKUP($A2,$Z:$AM,4,FALSE)","v":0},{"$f":"VLOOKUP($A2,$A:$N,6,FALSE)/VLOOKUP($A2,$Z:$AM,5,FALSE)","v":0},{"$f":"VLOOKUP($A2,$A:$N,7,FALSE)/VLOOKUP($A2,$Z:$AM,6,FALSE)","v":0},{"$f":"VLOOKUP($A2,$A:$N,8,FALSE)/VLOOKUP($A2,$Z:$AM,7,FALSE)","v":0},{"$f":"VLOOKUP($A2,$A:$N,9,FALSE)/VLOOKUP($A2,$Z:$AM,8,FALSE)","v":0},{"$f":"VLOOKUP($A2,$A:$N,10,FALSE)/VLOOKUP($A2,$Z:$AM,9,FALSE)","v":0},{"$f":"VLOOKUP($A2,$A:$N,11,FALSE)/VLOOKUP($A2,$Z:$AM,10,FALSE)","v":0},{"$f":"VLOOKUP($A2,$A:$N,12,FALSE)/VLOOKUP($A2,$Z:$AM,11,FALSE)","v":0},{"$f":"VLOOKUP($A2,$A:$N,13,FALSE)/VLOOKUP($A2,$Z:$AM,12,FALSE)","v":{"$error":"#DIV/0!"}},{"$f":"VLOOKUP($A2,$A:$N,14,FALSE)/VLOOKUP($A2,$Z:$AM,13,FALSE)","v":{"$error":"#DIV/0!"}}," ",{"$f":"IF(AO2<>0,AO2,\"\")","v":1269},{"$f":"IF(AP2<>0,VLOOKUP(Z2,AO:AP,2,FALSE),\"\")","v":"Arizona Cardinals Defense"},{"$f":"IF(AQ2<>0,AQ2,\"\")","v":"aritd"},{"$f":"IF($AO2<>0,AS2/$AR2,\"\")","v":94.875},210.3125,22.625,61.75,0.1875,2.1875,3,37.5,0,0,0,null,1269,"Arizona Cardinals Defense","aritd",16,1518,3365,362,988,3,35,48,600]
[{"$f":"IF(Z3<>0,Z3,\"\")","v":1268},{"$f":"IF(A3<>0,VLOOKUP(A3,Z:AA,2,FALSE),\"\")","v":"Atlanta Falcons Defense"},null,{"$f":"HYPERLINK(\"http://www.jockstocks.com/buysell.php?action=buymax&plid=\"&A3,\"Buy\")","v":"Buy"},null,null,null,null,null,null,null,null,null,null,0,0,0,0,0,0,0,0,{"$error":"#DIV/0!"},{"$error":"#DIV/0!"}," ",{"$f":"IF(AO3<>0,AO3,\"\")","v":1268},{"$f":"IF(AP3<>0,VLOOKUP(Z3,AO:AP,2,FALSE),\"\")","v":"Atlanta Falcons Defense"},{"$f":"IF(AQ3<>0,AQ3,\"\")","v":"atltd"},{"$f":"IF($AO3<>0,AS3/$AR3,\"\")","v":104.6875},{"$f":"IF($AO3<>0,AT3/$AR3,\"\")","v":250},{"$f":"IF($AO3<>0,AU3/$AR3,\"\")","v":25},{"$f":"IF($AO3<>0,AV3/$AR3,\"\")","v":64.375},{"$f":"IF($AO3<>0,AW3/$AR3,\"\")","v":0.3125},{"$f":"IF($AO3<>0,AX3/$AR3,\"\")","v":1.8125},{"$f":"IF($AO3<>0,AY3/$AR3,\"\")","v":2.1875},{"$f":"IF($AO3<>0,AZ3/$AR3,\"\")","v":37.5},{"$f":"IF($AO3<>0,BA3/$AR3,\"\")","v":0},{"$f":"IF($AO3<>0,BB3/$AR3,\"\")","v":0},{"$f":"IF($AO3<>0,BC3/$AR3,\"\")","v":0},null,1268,"Atlanta Falcons Defense","atltd",16,1675,4000,400,1030,5,29,35,600]
[1270,"Baltimore Ravens Defense",null,"Buy",null,null,null,null,null,null,null,null,null,null,0,0,0,0,0,0,0,0,{"$error":"#DIV/0!"},{"$error":"#DIV/0!"}," ",1270,"Baltimore Ravens Defense","baltd",89.375,232.75,20.0625,62.3125,0.125,2,1.9375,37.5,0,0,0,null,1270,"Baltimore Ravens Defense","baltd",16,1430,3724,321,997,2,32,31,600]
[1271,"Buffalo Bills Defense",null,"Buy",null,null,null,null,null,null,null,null,null,null,0,0,0,0,0,0,0,0,{"$error":"#DIV/0!"},{"$error":"#DIV/0!"}," ",1271,"Buffalo Bills Defense","buftd",133.125,223.875,23.625,68.75,0.1875,1.4375,2.4375,37.5,0,0,0,null,1271,"Buffalo Bills Defense","buftd",16,2130,3582,378,1100,3,23,39,600]
[1272,"Carolina Panthers Defense",null,"Buy",null,null,null,null,null,null,null,null,null,null,0,0,0,0,0,0,0,0,{"$error":"#DIV/0!"},{"$error":"#DIV/0!"}," ",1272,"Carolina Panthers Defense","cartd",91.5,250,25,66.375,0.1875,2.1875,3,37.5,0,0,0,null,1272,"Carolina Panthers Defense","cartd",16,1464,4000,400,1062,3,35,48,600]
[1273,"Chicago Bears Defense",null,"Buy",null,null,null,null,null,null,null,null,null,null,0,0,0,0,0,0,0,0,{"$error":"#DIV/0!"},{"$error":"#DIV/0!"}," ",1273,"Chicago Bears Defense","chitd",121.875,224.875,24.9375,63.25,0.125,1.1875,2.3125,37.5,0,0,0,null,1273,"Chicago Bears Defense","chitd",16,1950,3598,399,1012,2,19,37,600]
[1274,"Cincinnati Bengals Defense",null,"Buy",null,null,null,null,null,null,null,null,null,null,0,0,0,0,0,0,0,0,{"$error":"#DIV/0!"},{"$error":"#DIV/0!"}," ",1274,"Cincinnati Bengals Defense","cintd",116.6875,242.6875,20.5625,68.75,0.125,1.3125,1.875,37.5,0,0,0,null,1274,"Cincinnati Bengals Defense","cintd",16,1867,3883,329,1100,2,21,30,600]
[1275,"Cleveland Browns Defense",null,"Buy",null,null,null,null,null,null,null,null,null,null,0,0,0,0,0,0,0,0,{"$error":"#DIV/0!"},{"$error":"#DIV/0!"}," ",1275,"Cleveland Browns Defense","cletd",142.6875,249.75,25,68.1875,0.125,1,1.625,37.5,0,0,0,null,1275,"Cleveland Browns Defense","cletd",16,2283,3996,400,1091,2,16,26,600]
[1276,"Dallas Cowboys Defense",null,"Buy",null,null,null,null,null,null,null,null,null,null,0,0,0,0,0,0,0,0,{"$error":"#DIV/0!"},{"$error":"#DIV/0!"}," ",1276,"Dallas Cowboys Defense","daltd",83.5,250,19.125,64.125,0.125,1.6875,2.25,37.5,0,0,0,null,1276,"Dallas Cowboys Defense","daltd",16,1336,4000,306,1026,2,27,36,600]
[1277,"Denver Broncos Defense",null,"Buy",null,null,null,null,null,null,null,null,null,null,0,0,0,0,0,0,0,0,{"$error":"#DIV/0!"},{"$error":"#DIV/0!"}," ",1277,"Denver Broncos Defense","dentd",130.3125,185.75,18.5625,64.9375,0.3125,1.8125,2.625,37.5,0,0,0,null,1277,"Denver Broncos Defense","dentd",16,2085,2972,297,1039,5,29,42,600]
[1278,"Detroit Lions Defense",null,"Buy",null,null,null,null,null,null,null,null,null,null,0,0,0,0,0,0,0,0,{"$error":"#DIV/0!"},{"$error":"#DIV/0!"}," ",1278,"Detroit Lions Defense","dettd",106.5625,248.4375,22.375,61,0.125,1,1.625,37.5,0,0,0,null,1278,"Detroit Lions Defense","dettd",16,1705,3975,358,976,2,16,26,600]
[1235,"Green Bay Packers Defense",null,"Buy",null,null,null,null,null,null,null,null,null,null,0,0,0,0,0,0,0,0,{"$error":"#DIV/0!"},{"$error":"#DIV/0!"}," ",1235,"Green Bay Packers Defense","grbtd",95.1875,250,24.25,59.4375,0.125,1.625,2.5625,37.5,0,0,0,null,1235,"Green Bay Packers Defense","grbtd",16,1523,4000,388,951,2,26,41,600]
[1279,"Houston Texans Defense",null,"Buy",null,null,null,null,null,null,null,null,null,null,0,0,0,0,0,0,0,0,{"$error":"#DIV/0!"},{"$error":"#DIV/0!"}," ",1279,"Houston Texans Defense","houtd",99.6875,201.625,20.5,62.625,0.125,1,1.9375,37.5,0,0,0,null,1279,"Houston Texans Defense","houtd",16,1595,3226,328,1002,2,16,31,600]
[1280,"Indianapolis Colts Defense",null,"Buy",null,null,null,null,null,null,null,null,null,null,0,0,0,0,0,0,0,0,{"$error":"#DIV/0!"},{"$error":"#DIV/0!"}," ",1280,"Indianapolis Colts Defense","indtd",120.375,250,24.5,61.6875,0.125,1.375,2.0625,37.5,0,0,0,null,1280,"Indianapolis Colts Defense","indtd",16,1926,4000,392,987,2,22,33,600]
[1281,"Jacksonville Jaguars Defense",null,"Buy",null,null,null,null,null,null,null,null,null,null,0,0,0,0,0,0,0,0,{"$error":"#DIV/0!"},{"$error":"#DIV/0!"}," ",1281,"Jacksonville Jaguars Defense","jactd",106.4375,215.25,25,60.375,0.125,1.0625,2.0625,37.5,0,0,0,null,1281,"Jacksonville Jaguars Defense","jactd",16,1703,3444,400,966,2,17,33,600]
[1282,"Kansas City Chiefs Defense",null,"Buy",null,null,null,null,null,null,null,null,null,null,0,0,0,0,0,0,0,0,{"$error":"#DIV/0!"},{"$error":"#DIV/0!"}," ",1282,"Kansas City Chiefs Defense","kantd",121.1875,247.375,19.4375,60.6875,0.375,2.125,1.75,37.5,0,0,0,null,1282,"Kansas City Chiefs Defense","kantd",16,1939,3958,311,971,6,34,28,600]
[1292,"Los Angeles Chargers Defense",null,"Buy",null,null,null,null,null,null,null,null,null,null,0,0,0,0,0,0,0,0,{"$error":"#DIV/0!"},{"$error":"#DIV/0!"}," ",1292,"Los Angeles Chargers Defense","lactd",97.9375,249.1875,25,63.1875,0.3125,2,2.1875,37.5,0,0,0,null,1292,"Los Angeles Chargers Defense","lactd",16,1567,3987,400,1011,5,32,35,600]
[1295,"Los Angeles Rams Defense",null,"Buy",null,null,null,null,null,null,null,null,null,null,0,0,0,0,0,0,0,0,{"$error":"#DIV/0!"},{"$error":"#DIV/0!"}," ",1295,"Los Angeles Rams Defense","lartd",103.75,233.25,24.625,62.75,0.125,1.375,1.9375,37.5,0,0,0,null,1295,"Los Angeles Rams Defense","lartd",16,1660,3732,394,1004,2,22,31,600]
[1283,"Miami Dolphins Defense",null,"Buy",null,null,null,null,null,null,null,null,null,null,0,0,0,0,0,0,0,0,{"$error":"#DIV/0!"},{"$error":"#DIV/0!"}," ",1283,"Miami Dolphins Defense","miatd",144.6875,239.5625,23.875,68.75,0.125,2.0625,2.125,37.5,0,0,0,null,1283,"Miami Dolphins Defense","miatd",16,2315,3833,382,1100,2,33,34,600]
[1284,"Minnesota Vikings Defense",null,"Buy",null,null,null,null,null,null,null,null,null,null,0,0,0,0,0,0,0,0,{"$error":"#DIV/0!"},{"$error":"#DIV/0!"}," ",1284,"Minnesota Vikings Defense","mintd",106.9375,207.9375,19.1875,61.6875,0.375,1.6875,2.5625,37.5,0,0,0,null,1284,"Minnesota Vikings Defense","mintd",16,1711,3327,307,987,6,27,41,600]
[1285,"New England Patriots Defense",null,"Buy",null,null,null,null,null,null,null,null,null,null,0,0,0,0,0,0,0,0,{"$error":"#DIV/0!"},{"$error":"#DIV/0!"}," ",1285,"New England Patriots Defense","newtd",88.5625,237.875,15.625,63.8125,0.125,1.8125,2.125,37.5,0,0,0,null,1285,"New England Patriots Defense","newtd",16,1417,3806,250,1021,2,29,34,600]
[1286,"New Orleans Saints Defense",null,"Buy",null,null,null,null,null,null,null,null,null,null,0,0,0,0,0,0,0,0,{"$error":"#DIV/0!"},{"$error":"#DIV/0!"}," ",1286,"New Orleans Saints Defense","nostd",101.625,250,25,62.875,0.125,1.25,1.875,37.5,0,0,0,null,1286,"New Orleans Saints Defense","nostd",16,1626,4000,400,1006,2,20,30,600]
[1287,"New York Giants Defense",null,"Buy",null,null,null,null,null,null,null,null,null,null,0,0,0,0,0,0,0,0,{"$error":"#DIV/0!"},{"$error":"#DIV/0!"}," ",1287,"New York Giants Defense","nygtd",88.5625,250,17.75,68.75,0.1875,2,2.1875,37.5,0,0,0,null,1287,"New York Giants Defense","nygtd",16,1417,4000,284,1100,3,32,35,600]
[1288,"New York Jets Defense",null,"Buy",null,null,null,null,null,null,null,null,null,null,0,0,0,0,0,0,0,0,{"$error":"#DIV/0!"},{"$error":"#DIV/0!"}," ",1288,"New York Jets Defense","nyjtd",98.5,243.75,25,64.8125,0.125,1.375,1.625,37.5,0,0,0,null,1288,"New York Jets Defense","nyjtd",16,1576,3900,400,1037,2,22,26,600]
[1289,"Oakland Raiders Defense",null,"Buy",null,null,null,null,null,null,null,null,null,null,0,0,0,0,0,0,0,0,{"$error":"#DIV/0!"},{"$error":"#DIV/0!"}," ",1289,"Oakland Raiders Defense","oaktd",117.625,250,24.0625,59.5,0.125,2.25,1.5625,37.5,0,0,0,null,1289,"Oakland Raiders Defense","oaktd",16,1882,4000,385,952,2,36,25,600]
[1290,"Philadelphia Eagles Defense",null,"Buy",null,null,null,null,null,null,null,null,null,null,0,0,0,0,0,0,0,0,{"$error":"#DIV/0!"},{"$error":"#DIV/0!"}," ",1290,"Philadelphia Eagles Defense","phitd",103.25,239.5,20.6875,59.5625,0.25,1.9375,2.125,37.5,0,0,0,null,1290,"Philadelphia Eagles Defense","phitd",16,1652,3832,331,953,4,31,34,600]
[1291,"Pittsburgh Steelers Defense",null,"Buy",null,null,null,null,null,null,null,null,null,null,0,0,0,0,0,0,0,0,{"$error":"#DIV/0!"},{"$error":"#DIV/0!"}," ",1291,"Pittsburgh Steelers Defense","pittd",100,242.625,20.4375,64.4375,0.125,1.75,2.375,37.5,0,0,0,null,1291,"Pittsburgh Steelers Defense","pittd",16,1600,3882,327,1031,2,28,38,600]
[1294,"Seattle Seahawks Defense",null,"Buy",null,null,null,null,null,null,null,null,null,null,0,0,0,0,0,0,0,0,{"$error":"#DIV/0!"},{"$error":"#DIV/0!"}," ",1294,"Seattle Seahawks Defense","seatd",92.9375,225.75,18.25,68.75,0.125,1.625,2.625,37.5,0,0,0,null,1294,"Seattle Seahawks Defense","seatd",16,1487,3612,292,1100,2,26,42,600]
[1293,"San Francisco 49ers Defense",null,"Buy",null,null,null,null,null,null,null,null,null,null,0,0,0,0,0,0,0,0,{"$error":"#DIV/0!"},{"$error":"#DIV/0!"}," ",1293,"San Francisco 49ers Defense","sfotd",156.25,240.5,25,68.75,0.125,1.5625,2.0625,37.5,0,0,0,null,1293,"San Francisco 49ers Defense","sfotd",16,2500,3848,400,1100,2,25,33,600]
[1296,"Tampa Bay Buccaneers Defense",null,"Buy",null,null,null,null,null,null,null,null,null,null,0,0,0,0,0,0,0,0,{"$error":"#DIV/0!"},{"$error":"#DIV/0!"}," ",1296,"Tampa Bay Buccaneers Defense","tamtd",116.9375,250,23.0625,61.5625,0.25,2.0625,2.375,37.5,0,0,0,null,1296,"Tampa Bay Buccaneers Defense","tamtd",16,1871,4000,369,985,4,33,38,600]
[1236,"Tennessee Titans Defense",null,"Buy",null,null,null,null,null,null,null,null,null,null,0,0,0,0,0,0,0,0,{"$error":"#DIV/0!"},{"$error":"#DIV/0!"}," ",1236,"Tennessee Titans Defense","tentd",88.375,250,23.625,58.5625,0.125,1,2.5,37.5,0,0,0,null,1236,"Tennessee Titans Defense","tentd",16,1414,4000,378,937,2,16,40,600]
[1297,"Washington Redskins Defense",null,"Buy",null,null,null,null,null,null,null,null,null,null,0,0,0,0,0,0,0,0,{"$error":"#DIV/0!"},{"$error":"#DIV/0!"}," ",1297,"Washington Redskins Defense","wastd",119.75,250,23.9375,68.125,0.125,1.875,2.375,37.5,0,0,0,null,1297,"Washington Redskins Defense","wastd",16,1916,4000,383,1090,2,30,38,600]
["","",null,"Buy",null,null,null,null,null,null,null,null,null,null,{"$error":"#VALUE!"},{"$error":"#VALUE!"},{"$error":"#VALUE!"},{"$error":"#VALUE!"},{"$error":"#VALUE!"},{"$error":"#VALUE!"},{"$error":"#VALUE!"},{"$error":"#VALUE!"},{"$error":"#VALUE!"},{"$error":"#VALUE!"}," ","","","","","","","","","","","","","",""]
["","",null,"Buy",null,null,null,null,null,null,null,null,null,null,{"$error":"#VALUE!"},{"$error":"#VALUE!"},{"$error":"#VALUE!"},{"$error":"#VALUE!"},{"$error":"#VALUE!"},{"$error":"#VALUE!"},{"$error":"#VALUE!"},{"$error":"#VALUE!"},{"$error":"#VALUE!"},{"$error":"#VALUE!"}," ","","","","","","","","","","","","","",""]

{"sheet":"PGA","index":14,"n_rows":250,"n_cols":52,"rows_kept":250,"cut":false,"hidden":false,"merged":[]}
["plid","Name",null,null,"$$$","Aces","Eagle","Birds","Bogs","DblB","GIR",null,null,null,"$$$","Aces","Eagle","Birds","Bogs","DblB","GIR",null,null,null,null,{"$f":"IF(AO1<>0,AO1,\"\")","v":"ID"},{"$f":"IF(AP1<>0,AP1,\"\")","v":"Name"},{"$f":"IF(AQ1<>0,AQ1,\"\")","v":"Symbol"},"Aces/Dbl Eagles",{"$f":"IF(AU1<>0,AU1,\"\")","v":"Eagles"},{"$f":"IF(AV1<>0,AV1,\"\")","v":"Birdies"},"Bogeys","Dbl Bogeys+","GIR","Earnings","","","","",null,"ID","Name","Symbol","Rounds","Tourneys","Aces/Dbl Eagles","Eagles","Birdies","Bogeys","Dbl Bogeys+","GIR","Earnings"]
[{"$f":"IF(Z2<>0,Z2,\"\")","v":618},{"$f":"IF(A2<>0,VLOOKUP(A2,Z:AA,2,FALSE),\"\")","v":"Robert Allenby"},null,{"$f":"HYPERLINK(\"http://www.jockstocks.com/buysell.php?action=buymax&plid=\"&A2,\"Buy\")","v":"Buy"},null,null,null,null,null,null,null,null,null,null,{"$f":"VLOOKUP($A2,$A:$N,5,FALSE)/VLOOKUP($A2,$Z:$AM,10,FALSE)","v":0},{"$f":"VLOOKUP($A2,$A:$N,6,FALSE)/VLOOKUP($A2,$Z:$AM,4,FALSE)","v":0},{"$f":"VLOOKUP($A2,$A:$N,7,FALSE)/VLOOKUP($A2,$Z:$AM,5,FALSE)","v":0},{"$f":"VLOOKUP($A2,$A:$N,8,FALSE)/VLOOKUP($A2,$Z:$AM,6,FALSE)","v":0},{"$f":"VLOOKUP($A2,$A:$N,9,FALSE)/VLOOKUP($A2,$Z:$AM,7,FALSE)","v":0},{"$f":"VLOOKUP($A2,$A:$N,10,FALSE)/VLOOKUP($A2,$Z:$AM,8,FALSE)","v":0},{"$f":"VLOOKUP($A2,$A:$N,11,FALSE)/VLOOKUP($A2,$Z:$AM,9,FALSE)","v":0},{"$f":"VLOOKUP($A2,$A:$N,12,FALSE)/VLOOKUP($A2,$Z:$AM,11,FALSE)","v":{"$error":"#DIV/0!"}},{"$f":"VLOOKUP($A2,$A:$N,13,FALSE)/VLOOKUP($A2,$Z:$AM,12,FALSE)","v":{"$error":"#DIV/0!"}},{"$f":"VLOOKUP($A2,$A:$N,14,FALSE)/VLOOKUP($A2,$Z:$AM,13,FALSE)","v":{"$error":"#DIV/0!"}}," ",{"$f":"IF(AO2<>0,AO2,\"\")","v":618},{"$f":"IF(AP2<>0,VLOOKUP(Z2,AO:AP,2,FALSE),\"\")","v":"Robert Allenby"},{"$f":"IF(AQ2<>0,AQ2,\"\")","v":"allro"},{"$f":"IF($AO2<>0,AT2/$AR2,\"\")","v":0.01},{"$f":"IF($AO2<>0,AU2/$AR2,\"\")","v":0.06},{"$f":"IF($AO2<>0,AV2/$AR2,\"\")","v":2.5299999999999998},{"$f":"IF($AO2<>0,AW2/$AR2,\"\")","v":3.37},{"$f":"IF($AO2<>0,AX2/$AR2,\"\")","v":0.53},{"$f":"IF($AO2<>0,AY2,\"\")","v":61},{"$f":"IF($AO2<>0,AZ2/$AS2,\"\")","v":30000},{"$f":"IF($AO2<>0,BA2/$AT2,\"\")","v":0},{"$f":"IF($AO2<>0,BB2/$AT2,\"\")","v":0},{"$f":"IF($AO2<>0,BC2/$AT2,\"\")","v":0},{"$f":"IF($AO2<>0,BD2/$AT2,\"\")","v":0},null,618,"Robert Allenby","allro",100,25,1,6,253,337,53,61,750000]
[{"$f":"IF(Z3<>0,Z3,\"\")","v":614},{"$f":"IF(A3<>0,VLOOKUP(A3,Z:AA,2,FALSE),\"\")","v":"Stuart Appleby"},null,{"$f":"HYPERLINK(\"http://www.jockstocks.com/buysell.php?action=buymax&plid=\"&A3,\"Buy\")","v":"Buy"},null,null,null,null,null,null,null,null,null,null,0,0,0,0,0,0,0,{"$error":"#DIV/0!"},{"$error":"#DIV/0!"},{"$error":"#DIV/0!"}," ",{"$f":"IF(AO3<>0,AO3,\"\")","v":614},{"$f":"IF(AP3<>0,VLOOKUP(Z3,AO:AP,2,FALSE),\"\")","v":"Stuart Appleby"},{"$f":"IF(AQ3<>0,AQ3,\"\")","v":"appls"},{"$f":"IF($AO3<>0,AT3/$AR3,\"\")","v":0.01},{"$f":"IF($AO3<>0,AU3/$AR3,\"\")","v":0.06},{"$f":"IF($AO3<>0,AV3/$AR3,\"\")","v":3.29},{"$f":"IF($AO3<>0,AW3/$AR3,\"\")","v":3.11},{"$f":"IF($AO3<>0,AX3/$AR3,\"\")","v":0.32},{"$f":"IF($AO3<>0,AY3,\"\")","v":60},{"$f":"IF($AO3<>0,AZ3/$AS3,\"\")","v":30000},{"$f":"IF($AO3<>0,BA3/$AT3,\"\")","v":0},{"$f":"IF($AO3<>0,BB3/$AT3,\"\")","v":0},{"$f":"IF($AO3<>0,BC3/$AT3,\"\")","v":0},{"$f":"IF($AO3<>0,BD3/$AT3,\"\")","v":0},null,614,"Stuart Appleby","appls",100,25,1,6,329,311,32,60,750000]
[4077,"Arnold Palmer",null,"Buy",null,null,null,null,null,null,null,null,null,null,0,0,0,0,0,0,0,{"$error":"#DIV/0!"},{"$error":"#DIV/0!"},{"$error":"#DIV/0!"}," ",4077,"Arnold Palmer","arnie",1,1,1,1,1,1,1,0,0,0,0,null,4077,"Arnold Palmer","arnie",1,1,1,1,1,1,1,1,1]
[1416,"Woody Austin",null,"Buy",null,null,null,null,null,null,null,null,null,null,0,0,0,0,0,0,0,{"$error":"#DIV/0!"},{"$error":"#DIV/0!"},{"$error":"#DIV/0!"}," ",1416,"Woody Austin","auswo",0.01,0.06,3.29,3.1,0.4,60,30000,0,0,0,0,null,1416,"Woody Austin","auswo",100,25,1,6,329,310,40,60,750000]
[677,"Aaron Baddeley",null,"Buy",null,null,null,null,null,null,null,null,null,null,0,0,0,0,0,0,0,{"$error":"#DIV/0!"},{"$error":"#DIV/0!"},{"$error":"#DIV/0!"}," ",677,"Aaron Baddeley","badaa",0.01,0.06,3.49,2.63,0.42,62,35179,0,0,0,0,null,677,"Aaron Baddeley","badaa",100,25,1,6,349,263,42,62,879475]
[3235,"Sang-Moon Bae",null,"Buy",null,null,null,null,null,null,null,null,null,null,0,0,0,0,0,0,0,{"$error":"#DIV/0!"},{"$error":"#DIV/0!"},{"$error":"#DIV/0!"}," ",3235,"Sang-Moon Bae","baesa",0.01,0.08,3.52,2.7,0.45,64,50145.279999999999,0,0,0,0,null,3235,"Sang-Moon Bae","baesa",100,25,1,8,352,270,45,64,1253632]
[2795,"Ricky Barnes",null,"Buy",null,null,null,null,null,null,null,null,null,null,0,0,0,0,0,0,0,{"$error":"#DIV/0!"},{"$error":"#DIV/0!"},{"$error":"#DIV/0!"}," ",2795,"Ricky Barnes","barri",0.01,0.08,3.39,2.65,0.33,61,30000,0,0,0,0,null,2795,"Ricky Barnes","barri",100,25,1,8,339,265,33,61,750000]
[3196,"Charlie Beljan",null,"Buy",null,null,null,null,null,null,null,null,null,null,0,0,0,0,0,0,0,{"$error":"#DIV/0!"},{"$error":"#DIV/0!"},{"$error":"#DIV/0!"}," ",3196,"Charlie Beljan","belch",0.01,0.1,3.38,3.3,0.48,66,30000,0,0,0,0,null,3196,"Charlie Beljan","belch",100,25,1,10,338,330,48,66,750000]
[3985,"Daniel Berger",null,"Buy",null,null,null,null,null,null,null,null,null,null,0,0,0,0,0,0,0,{"$error":"#DIV/0!"},{"$error":"#DIV/0!"},{"$error":"#DIV/0!"}," ",3985,"Daniel Berger","berda",0.01,0.12,3.72,2.6,0.31,70,146698.6,0,0,0,0,null,3985,"Daniel Berger","berda",100,25,1,12,372,260,31,70,3667465]
[3452,"Jonas Blixt",null,"Buy",null,null,null,null,null,null,null,null,null,null,0,0,0,0,0,0,0,{"$error":"#DIV/0!"},{"$error":"#DIV/0!"},{"$error":"#DIV/0!"}," ",3452,"Jonas Blixt","blijo",0.01,0.15,3.2,2.97,0.49,62,30000,0,0,0,0,null,3452,"Jonas Blixt","blijo",100,25,1,15,320,297,49,62,750000]
[1718,"Jason Bohn",null,"Buy",null,null,null,null,null,null,null,null,null,null,0,0,0,0,0,0,0,{"$error":"#DIV/0!"},{"$error":"#DIV/0!"},{"$error":"#DIV/0!"}," ",1718,"Jason Bohn","bohja",0.01,0.06,2.48,3.13,0.42,58,30000,0,0,0,0,null,1718,"Jason Bohn","bohja",100,25,1,6,248,313,42,58,750000]
[3744,"Steven Bowditch",null,"Buy",null,null,null,null,null,null,null,null,null,null,0,0,0,0,0,0,0,{"$error":"#DIV/0!"},{"$error":"#DIV/0!"},{"$error":"#DIV/0!"}," ",3744,"Steven Bowditch","bowst",0.01,0.06,2.4900000000000002,3.59,0.75,53,30000,0,0,0,0,null,3744,"Steven Bowditch","bowst",100,25,1,6,249,359,75,53,750000]
[2903,"Keegan Bradley",null,"Buy",null,null,null,null,null,null,null,null,null,null,0,0,0,0,0,0,0,{"$error":"#DIV/0!"},{"$error":"#DIV/0!"},{"$error":"#DIV/0!"}," ",2903,"Keegan Bradley","brake",0.01,0.11,3.61,2.76,0.26,69,77928.320000000007,0,0,0,0,null,2903,"Keegan Bradley","brake",100,25,1,11,361,276,26,69,1948208]
[4233,"Wesley Bryan",null,"Buy",null,null,null,null,null,null,null,null,null,null,0,0,0,0,0,0,0,{"$error":"#DIV/0!"},{"$error":"#DIV/0!"},{"$error":"#DIV/0!"}," ",4233,"Wesley Bryan","brywe",0.01,7.0000000000000007E-2,3.6,2.8,0.45,65,48000,0,0,0,0,null,4233,"Wesley Bryan","brywe",100,25,1,7,360,280,45,65,1200000]
[647,"Jonathan Byrd",null,"Buy",null,null,null,null,null,null,null,null,null,null,0,0,0,0,0,0,0,{"$error":"#DIV/0!"},{"$error":"#DIV/0!"},{"$error":"#DIV/0!"}," ",647,"Jonathan Byrd","byrjo",0.01,0.06,3.68,2.19,0.32,71,30000,0,0,0,0,null,647,"Jonathan Byrd","byrjo",100,25,1,6,368,219,32,71,750000]
[2401,"Angel Cabrera",null,"Buy",null,null,null,null,null,null,null,null,null,null,0,0,0,0,0,0,0,{"$error":"#DIV/0!"},{"$error":"#DIV/0!"},{"$error":"#DIV/0!"}," ",2401,"Angel Cabrera","caban",0.01,0.06,2.91,3.39,0.45,65,30000,0,0,0,0,null,2401,"Angel Cabrera","caban",100,25,1,6,291,339,45,65,750000]
[1450,"Mark Calcavecchia",null,"Buy",null,null,null,null,null,null,null,null,null,null,0,0,0,0,0,0,0,{"$error":"#DIV/0!"},{"$error":"#DIV/0!"},{"$error":"#DIV/0!"}," ",1450,"Mark Calcavecchia","calma",0.01,0.08,3.61,3.22,0.55000000000000004,66,30000,0,0,0,0,null,1450,"Mark Calcavecchia","calma",100,25,1,8,361,322,55,66,750000]
[879,"Chad Campbell",null,"Buy",null,null,null,null,null,null,null,null,null,null,0,0,0,0,0,0,0,{"$error":"#DIV/0!"},{"$error":"#DIV/0!"},{"$error":"#DIV/0!"}," ",879,"Chad Campbell","camch",0.01,0.06,3.17,2.48,0.2,68,41348.04,0,0,0,0,null,879,"Chad Campbell","camch",100,25,1,6,317,248,20,68,1033701]
[4139,"Patrick Cantlay",null,"Buy",null,null,null,null,null,null,null,null,null,null,0,0,0,0,0,0,0,{"$error":"#DIV/0!"},{"$error":"#DIV/0!"},{"$error":"#DIV/0!"}," ",4139,"Patrick Cantlay","canpa",0.01,0.11,3.88,2.2999999999999998,0.25,63,160000,0,0,0,0,null,4139,"Patrick Cantlay","canpa",100,25,1,11,388,230,25,63,4000000]
[2406,"Paul Casey",null,"Buy",null,null,null,null,null,null,null,null,null,null,0,0,0,0,0,0,0,{"$error":"#DIV/0!"},{"$error":"#DIV/0!"},{"$error":"#DIV/0!"}," ",2406,"Paul Casey","caspa",0.01,0.12,3.8,2.2200000000000002,0.26,73,160000,0,0,0,0,null,2406,"Paul Casey","caspa",100,25,1,12,380,222,26,73,4000000]
[3455,"Roberto Castro",null,"Buy",null,null,null,null,null,null,null,null,null,null,0,0,0,0,0,0,0,{"$error":"#DIV/0!"},{"$error":"#DIV/0!"},{"$error":"#DIV/0!"}," ",3455,"Roberto Castro","casro",0.01,0.06,2.84,2.98,0.44,66,30000,0,0,0,0,null,3455,"Roberto Castro","casro",100,25,1,6,284,298,44,66,750000]
[3007,"Bud Cauley",null,"Buy",null,null,null,null,null,null,null,null,null,null,0,0,0,0,0,0,0,{"$error":"#DIV/0!"},{"$error":"#DIV/0!"},{"$error":"#DIV/0!"}," ",3007,"Bud Cauley","caubu",0.01,7.0000000000000007E-2,3.65,2.5299999999999998,0.31,69,66833.84,0,0,0,0,null,3007,"Bud Cauley","caubu",100,25,1,7,365,253,31,69,1670846]
[4114,"Greg Chalmers",null,"Buy",null,null,null,null,null,null,null,null,null,null,0,0,0,0,0,0,0,{"$error":"#DIV/0!"},{"$error":"#DIV/0!"},{"$error":"#DIV/0!"}," ",4114,"Greg Chalmers","chagr",0.01,0.06,3.35,2.91,0.41,57,30000,0,0,0,0,null,4114,"Greg Chalmers","chagr",100,25,1,6,335,291,41,57,750000]
[3233,"Kevin Chappell",null,"Buy",null,null,null,null,null,null,null,null,null,null,0,0,0,0,0,0,0,{"$error":"#DIV/0!"},{"$error":"#DIV/0!"},{"$error":"#DIV/0!"}," ",3233,"Kevin Chappell","chake",0.01,0.13,3.66,3,0.36,68,127504.12,0,0,0,0,null,3233,"Kevin Chappell","chake",100,25,1,13,366,300,36,68,3187603]
[625,"K.J. Choi",null,"Buy",null,null,null,null,null,null,null,null,null,null,0,0,0,0,0,0,0,{"$error":"#DIV/0!"},{"$error":"#DIV/0!"},{"$error":"#DIV/0!"}," ",625,"K.J. Choi","chokj",0.01,0.06,3.17,2.71,0.3,60,30000,0,0,0,0,null,625,"K.J. Choi","chokj",100,25,1,6,317,271,30,60,750000]
[882,"Stewart Cink",null,"Buy",null,null,null,null,null,null,null,null,null,null,0,0,0,0,0,0,0,{"$error":"#DIV/0!"},{"$error":"#DIV/0!"},{"$error":"#DIV/0!"}," ",882,"Stewart Cink","cinst",0.01,0.13,3.65,2.58,0.26,68,52137.36,0,0,0,0,null,882,"Stewart Cink","cinst",100,25,1,13,365,258,26,68,1303434]
[1451,"Tim Clark",null,"Buy",null,null,null,null,null,null,null,null,null,null,0,0,0,0,0,0,0,{"$error":"#DIV/0!"},{"$error":"#DIV/0!"},{"$error":"#DIV/0!"}," ",1451,"Tim Clark","clati",0.01,0.06,3.47,2.97,0.2,70,30000,0,0,0,0,null,1451,"Tim Clark","clati",100,25,1,6,347,297,20,70,750000]
[3234,"Erik Compton",null,"Buy",null,null,null,null,null,null,null,null,null,null,0,0,0,0,0,0,0,{"$error":"#DIV/0!"},{"$error":"#DIV/0!"},{"$error":"#DIV/0!"}," ",3234,"Erik Compton","comer",0.01,0.06,3.11,3.16,0.42,56,30000,0,0,0,0,null,3234,"Erik Compton","comer",100,25,1,6,311,316,42,56,750000]
[655,"Fred Couples",null,"Buy",null,null,null,null,null,null,null,null,null,null,0,0,0,0,0,0,0,{"$error":"#DIV/0!"},{"$error":"#DIV/0!"},{"$error":"#DIV/0!"}," ",655,"Fred Couples","coufr",0.01,0.09,3.98,2.98,0.35,68,75085.08,0,0,0,0,null,655,"Fred Couples","coufr",100,25,1,9,398,298,35,68,1877127]
[1713,"Ben Crane",null,"Buy",null,null,null,null,null,null,null,null,null,null,0,0,0,0,0,0,0,{"$error":"#DIV/0!"},{"$error":"#DIV/0!"},{"$error":"#DIV/0!"}," ",1713,"Ben Crane","crabe",0.01,0.06,3.18,2.58,0.27,65,30000,0,0,0,0,null,1713,"Ben Crane","crabe",100,25,1,6,318,258,27,65,750000]
[1789,"Ben Curtis",null,"Buy",null,null,null,null,null,null,null,null,null,null,0,0,0,0,0,0,0,{"$error":"#DIV/0!"},{"$error":"#DIV/0!"},{"$error":"#DIV/0!"}," ",1789,"Ben Curtis","curbe",0.01,0.06,3.15,2.86,0.4,63,30000,0,0,0,0,null,1789,"Ben Curtis","curbe",100,25,1,6,315,286,40,63,750000]
[2797,"Brian Davis",null,"Buy",null,null,null,null,null,null,null,null,null,null,0,0,0,0,0,0,0,{"$error":"#DIV/0!"},{"$error":"#DIV/0!"},{"$error":"#DIV/0!"}," ",2797,"Brian Davis","davbr",0.01,0.08,3.33,2.57,0.4,62,30000,0,0,0,0,null,2797,"Brian Davis","davbr",100,25,1,8,333,257,40,62,750000]
[2191,"Jason Day",null,"Buy",null,null,null,null,null,null,null,null,null,null,0,0,0,0,0,0,0,{"$error":"#DIV/0!"},{"$error":"#DIV/0!"},{"$error":"#DIV/0!"}," ",2191,"Jason Day","dayja",0.01,0.14000000000000001,4.2,2.82,0.42,67,160000,0,0,0,0,null,2191,"Jason Day","dayja",100,25,1,14,420,282,42,67,4000000]
[2794,"Brendon de Jonge",null,"Buy",null,null,null,null,null,null,null,null,null,null,0,0,0,0,0,0,0,{"$error":"#DIV/0!"},{"$error":"#DIV/0!"},{"$error":"#DIV/0!"}," ",2794,"Brendon de Jonge","dejbr",0.01,0.06,3.25,3.34,0.5,61,30000,0,0,0,0,null,2794,"Brendon de Jonge","dejbr",100,25,1,6,325,334,50,61,750000]
[3454,"Graham DeLaet",null,"Buy",null,null,null,null,null,null,null,null,null,null,0,0,0,0,0,0,0,{"$error":"#DIV/0!"},{"$error":"#DIV/0!"},{"$error":"#DIV/0!"}," ",3454,"Graham DeLaet","delgr",0.01,0.15,3.58,2.56,0.32,69,73659.8,0,0,0,0,null,3454,"Graham DeLaet","delgr",100,25,1,15,358,256,32,69,1841495]
[1072,"John Daly",null,"Buy",null,null,null,null,null,null,null,null,null,null,0,0,0,0,0,0,0,{"$error":"#DIV/0!"},{"$error":"#DIV/0!"},{"$error":"#DIV/0!"}," ",1072,"John Daly","djohn",0.01,0.15,3.04,3.31,0.71,62,30000,0,0,0,0,null,1072,"John Daly","djohn",100,25,1,15,304,331,71,62,750000]
[678,"Luke Donald",null,"Buy",null,null,null,null,null,null,null,null,null,null,0,0,0,0,0,0,0,{"$error":"#DIV/0!"},{"$error":"#DIV/0!"},{"$error":"#DIV/0!"}," ",678,"Luke Donald","donlu",0.01,0.11,3.11,2.89,0.26,61,60518.8,0,0,0,0,null,678,"Luke Donald","donlu",100,25,1,11,311,289,26,61,1512970]
[2586,"Jason Dufner",null,"Buy",null,null,null,null,null,null,null,null,null,null,0,0,0,0,0,0,0,{"$error":"#DIV/0!"},{"$error":"#DIV/0!"},{"$error":"#DIV/0!"}," ",2586,"Jason Dufner","dufja",0.01,0.13,3.69,2.83,0.31,71,136064.48000000001,0,0,0,0,null,2586,"Jason Dufner","dufja",100,25,1,13,369,283,31,71,3401612]
[3099,"Ken Duke",null,"Buy",null,null,null,null,null,null,null,null,null,null,0,0,0,0,0,0,0,{"$error":"#DIV/0!"},{"$error":"#DIV/0!"},{"$error":"#DIV/0!"}," ",3099,"Ken Duke","dukke",0.01,0.06,3.31,2.91,0.4,61,30000,0,0,0,0,null,3099,"Ken Duke","dukke",100,25,1,6,331,291,40,61,750000]
[635,"David Duval",null,"Buy",null,null,null,null,null,null,null,null,null,null,0,0,0,0,0,0,0,{"$error":"#DIV/0!"},{"$error":"#DIV/0!"},{"$error":"#DIV/0!"}," ",635,"David Duval","duvda",0.01,0.06,3.37,3.59,0.67,60,30000,0,0,0,0,null,635,"David Duval","duvda",100,25,1,6,337,359,67,60,750000]
[632,"Ernie Els",null,"Buy",null,null,null,null,null,null,null,null,null,null,0,0,0,0,0,0,0,{"$error":"#DIV/0!"},{"$error":"#DIV/0!"},{"$error":"#DIV/0!"}," ",632,"Ernie Els","elser",0.01,0.06,2.64,3.32,0.47,67,30000,0,0,0,0,null,632,"Ernie Els","elser",100,25,1,6,264,332,47,67,750000]
[3453,"Harris English",null,"Buy",null,null,null,null,null,null,null,null,null,null,0,0,0,0,0,0,0,{"$error":"#DIV/0!"},{"$error":"#DIV/0!"},{"$error":"#DIV/0!"}," ",3453,"Harris English","engha",0.01,0.06,3.32,2.71,0.53,64,30000,0,0,0,0,null,3453,"Harris English","engha",100,25,1,6,332,271,53,64,750000]
[3101,"Matt Every",null,"Buy",null,null,null,null,null,null,null,null,null,null,0,0,0,0,0,0,0,{"$error":"#DIV/0!"},{"$error":"#DIV/0!"},{"$error":"#DIV/0!"}," ",3101,"Matt Every","evema",0.01,0.13,3.65,3.25,0.7,61,30000,0,0,0,0,null,3101,"Matt Every","evema",100,25,1,13,365,325,70,61,750000]
[3984,"Tony Finau",null,"Buy",null,null,null,null,null,null,null,null,null,null,0,0,0,0,0,0,0,{"$error":"#DIV/0!"},{"$error":"#DIV/0!"},{"$error":"#DIV/0!"}," ",3984,"Tony Finau","finto",0.01,0.15,3.95,2.34,0.37,71,138226.76,0,0,0,0,null,3984,"Tony Finau","finto",100,25,1,15,395,234,37,71,3455669]
[880,"Steve Flesch",null,"Buy",null,null,null,null,null,null,null,null,null,null,0,0,0,0,0,0,0,{"$error":"#DIV/0!"},{"$error":"#DIV/0!"},{"$error":"#DIV/0!"}," ",880,"Steve Flesch","flest",0.01,0.06,3.53,2.97,0.47,60,30000,0,0,0,0,null,880,"Steve Flesch","flest",100,25,1,6,353,297,47,60,750000]
[2644,"Rickie Fowler",null,"Buy",null,null,null,null,null,null,null,null,null,null,0,0,0,0,0,0,0,{"$error":"#DIV/0!"},{"$error":"#DIV/0!"},{"$error":"#DIV/0!"}," ",2644,"Rickie Fowler","fowri",0.01,7.0000000000000007E-2,4.33,2.21,0.33,72,160000,0,0,0,0,null,2644,"Rickie Fowler","fowri",100,25,1,7,433,221,33,72,4000000]
[631,"Fred Funk",null,"Buy",null,null,null,null,null,null,null,null,null,null,0,0,0,0,0,0,0,{"$error":"#DIV/0!"},{"$error":"#DIV/0!"},{"$error":"#DIV/0!"}," ",631,"Fred Funk","funfr",0.01,0.1,2.81,2.79,0.36,65,30000,0,0,0,0,null,631,"Fred Funk","funfr",100,25,1,10,281,279,36,65,750000]
[628,"Jim Furyk",null,"Buy",null,null,null,null,null,null,null,null,null,null,0,0,0,0,0,0,0,{"$error":"#DIV/0!"},{"$error":"#DIV/0!"},{"$error":"#DIV/0!"}," ",628,"Jim Furyk","furji",0.01,7.0000000000000007E-2,2.98,2.6,0.33,69,30000,0,0,0,0,null,628,"Jim Furyk","furji",100,25,1,7,298,260,33,69,750000]
[2906,"Tommy Gainey",null,"Buy",null,null,null,null,null,null,null,null,null,null,0,0,0,0,0,0,0,{"$error":"#DIV/0!"},{"$error":"#DIV/0!"},{"$error":"#DIV/0!"}," ",2906,"Tommy Gainey","gaito",0.01,0.08,3.54,3.14,0.43,64,30000,0,0,0,0,null,2906,"Tommy Gainey","gaito",100,25,1,8,354,314,43,64,750000]
[3011,"Robert Garrigus",null,"Buy",null,null,null,null,null,null,null,null,null,null,0,0,0,0,0,0,0,{"$error":"#DIV/0!"},{"$error":"#DIV/0!"},{"$error":"#DIV/0!"}," ",3011,"Robert Garrigus","garro",0.01,0.12,3.81,2.81,0.36,67,32851.96,0,0,0,0,null,3011,"Robert Garrigus","garro",100,25,1,12,381,281,36,67,821299]
[616,"Sergio Garcia",null,"Buy",null,null,null,null,null,null,null,null,null,null,0,0,0,0,0,0,0,{"$error":"#DIV/0!"},{"$error":"#DIV/0!"},{"$error":"#DIV/0!"}," ",616,"Sergio Garcia","garse",0.01,0.09,3.56,2.44,0.3,73,160000,0,0,0,0,null,616,"Sergio Garcia","garse",100,25,1,9,356,244,30,73,4000000]
[2404,"Brian Gay",null,"Buy",null,null,null,null,null,null,null,null,null,null,0,0,0,0,0,0,0,{"$error":"#DIV/0!"},{"$error":"#DIV/0!"},{"$error":"#DIV/0!"}," ",2404,"Brian Gay","gaybr",0.01,0.09,3.5,2.44,0.28000000000000003,61,51628.800000000003,0,0,0,0,null,2404,"Brian Gay","gaybr",100,25,1,9,350,244,28,61,1290720]
[1716,"Lucas Glover",null,"Buy",null,null,null,null,null,null,null,null,null,null,0,0,0,0,0,0,0,{"$error":"#DIV/0!"},{"$error":"#DIV/0!"},{"$error":"#DIV/0!"}," ",1716,"Lucas Glover","glolu",0.01,0.06,3.57,2.2400000000000002,0.35,71,70981.8,0,0,0,0,null,1716,"Lucas Glover","glolu",100,25,1,6,357,224,35,71,1774545]
[2405,"Mathew Goggin",null,"Buy",null,null,null,null,null,null,null,null,null,null,0,0,0,0,0,0,0,{"$error":"#DIV/0!"},{"$error":"#DIV/0!"},{"$error":"#DIV/0!"}," ",2405,"Mathew Goggin","gogma",0.01,0.09,3.32,2.75,0.4,70,30000,0,0,0,0,null,2405,"Mathew Goggin","gogma",100,25,1,9,332,275,40,70,750000]
[4049,"Fabian Gomez",null,"Buy",null,null,null,null,null,null,null,null,null,null,0,0,0,0,0,0,0,{"$error":"#DIV/0!"},{"$error":"#DIV/0!"},{"$error":"#DIV/0!"}," ",4049,"Fabian Gomez","gomfa",0.01,0.06,3.28,2.69,0.36,64,30000,0,0,0,0,null,4049,"Fabian Gomez","gomfa",100,25,1,6,328,269,36,64,750000]
[620,"Retief Goosen",null,"Buy",null,null,null,null,null,null,null,null,null,null,0,0,0,0,0,0,0,{"$error":"#DIV/0!"},{"$error":"#DIV/0!"},{"$error":"#DIV/0!"}," ",620,"Retief Goosen","goose",0.01,7.0000000000000007E-2,3.45,2.72,0.33,60,30000,0,0,0,0,null,620,"Retief Goosen","goose",100,25,1,7,345,272,33,60,750000]
[1580,"Jason Gore",null,"Buy",null,null,null,null,null,null,null,null,null,null,0,0,0,0,0,0,0,{"$error":"#DIV/0!"},{"$error":"#DIV/0!"},{"$error":"#DIV/0!"}," ",1580,"Jason Gore","gorja",0.01,0.09,3.49,2.71,0.53,62,30000,0,0,0,0,null,1580,"Jason Gore","gorja",100,25,1,9,349,271,53,62,750000]
[4046,"Branden Grace",null,"Buy",null,null,null,null,null,null,null,null,null,null,0,0,0,0,0,0,0,{"$error":"#DIV/0!"},{"$error":"#DIV/0!"},{"$error":"#DIV/0!"}," ",4046,"Branden Grace","gracb",0.01,7.0000000000000007E-2,3.28,2.5099999999999998,0.31,71,74912.039999999994,0,0,0,0,null,4046,"Branden Grace","gracb",100,25,1,7,328,251,31,71,1872801]
[4146,"Cody Gribble",null,"Buy",null,null,null,null,null,null,null,null,null,null,0,0,0,0,0,0,0,{"$error":"#DIV/0!"},{"$error":"#DIV/0!"},{"$error":"#DIV/0!"}," ",4146,"Cody Gribble","grico",0.01,0.08,3.59,2.79,0.45,68,44397.88,0,0,0,0,null,4146,"Cody Gribble","grico",100,25,1,8,359,279,45,68,1109947]
[2590,"Bill Haas",null,"Buy",null,null,null,null,null,null,null,null,null,null,0,0,0,0,0,0,0,{"$error":"#DIV/0!"},{"$error":"#DIV/0!"},{"$error":"#DIV/0!"}," ",2590,"Bill Haas","haabi",0.01,0.06,3.27,2.58,0.2,70,71843.039999999994,0,0,0,0,null,2590,"Bill Haas","haabi",100,25,1,6,327,258,20,70,1796076]
[4141,"Adam Hadwin",null,"Buy",null,null,null,null,null,null,null,null,null,null,0,0,0,0,0,0,0,{"$error":"#DIV/0!"},{"$error":"#DIV/0!"},{"$error":"#DIV/0!"}," ",4141,"Adam Hadwin","hadad",0.01,0.06,3.57,2.4300000000000002,0.39,69,114249.76,0,0,0,0,null,4141,"Adam Hadwin","hadad",100,25,1,6,357,243,39,69,2856244]
[3746,"Chesson Hadley",null,"Buy",null,null,null,null,null,null,null,null,null,null,0,0,0,0,0,0,0,{"$error":"#DIV/0!"},{"$error":"#DIV/0!"},{"$error":"#DIV/0!"}," ",3746,"Chesson Hadley","hadch",0.01,0.14000000000000001,4,1.97,0.31,69,108319.2,0,0,0,0,null,3746,"Chesson Hadley","hadch",100,25,1,14,400,197,31,69,2707980]
[3222,"James Hahn",null,"Buy",null,null,null,null,null,null,null,null,null,null,0,0,0,0,0,0,0,{"$error":"#DIV/0!"},{"$error":"#DIV/0!"},{"$error":"#DIV/0!"}," ",3222,"James Hahn","hahja",0.01,0.08,3.16,2.63,0.33,67,58703.6,0,0,0,0,null,3222,"James Hahn","hahja",100,25,1,8,316,263,33,67,1467590]
[3747,"Brian Harman",null,"Buy",null,null,null,null,null,null,null,null,null,null,0,0,0,0,0,0,0,{"$error":"#DIV/0!"},{"$error":"#DIV/0!"},{"$error":"#DIV/0!"}," ",3747,"Brian Harman","harmb",0.01,0.09,3.64,2.36,0.28000000000000003,67,160000,0,0,0,0,null,3747,"Brian Harman","harmb",100,25,1,9,364,236,28,67,4000000]
[1119,"Padraig Harrington",null,"Buy",null,null,null,null,null,null,null,null,null,null,{"$f":"VLOOKUP($A66,$A:$N,5,FALSE)/VLOOKUP($A66,$Z:$AM,10,FALSE)","v":0},{"$f":"VLOOKUP($A66,$A:$N,6,FALSE)/VLOOKUP($A66,$Z:$AM,4,FALSE)","v":0},{"$f":"VLOOKUP($A66,$A:$N,7,FALSE)/VLOOKUP($A66,$Z:$AM,5,FALSE)","v":0},{"$f":"VLOOKUP($A66,$A:$N,8,FALSE)/VLOOKUP($A66,$Z:$AM,6,FALSE)","v":0},{"$f":"VLOOKUP($A66,$A:$N,9,FALSE)/VLOOKUP($A66,$Z:$AM,7,FALSE)","v":0},{"$f":"VLOOKUP($A66,$A:$N,10,FALSE)/VLOOKUP($A66,$Z:$AM,8,FALSE)","v":0},{"$f":"VLOOKUP($A66,$A:$N,11,FALSE)/VLOOKUP($A66,$Z:$AM,9,FALSE)","v":0},{"$f":"VLOOKUP($A66,$A:$N,12,FALSE)/VLOOKUP($A66,$Z:$AM,11,FALSE)","v":{"$error":"#DIV/0!"}},{"$f":"VLOOKUP($A66,$A:$N,13,FALSE)/VLOOKUP($A66,$Z:$AM,12,FALSE)","v":{"$error":"#DIV/0!"}},{"$f":"VLOOKUP($A66,$A:$N,14,FALSE)/VLOOKUP($A66,$Z:$AM,13,FALSE)","v":{"$error":"#DIV/0!"}}," ",1119,"Padraig Harrington","harpa",0.01,0.06,3.06,2.65,0.44,60,30000,0,0,0,0,null,1119,"Padraig Harrington","harpa",100,25,1,6,306,265,44,60,750000]
[{"$f":"IF(Z67<>0,Z67,\"\")","v":4144},{"$f":"IF(A67<>0,VLOOKUP(A67,Z:AA,2,FALSE),\"\")","v":"Tyrrell Hatton"},null,{"$f":"HYPERLINK(\"http://www.jockstocks.com/buysell.php?action=buymax&plid=\"&A67,\"Buy\")","v":"Buy"},null,null,null,null,null,null,null,null,null,null,0,0,0,0,0,0,0,{"$error":"#DIV/0!"},{"$error":"#DIV/0!"},{"$error":"#DIV/0!"}," ",{"$f":"IF(AO67<>0,AO67,\"\")","v":4144},{"$f":"IF(AP67<>0,VLOOKUP(Z67,AO:AP,2,FALSE),\"\")","v":"Tyrrell Hatton"},{"$f":"IF(AQ67<>0,AQ67,\"\")","v":"hatty"},{"$f":"IF($AO67<>0,AT67/$AR67,\"\")","v":0.01},{"$f":"IF($AO67<>0,AU67/$AR67,\"\")","v":0.08},{"$f":"IF($AO67<>0,AV67/$AR67,\"\")","v":3.37},{"$f":"IF($AO67<>0,AW67/$AR67,\"\")","v":2.76},{"$f":"IF($AO67<>0,AX67/$AR67,\"\")","v":0.32},{"$f":"IF($AO67<>0,AY67,\"\")","v":67},{"$f":"IF($AO67<>0,AZ67/$AS67,\"\")","v":75312.52},{"$f":"IF($AO67<>0,BA67/$AT67,\"\")","v":0},{"$f":"IF($AO67<>0,BB67/$AT67,\"\")","v":0},{"$f":"IF($AO67<>0,BC67/$AT67,\"\")","v":0},{"$f":"IF($AO67<>0,BD67/$AT67,\"\")","v":0},null,4144,"Tyrrell Hatton","hatty",100,25,1,8,337,276,32,67,1882813]
[1912,"J.J. Henry",null,"Buy",null,null,null,null,null,null,null,null,null,null,0,0,0,0,0,0,0,{"$error":"#DIV/0!"},{"$error":"#DIV/0!"},{"$error":"#DIV/0!"}," ",1912,"J.J. Henry","henjj",0.01,0.09,2.91,2.4900000000000002,0.2,68,30000,0,0,0,0,null,1912,"J.J. Henry","henjj",100,25,1,9,291,249,20,68,750000]
[1131,"Mark Hensby",null,"Buy",null,null,null,null,null,null,null,null,null,null,0,0,0,0,0,0,0,{"$error":"#DIV/0!"},{"$error":"#DIV/0!"},{"$error":"#DIV/0!"}," ",1131,"Mark Hensby","henma",0.01,0.06,3.38,2.56,0.36,63,30000,0,0,0,0,null,1131,"Mark Hensby","henma",100,25,1,6,338,256,36,63,750000]
[3195,"Russell Henley",null,"Buy",null,null,null,null,null,null,null,null,null,null,0,0,0,0,0,0,0,{"$error":"#DIV/0!"},{"$error":"#DIV/0!"},{"$error":"#DIV/0!"}," ",3195,"Russell Henley","henru",0.01,7.0000000000000007E-2,3.69,2.71,0.32,71,141437.20000000001,0,0,0,0,null,3195,"Russell Henley","henru",100,25,1,7,369,271,32,71,3535930]
[4145,"Jim Herman",null,"Buy",null,null,null,null,null,null,null,null,null,null,0,0,0,0,0,0,0,{"$error":"#DIV/0!"},{"$error":"#DIV/0!"},{"$error":"#DIV/0!"}," ",4145,"Jim Herman","herji",0.01,0.1,3.35,2.79,0.37,71,44735.48,0,0,0,0,null,4145,"Jim Herman","herji",100,25,1,10,335,279,37,71,1118387]
[670,"Tim Herron",null,"Buy",null,null,null,null,null,null,null,null,null,null,0,0,0,0,0,0,0,{"$error":"#DIV/0!"},{"$error":"#DIV/0!"},{"$error":"#DIV/0!"}," ",670,"Tim Herron","herti",0.01,7.0000000000000007E-2,3.54,2.98,0.41,56,30000,0,0,0,0,null,670,"Tim Herron","herti",100,25,1,7,354,298,41,56,750000]
[2117,"Charley Hoffman",null,"Buy",null,null,null,null,null,null,null,null,null,null,0,0,0,0,0,0,0,{"$error":"#DIV/0!"},{"$error":"#DIV/0!"},{"$error":"#DIV/0!"}," ",2117,"Charley Hoffman","hofch",0.01,0.12,3.88,2.68,0.3,68,142047.64000000001,0,0,0,0,null,2117,"Charley Hoffman","hofch",100,25,1,12,388,268,30,68,3551191]
[4147,"Morgan Hoffmann",null,"Buy",null,null,null,null,null,null,null,null,null,null,0,0,0,0,0,0,0,{"$error":"#DIV/0!"},{"$error":"#DIV/0!"},{"$error":"#DIV/0!"}," ",4147,"Morgan Hoffmann","hofmo",0.01,0.1,3.49,2.69,0.38,64,43541.84,0,0,0,0,null,4147,"Morgan Hoffmann","hofmo",100,25,1,10,349,269,38,64,1088546]
[1806,"J.B. Holmes",null,"Buy",null,null,null,null,null,null,null,null,null,null,0,0,0,0,0,0,0,{"$error":"#DIV/0!"},{"$error":"#DIV/0!"},{"$error":"#DIV/0!"}," ",1806,"J.B. Holmes","holjb",0.01,0.12,3.67,2.94,0.53,67,50502.92,0,0,0,0,null,1806,"J.B. Holmes","holjb",100,25,1,12,367,294,53,67,1262573]
[3292,"Billy Horschel",null,"Buy",null,null,null,null,null,null,null,null,null,null,0,0,0,0,0,0,0,{"$error":"#DIV/0!"},{"$error":"#DIV/0!"},{"$error":"#DIV/0!"}," ",3292,"Billy Horschel","horbi",0.01,0.06,3.3,2.86,0.45,70,91154.36,0,0,0,0,null,3292,"Billy Horschel","horbi",100,25,1,6,330,286,45,70,2278859]
[638,"Charles Howell III",null,"Buy",null,null,null,null,null,null,null,null,null,null,0,0,0,0,0,0,0,{"$error":"#DIV/0!"},{"$error":"#DIV/0!"},{"$error":"#DIV/0!"}," ",638,"Charles Howell III","howch",0.01,0.09,3.41,2.44,0.27,67,111428.52,0,0,0,0,null,638,"Charles Howell III","howch",100,25,1,9,341,244,27,67,2785713]
[4116,"Mackenzie Hughes",null,"Buy",null,null,null,null,null,null,null,null,null,null,0,0,0,0,0,0,0,{"$error":"#DIV/0!"},{"$error":"#DIV/0!"},{"$error":"#DIV/0!"}," ",4116,"Mackenzie Hughes","hugma",0.01,7.0000000000000007E-2,3.41,3.02,0.35,63,39636.199999999997,0,0,0,0,null,4116,"Mackenzie Hughes","hugma",100,25,1,7,341,302,35,63,990905]
[3098,"John Huh",null,"Buy",null,null,null,null,null,null,null,null,null,null,0,0,0,0,0,0,0,{"$error":"#DIV/0!"},{"$error":"#DIV/0!"},{"$error":"#DIV/0!"}," ",3098,"John Huh","huhjo",0.01,0.06,3.22,2.64,0.28000000000000003,63,30000,0,0,0,0,null,3098,"John Huh","huhjo",100,25,1,6,322,264,28,63,750000]
[4048,"Billy Hurley III",null,"Buy",null,null,null,null,null,null,null,null,null,null,0,0,0,0,0,0,0,{"$error":"#DIV/0!"},{"$error":"#DIV/0!"},{"$error":"#DIV/0!"}," ",4048,"Billy Hurley III","hurbi",0.01,0.06,3.5,3.02,0.41,63,30000,0,0,0,0,null,4048,"Billy Hurley III","hurbi",100,25,1,6,350,302,41,63,750000]
[2193,"Ryuji Imada",null,"Buy",null,null,null,null,null,null,null,null,null,null,0,0,0,0,0,0,0,{"$error":"#DIV/0!"},{"$error":"#DIV/0!"},{"$error":"#DIV/0!"}," ",2193,"Ryuji Imada","imary",0.01,0.06,3.07,2.75,0.21,60,30000,0,0,0,0,null,2193,"Ryuji Imada","imary",100,25,1,6,307,275,21,60,750000]
[1802,"Trevor Immelman",null,"Buy",null,null,null,null,null,null,null,null,null,null,0,0,0,0,0,0,0,{"$error":"#DIV/0!"},{"$error":"#DIV/0!"},{"$error":"#DIV/0!"}," ",1802,"Trevor Immelman","immtr",0.01,0.09,2.97,3.36,0.33,65,30000,0,0,0,0,null,1802,"Trevor Immelman","immtr",100,25,1,9,297,336,33,65,750000]
[3457,"Ryo Ishikawa",null,"Buy",null,null,null,null,null,null,null,null,null,null,0,0,0,0,0,0,0,{"$error":"#DIV/0!"},{"$error":"#DIV/0!"},{"$error":"#DIV/0!"}," ",3457,"Ryo Ishikawa","ishry",0.01,7.0000000000000007E-2,3.13,2.7,0.65,62,30000,0,0,0,0,null,3457,"Ryo Ishikawa","ishry",100,25,1,7,313,270,65,62,750000]
[2796,"Fredrik Jacobson",null,"Buy",null,null,null,null,null,null,null,null,null,null,0,0,0,0,0,0,0,{"$error":"#DIV/0!"},{"$error":"#DIV/0!"},{"$error":"#DIV/0!"}," ",2796,"Fredrik Jacobson","jafre",0.01,0.06,3.76,2.72,0.4,64,47003.08,0,0,0,0,null,2796,"Fredrik Jacobson","jafre",100,25,1,6,376,272,40,64,1175077]
[648,"Lee Janzen",null,"Buy",null,null,null,null,null,null,null,null,null,null,0,0,0,0,0,0,0,{"$error":"#DIV/0!"},{"$error":"#DIV/0!"},{"$error":"#DIV/0!"}," ",648,"Lee Janzen","janle",0.01,0.06,3.37,2.78,0.2,60,30000,0,0,0,0,null,648,"Lee Janzen","janle",100,25,1,6,337,278,20,60,750000]
[3748,"Matt Jones",null,"Buy",null,null,null,null,null,null,null,null,null,null,0,0,0,0,0,0,0,{"$error":"#DIV/0!"},{"$error":"#DIV/0!"},{"$error":"#DIV/0!"}," ",3748,"Matt Jones","jmatt",0.01,0.06,3.47,2.59,0.34,61,30000,0,0,0,0,null,3748,"Matt Jones","jmatt",100,25,1,6,347,259,34,61,750000]
[2192,"Dustin Johnson",null,"Buy",null,null,null,null,null,null,null,null,null,null,0,0,0,0,0,0,0,{"$error":"#DIV/0!"},{"$error":"#DIV/0!"},{"$error":"#DIV/0!"}," ",2192,"Dustin Johnson","johdu",0.01,0.11,4.1100000000000003,2.2000000000000002,0.2,72,160000,0,0,0,0,null,2192,"Dustin Johnson","johdu",100,25,1,11,411,220,20,72,4000000]
[1343,"Zach Johnson",null,"Buy",null,null,null,null,null,null,null,null,null,null,0,0,0,0,0,0,0,{"$error":"#DIV/0!"},{"$error":"#DIV/0!"},{"$error":"#DIV/0!"}," ",1343,"Zach Johnson","johza",0.01,0.06,3.63,2.56,0.25,66,106650.76,0,0,0,0,null,1343,"Zach Johnson","johza",100,25,1,6,363,256,25,66,2666269]
[3983,"Smylie Kaufman",null,"Buy",null,null,null,null,null,null,null,null,null,null,0,0,0,0,0,0,0,{"$error":"#DIV/0!"},{"$error":"#DIV/0!"},{"$error":"#DIV/0!"}," ",3983,"Smylie Kaufman","kausm",0.01,0.1,3.6,2.79,0.55000000000000004,62,34848.28,0,0,0,0,null,3983,"Smylie Kaufman","kausm",100,25,1,10,360,279,55,62,871207]
[3231,"Martin Kaymer",null,"Buy",null,null,null,null,null,null,null,null,null,null,0,0,0,0,0,0,0,{"$error":"#DIV/0!"},{"$error":"#DIV/0!"},{"$error":"#DIV/0!"}," ",3231,"Martin Kaymer","kayma",0.01,0.15,3.59,2.78,0.47,72,92130.64,0,0,0,0,null,3231,"Martin Kaymer","kayma",100,25,1,15,359,278,47,72,2303266]
[629,"Jerry Kelly",null,"Buy",null,null,null,null,null,null,null,null,null,null,0,0,0,0,0,0,0,{"$error":"#DIV/0!"},{"$error":"#DIV/0!"},{"$error":"#DIV/0!"}," ",629,"Jerry Kelly","kelje",0.01,0.14000000000000001,3.24,2.31,0.33,64,58208.639999999999,0,0,0,0,null,629,"Jerry Kelly","kelje",100,25,1,14,324,231,33,64,1455216]
[2186,"Anthony Kim",null,"Buy",null,null,null,null,null,null,null,null,null,null,0,0,0,0,0,0,0,{"$error":"#DIV/0!"},{"$error":"#DIV/0!"},{"$error":"#DIV/0!"}," ",2186,"Anthony Kim","kiman",0.01,7.0000000000000007E-2,3.55,2.8,0.54,64,41179.4,0,0,0,0,null,2186,"Anthony Kim","kiman",100,25,1,7,355,280,54,64,1029485]
[4115,"Si Woo Kim",null,"Buy",null,null,null,null,null,null,null,null,null,null,0,0,0,0,0,0,0,{"$error":"#DIV/0!"},{"$error":"#DIV/0!"},{"$error":"#DIV/0!"}," ",4115,"Si Woo Kim","kimsi",0.01,0.06,3.11,3.25,0.59,63,102875.68,0,0,0,0,null,4115,"Si Woo Kim","kimsi",100,25,1,6,311,325,59,63,2571892]
[3009,"Chris Kirk",null,"Buy",null,null,null,null,null,null,null,null,null,null,0,0,0,0,0,0,0,{"$error":"#DIV/0!"},{"$error":"#DIV/0!"},{"$error":"#DIV/0!"}," ",3009,"Chris Kirk","kirch",0.01,0.06,3.43,2.7,0.43,65,30305.24,0,0,0,0,null,3009,"Chris Kirk","kirch",100,25,1,6,343,270,43,65,757631]
[3981,"Kevin Kisner",null,"Buy",null,null,null,null,null,null,null,null,null,null,0,0,0,0,0,0,0,{"$error":"#DIV/0!"},{"$error":"#DIV/0!"},{"$error":"#DIV/0!"}," ",3981,"Kevin Kisner","kiske",0.01,7.0000000000000007E-2,3.63,2.58,0.2,70,160000,0,0,0,0,null,3981,"Kevin Kisner","kiske",100,25,1,7,363,258,20,70,4000000]
[4047,"Colt Knost",null,"Buy",null,null,null,null,null,null,null,null,null,null,0,0,0,0,0,0,0,{"$error":"#DIV/0!"},{"$error":"#DIV/0!"},{"$error":"#DIV/0!"}," ",4047,"Colt Knost","knoco",0.01,0.09,3.5,2.5,0.5,66,68000,0,0,0,0,null,4047,"Colt Knost","knoco",100,25,1,9,350,250,50,66,1700000]
[3982,"Russell Knox",null,"Buy",null,null,null,null,null,null,null,null,null,null,0,0,0,0,0,0,0,{"$error":"#DIV/0!"},{"$error":"#DIV/0!"},{"$error":"#DIV/0!"}," ",3982,"Russell Knox","knoru",0.01,0.06,3.54,2.99,0.35,69,44170.6,0,0,0,0,null,3982,"Russell Knox","knoru",100,25,1,6,354,299,35,69,1104265]
[3980,"Brooks Koepka",null,"Buy",null,null,null,null,null,null,null,null,null,null,0,0,0,0,0,0,0,{"$error":"#DIV/0!"},{"$error":"#DIV/0!"},{"$error":"#DIV/0!"}," ",3980,"Brooks Koepka","koebr",0.01,0.12,4.18,2.74,0.45,69,160000,0,0,0,0,null,3980,"Brooks Koepka","koebr",100,25,1,12,418,274,45,69,4000000]
[644,"Matt Kuchar",null,"Buy",null,null,null,null,null,null,null,null,null,null,0,0,0,0,0,0,0,{"$error":"#DIV/0!"},{"$error":"#DIV/0!"},{"$error":"#DIV/0!"}," ",644,"Matt Kuchar","kucma",0.01,0.06,3.63,2.2999999999999998,0.2,71,160000,0,0,0,0,null,644,"Matt Kuchar","kucma",100,25,1,6,363,230,20,71,4000000]
[2585,"Martin Laird",null,"Buy",null,null,null,null,null,null,null,null,null,null,0,0,0,0,0,0,0,{"$error":"#DIV/0!"},{"$error":"#DIV/0!"},{"$error":"#DIV/0!"}," ",2585,"Martin Laird","laima",0.01,0.15,3.31,2.58,0.32,66,58709.36,0,0,0,0,null,2585,"Martin Laird","laima",100,25,1,15,331,258,32,66,1467734]
[3745,"Danny Lee",null,"Buy",null,null,null,null,null,null,null,null,null,null,0,0,0,0,0,0,0,{"$error":"#DIV/0!"},{"$error":"#DIV/0!"},{"$error":"#DIV/0!"}," ",3745,"Danny Lee","ledan",0.01,0.06,3.74,2.67,0.46,67,65269.279999999999,0,0,0,0,null,3745,"Danny Lee","ledan",100,25,1,6,374,267,46,67,1631732]
[2587,"Marc Leishman",null,"Buy",null,null,null,null,null,null,null,null,null,null,0,0,0,0,0,0,0,{"$error":"#DIV/0!"},{"$error":"#DIV/0!"},{"$error":"#DIV/0!"}," ",2587,"Marc Leishman","leism",0.01,0.13,3.79,2.56,0.23,71,160000,0,0,0,0,null,2587,"Marc Leishman","leism",100,25,1,13,379,256,23,71,4000000]
[626,"Justin Leonard",null,"Buy",null,null,null,null,null,null,null,null,null,null,0,0,0,0,0,0,0,{"$error":"#DIV/0!"},{"$error":"#DIV/0!"},{"$error":"#DIV/0!"}," ",626,"Justin Leonard","leonj",0.01,0.06,2.79,2.94,0.42,57,30000,0,0,0,0,null,626,"Justin Leonard","leonj",100,25,1,6,279,294,42,57,750000]
[3004,"Spencer Levin",null,"Buy",null,null,null,null,null,null,null,null,null,null,0,0,0,0,0,0,0,{"$error":"#DIV/0!"},{"$error":"#DIV/0!"},{"$error":"#DIV/0!"}," ",3004,"Spencer Levin","levsp",0.01,7.0000000000000007E-2,2.94,2.7,0.27,61,30000,0,0,0,0,null,3004,"Spencer Levin","levsp",100,25,1,7,294,270,27,61,750000]
[643,"Frank Lickliter II",null,"Buy",null,null,null,null,null,null,null,null,null,null,0,0,0,0,0,0,0,{"$error":"#DIV/0!"},{"$error":"#DIV/0!"},{"$error":"#DIV/0!"}," ",643,"Frank Lickliter II","lickf",0.01,0.15,3.38,2.9,0.41,62,30000,0,0,0,0,null,643,"Frank Lickliter II","lickf",100,25,1,15,338,290,41,62,750000]
[4238,"David Lingmerth",null,"Buy",null,null,null,null,null,null,null,null,null,null,0,0,0,0,0,0,0,{"$error":"#DIV/0!"},{"$error":"#DIV/0!"},{"$error":"#DIV/0!"}," ",4238,"David Lingmerth","linda",0.01,7.0000000000000007E-2,3.7,3.3,0.42,66,45099.32,0,0,0,0,null,4238,"David Lingmerth","linda",100,25,1,7,370,330,42,66,1127483]
[4143,"Luke List",null,"Buy",null,null,null,null,null,null,null,null,null,null,0,0,0,0,0,0,0,{"$error":"#DIV/0!"},{"$error":"#DIV/0!"},{"$error":"#DIV/0!"}," ",4143,"Luke List","lislu",0.01,0.15,4.13,2.63,0.28000000000000003,69,64893.56,0,0,0,0,null,4143,"Luke List","lislu",100,25,1,15,413,263,28,69,1622339]
[633,"Davis Love III",null,"Buy",null,null,null,null,null,null,null,null,null,null,0,0,0,0,0,0,0,{"$error":"#DIV/0!"},{"$error":"#DIV/0!"},{"$error":"#DIV/0!"}," ",633,"Davis Love III","lovda",0.01,0.06,3.51,2.9,0.32,67,30000,0,0,0,0,null,633,"Davis Love III","lovda",100,25,1,6,351,290,32,67,750000]
[4237,"Jamie Lovemark",null,"Buy",null,null,null,null,null,null,null,null,null,null,0,0,0,0,0,0,0,{"$error":"#DIV/0!"},{"$error":"#DIV/0!"},{"$error":"#DIV/0!"}," ",4237,"Jamie Lovemark","lovja",0.01,7.0000000000000007E-2,4,2.9,0.45,73,88000,0,0,0,0,null,4237,"Jamie Lovemark","lovja",100,25,1,7,400,290,45,73,2200000]
[4045,"Shane Lowry",null,"Buy",null,null,null,null,null,null,null,null,null,null,0,0,0,0,0,0,0,{"$error":"#DIV/0!"},{"$error":"#DIV/0!"},{"$error":"#DIV/0!"}," ",4045,"Shane Lowry","lowsh",0.01,7.0000000000000007E-2,3.72,2.8,0.35,72,49797.919999999998,0,0,0,0,null,4045,"Shane Lowry","lowsh",100,25,1,7,372,280,35,72,1244948]
[3458,"Will MacKenzie",null,"Buy",null,null,null,null,null,null,null,null,null,null,0,0,0,0,0,0,0,{"$error":"#DIV/0!"},{"$error":"#DIV/0!"},{"$error":"#DIV/0!"}," ",3458,"Will MacKenzie","macwi",0.01,0.1,3.39,2.65,0.52,63,30000,0,0,0,0,null,3458,"Will MacKenzie","macwi",100,25,1,10,339,265,52,63,750000]
[2011,"Hunter Mahan",null,"Buy",null,null,null,null,null,null,null,null,null,null,0,0,0,0,0,0,0,{"$error":"#DIV/0!"},{"$error":"#DIV/0!"},{"$error":"#DIV/0!"}," ",2011,"Hunter Mahan","mahhu",0.01,0.1,3.37,2.64,0.37,63,30000,0,0,0,0,null,2011,"Hunter Mahan","mahhu",100,25,1,10,337,264,37,63,750000]
[3979,"Peter Malnati",null,"Buy",null,null,null,null,null,null,null,null,null,null,0,0,0,0,0,0,0,{"$error":"#DIV/0!"},{"$error":"#DIV/0!"},{"$error":"#DIV/0!"}," ",3979,"Peter Malnati","malpe",0.01,0.06,3.64,2.68,0.37,61,30000,0,0,0,0,null,3979,"Peter Malnati","malpe",100,25,1,6,364,268,37,61,750000]
[3753,"Ben Martin",null,"Buy",null,null,null,null,null,null,null,null,null,null,0,0,0,0,0,0,0,{"$error":"#DIV/0!"},{"$error":"#DIV/0!"},{"$error":"#DIV/0!"}," ",3753,"Ben Martin","marbe",0.01,0.06,3.69,2.6,0.33,64,34671.08,0,0,0,0,null,3753,"Ben Martin","marbe",100,25,1,6,369,260,33,64,866777]
[2487,"Steve Marino",null,"Buy",null,null,null,null,null,null,null,null,null,null,0,0,0,0,0,0,0,{"$error":"#DIV/0!"},{"$error":"#DIV/0!"},{"$error":"#DIV/0!"}," ",2487,"Steve Marino","maris",0.01,0.06,3.36,2.79,0.39,64,30000,0,0,0,0,null,2487,"Steve Marino","maris",100,25,1,6,336,279,39,64,750000]
[3749,"Hideki Matsuyama",null,"Buy",null,null,null,null,null,null,null,null,null,null,0,0,0,0,0,0,0,{"$error":"#DIV/0!"},{"$error":"#DIV/0!"},{"$error":"#DIV/0!"}," ",3749,"Hideki Matsuyama","mathi",0.01,0.15,4.03,2.34,0.36,74,160000,0,0,0,0,null,3749,"Hideki Matsuyama","mathi",100,25,1,15,403,234,36,74,4000000]
[1914,"Troy Matteson",null,"Buy",null,null,null,null,null,null,null,null,null,null,0,0,0,0,0,0,0,{"$error":"#DIV/0!"},{"$error":"#DIV/0!"},{"$error":"#DIV/0!"}," ",1914,"Troy Matteson","mattr",0.01,0.06,3.46,3.37,0.72,60,30000,0,0,0,0,null,1914,"Troy Matteson","mattr",100,25,1,6,346,337,72,60,750000]
[674,"Billy Mayfair",null,"Buy",null,null,null,null,null,null,null,null,null,null,0,0,0,0,0,0,0,{"$error":"#DIV/0!"},{"$error":"#DIV/0!"},{"$error":"#DIV/0!"}," ",674,"Billy Mayfair","maybi",0.01,0.15,2.85,2.91,0.56000000000000005,64,30000,0,0,0,0,null,674,"Billy Mayfair","maybi",100,25,1,15,285,291,56,64,750000]
[2798,"Graeme McDowell",null,"Buy",null,null,null,null,null,null,null,null,null,null,0,0,0,0,0,0,0,{"$error":"#DIV/0!"},{"$error":"#DIV/0!"},{"$error":"#DIV/0!"}," ",2798,"Graeme McDowell","mcdgr",0.01,0.08,3.52,2.98,0.33,62,41338.879999999997,0,0,0,0,null,2798,"Graeme McDowell","mcdgr",100,25,1,8,352,298,33,62,1033472]
[4043,"William McGirt",null,"Buy",null,null,null,null,null,null,null,null,null,null,0,0,0,0,0,0,0,{"$error":"#DIV/0!"},{"$error":"#DIV/0!"},{"$error":"#DIV/0!"}," ",4043,"William McGirt","mcgwi",0.01,7.0000000000000007E-2,3.3,2.54,0.35,71,46992.84,0,0,0,0,null,4043,"William McGirt","mcgwi",100,25,1,7,330,254,35,71,1174821]
[2658,"Rory Mcilroy",null,"Buy",null,null,null,null,null,null,null,null,null,null,0,0,0,0,0,0,0,{"$error":"#DIV/0!"},{"$error":"#DIV/0!"},{"$error":"#DIV/0!"}," ",2658,"Rory Mcilroy","mciro",0.01,0.11,3.73,2.64,0.34,75,160000,0,0,0,0,null,2658,"Rory Mcilroy","mciro",100,25,1,11,373,264,34,75,4000000]
[2589,"George McNeill",null,"Buy",null,null,null,null,null,null,null,null,null,null,0,0,0,0,0,0,0,{"$error":"#DIV/0!"},{"$error":"#DIV/0!"},{"$error":"#DIV/0!"}," ",2589,"George McNeill","mcnge",0.01,0.06,3.13,2.75,0.4,64,30000,0,0,0,0,null,2589,"George McNeill","mcnge",100,25,1,6,313,275,40,64,750000]
[617,"Rocco Mediate",null,"Buy",null,null,null,null,null,null,null,null,null,null,0,0,0,0,0,0,0,{"$error":"#DIV/0!"},{"$error":"#DIV/0!"},{"$error":"#DIV/0!"}," ",617,"Rocco Mediate","medro",0.01,0.13,3.25,2.4700000000000002,0.4,61,30000,0,0,0,0,null,617,"Rocco Mediate","medro",100,25,1,13,325,247,40,61,750000]
[2402,"John Merrick",null,"Buy",null,null,null,null,null,null,null,null,null,null,0,0,0,0,0,0,0,{"$error":"#DIV/0!"},{"$error":"#DIV/0!"},{"$error":"#DIV/0!"}," ",2402,"John Merrick","merjo",0.01,0.14000000000000001,3.41,2.66,0.2,64,30000,0,0,0,0,null,2402,"John Merrick","merjo",100,25,1,14,341,266,20,64,750000]
[621,"Phil Mickelson",null,"Buy",null,null,null,null,null,null,null,null,null,null,0,0,0,0,0,0,0,{"$error":"#DIV/0!"},{"$error":"#DIV/0!"},{"$error":"#DIV/0!"}," ",621,"Phil Mickelson","mickp",0.01,0.15,3.95,2.71,0.37,65,95913.52,0,0,0,0,null,621,"Phil Mickelson","mickp",100,25,1,15,395,271,37,65,2397838]
[1029,"Shaun Micheel",null,"Buy",null,null,null,null,null,null,null,null,null,null,0,0,0,0,0,0,0,{"$error":"#DIV/0!"},{"$error":"#DIV/0!"},{"$error":"#DIV/0!"}," ",1029,"Shaun Micheel","micsh",0.01,0.06,3.08,3.31,0.42,64,30000,0,0,0,0,null,1029,"Shaun Micheel","micsh",100,25,1,6,308,331,42,64,750000]
[2591,"Bryce Molder",null,"Buy",null,null,null,null,null,null,null,null,null,null,0,0,0,0,0,0,0,{"$error":"#DIV/0!"},{"$error":"#DIV/0!"},{"$error":"#DIV/0!"}," ",2591,"Bryce Molder","molbr",0.01,0.06,3.02,2.98,0.31,59,30000,0,0,0,0,null,2591,"Bryce Molder","molbr",100,25,1,6,302,298,31,59,750000]
[4235,"Francesco Molinari",null,"Buy",null,null,null,null,null,null,null,null,null,null,0,0,0,0,0,0,0,{"$error":"#DIV/0!"},{"$error":"#DIV/0!"},{"$error":"#DIV/0!"}," ",4235,"Francesco Molinari","molfr",0.01,0.06,3.6,2.7,0.45,78,68000,0,0,0,0,null,4235,"Francesco Molinari","molfr",100,25,1,6,360,270,45,78,1700000]
[2485,"Ryan Moore",null,"Buy",null,null,null,null,null,null,null,null,null,null,0,0,0,0,0,0,0,{"$error":"#DIV/0!"},{"$error":"#DIV/0!"},{"$error":"#DIV/0!"}," ",2485,"Ryan Moore","moory",0.01,0.09,3.38,2.73,0.23,68,78950.880000000005,0,0,0,0,null,2485,"Ryan Moore","moory",100,25,1,9,338,273,23,68,1973772]
[4234,"Grayson Murray",null,"Buy",null,null,null,null,null,null,null,null,null,null,{"$f":"VLOOKUP($A130,$A:$N,5,FALSE)/VLOOKUP($A130,$Z:$AM,10,FALSE)","v":0},{"$f":"VLOOKUP($A130,$A:$N,6,FALSE)/VLOOKUP($A130,$Z:$AM,4,FALSE)","v":0},{"$f":"VLOOKUP($A130,$A:$N,7,FALSE)/VLOOKUP($A130,$Z:$AM,5,FALSE)","v":0},{"$f":"VLOOKUP($A130,$A:$N,8,FALSE)/VLOOKUP($A130,$Z:$AM,6,FALSE)","v":0},{"$f":"VLOOKUP($A130,$A:$N,9,FALSE)/VLOOKUP($A130,$Z:$AM,7,FALSE)","v":0},{"$f":"VLOOKUP($A130,$A:$N,10,FALSE)/VLOOKUP($A130,$Z:$AM,8,FALSE)","v":0},{"$f":"VLOOKUP($A130,$A:$N,11,FALSE)/VLOOKUP($A130,$Z:$AM,9,FALSE)","v":0},{"$f":"VLOOKUP($A130,$A:$N,12,FALSE)/VLOOKUP($A130,$Z:$AM,11,FALSE)","v":{"$error":"#DIV/0!"}},{"$f":"VLOOKUP($A130,$A:$N,13,FALSE)/VLOOKUP($A130,$Z:$AM,12,FALSE)","v":{"$error":"#DIV/0!"}},{"$f":"VLOOKUP($A130,$A:$N,14,FALSE)/VLOOKUP($A130,$Z:$AM,13,FALSE)","v":{"$error":"#DIV/0!"}}," ",4234,"Grayson Murray","murgr",0.01,0.14000000000000001,3.9,2.9,0.45,65,72000,0,0,0,0,null,4234,"Grayson Murray","murgr",100,25,1,14,390,290,45,65,1800000]
[{"$f":"IF(Z131<>0,Z131,\"\")","v":1449},{"$f":"IF(A131<>0,VLOOKUP(A131,Z:AA,2,FALSE),\"\")","v":"Kevin Na"},null,{"$f":"HYPERLINK(\"http://www.jockstocks.com/buysell.php?action=buymax&plid=\"&A131,\"Buy\")","v":"Buy"},null,null,null,null,null,null,null,null,null,null,0,0,0,0,0,0,0,{"$error":"#DIV/0!"},{"$error":"#DIV/0!"},{"$error":"#DIV/0!"}," ",{"$f":"IF(AO131<>0,AO131,\"\")","v":1449},{"$f":"IF(AP131<>0,VLOOKUP(Z131,AO:AP,2,FALSE),\"\")","v":"Kevin Na"},{"$f":"IF(AQ131<>0,AQ131,\"\")","v":"nakev"},{"$f":"IF($AO131<>0,AT131/$AR131,\"\")","v":0.01},{"$f":"IF($AO131<>0,AU131/$AR131,\"\")","v":0.1},{"$f":"IF($AO131<>0,AV131/$AR131,\"\")","v":3.73},{"$f":"IF($AO131<>0,AW131/$AR131,\"\")","v":2.61},{"$f":"IF($AO131<>0,AX131/$AR131,\"\")","v":0.36},{"$f":"IF($AO131<>0,AY131,\"\")","v":67},{"$f":"IF($AO131<>0,AZ131/$AS131,\"\")","v":58564.68},{"$f":"IF($AO131<>0,BA131/$AT131,\"\")","v":0},{"$f":"IF($AO131<>0,BB131/$AT131,\"\")","v":0},{"$f":"IF($AO131<>0,BC131/$AT131,\"\")","v":0},{"$f":"IF($AO131<>0,BD131/$AT131,\"\")","v":0},null,1449,"Kevin Na","nakev",100,25,1,10,373,261,36,67,1464117]
[3100,"Seung-Yul Noh",null,"Buy",null,null,null,null,null,null,null,null,null,null,0,0,0,0,0,0,0,{"$error":"#DIV/0!"},{"$error":"#DIV/0!"},{"$error":"#DIV/0!"}," ",3100,"Seung-Yul Noh","nohse",0.01,0.09,3.54,2.62,0.39,62,37924.120000000003,0,0,0,0,null,3100,"Seung-Yul Noh","nohse",100,25,1,9,354,262,39,62,948103]
[1448,"Geoff Ogilvy",null,"Buy",null,null,null,null,null,null,null,null,null,null,0,0,0,0,0,0,0,{"$error":"#DIV/0!"},{"$error":"#DIV/0!"},{"$error":"#DIV/0!"}," ",1448,"Geoff Ogilvy","ogige",0.01,0.08,2.99,2.5299999999999998,0.33,63,30000,0,0,0,0,null,1448,"Geoff Ogilvy","ogige",100,25,1,8,299,253,33,63,750000]
[1581,"Sean O'Hair",null,"Buy",null,null,null,null,null,null,null,null,null,null,0,0,0,0,0,0,0,{"$error":"#DIV/0!"},{"$error":"#DIV/0!"},{"$error":"#DIV/0!"}," ",1581,"Sean O'Hair","ohase",0.01,0.09,3.49,2.68,0.37,69,68837.16,0,0,0,0,null,1581,"Sean O'Hair","ohase",100,25,1,9,349,268,37,69,1720929]
[3012,"Louis Oosthuizen",null,"Buy",null,null,null,null,null,null,null,null,null,null,0,0,0,0,0,0,0,{"$error":"#DIV/0!"},{"$error":"#DIV/0!"},{"$error":"#DIV/0!"}," ",3012,"Louis Oosthuizen","ooslo",0.01,0.12,3.28,2.31,0.36,72,160000,0,0,0,0,null,3012,"Louis Oosthuizen","ooslo",100,25,1,12,328,231,36,72,4000000]
[2793,"Jeff Overton",null,"Buy",null,null,null,null,null,null,null,null,null,null,0,0,0,0,0,0,0,{"$error":"#DIV/0!"},{"$error":"#DIV/0!"},{"$error":"#DIV/0!"}," ",2793,"Jeff Overton","oveje",0.01,0.06,3.25,2.79,0.36,62,30000,0,0,0,0,null,2793,"Jeff Overton","oveje",100,25,1,6,325,279,36,62,750000]
[1498,"Greg Owen",null,"Buy",null,null,null,null,null,null,null,null,null,null,0,0,0,0,0,0,0,{"$error":"#DIV/0!"},{"$error":"#DIV/0!"},{"$error":"#DIV/0!"}," ",1498,"Greg Owen","owegr",0.01,0.11,3.78,2.76,0.49,64,31188.16,0,0,0,0,null,1498,"Greg Owen","owegr",100,25,1,11,378,276,49,64,779704]
[1414,"Ryan Palmer",null,"Buy",null,null,null,null,null,null,null,null,null,null,0,0,0,0,0,0,0,{"$error":"#DIV/0!"},{"$error":"#DIV/0!"},{"$error":"#DIV/0!"}," ",1414,"Ryan Palmer","palry",0.01,7.0000000000000007E-2,3.33,2.7,0.4,66,30000,0,0,0,0,null,1414,"Ryan Palmer","palry",100,25,1,7,333,270,40,66,750000]
[1413,"Rod Pampling",null,"Buy",null,null,null,null,null,null,null,null,null,null,0,0,0,0,0,0,0,{"$error":"#DIV/0!"},{"$error":"#DIV/0!"},{"$error":"#DIV/0!"}," ",1413,"Rod Pampling","pamro",0.01,0.06,2.75,3.15,0.48,64,30000,0,0,0,0,null,1413,"Rod Pampling","pamro",100,25,1,6,275,315,48,64,750000]
[645,"Jesper Parnevik",null,"Buy",null,null,null,null,null,null,null,null,null,null,0,0,0,0,0,0,0,{"$error":"#DIV/0!"},{"$error":"#DIV/0!"},{"$error":"#DIV/0!"}," ",645,"Jesper Parnevik","parje",0.01,0.06,2.81,3.19,0.47,66,30000,0,0,0,0,null,645,"Jesper Parnevik","parje",100,25,1,6,281,319,47,66,750000]
[3818,"Calvin Peete",null,"Buy",null,null,null,null,null,null,null,null,null,null,0,0,0,0,0,0,0,{"$error":"#DIV/0!"},{"$error":"#DIV/0!"},{"$error":"#DIV/0!"}," ",3818,"Calvin Peete","peeca",1,1,1,1,1,1,1,0,0,0,0,null,3818,"Calvin Peete","peeca",1,1,1,1,1,1,1,1,1]
[646,"Kenny Perry",null,"Buy",null,null,null,null,null,null,null,null,null,null,0,0,0,0,0,0,0,{"$error":"#DIV/0!"},{"$error":"#DIV/0!"},{"$error":"#DIV/0!"}," ",646,"Kenny Perry","perke",0.01,0.06,3.19,2.94,0.31,69,30000,0,0,0,0,null,646,"Kenny Perry","perke",100,25,1,6,319,294,31,69,750000]
[650,"Pat Perez",null,"Buy",null,null,null,null,null,null,null,null,null,null,0,0,0,0,0,0,0,{"$error":"#DIV/0!"},{"$error":"#DIV/0!"},{"$error":"#DIV/0!"}," ",650,"Pat Perez","perpa",0.01,0.06,3.7,2.36,0.28000000000000003,67,160000,0,0,0,0,null,650,"Pat Perez","perpa",100,25,1,6,370,236,28,67,4000000]
[1418,"Tom Pernice, Jr.",null,"Buy",null,null,null,null,null,null,null,null,null,null,0,0,0,0,0,0,0,{"$error":"#DIV/0!"},{"$error":"#DIV/0!"},{"$error":"#DIV/0!"}," ",1418,"Tom Pernice, Jr.","perto",0.01,0.12,3.09,2.74,0.32,66,30000,0,0,0,0,null,1418,"Tom Pernice, Jr.","perto",100,25,1,12,309,274,32,66,750000]
[654,"Carl Pettersson",null,"Buy",null,null,null,null,null,null,null,null,null,null,0,0,0,0,0,0,0,{"$error":"#DIV/0!"},{"$error":"#DIV/0!"},{"$error":"#DIV/0!"}," ",654,"Carl Pettersson","pettc",0.01,7.0000000000000007E-2,2.96,3.69,0.42,57,30000,0,0,0,0,null,654,"Carl Pettersson","pettc",100,25,1,7,296,369,42,57,750000]
[1579,"Tim Petrovic",null,"Buy",null,null,null,null,null,null,null,null,null,null,0,0,0,0,0,0,0,{"$error":"#DIV/0!"},{"$error":"#DIV/0!"},{"$error":"#DIV/0!"}," ",1579,"Tim Petrovic","petti",0.01,0.06,2.27,3.65,0.46,60,30000,0,0,0,0,null,1579,"Tim Petrovic","petti",100,25,1,6,227,365,46,60,750000]
[2407,"Scott Piercy",null,"Buy",null,null,null,null,null,null,null,null,null,null,0,0,0,0,0,0,0,{"$error":"#DIV/0!"},{"$error":"#DIV/0!"},{"$error":"#DIV/0!"}," ",2407,"Scott Piercy","piesc",0.01,0.06,3.59,3.41,0.32,65,30000,0,0,0,0,null,2407,"Scott Piercy","piesc",100,25,1,6,359,341,32,65,750000]
[4142,"Thomas Pieters",null,"Buy",null,null,null,null,null,null,null,null,null,null,0,0,0,0,0,0,0,{"$error":"#DIV/0!"},{"$error":"#DIV/0!"},{"$error":"#DIV/0!"}," ",4142,"Thomas Pieters","pieth",0.01,7.0000000000000007E-2,3.84,2.66,0.5,68,120213.92,0,0,0,0,null,4142,"Thomas Pieters","pieth",100,25,1,7,384,266,50,68,3005348]
[3002,"D.A. Points",null,"Buy",null,null,null,null,null,null,null,null,null,null,0,0,0,0,0,0,0,{"$error":"#DIV/0!"},{"$error":"#DIV/0!"},{"$error":"#DIV/0!"}," ",3002,"D.A. Points","poida",0.01,0.09,3.12,2.86,0.54,64,37656.04,0,0,0,0,null,3002,"D.A. Points","poida",100,25,1,9,312,286,54,64,941401]
[3102,"Ted Potter, Jr.",null,"Buy",null,null,null,null,null,null,null,null,null,null,0,0,0,0,0,0,0,{"$error":"#DIV/0!"},{"$error":"#DIV/0!"},{"$error":"#DIV/0!"}," ",3102,"Ted Potter, Jr.","potte",0.01,0.06,3.06,2.17,0.48,63,30000,0,0,0,0,null,3102,"Ted Potter, Jr.","potte",100,25,1,6,306,217,48,63,750000]
[1497,"Ian Poulter",null,"Buy",null,null,null,null,null,null,null,null,null,null,0,0,0,0,0,0,0,{"$error":"#DIV/0!"},{"$error":"#DIV/0!"},{"$error":"#DIV/0!"}," ",1497,"Ian Poulter","pouia",0.01,0.08,3.38,2.52,0.2,68,124969.36,0,0,0,0,null,1497,"Ian Poulter","pouia",100,25,1,8,338,252,20,68,3124234]
[1417,"Ted Purdy",null,"Buy",null,null,null,null,null,null,null,null,null,null,0,0,0,0,0,0,0,{"$error":"#DIV/0!"},{"$error":"#DIV/0!"},{"$error":"#DIV/0!"}," ",1417,"Ted Purdy","purte",0.01,0.06,3.29,3.17,0.34,64,30000,0,0,0,0,null,1417,"Ted Purdy","purte",100,25,1,6,329,317,34,64,750000]
[1913,"Brett Quigley",null,"Buy",null,null,null,null,null,null,null,null,null,null,0,0,0,0,0,0,0,{"$error":"#DIV/0!"},{"$error":"#DIV/0!"},{"$error":"#DIV/0!"}," ",1913,"Brett Quigley","quibr",0.01,0.06,3.49,2.42,0.33,70,30000,0,0,0,0,null,1913,"Brett Quigley","quibr",100,25,1,6,349,242,33,70,750000]
[4140,"Jon Rahm",null,"Buy",null,null,null,null,null,null,null,null,null,null,0,0,0,0,0,0,0,{"$error":"#DIV/0!"},{"$error":"#DIV/0!"},{"$error":"#DIV/0!"}," ",4140,"Jon Rahm","rahjo",0.01,0.13,4.0999999999999996,2.4,0.26,60,160000,0,0,0,0,null,4140,"Jon Rahm","rahjo",100,25,1,13,410,240,26,60,4000000]
[2194,"Chez Reavie",null,"Buy",null,null,null,null,null,null,null,null,null,null,0,0,0,0,0,0,0,{"$error":"#DIV/0!"},{"$error":"#DIV/0!"},{"$error":"#DIV/0!"}," ",2194,"Chez Reavie","reach",0.01,0.06,3.68,2.31,0.24,68,69672.960000000006,0,0,0,0,null,2194,"Chez Reavie","reach",100,25,1,6,368,231,24,68,1741824]
[3497,"Patrick Reed",null,"Buy",null,null,null,null,null,null,null,null,null,null,0,0,0,0,0,0,0,{"$error":"#DIV/0!"},{"$error":"#DIV/0!"},{"$error":"#DIV/0!"}," ",3497,"Patrick Reed","reepa",0.01,0.06,3.74,2.57,0.28999999999999998,64,112618.24000000001,0,0,0,0,null,3497,"Patrick Reed","reepa",100,25,1,6,374,257,29,64,2815456]
[2009,"John Rollins",null,"Buy",null,null,null,null,null,null,null,null,null,null,0,0,0,0,0,0,0,{"$error":"#DIV/0!"},{"$error":"#DIV/0!"},{"$error":"#DIV/0!"}," ",2009,"John Rollins","roljo",0.01,0.08,3.04,2.31,0.23,60,30000,0,0,0,0,null,2009,"John Rollins","roljo",100,25,1,8,304,231,23,60,750000]
[2188,"Andres Romero",null,"Buy",null,null,null,null,null,null,null,null,null,null,0,0,0,0,0,0,0,{"$error":"#DIV/0!"},{"$error":"#DIV/0!"},{"$error":"#DIV/0!"}," ",2188,"Andres Romero","roman",0.01,0.06,3.53,2.58,0.28999999999999998,57,30000,0,0,0,0,null,2188,"Andres Romero","roman",100,25,1,6,353,258,29,57,750000]
[1341,"Justin Rose",null,"Buy",null,null,null,null,null,null,null,null,null,null,0,0,0,0,0,0,0,{"$error":"#DIV/0!"},{"$error":"#DIV/0!"},{"$error":"#DIV/0!"}," ",1341,"Justin Rose","rosju",0.01,0.09,4.1900000000000004,2.62,0.21,71,160000,0,0,0,0,null,1341,"Justin Rose","rosju",100,25,1,9,419,262,21,71,4000000]
[653,"Rory Sabbatini",null,"Buy",null,null,null,null,null,null,null,null,null,null,0,0,0,0,0,0,0,{"$error":"#DIV/0!"},{"$error":"#DIV/0!"},{"$error":"#DIV/0!"}," ",653,"Rory Sabbatini","sabro",0.01,0.14000000000000001,3.84,2.8,0.33,66,31708.68,0,0,0,0,null,653,"Rory Sabbatini","sabro",100,25,1,14,384,280,33,66,792717]
[{"$f":"IF(Z161<>0,Z161,\"\")","v":2907},{"$f":"IF(A161<>0,VLOOKUP(A161,Z:AA,2,FALSE),\"\")","v":"Charl Schwartzel"},null,{"$f":"HYPERLINK(\"http://www.jockstocks.com/buysell.php?action=buymax&plid=\"&A161,\"Buy\")","v":"Buy"},null,null,null,null,null,null,null,null,null,null,{"$f":"VLOOKUP($A161,$A:$N,5,FALSE)/VLOOKUP($A161,$Z:$AM,10,FALSE)","v":0},{"$f":"VLOOKUP($A161,$A:$N,6,FALSE)/VLOOKUP($A161,$Z:$AM,4,FALSE)","v":0},{"$f":"VLOOKUP($A161,$A:$N,7,FALSE)/VLOOKUP($A161,$Z:$AM,5,FALSE)","v":0},{"$f":"VLOOKUP($A161,$A:$N,8,FALSE)/VLOOKUP($A161,$Z:$AM,6,FALSE)","v":0},{"$f":"VLOOKUP($A161,$A:$N,9,FALSE)/VLOOKUP($A161,$Z:$AM,7,FALSE)","v":0},{"$f":"VLOOKUP($A161,$A:$N,10,FALSE)/VLOOKUP($A161,$Z:$AM,8,FALSE)","v":0},{"$f":"VLOOKUP($A161,$A:$N,11,FALSE)/VLOOKUP($A161,$Z:$AM,9,FALSE)","v":0},{"$f":"VLOOKUP($A161,$A:$N,12,FALSE)/VLOOKUP($A161,$Z:$AM,11,FALSE)","v":{"$error":"#DIV/0!"}},{"$f":"VLOOKUP($A161,$A:$N,13,FALSE)/VLOOKUP($A161,$Z:$AM,12,FALSE)","v":{"$error":"#DIV/0!"}},{"$f":"VLOOKUP($A161,$A:$N,14,FALSE)/VLOOKUP($A161,$Z:$AM,13,FALSE)","v":{"$error":"#DIV/0!"}}," ",{"$f":"IF(AO161<>0,AO161,\"\")","v":2907},{"$f":"IF(AP161<>0,VLOOKUP(Z161,AO:AP,2,FALSE),\"\")","v":"Charl Schwartzel"},{"$f":"IF(AQ161<>0,AQ161,\"\")","v":"schch"},{"$f":"IF($AO161<>0,AT161/$AR161,\"\")","v":0.01},{"$f":"IF($AO161<>0,AU161/$AR161,\"\")","v":0.09},{"$f":"IF($AO161<>0,AV161/$AR161,\"\")","v":3.56},{"$f":"IF($AO161<>0,AW161/$AR161,\"\")","v":2.69},{"$f":"IF($AO161<>0,AX161/$AR161,\"\")","v":0.44},{"$f":"IF($AO161<>0,AY161,\"\")","v":68},{"$f":"IF($AO161<>0,AZ161/$AS161,\"\")","v":111781.16},{"$f":"IF($AO161<>0,BA161/$AT161,\"\")","v":0},{"$f":"IF($AO161<>0,BB161/$AT161,\"\")","v":0},{"$f":"IF($AO161<>0,BC161/$AT161,\"\")","v":0},{"$f":"IF($AO161<>0,BD161/$AT161,\"\")","v":0},null,2907,"Charl Schwartzel","schch",100,25,1,9,356,269,44,68,2794529]
[{"$f":"IF(Z162<>0,Z162,\"\")","v":4236},{"$f":"IF(A162<>0,VLOOKUP(A162,Z:AA,2,FALSE),\"\")","v":"Ollie Schniederjans"},null,{"$f":"HYPERLINK(\"http://www.jockstocks.com/buysell.php?action=buymax&plid=\"&A162,\"Buy\")","v":"Buy"},null,null,null,null,null,null,null,null,null,null,0,0,0,0,0,0,0,{"$error":"#DIV/0!"},{"$error":"#DIV/0!"},{"$error":"#DIV/0!"}," ",{"$f":"IF(AO162<>0,AO162,\"\")","v":4236},"Ollie Schniederjans",{"$f":"IF(AQ162<>0,AQ162,\"\")","v":"schol"},{"$f":"IF($AO162<>0,AT162/$AR162,\"\")","v":0.01},{"$f":"IF($AO162<>0,AU162/$AR162,\"\")","v":0.09},{"$f":"IF($AO162<>0,AV162/$AR162,\"\")","v":4},{"$f":"IF($AO162<>0,AW162/$AR162,\"\")","v":2.8},{"$f":"IF($AO162<>0,AX162/$AR162,\"\")","v":0.45},{"$f":"IF($AO162<>0,AY162,\"\")","v":67},{"$f":"IF($AO162<>0,AZ162/$AS162,\"\")","v":80000},{"$f":"IF($AO162<>0,BA162/$AT162,\"\")","v":0},{"$f":"IF($AO162<>0,BB162/$AT162,\"\")","v":0},{"$f":"IF($AO162<>0,BC162/$AT162,\"\")","v":0},{"$f":"IF($AO162<>0,BD162/$AT162,\"\")","v":0},null,4236,"Ollie Schniederjans","schol",100,25,1,9,400,280,45,67,2000000]
[{"$f":"IF(Z163<>0,Z163,\"\")","v":4232},{"$f":"IF(A163<>0,VLOOKUP(A163,Z:AA,2,FALSE),\"\")","v":"Xander Schauffele"},null,{"$f":"HYPERLINK(\"http://www.jockstocks.com/buysell.php?action=buymax&plid=\"&A163,\"Buy\")","v":"Buy"},null,null,null,null,null,null,null,null,null,null,0,0,0,0,0,0,0,{"$error":"#DIV/0!"},{"$error":"#DIV/0!"},{"$error":"#DIV/0!"}," ",4232,"Xander Schauffele","schxa",0.01,0.14000000000000001,3.6,2.85,0.45,71,100000,0,0,0,0,null,4232,"Xander Schauffele","schxa",100,25,1,14,360,285,45,71,2500000]
[1030,"Adam Scott",null,"Buy",null,null,null,null,null,null,null,null,null,null,0,0,0,0,0,0,0,{"$error":"#DIV/0!"},{"$error":"#DIV/0!"},{"$error":"#DIV/0!"}," ",1030,"Adam Scott","scoad",0.01,0.06,3.48,2.72,0.33,70,97494.8,0,0,0,0,null,1030,"Adam Scott","scoad",100,25,1,6,348,272,33,70,2437370]
[2118,"John Senden",null,"Buy",null,null,null,null,null,null,null,null,null,null,0,0,0,0,0,0,0,{"$error":"#DIV/0!"},{"$error":"#DIV/0!"},{"$error":"#DIV/0!"}," ",2118,"John Senden","senjo",0.01,0.06,2.93,2.57,0.39,63,30000,0,0,0,0,null,2118,"John Senden","senjo",100,25,1,6,293,257,39,63,750000]
[2905,"Webb Simpson",null,"Buy",null,null,null,null,null,null,null,null,null,null,0,0,0,0,0,0,0,{"$error":"#DIV/0!"},{"$error":"#DIV/0!"},{"$error":"#DIV/0!"}," ",2905,"Webb Simpson","simwe",0.01,0.11,3.56,2.17,0.35,69,126713.2,0,0,0,0,null,2905,"Webb Simpson","simwe",100,25,1,11,356,217,35,69,3167830]
[613,"Vijay Singh",null,"Buy",null,null,null,null,null,null,null,null,null,null,0,0,0,0,0,0,0,{"$error":"#DIV/0!"},{"$error":"#DIV/0!"},{"$error":"#DIV/0!"}," ",613,"Vijay Singh","singh",0.01,7.0000000000000007E-2,2.95,3.1,0.48,68,30000,0,0,0,0,null,613,"Vijay Singh","singh",100,25,1,7,295,310,48,68,750000]
[2113,"Heath Slocum",null,"Buy",null,null,null,null,null,null,null,null,null,null,0,0,0,0,0,0,0,{"$error":"#DIV/0!"},{"$error":"#DIV/0!"},{"$error":"#DIV/0!"}," ",2113,"Heath Slocum",{"$f":"IF(AQ168<>0,AQ168,\"\")","v":"slohe"},{"$f":"IF($AO168<>0,AT168/$AR168,\"\")","v":0.01},0.06,3.1,3.24,0.37,{"$f":"IF($AO168<>0,AY168,\"\")","v":62},{"$f":"IF($AO168<>0,AZ168/$AS168,\"\")","v":30000},{"$f":"IF($AO168<>0,BA168/$AT168,\"\")","v":0},0,0,0,null,2113,"Heath Slocum","slohe",100,25,1,6,310,324,37,62,750000]
[2111,"Brandt Snedeker",null,"Buy",null,null,null,null,null,null,null,null,null,null,0,0,0,0,0,0,0,{"$error":"#DIV/0!"},{"$error":"#DIV/0!"},{"$error":"#DIV/0!"}," ",2111,"Brandt Snedeker","snebr",0.01,0.06,4,2.5,0.2,69,110998.92,0,0,0,0,null,2111,"Brandt Snedeker","snebr",100,25,1,6,400,250,20,69,2774973]
[3300,"Jordan Spieth",null,"Buy",null,null,null,null,null,null,null,null,null,null,0,0,0,0,0,0,0,{"$error":"#DIV/0!"},{"$error":"#DIV/0!"},{"$error":"#DIV/0!"}," ",3300,"Jordan Spieth","spijo",0.01,0.1,4.49,2.0499999999999998,0.27,73,160000,0,0,0,0,null,3300,"Jordan Spieth","spijo",100,25,1,10,449,205,27,73,4000000]
[3013,"Kyle Stanley",null,"Buy",null,null,null,null,null,null,null,null,null,null,0,0,0,0,0,0,0,{"$error":"#DIV/0!"},{"$error":"#DIV/0!"},{"$error":"#DIV/0!"},null,3013,"Kyle Stanley","staky",0.01,0.14000000000000001,3.79,2.59,0.33,71,131333.28,0,0,0,0,null,3013,"Kyle Stanley","staky",100,25,1,14,379,259,33,71,3283332]
[3008,"Scott Stallings",null,"Buy",null,null,null,null,null,null,null,null,null,null,0,0,0,0,0,0,0,{"$error":"#DIV/0!"},{"$error":"#DIV/0!"},{"$error":"#DIV/0!"},null,3008,"Scott Stallings","stasc",0.01,0.11,3.53,2.71,0.28000000000000003,67,39319.96,0,0,0,0,null,3008,"Scott Stallings","stasc",100,25,1,11,353,271,28,67,982999]
[3003,"Brendan Steele",null,"Buy",null,null,null,null,null,null,null,null,null,null,0,0,0,0,0,0,0,{"$error":"#DIV/0!"},{"$error":"#DIV/0!"},{"$error":"#DIV/0!"},null,{"$f":"IF(AO173<>0,AO173,\"\")","v":3003},"Brendan Steele","stebr",{"$f":"IF($AO173<>0,AT173/$AR173,\"\")","v":0.01},0.14000000000000001,3.79,2.76,0.28000000000000003,70,132150.28,{"$f":"IF($AO173<>0,BA173/$AT173,\"\")","v":0},0,0,0,null,3003,"Brendan Steele","stebr",100,25,1,14,379,276,28,70,3303757]
[2112,"Henrik Stenson",null,"Buy",null,null,null,null,null,null,null,null,null,null,0,0,0,0,0,0,0,{"$error":"#DIV/0!"},{"$error":"#DIV/0!"},{"$error":"#DIV/0!"},null,2112,"Henrik Stenson","stehe",0.01,0.06,3.95,2.41,0.41,76,160000,0,0,0,0,null,2112,"Henrik Stenson","stehe",100,25,1,6,395,241,41,76,4000000]
[3743,"Shawn Stefani",null,"Buy",null,null,null,null,null,null,null,null,null,null,0,0,0,0,0,0,0,{"$error":"#DIV/0!"},{"$error":"#DIV/0!"},{"$error":"#DIV/0!"},null,3743,"Shawn Stefani","stesh",0.01,0.11,3.31,2.7,0.3,65,30000,0,0,0,0,null,3743,"Shawn Stefani","stesh",100,25,1,11,331,270,30,65,750000]
[3456,"Chris Stroud",null,"Buy",null,null,null,null,null,null,null,null,null,null,0,0,0,0,0,0,0,{"$error":"#DIV/0!"},{"$error":"#DIV/0!"},{"$error":"#DIV/0!"},null,3456,"Chris Stroud",{"$f":"IF(AQ176<>0,AQ176,\"\")","v":"strch"},{"$f":"IF($AO176<>0,AT176/$AR176,\"\")","v":0.01},{"$f":"IF($AO176<>0,AU176/$AR176,\"\")","v":7.0000000000000007E-2},{"$f":"IF($AO176<>0,AV176/$AR176,\"\")","v":3.58},{"$f":"IF($AO176<>0,AW176/$AR176,\"\")","v":2.61},{"$f":"IF($AO176<>0,AX176/$AR176,\"\")","v":0.43},{"$f":"IF($AO176<>0,AY176,\"\")","v":64},{"$f":"IF($AO176<>0,AZ176/$AS176,\"\")","v":51145},{"$f":"IF($AO176<>0,BA176/$AT176,\"\")","v":0},{"$f":"IF($AO176<>0,BB176/$AT176,\"\")","v":0},{"$f":"IF($AO176<>0,BC176/$AT176,\"\")","v":0},{"$f":"IF($AO176<>0,BD176/$AT176,\"\")","v":0},null,3456,"Chris Stroud","strch",100,25,1,7,358,261,43,64,1278625]
[3752,"Robert Streb",null,"Buy",null,null,null,null,null,null,null,null,null,null,0,0,0,0,0,0,0,{"$error":"#DIV/0!"},{"$error":"#DIV/0!"},{"$error":"#DIV/0!"},null,3752,"Robert Streb","strer",0.01,0.06,3.34,2.84,0.34,66,52561.599999999999,0,0,0,0,null,3752,"Robert Streb","strer",100,25,1,6,334,284,34,66,1314040]
[2592,"Kevin Streelman",null,"Buy",null,null,null,null,null,null,null,null,null,null,0,0,0,0,0,0,0,{"$error":"#DIV/0!"},{"$error":"#DIV/0!"},{"$error":"#DIV/0!"},null,2592,"Kevin Streelman","strke",0.01,0.08,3.17,2.48,0.26,66,52148.12,0,0,0,0,null,2592,"Kevin Streelman","strke",100,25,1,8,317,248,26,66,1303703]
[1807,"Steve Stricker",null,"Buy",null,null,null,null,null,null,null,null,null,null,0,0,0,0,0,0,0,{"$error":"#DIV/0!"},{"$error":"#DIV/0!"},{"$error":"#DIV/0!"},null,1807,"Steve Stricker","strst",0.01,7.0000000000000007E-2,3.23,2.64,0.2,74,80167.520000000004,0,0,0,0,null,1807,"Steve Stricker","strst",100,25,1,7,323,264,20,74,2004188]
[3498,"Brian Stuard",null,"Buy",null,null,null,null,null,null,null,null,null,null,0,0,0,0,0,0,0,{"$error":"#DIV/0!"},{"$error":"#DIV/0!"},{"$error":"#DIV/0!"},null,3498,"Brian Stuard","stubr",0.01,0.06,3.35,2.67,0.34,64,30000,0,0,0,0,null,3498,"Brian Stuard","stubr",100,25,1,6,335,267,34,64,750000]
[{"$f":"IF(Z181<>0,Z181,\"\")","v":4138},{"$f":"IF(A181<>0,VLOOKUP(A181,Z:AA,2,FALSE),\"\")","v":"Hudson Swafford"},null,{"$f":"HYPERLINK(\"http://www.jockstocks.com/buysell.php?action=buymax&plid=\"&A181,\"Buy\")","v":"Buy"},null,null,null,null,null,null,null,null,null,null,0,0,0,0,0,0,0,{"$error":"#DIV/0!"},{"$error":"#DIV/0!"},{"$error":"#DIV/0!"},null,{"$f":"IF(AO181<>0,AO181,\"\")","v":4138},"Hudson Swafford",{"$f":"IF(AQ181<>0,AQ181,\"\")","v":"swahu"},{"$f":"IF($AO181<>0,AT181/$AR181,\"\")","v":0.01},{"$f":"IF($AO181<>0,AU181/$AR181,\"\")","v":7.0000000000000007E-2},{"$f":"IF($AO181<>0,AV181/$AR181,\"\")","v":3.66},{"$f":"IF($AO181<>0,AW181/$AR181,\"\")","v":2.5099999999999998},{"$f":"IF($AO181<>0,AX181/$AR181,\"\")","v":0.39},{"$f":"IF($AO181<>0,AY181,\"\")","v":69},{"$f":"IF($AO181<>0,AZ181/$AS181,\"\")","v":77417.399999999994},{"$f":"IF($AO181<>0,BA181/$AT181,\"\")","v":0},{"$f":"IF($AO181<>0,BB181/$AT181,\"\")","v":0},{"$f":"IF($AO181<>0,BC181/$AT181,\"\")","v":0},{"$f":"IF($AO181<>0,BD181/$AT181,\"\")","v":0},null,4138,"Hudson Swafford","swahu",100,25,1,7,366,251,39,69,1935435]
[3751,"Nick Taylor",null,"Buy",null,null,null,null,null,null,null,null,null,null,0,0,0,0,0,0,0,{"$error":"#DIV/0!"},{"$error":"#DIV/0!"},{"$error":"#DIV/0!"},null,3751,"Nick Taylor","tayni",0.01,0.08,3.38,2.5099999999999998,0.26,63,52077.4,0,0,0,0,null,3751,"Nick Taylor","tayni",100,25,1,8,338,251,26,63,1301935]
[1719,"Vaughn Taylor",null,"Buy",null,null,null,null,null,null,null,null,null,null,0,0,0,0,0,0,0,{"$error":"#DIV/0!"},{"$error":"#DIV/0!"},{"$error":"#DIV/0!"},null,1719,"Vaughn Taylor","tayva",0.01,7.0000000000000007E-2,3.73,2.4900000000000002,0.37,66,35506.120000000003,0,0,0,0,null,1719,"Vaughn Taylor","tayva",100,25,1,7,373,249,37,66,887653]
[3232,"Josh Teater",null,"Buy",null,null,null,null,null,null,null,null,null,null,0,0,0,0,0,0,0,{"$error":"#DIV/0!"},{"$error":"#DIV/0!"},{"$error":"#DIV/0!"},null,{"$f":"IF(AO184<>0,AO184,\"\")","v":3232},"Josh Teater",{"$f":"IF(AQ184<>0,AQ184,\"\")","v":"teajo"},{"$f":"IF($AO184<>0,AT184/$AR184,\"\")","v":0.01},{"$f":"IF($AO184<>0,AU184/$AR184,\"\")","v":0.06},{"$f":"IF($AO184<>0,AV184/$AR184,\"\")","v":3},{"$f":"IF($AO184<>0,AW184/$AR184,\"\")","v":2.66},{"$f":"IF($AO184<>0,AX184/$AR184,\"\")","v":0.38},{"$f":"IF($AO184<>0,AY184,\"\")","v":62},{"$f":"IF($AO184<>0,AZ184/$AS184,\"\")","v":30000},{"$f":"IF($AO184<>0,BA184/$AT184,\"\")","v":0},{"$f":"IF($AO184<>0,BB184/$AT184,\"\")","v":0},{"$f":"IF($AO184<>0,BC184/$AT184,\"\")","v":0},{"$f":"IF($AO184<>0,BD184/$AT184,\"\")","v":0},null,3232,"Josh Teater","teajo",100,25,1,6,300,266,38,62,750000]
[3806,"Justin Thomas",null,"Buy",null,null,null,null,null,null,null,null,null,null,0,0,0,0,0,0,0,{"$error":"#DIV/0!"},{"$error":"#DIV/0!"},{"$error":"#DIV/0!"},null,3806,"Justin Thomas","thomj",0.01,0.15,4.33,2.4900000000000002,0.31,71,160000,0,0,0,0,null,3806,"Justin Thomas","thomj",100,25,1,15,433,249,31,71,4000000]
[3103,"Michael Thompson",null,"Buy",null,null,null,null,null,null,null,null,null,null,0,0,0,0,0,0,0,{"$error":"#DIV/0!"},{"$error":"#DIV/0!"},{"$error":"#DIV/0!"},null,3103,"Michael Thompson","thomm",0.01,0.11,3.22,2.83,0.33,64,31129.759999999998,0,0,0,0,null,3103,"Michael Thompson","thomm",100,25,1,11,322,283,33,64,778244]
[3750,"Brendon Todd",null,"Buy",null,null,null,null,null,null,null,null,null,null,0,0,0,0,0,0,0,{"$error":"#DIV/0!"},{"$error":"#DIV/0!"},{"$error":"#DIV/0!"},null,3750,"Brendon Todd","todbr",0.01,0.06,2.75,3.11,0.65,50,30000,0,0,0,0,null,3750,"Brendon Todd","todbr",100,25,1,6,275,311,65,50,750000]
[634,"David Toms",null,"Buy",null,null,null,null,null,null,null,null,null,null,0,0,0,0,0,0,0,{"$error":"#DIV/0!"},{"$error":"#DIV/0!"},{"$error":"#DIV/0!"},null,634,"David Toms","tomda",0.01,0.06,3.12,2.98,0.2,61,30000,0,0,0,0,null,634,"David Toms","tomda",100,25,1,6,312,298,20,61,750000]
[2189,"D.J. Trahan",null,"Buy",null,null,null,null,null,null,null,null,null,null,0,0,0,0,0,0,0,{"$error":"#DIV/0!"},{"$error":"#DIV/0!"},{"$error":"#DIV/0!"},null,2189,"D.J. Trahan","tradj",0.01,0.08,3.54,3.24,0.54,61,30000,0,0,0,0,null,2189,"D.J. Trahan","tradj",100,25,1,8,354,324,54,61,750000]
[3006,"Cameron Tringale",null,"Buy",null,null,null,null,null,null,null,null,null,null,0,0,0,0,0,0,0,{"$error":"#DIV/0!"},{"$error":"#DIV/0!"},{"$error":"#DIV/0!"},null,3006,"Cameron Tringale","trica",0.01,7.0000000000000007E-2,3.4,2.72,0.41,62,30000,0,0,0,0,null,3006,"Cameron Tringale","trica",100,25,1,7,340,272,41,62,750000]
[2484,"Bo Van Pelt",null,"Buy",null,null,null,null,null,null,null,null,null,null,0,0,0,0,0,0,0,{"$error":"#DIV/0!"},{"$error":"#DIV/0!"},{"$error":"#DIV/0!"},null,2484,"Bo Van Pelt","vanbo",0.01,0.06,3.54,2.74,0.49,66,30000,0,0,0,0,null,2484,"Bo Van Pelt","vanbo",100,25,1,6,354,274,49,66,750000]
[4044,"Harold Varner III",null,"Buy",null,null,null,null,null,null,null,null,null,null,0,0,0,0,0,0,0,{"$error":"#DIV/0!"},{"$error":"#DIV/0!"},{"$error":"#DIV/0!"},null,4044,"Harold Varner III","varha",0.01,0.09,3.43,2.72,0.36,67,32515.84,0,0,0,0,null,4044,"Harold Varner III","varha",100,25,1,9,343,272,36,67,812896]
[3005,"Jhonattan Vegas",null,"Buy",null,null,null,null,null,null,null,null,null,null,0,0,0,0,0,0,0,{"$error":"#DIV/0!"},{"$error":"#DIV/0!"},{"$error":"#DIV/0!"},null,3005,"Jhonattan Vegas","vegjh",0.01,7.0000000000000007E-2,3.49,2.79,0.4,67,101948.76,0,0,0,0,null,3005,"Jhonattan Vegas","vegjh",100,25,1,7,349,279,40,67,2548719]
[656,"Scott Verplank",null,"Buy",null,null,null,null,null,null,null,null,null,null,0,0,0,0,0,0,0,{"$error":"#DIV/0!"},{"$error":"#DIV/0!"},{"$error":"#DIV/0!"},null,{"$f":"IF(AO194<>0,AO194,\"\")","v":656},{"$f":"IF(AP194<>0,VLOOKUP(Z194,AO:AP,2,FALSE),\"\")","v":"Scott Verplank"},{"$f":"IF(AQ194<>0,AQ194,\"\")","v":"verps"},{"$f":"IF($AO194<>0,AT194/$AR194,\"\")","v":0.01},{"$f":"IF($AO194<>0,AU194/$AR194,\"\")","v":0.12},{"$f":"IF($AO194<>0,AV194/$AR194,\"\")","v":2.5299999999999998},{"$f":"IF($AO194<>0,AW194/$AR194,\"\")","v":2.91},{"$f":"IF($AO194<>0,AX194/$AR194,\"\")","v":0.42},{"$f":"IF($AO194<>0,AY194,\"\")","v":60},{"$f":"IF($AO194<>0,AZ194/$AS194,\"\")","v":30000},{"$f":"IF($AO194<>0,BA194/$AT194,\"\")","v":0},{"$f":"IF($AO194<>0,BB194/$AT194,\"\")","v":0},{"$f":"IF($AO194<>0,BC194/$AT194,\"\")","v":0},{"$f":"IF($AO194<>0,BD194/$AT194,\"\")","v":0},null,656,"Scott Verplank","verps",100,25,1,12,253,291,42,60,750000]
[1805,"Camilo Villegas",null,"Buy",null,null,null,null,null,null,null,null,null,null,0,0,0,0,0,0,0,{"$error":"#DIV/0!"},{"$error":"#DIV/0!"},{"$error":"#DIV/0!"},null,1805,"Camilo Villegas","vilca",0.01,0.06,3.51,2.9,0.34,61,30000,0,0,0,0,null,1805,"Camilo Villegas","vilca",100,25,1,6,351,290,34,61,750000]
[2190,"Johnson Wagner",null,"Buy",null,null,null,null,null,null,null,null,null,null,0,0,0,0,0,0,0,{"$error":"#DIV/0!"},{"$error":"#DIV/0!"},{"$error":"#DIV/0!"},null,2190,"Johnson Wagner","wagjo",0.01,7.0000000000000007E-2,3.27,2.5499999999999998,0.46,65,30000,0,0,0,0,null,2190,"Johnson Wagner","wagjo",100,25,1,7,327,255,46,65,750000]
[3221,"Jimmy Walker",null,"Buy",null,null,null,null,null,null,null,null,null,null,0,0,0,0,0,0,0,{"$error":"#DIV/0!"},{"$error":"#DIV/0!"},{"$error":"#DIV/0!"},null,3221,"Jimmy Walker","walji",0.01,7.0000000000000007E-2,3.56,2.98,0.34,69,51689.2,0,0,0,0,null,3221,"Jimmy Walker","walji",100,25,1,7,356,298,34,69,1292230]
[2114,"Bubba Watson",null,"Buy",null,null,null,null,null,null,null,null,null,null,0,0,0,0,0,0,0,{"$error":"#DIV/0!"},{"$error":"#DIV/0!"},{"$error":"#DIV/0!"},null,2114,"Bubba Watson","watbu",0.01,0.12,3.54,3.21,0.28000000000000003,69,43073.760000000002,0,0,0,0,null,2114,"Bubba Watson","watbu",100,25,1,12,354,321,28,69,1076844]
[2115,"Nick Watney",null,"Buy",null,null,null,null,null,null,null,null,null,null,0,0,0,0,0,0,0,{"$error":"#DIV/0!"},{"$error":"#DIV/0!"},{"$error":"#DIV/0!"},null,2115,"Nick Watney","watni",0.01,0.1,3.32,2.71,0.4,63,30000,0,0,0,0,null,2115,"Nick Watney","watni",100,25,1,10,332,271,40,63,750000]
[{"$f":"IF(Z200<>0,Z200,\"\")","v":2010},{"$f":"IF(A200<>0,VLOOKUP(A200,Z:AA,2,FALSE),\"\")","v":"Boo Weekley"},null,{"$f":"HYPERLINK(\"http://www.jockstocks.com/buysell.php?action=buymax&plid=\"&A200,\"Buy\")","v":"Buy"},null,null,null,null,null,null,null,null,null,null,0,0,0,0,0,0,0,{"$error":"#DIV/0!"},{"$error":"#DIV/0!"},{"$error":"#DIV/0!"},null,2010,"Boo Weekley","weebo",0.01,0.1,3.41,2.92,0.31,68,30000,0,0,0,0,null,2010,"Boo Weekley","weebo",100,25,1,10,341,292,31,68,750000]
[{"$f":"IF(Z201<>0,Z201,\"\")","v":641},{"$f":"IF(A201<>0,VLOOKUP(A201,Z:AA,2,FALSE),\"\")","v":"Mike Weir"},null,{"$f":"HYPERLINK(\"http://www.jockstocks.com/buysell.php?action=buymax&plid=\"&A201,\"Buy\")","v":"Buy"},null,null,null,null,null,null,null,null,null,null,0,0,0,0,0,0,0,{"$error":"#DIV/0!"},{"$error":"#DIV/0!"},{"$error":"#DIV/0!"},null,641,"Mike Weir","weirm",0.01,0.06,2.79,4,1,60,30000,0,0,0,0,null,641,"Mike Weir","weirm",100,25,1,6,279,400,100,60,750000]
[{"$f":"IF(Z202<>0,Z202,\"\")","v":2657},{"$f":"IF(A202<>0,VLOOKUP(A202,Z:AA,2,FALSE),\"\")","v":"Lee Westwood"},null,{"$f":"HYPERLINK(\"http://www.jockstocks.com/buysell.php?action=buymax&plid=\"&A202,\"Buy\")","v":"Buy"},null,null,null,null,null,null,null,null,null,null,0,0,0,0,0,0,0,{"$error":"#DIV/0!"},{"$error":"#DIV/0!"},{"$error":"#DIV/0!"},null,2657,"Lee Westwood","wesle",0.01,0.06,3.03,3.3,0.53,74,51611.360000000001,0,0,0,0,null,2657,"Lee Westwood","wesle",100,25,1,6,303,330,53,74,1290284]
[{"$f":"IF(Z203<>0,Z203,\"\")","v":2403},{"$f":"IF(A203<>0,VLOOKUP(A203,Z:AA,2,FALSE),\"\")","v":"Mark Wilson"},null,{"$f":"HYPERLINK(\"http://www.jockstocks.com/buysell.php?action=buymax&plid=\"&A203,\"Buy\")","v":"Buy"},null,null,null,null,null,null,null,null,null,null,0,0,0,0,0,0,0,{"$error":"#DIV/0!"},{"$error":"#DIV/0!"},{"$error":"#DIV/0!"},null,2403,"Mark Wilson","wilsm",0.01,0.06,2.97,3.26,0.28999999999999998,62,30000,0,0,0,0,null,2403,"Mark Wilson","wilsm",100,25,1,6,297,326,29,62,750000]
[611,"Tiger Woods",null,"Buy",null,null,null,null,null,null,null,null,null,null,0,0,0,0,0,0,0,{"$error":"#DIV/0!"},{"$error":"#DIV/0!"},{"$error":"#DIV/0!"},null,611,"Tiger Woods","woods",0.01,0.09,3.78,3.22,0.66,74,44859.8,0,0,0,0,null,611,"Tiger Woods","woods",100,25,1,9,378,322,66,74,1121495]
[2904,"Gary Woodland",null,"Buy",null,null,null,null,null,null,null,null,null,null,0,0,0,0,0,0,0,{"$error":"#DIV/0!"},{"$error":"#DIV/0!"},{"$error":"#DIV/0!"},null,2904,"Gary Woodland","wooga",0.01,0.08,3.66,2.61,0.37,72,91587.28,0,0,0,0,null,2904,"Gary Woodland","wooga",100,25,1,8,366,261,37,72,2289682]
["","",null,"Buy",null,null,null,null,null,null,null,null,null,null,{"$error":"#VALUE!"},{"$error":"#VALUE!"},{"$error":"#VALUE!"},{"$error":"#VALUE!"},{"$error":"#VALUE!"},{"$error":"#VALUE!"},{"$error":"#VALUE!"},{"$error":"#VALUE!"},{"$error":"#VALUE!"},{"$error":"#VALUE!"},null,"","","","","","","","","","","","","",""]
["","",null,"Buy",null,null,null,null,null,null,null,null,null,null,{"$error":"#VALUE!"},{"$error":"#VALUE!"},{"$error":"#VALUE!"},{"$error":"#VALUE!"},{"$error":"#VALUE!"},{"$error":"#VALUE!"},{"$error":"#VALUE!"},{"$error":"#VALUE!"},{"$error":"#VALUE!"},{"$error":"#VALUE!"},null,"","","","","","","","","","","","","",""]
["","",null,"Buy",null,null,null,null,null,null,null,null,null,null,{"$error":"#VALUE!"},{"$error":"#VALUE!"},{"$error":"#VALUE!"},{"$error":"#VALUE!"},{"$error":"#VALUE!"},{"$error":"#VALUE!"},{"$error":"#VALUE!"},{"$error":"#VALUE!"},{"$error":"#VALUE!"},{"$error":"#VALUE!"},null,"","","","","","","","","","","","","",""]
["","",null,"Buy",null,null,null,null,null,null,null,null,null,null,{"$error":"#VALUE!"},{"$error":"#VALUE!"},{"$error":"#VALUE!"},{"$error":"#VALUE!"},{"$error":"#VALUE!"},{"$error":"#VALUE!"},{"$error":"#VALUE!"},{"$error":"#VALUE!"},{"$error":"#VALUE!"},{"$error":"#VALUE!"},null,"","","","","","","","","","","","","",""]
["","",null,"Buy",null,null,null,null,null,null,null,null,null,null,{"$error":"#VALUE!"},{"$error":"#VALUE!"},{"$error":"#VALUE!"},{"$error":"#VALUE!"},{"$error":"#VALUE!"},{"$error":"#VALUE!"},{"$error":"#VALUE!"},{"$error":"#VALUE!"},{"$error":"#VALUE!"},{"$error":"#VALUE!"},null,"","","","","","","","","","","","","",""]
["","",null,"Buy",null,null,null,null,null,null,null,null,null,null,{"$error":"#VALUE!"},{"$error":"#VALUE!"},{"$error":"#VALUE!"},{"$error":"#VALUE!"},{"$error":"#VALUE!"},{"$error":"#VALUE!"},{"$error":"#VALUE!"},{"$error":"#VALUE!"},{"$error":"#VALUE!"},{"$error":"#VALUE!"},null,"","","","","","","","","","","","","",""]
["","",null,"Buy",null,null,null,null,null,null,null,null,null,null,{"$error":"#VALUE!"},{"$error":"#VALUE!"},{"$error":"#VALUE!"},{"$error":"#VALUE!"},{"$error":"#VALUE!"},{"$error":"#VALUE!"},{"$error":"#VALUE!"},{"$error":"#VALUE!"},{"$error":"#VALUE!"},{"$error":"#VALUE!"},null,"","","","","","","","","","","","","",""]
["","",null,"Buy",null,null,null,null,null,null,null,null,null,null,{"$error":"#VALUE!"},{"$error":"#VALUE!"},{"$error":"#VALUE!"},{"$error":"#VALUE!"},{"$error":"#VALUE!"},{"$error":"#VALUE!"},{"$error":"#VALUE!"},{"$error":"#VALUE!"},{"$error":"#VALUE!"},{"$error":"#VALUE!"},null,"","","","","","","","","","","","","",""]
["","",null,"Buy",null,null,null,null,null,null,null,null,null,null,{"$error":"#VALUE!"},{"$error":"#VALUE!"},{"$error":"#VALUE!"},{"$error":"#VALUE!"},{"$error":"#VALUE!"},{"$error":"#VALUE!"},{"$error":"#VALUE!"},{"$error":"#VALUE!"},{"$error":"#VALUE!"},{"$error":"#VALUE!"},null,"","","","","","","","","","","","","",""]
["","",null,"Buy",null,null,null,null,null,null,null,null,null,null,{"$error":"#VALUE!"},{"$error":"#VALUE!"},{"$error":"#VALUE!"},{"$error":"#VALUE!"},{"$error":"#VALUE!"},{"$error":"#VALUE!"},{"$error":"#VALUE!"},{"$error":"#VALUE!"},{"$error":"#VALUE!"},{"$error":"#VALUE!"},null,"","","","","","","","","","","","","",""]
["","",null,"Buy",null,null,null,null,null,null,null,null,null,null,{"$error":"#VALUE!"},{"$error":"#VALUE!"},{"$error":"#VALUE!"},{"$error":"#VALUE!"},{"$error":"#VALUE!"},{"$error":"#VALUE!"},{"$error":"#VALUE!"},{"$error":"#VALUE!"},{"$error":"#VALUE!"},{"$error":"#VALUE!"},null,"","","","","","","","","","","","","",""]
["","",null,"Buy",null,null,null,null,null,null,null,null,null,null,{"$error":"#VALUE!"},{"$error":"#VALUE!"},{"$error":"#VALUE!"},{"$error":"#VALUE!"},{"$error":"#VALUE!"},{"$error":"#VALUE!"},{"$error":"#VALUE!"},{"$error":"#VALUE!"},{"$error":"#VALUE!"},{"$error":"#VALUE!"},null,"","","","","","","","","","","","","",""]
["","",null,"Buy",null,null,null,null,null,null,null,null,null,null,{"$error":"#VALUE!"},{"$error":"#VALUE!"},{"$error":"#VALUE!"},{"$error":"#VALUE!"},{"$error":"#VALUE!"},{"$error":"#VALUE!"},{"$error":"#VALUE!"},{"$error":"#VALUE!"},{"$error":"#VALUE!"},{"$error":"#VALUE!"},null,"","","","","","","","","","","","","",""]
["","",null,"Buy",null,null,null,null,null,null,null,null,null,null,{"$error":"#VALUE!"},{"$error":"#VALUE!"},{"$error":"#VALUE!"},{"$error":"#VALUE!"},{"$error":"#VALUE!"},{"$error":"#VALUE!"},{"$error":"#VALUE!"},{"$error":"#VALUE!"},{"$error":"#VALUE!"},{"$error":"#VALUE!"},null,"","","","","","","","","","","","","",""]
["","",null,"Buy",null,null,null,null,null,null,null,null,null,null,{"$error":"#VALUE!"},{"$error":"#VALUE!"},{"$error":"#VALUE!"},{"$error":"#VALUE!"},{"$error":"#VALUE!"},{"$error":"#VALUE!"},{"$error":"#VALUE!"},{"$error":"#VALUE!"},{"$error":"#VALUE!"},{"$error":"#VALUE!"},null,"","","","","","","","","","","","","",""]
["","",null,"Buy",null,null,null,null,null,null,null,null,null,null,{"$error":"#VALUE!"},{"$error":"#VALUE!"},{"$error":"#VALUE!"},{"$error":"#VALUE!"},{"$error":"#VALUE!"},{"$error":"#VALUE!"},{"$error":"#VALUE!"},{"$error":"#VALUE!"},{"$error":"#VALUE!"},{"$error":"#VALUE!"},null,"","","","","","","","","","","","","",""]
["","",null,"Buy",null,null,null,null,null,null,null,null,null,null,{"$error":"#VALUE!"},{"$error":"#VALUE!"},{"$error":"#VALUE!"},{"$error":"#VALUE!"},{"$error":"#VALUE!"},{"$error":"#VALUE!"},{"$error":"#VALUE!"},{"$error":"#VALUE!"},{"$error":"#VALUE!"},{"$error":"#VALUE!"},null,"","","","","","","","","","","","","",""]
["","",null,"Buy",null,null,null,null,null,null,null,null,null,null,{"$error":"#VALUE!"},{"$error":"#VALUE!"},{"$error":"#VALUE!"},{"$error":"#VALUE!"},{"$error":"#VALUE!"},{"$error":"#VALUE!"},{"$error":"#VALUE!"},{"$error":"#VALUE!"},{"$error":"#VALUE!"},{"$error":"#VALUE!"},null,"","","","","","","","","","","","","",""]
["","",null,"Buy",null,null,null,null,null,null,null,null,null,null,{"$error":"#VALUE!"},{"$error":"#VALUE!"},{"$error":"#VALUE!"},{"$error":"#VALUE!"},{"$error":"#VALUE!"},{"$error":"#VALUE!"},{"$error":"#VALUE!"},{"$error":"#VALUE!"},{"$error":"#VALUE!"},{"$error":"#VALUE!"},null,"","","","","","","","","","","","","",""]
["","",null,"Buy",null,null,null,null,null,null,null,null,null,null,{"$f":"VLOOKUP($A225,$A:$N,5,FALSE)/VLOOKUP($A225,$Z:$AM,10,FALSE)","v":{"$error":"#VALUE!"}},{"$f":"VLOOKUP($A225,$A:$N,6,FALSE)/VLOOKUP($A225,$Z:$AM,4,FALSE)","v":{"$error":"#VALUE!"}},{"$f":"VLOOKUP($A225,$A:$N,7,FALSE)/VLOOKUP($A225,$Z:$AM,5,FALSE)","v":{"$error":"#VALUE!"}},{"$f":"VLOOKUP($A225,$A:$N,8,FALSE)/VLOOKUP($A225,$Z:$AM,6,FALSE)","v":{"$error":"#VALUE!"}},{"$f":"VLOOKUP($A225,$A:$N,9,FALSE)/VLOOKUP($A225,$Z:$AM,7,FALSE)","v":{"$error":"#VALUE!"}},{"$f":"VLOOKUP($A225,$A:$N,10,FALSE)/VLOOKUP($A225,$Z:$AM,8,FALSE)","v":{"$error":"#VALUE!"}},{"$f":"VLOOKUP($A225,$A:$N,11,FALSE)/VLOOKUP($A225,$Z:$AM,9,FALSE)","v":{"$error":"#VALUE!"}},{"$f":"VLOOKUP($A225,$A:$N,12,FALSE)/VLOOKUP($A225,$Z:$AM,11,FALSE)","v":{"$error":"#VALUE!"}},{"$f":"VLOOKUP($A225,$A:$N,13,FALSE)/VLOOKUP($A225,$Z:$AM,12,FALSE)","v":{"$error":"#VALUE!"}},{"$f":"VLOOKUP($A225,$A:$N,14,FALSE)/VLOOKUP($A225,$Z:$AM,13,FALSE)","v":{"$error":"#VALUE!"}},null,"","","","","","","","","","","","","",""]
["","",null,"Buy",null,null,null,null,null,null,null,null,null,null,{"$error":"#VALUE!"},{"$error":"#VALUE!"},{"$error":"#VALUE!"},{"$error":"#VALUE!"},{"$error":"#VALUE!"},{"$error":"#VALUE!"},{"$error":"#VALUE!"},{"$error":"#VALUE!"},{"$error":"#VALUE!"},{"$error":"#VALUE!"},null,{"$f":"IF(AO233<>0,AO233,\"\")","v":""},{"$f":"IF(AP233<>0,VLOOKUP(Z226,AO:AP,2,FALSE),\"\")","v":""},{"$f":"IF(AQ233<>0,AQ233,\"\")","v":""},{"$f":"IF($AO233<>0,AT233/$AR233,\"\")","v":""},"","","","",{"$f":"IF($AO233<>0,AY233,\"\")","v":""},{"$f":"IF($AO233<>0,AZ233/$AS233,\"\")","v":""},{"$f":"IF($AO233<>0,BA226/$AT233,\"\")","v":""},"","",""]
["","",null,"Buy",null,null,null,null,null,null,null,null,null,null,{"$error":"#VALUE!"},{"$error":"#VALUE!"},{"$error":"#VALUE!"},{"$error":"#VALUE!"},{"$error":"#VALUE!"},{"$error":"#VALUE!"},{"$error":"#VALUE!"},{"$error":"#VALUE!"},{"$error":"#VALUE!"},{"$error":"#VALUE!"},null,{"$f":"IF(AO234<>0,AO234,\"\")","v":""},{"$f":"IF(AP234<>0,VLOOKUP(Z227,AO:AP,2,FALSE),\"\")","v":""},{"$f":"IF(AQ234<>0,AQ234,\"\")","v":""},"","","","","",{"$f":"IF($AO234<>0,AY234,\"\")","v":""},{"$f":"IF($AO234<>0,AZ234/$AS234,\"\")","v":""},"","","",""]
["","",null,"Buy",null,null,null,null,null,null,null,null,null,null,{"$error":"#VALUE!"},{"$error":"#VALUE!"},{"$error":"#VALUE!"},{"$error":"#VALUE!"},{"$error":"#VALUE!"},{"$error":"#VALUE!"},{"$error":"#VALUE!"},{"$error":"#VALUE!"},{"$error":"#VALUE!"},{"$error":"#VALUE!"},null,{"$f":"IF(AO235<>0,AO235,\"\")","v":""},{"$f":"IF(AP235<>0,VLOOKUP(Z228,AO:AP,2,FALSE),\"\")","v":""},{"$f":"IF(AQ235<>0,AQ235,\"\")","v":""},"","","","","",{"$f":"IF($AO235<>0,AY235,\"\")","v":""},{"$f":"IF($AO235<>0,AZ235/$AS235,\"\")","v":""},"","","",""]
["","",null,"Buy",null,null,null,null,null,null,null,null,null,null,{"$error":"#VALUE!"},{"$error":"#VALUE!"},{"$error":"#VALUE!"},{"$error":"#VALUE!"},{"$error":"#VALUE!"},{"$error":"#VALUE!"},{"$error":"#VALUE!"},{"$error":"#VALUE!"},{"$error":"#VALUE!"},{"$error":"#VALUE!"},null,{"$f":"IF(AO236<>0,AO236,\"\")","v":""},{"$f":"IF(AP236<>0,VLOOKUP(Z229,AO:AP,2,FALSE),\"\")","v":""},{"$f":"IF(AQ236<>0,AQ236,\"\")","v":""},"","","","","",{"$f":"IF($AO236<>0,AY236,\"\")","v":""},{"$f":"IF($AO236<>0,AZ236/$AS236,\"\")","v":""},"","","",""]
["","",null,"Buy",null,null,null,null,null,null,null,null,null,null,{"$error":"#VALUE!"},{"$error":"#VALUE!"},{"$error":"#VALUE!"},{"$error":"#VALUE!"},{"$error":"#VALUE!"},{"$error":"#VALUE!"},{"$error":"#VALUE!"},{"$error":"#VALUE!"},{"$error":"#VALUE!"},{"$error":"#VALUE!"},null,{"$f":"IF(AO237<>0,AO237,\"\")","v":""},{"$f":"IF(AP237<>0,VLOOKUP(Z230,AO:AP,2,FALSE),\"\")","v":""},{"$f":"IF(AQ237<>0,AQ237,\"\")","v":""},"","","","","",{"$f":"IF($AO237<>0,AY237,\"\")","v":""},{"$f":"IF($AO237<>0,AZ237/$AS237,\"\")","v":""},"","","",""]
[null,null,null,null,null,null,null,null,null,null,null,null,null,null,null,null,null,null,null,null,null,null,null,null,null,{"$f":"IF(AO207<>0,AO207,\"\")","v":""},{"$f":"IF(AP207<>0,VLOOKUP(Z231,AO:AP,2,FALSE),\"\")","v":""},{"$f":"IF(AQ207<>0,AQ207,\"\")","v":""},{"$f":"IF($AO207<>0,AT207/$AR207,\"\")","v":""},{"$f":"IF($AO207<>0,AU207/$AR207,\"\")","v":""},{"$f":"IF($AO207<>0,AV207/$AR207,\"\")","v":""},{"$f":"IF($AO207<>0,AW207/$AR207,\"\")","v":""},{"$f":"IF($AO207<>0,AX207/$AR207,\"\")","v":""},{"$f":"IF($AO207<>0,AY207,\"\")","v":""},{"$f":"IF($AO207<>0,AZ207/$AS207,\"\")","v":""},{"$f":"IF($AO207<>0,BA231/$AT207,\"\")","v":""},{"$f":"IF($AO207<>0,BB231/$AT207,\"\")","v":""},{"$f":"IF($AO207<>0,BC231/$AT207,\"\")","v":""},{"$f":"IF($AO207<>0,BD231/$AT207,\"\")","v":""}]
[null,null,null,null,null,null,null,null,null,null,null,null,null,null,null,null,null,null,null,null,null,null,null,null,null,"","","","","","","","","","","","","",""]
[null,null,null,null,null,null,null,null,null,null,null,null,null,null,null,null,null,null,null,null,null,null,null,null,null,"","","","","","","","","","","","","",""]
[null,null,null,null,null,null,null,null,null,null,null,null,null,null,null,null,null,null,null,null,null,null,null,null,null,"","","","","","","","","","","","","",""]
[null,null,null,null,null,null,null,null,null,null,null,null,null,null,null,null,null,null,null,null,null,null,null,null,null,"","","","","","","","","","","","","",""]
[null,null,null,null,null,null,null,null,null,null,null,null,null,null,null,null,null,null,null,null,null,null,null,null,null,"","","","","","","","","","","","","",""]
[null,null,null,null,null,null,null,null,null,null,null,null,null,null,null,null,null,null,null,null,null,null,null,null,null,"","","","","","","","","","","","","",""]
[null,null,null,null,null,null,null,null,null,null,null,null,null,null,null,null,null,null,null,null,null,null,null,null,null,"","","","","","","","","","","","","",""]
[null,null,null,null,null,null,null,null,null,null,null,null,null,null,null,null,null,null,null,null,null,null,null,null,null,"","","","","","","","","","","","","",""]
[null,null,null,null,null,null,null,null,null,null,null,null,null,null,null,null,null,null,null,null,null,null,null,null,null,"","","","","","","","","","","","","",""]
[null,null,null,null,null,null,null,null,null,null,null,null,null,null,null,null,null,null,null,null,null,null,null,null,null,"","","","","","","","","","","","","",""]
[null,null,null,null,null,null,null,null,null,null,null,null,null,null,null,null,null,null,null,null,null,null,null,null,null,"","","","","","","","","","","","","",""]
[null,null,null,null,null,null,null,null,null,null,null,null,null,null,null,null,null,null,null,null,null,null,null,null,null,"","","","","","","","","","","","","",""]
[null,null,null,null,null,null,null,null,null,null,null,null,null,null,null,null,null,null,null,null,null,null,null,null,null,"","","","","","","","","","","","","",""]
[null,null,null,null,null,null,null,null,null,null,null,null,null,null,null,null,null,null,null,null,null,null,null,null,null,"","","","","","","","","","","","","",""]
[null,null,null,null,null,null,null,null,null,null,null,null,null,null,null,null,null,null,null,null,null,null,null,null,null,"","","","","","","","","","","","","",""]
[null,null,null,null,null,null,null,null,null,null,null,null,null,null,null,null,null,null,null,null,null,null,null,null,null,"","","","","","","","","","","","","",""]
[null,null,null,null,null,null,null,null,null,null,null,null,null,null,null,null,null,null,null,null,null,null,null,null,null,"","","","","","","","","","","","","",""]
[null,null,null,null,null,null,null,null,null,null,null,null,null,null,null,null,null,null,null,null,null,null,null,null,null,"","","","","","","","","","","","","",""]
[null,null,null,null,null,null,null,null,null,null,null,null,null,null,null,null,null,null,null,null,null,null,null,null,null,"","","","","","","","","","","","","",""]

{"sheet":"NASCAR","index":15,"n_rows":75,"n_cols":50,"rows_kept":75,"cut":false,"hidden":false,"merged":[]}
["plid","Name",null,null,"Pts","+/-","Top5Q","Top5F","Top10F","Win",null,null,null,null,"Pts","+/-","Top5Q","Top5F","Top10F","Win",null,null,null,null,null,{"$f":"IF(AO1<>0,AO1,\"\")","v":"ID"},{"$f":"IF(AP1<>0,AP1,\"\")","v":"Name"},{"$f":"IF(AQ1<>0,AQ1,\"\")","v":"Symbol"},{"$f":"IF(AS1<>0,AS1,\"\")","v":"Points"},{"$f":"IF(AT1<>0,AT1,\"\")","v":"+/-"},"Top 5 Qualify","Top 5 Finish","Top 10 Finish","Wins","","","","","",null,"ID","Name","Symbol","Races","Points","+/-","Top 5 Qualify","Top 5 Finish","Top 10 Finish","Wins"]
[{"$f":"IF(Z2<>0,Z2,\"\")","v":1937},{"$f":"IF(A2<>0,VLOOKUP(A2,Z:AA,2,FALSE),\"\")","v":"A.J. Allmendinger"},null,{"$f":"HYPERLINK(\"http://www.jockstocks.com/buysell.php?action=buymax&plid=\"&A2,\"Buy\")","v":"Buy"},null,null,null,null,null,null,null,null,null,null,{"$f":"VLOOKUP($A2,$A:$N,5,FALSE)/VLOOKUP($A2,$Z:$AM,4,FALSE)","v":0},{"$f":"VLOOKUP($A2,$A:$N,6,FALSE)/VLOOKUP($A2,$Z:$AM,5,FALSE)","v":0},{"$f":"VLOOKUP($A2,$A:$N,7,FALSE)/VLOOKUP($A2,$Z:$AM,6,FALSE)","v":0},{"$f":"VLOOKUP($A2,$A:$N,8,FALSE)/VLOOKUP($A2,$Z:$AM,7,FALSE)","v":0},{"$f":"VLOOKUP($A2,$A:$N,9,FALSE)/VLOOKUP($A2,$Z:$AM,8,FALSE)","v":0},{"$f":"VLOOKUP($A2,$A:$N,10,FALSE)/VLOOKUP($A2,$Z:$AM,9,FALSE)","v":0},{"$f":"VLOOKUP($A2,$A:$N,11,FALSE)/VLOOKUP($A2,$Z:$AM,10,FALSE)","v":{"$error":"#DIV/0!"}},{"$f":"VLOOKUP($A2,$A:$N,12,FALSE)/VLOOKUP($A2,$Z:$AM,11,FALSE)","v":{"$error":"#DIV/0!"}},{"$f":"VLOOKUP($A2,$A:$N,13,FALSE)/VLOOKUP($A2,$Z:$AM,12,FALSE)","v":{"$error":"#DIV/0!"}},{"$f":"VLOOKUP($A2,$A:$N,14,FALSE)/VLOOKUP($A2,$Z:$AM,13,FALSE)","v":{"$error":"#DIV/0!"}}," ",{"$f":"IF(AO2<>0,AO2,\"\")","v":1937},{"$f":"IF(AP2<>0,VLOOKUP(Z2,AO:AP,2,FALSE),\"\")","v":"A.J. Allmendinger"},{"$f":"IF(AQ2<>0,AQ2,\"\")","v":"allaj"},{"$f":"IF($AO2<>0,AS2/$AR2,\"\")","v":15.722222222222221},1.8888888888888888,8.3333333333333329E-2,2.7777777777777776E-2,0.1388888888888889,2.7777777777777776E-2,0,0,0,0,0,null,1937,"A.J. Allmendinger","allaj",36,566,68,3,1,5,1]
[{"$f":"IF(Z3<>0,Z3,\"\")","v":3760},{"$f":"IF(A3<>0,VLOOKUP(A3,Z:AA,2,FALSE),\"\")","v":"Justin Allgaier"},null,{"$f":"HYPERLINK(\"http://www.jockstocks.com/buysell.php?action=buymax&plid=\"&A3,\"Buy\")","v":"Buy"},null,null,null,null,null,null,null,null,null,null,0,0,{"$f":"VLOOKUP($A3,$A:$N,7,FALSE)/VLOOKUP($A3,$Z:$AM,6,FALSE)","v":0},0,0,0,{"$error":"#DIV/0!"},{"$error":"#DIV/0!"},{"$error":"#DIV/0!"},{"$error":"#DIV/0!"}," ",{"$f":"IF(AO3<>0,AO3,\"\")","v":3760},{"$f":"IF(AP3<>0,VLOOKUP(Z3,AO:AP,2,FALSE),\"\")","v":"Justin Allgaier"},{"$f":"IF(AQ3<>0,AQ3,\"\")","v":"allju"},{"$f":"IF($AO3<>0,AS3/$AR3,\"\")","v":16.333333333333332},{"$f":"IF($AO3<>0,AT3/$AR3,\"\")","v":-1.5833333333333333},{"$f":"IF($AO3<>0,AU3/$AR3,\"\")","v":8.3333333333333329E-2},{"$f":"IF($AO3<>0,AV3/$AR3,\"\")","v":2.7777777777777776E-2},{"$f":"IF($AO3<>0,AW3/$AR3,\"\")","v":2.7777777777777776E-2},{"$f":"IF($AO3<>0,AX3/$AR3,\"\")","v":2.7777777777777776E-2},{"$f":"IF($AO3<>0,AY3/$AR3,\"\")","v":0},{"$f":"IF($AO3<>0,AZ3/$AR3,\"\")","v":0},{"$f":"IF($AO3<>0,BA3/$AR3,\"\")","v":0},{"$f":"IF($AO3<>0,BB3/$AR3,\"\")","v":0},{"$f":"IF($AO3<>0,BC3/$AR3,\"\")","v":0},null,3760,"Justin Allgaier","allju",36,588,-57,3,1,1,1]
[2137,"Aric Almirola",null,"Buy",null,null,null,null,null,null,null,null,null,null,0,0,0,0,0,0,{"$error":"#DIV/0!"},{"$error":"#DIV/0!"},{"$error":"#DIV/0!"},{"$error":"#DIV/0!"}," ",2137,"Aric Almirola","almar",18.388888888888889,3.6111111111111112,8.3333333333333329E-2,0.1111111111111111,0.19444444444444445,2.7777777777777776E-2,0,0,0,0,0,null,2137,"Aric Almirola","almar",36,662,130,3,4,7,1]
[3759,"Michael Annett",null,"Buy",null,null,null,null,null,null,null,null,null,null,0,0,0,0,0,0,{"$error":"#DIV/0!"},{"$error":"#DIV/0!"},{"$error":"#DIV/0!"},{"$error":"#DIV/0!"}," ",3759,"Michael Annett","annmi",11.111111111111111,4.166666666666667,8.3333333333333329E-2,2.7777777777777776E-2,2.7777777777777776E-2,2.7777777777777776E-2,0,0,0,0,0,null,3759,"Michael Annett","annmi",36,400,150,3,1,1,1]
[2817,"Trevor Bayne",null,"Buy",null,null,null,null,null,null,null,null,null,null,0,0,0,0,0,0,{"$error":"#DIV/0!"},{"$error":"#DIV/0!"},{"$error":"#DIV/0!"},{"$error":"#DIV/0!"}," ",2817,"Trevor Bayne","baytr",18.138888888888889,1.6666666666666667,8.3333333333333329E-2,5.5555555555555552E-2,0.16666666666666666,2.7777777777777776E-2,0,0,0,0,0,null,2817,"Trevor Bayne","baytr",36,653,60,3,2,6,1]
[683,"Greg Biffle",null,"Buy",null,null,null,null,null,null,null,null,null,null,0,0,0,0,0,0,{"$error":"#DIV/0!"},{"$error":"#DIV/0!"},{"$error":"#DIV/0!"},{"$error":"#DIV/0!"}," ",683,"Greg Biffle","bifgr",19.611111111111111,-1.3611111111111112,8.3333333333333329E-2,2.7777777777777776E-2,8.3333333333333329E-2,2.7777777777777776E-2,0,0,0,0,0,null,683,"Greg Biffle","bifgr",36,706,-49,3,1,3,1]
[3763,"Ryan Blaney",null,"Buy",null,null,null,null,null,null,null,null,null,null,0,0,0,0,0,0,{"$error":"#DIV/0!"},{"$error":"#DIV/0!"},{"$error":"#DIV/0!"},{"$error":"#DIV/0!"}," ",3763,"Ryan Blaney","blary",25.194444444444443,-4.166666666666667,0.27777777777777779,0.1111111111111111,0.3888888888888889,2.7777777777777776E-2,0,0,0,0,0,null,3763,"Ryan Blaney","blary",36,907,-150,10,4,14,1]
[3755,"Alex Bowman",null,"Buy",null,null,null,null,null,null,null,null,null,null,0,0,0,0,0,0,{"$error":"#DIV/0!"},{"$error":"#DIV/0!"},{"$error":"#DIV/0!"},{"$error":"#DIV/0!"}," ",3755,"Alex Bowman","bowal",21.305555555555557,-4.166666666666667,0.30555555555555558,2.7777777777777776E-2,0.30555555555555558,2.7777777777777776E-2,0,0,0,0,0,null,3755,"Alex Bowman","bowal",36,767,-150,11,1,11,1]
[1720,"Clint Bowyer",null,"Buy",null,null,null,null,null,null,null,null,null,null,0,0,0,0,0,0,{"$error":"#DIV/0!"},{"$error":"#DIV/0!"},{"$error":"#DIV/0!"},{"$error":"#DIV/0!"}," ",1720,"Clint Bowyer","bowcl",23.611111111111111,-2.2222222222222223,0.1111111111111111,0.16666666666666666,0.3611111111111111,2.7777777777777776E-2,0,0,0,0,0,null,1720,"Clint Bowyer","bowcl",36,850,-80,4,6,13,1]
[3997,"Chris Buescher",null,"Buy",null,null,null,null,null,null,null,null,null,null,0,0,0,0,0,0,{"$error":"#DIV/0!"},{"$error":"#DIV/0!"},{"$error":"#DIV/0!"},{"$error":"#DIV/0!"}," ",3997,"Chris Buescher","buech",15.666666666666666,4.166666666666667,8.3333333333333329E-2,2.7777777777777776E-2,0.1388888888888889,2.7777777777777776E-2,0,0,0,0,0,null,3997,"Chris Buescher","buech",36,564,150,3,1,5,1]
[3756,"Jeb Burton",null,"Buy",null,null,null,null,null,null,null,null,null,null,0,0,0,0,0,0,{"$error":"#DIV/0!"},{"$error":"#DIV/0!"},{"$error":"#DIV/0!"},{"$error":"#DIV/0!"}," ",3756,"Jeb Burton","burje",11.111111111111111,1.4722222222222223,8.3333333333333329E-2,2.7777777777777776E-2,2.7777777777777776E-2,2.7777777777777776E-2,0,0,0,0,0,null,3756,"Jeb Burton","burje",36,400,53,3,1,1,1]
[158,"Kurt Busch",null,"Buy",null,null,null,null,null,null,null,null,null,null,0,0,0,0,0,0,{"$error":"#DIV/0!"},{"$error":"#DIV/0!"},{"$error":"#DIV/0!"},{"$error":"#DIV/0!"}," ",158,"Kurt Busch","busku",23.638888888888889,-4.166666666666667,0.1111111111111111,0.16666666666666666,0.41666666666666669,2.7777777777777776E-2,0,0,0,0,0,null,158,"Kurt Busch","busku",36,851,-150,4,6,15,1]
[1436,"Kyle Busch",null,"Buy",null,null,null,null,null,null,null,null,null,null,0,0,0,0,0,0,{"$error":"#DIV/0!"},{"$error":"#DIV/0!"},{"$error":"#DIV/0!"},{"$error":"#DIV/0!"}," ",1436,"Kyle Busch","busky",30.555555555555557,-4.166666666666667,0.41666666666666669,0.3888888888888889,0.55555555555555558,0.1388888888888889,0,0,0,0,0,null,1436,"Kyle Busch","busky",36,1100,-150,15,14,20,5]
[3758,"Landon Cassill",null,"Buy",null,null,null,null,null,null,null,null,null,null,0,0,0,0,0,0,{"$error":"#DIV/0!"},{"$error":"#DIV/0!"},{"$error":"#DIV/0!"},{"$error":"#DIV/0!"}," ",3758,"Landon Cassill","casla",11.111111111111111,2.9166666666666665,8.3333333333333329E-2,2.7777777777777776E-2,2.7777777777777776E-2,2.7777777777777776E-2,0,0,0,0,0,null,3758,"Landon Cassill","casla",36,400,105,3,1,1,1]
[3999,"Matt DiBenedetto",null,"Buy",null,null,null,null,null,null,null,null,null,null,0,0,0,0,0,0,{"$error":"#DIV/0!"},{"$error":"#DIV/0!"},{"$error":"#DIV/0!"},{"$error":"#DIV/0!"}," ",3999,"Matt DiBenedetto","dibma",11.111111111111111,1.8611111111111112,8.3333333333333329E-2,2.7777777777777776E-2,5.5555555555555552E-2,2.7777777777777776E-2,0,0,0,0,0,null,3999,"Matt DiBenedetto","dibma",36,400,67,3,1,2,1]
[3459,"Austin Dillon",null,"Buy",null,null,null,null,null,null,null,null,null,null,0,0,0,0,0,0,{"$error":"#DIV/0!"},{"$error":"#DIV/0!"},{"$error":"#DIV/0!"},{"$error":"#DIV/0!"}," ",3459,"Austin Dillon","dilau",19.444444444444443,0.5,8.3333333333333329E-2,8.3333333333333329E-2,0.1111111111111111,2.7777777777777776E-2,0,0,0,0,0,null,3459,"Austin Dillon","dilau",36,700,18,3,3,4,1]
[3765,"Ty Dillon",null,"Buy",null,null,null,null,null,null,null,null,null,null,0,0,0,0,0,0,{"$error":"#DIV/0!"},{"$error":"#DIV/0!"},{"$error":"#DIV/0!"},{"$error":"#DIV/0!"}," ",3765,"Ty Dillon","dilty",16.333333333333332,4.166666666666667,8.3333333333333329E-2,2.7777777777777776E-2,2.7777777777777776E-2,2.7777777777777776E-2,0,0,0,0,0,null,3765,"Ty Dillon","dilty",36,588,150,3,1,1,1]
[3998,"Jeffrey Earnhardt",null,"Buy",null,null,null,null,null,null,null,null,null,null,0,0,0,0,0,0,{"$error":"#DIV/0!"},{"$error":"#DIV/0!"},{"$error":"#DIV/0!"},{"$error":"#DIV/0!"}," ",3998,"Jeffrey Earnhardt","earje",11.111111111111111,2.5833333333333335,8.3333333333333329E-2,2.7777777777777776E-2,2.7777777777777776E-2,2.7777777777777776E-2,0,0,0,0,0,null,3998,"Jeffrey Earnhardt","earje",36,400,93,3,1,1,1]
[160,"Dale Earnhardt Jr.",null,"Buy",null,null,null,null,null,null,null,null,null,null,0,0,0,0,0,0,{"$error":"#DIV/0!"},{"$error":"#DIV/0!"},{"$error":"#DIV/0!"},{"$error":"#DIV/0!"}," ",160,"Dale Earnhardt Jr.","earnd",17.972222222222221,-2.9444444444444446,0.1388888888888889,2.7777777777777776E-2,0.22222222222222221,2.7777777777777776E-2,0,0,0,0,0,null,160,"Dale Earnhardt Jr.","earnd",36,647,-106,5,1,8,1]
[1345,"Carl Edwards",null,"Buy",null,null,null,null,null,null,null,null,null,null,0,0,0,0,0,0,{"$error":"#DIV/0!"},{"$error":"#DIV/0!"},{"$error":"#DIV/0!"},{"$error":"#DIV/0!"}," ",1345,"Carl Edwards","edwca",27.138888888888889,-4.166666666666667,0.41666666666666669,0.25,0.5,8.3333333333333329E-2,0,0,0,0,0,null,1345,"Carl Edwards","edwca",36,977,-150,15,9,18,3]
[3766,"Chase Elliot",null,"Buy",null,null,null,null,null,null,null,null,null,null,0,0,0,0,0,0,{"$error":"#DIV/0!"},{"$error":"#DIV/0!"},{"$error":"#DIV/0!"},{"$error":"#DIV/0!"}," ",3766,"Chase Elliot","ellch",30.555555555555557,-1.1666666666666667,0.27777777777777779,0.33333333333333331,0.55555555555555558,2.7777777777777776E-2,0,0,0,0,0,null,3766,"Chase Elliot","ellch",36,1100,-42,10,12,20,1]
[1938,"David Gilliland",null,"Buy",null,null,null,null,null,null,null,null,null,null,0,0,0,0,0,0,{"$error":"#DIV/0!"},{"$error":"#DIV/0!"},{"$error":"#DIV/0!"},{"$error":"#DIV/0!"}," ",1938,"David Gilliland","gilda",14.777777777777779,4.166666666666667,8.3333333333333329E-2,2.7777777777777776E-2,2.7777777777777776E-2,2.7777777777777776E-2,0,0,0,0,0,null,1938,"David Gilliland","gilda",36,532,150,3,1,1,1]
[114,"Jeff Gordon",null,"Buy",null,null,null,null,null,null,null,null,null,null,0,0,0,0,0,0,{"$error":"#DIV/0!"},{"$error":"#DIV/0!"},{"$error":"#DIV/0!"},{"$error":"#DIV/0!"}," ",114,"Jeff Gordon","gorje",27.25,2.5,8.3333333333333329E-2,2.7777777777777776E-2,0.25,2.7777777777777776E-2,0,0,0,0,0,null,114,"Jeff Gordon","gorje",36,981,90,3,1,9,1]
[1721,"Denny Hamlin",null,"Buy",null,null,null,null,null,null,null,null,null,null,0,0,0,0,0,0,{"$error":"#DIV/0!"},{"$error":"#DIV/0!"},{"$error":"#DIV/0!"},{"$error":"#DIV/0!"}," ",1721,"Denny Hamlin","hamde",30.555555555555557,-3.1944444444444446,0.3888888888888889,0.41666666666666669,0.55555555555555558,5.5555555555555552E-2,0,0,0,0,0,null,1721,"Denny Hamlin","hamde",36,1100,-115,14,15,20,2]
[168,"Kevin Harvick",null,"Buy",null,null,null,null,null,null,null,null,null,null,0,0,0,0,0,0,{"$error":"#DIV/0!"},{"$error":"#DIV/0!"},{"$error":"#DIV/0!"},{"$error":"#DIV/0!"}," ",168,"Kevin Harvick","harke",30.555555555555557,-2.2777777777777777,0.33333333333333331,0.3888888888888889,0.55555555555555558,5.5555555555555552E-2,0,0,0,0,0,null,168,"Kevin Harvick","harke",36,1100,-82,12,14,20,2]
[3770,"Timmy Hill",null,"Buy",null,null,null,null,null,null,null,null,null,null,0,0,0,0,0,0,{"$error":"#DIV/0!"},{"$error":"#DIV/0!"},{"$error":"#DIV/0!"},{"$error":"#DIV/0!"}," ",3770,"Timmy Hill","hilti",11.111111111111111,4.166666666666667,8.3333333333333329E-2,2.7777777777777776E-2,2.7777777777777776E-2,2.7777777777777776E-2,0,0,0,0,0,null,3770,"Timmy Hill","hilti",36,400,150,3,1,1,1]
[2133,"Sam Hornish, Jr.",null,"Buy",null,null,null,null,null,null,null,null,null,null,0,0,0,0,0,0,{"$error":"#DIV/0!"},{"$error":"#DIV/0!"},{"$error":"#DIV/0!"},{"$error":"#DIV/0!"}," ",2133,"Sam Hornish, Jr.","horsa",19.694444444444443,1.1111111111111112,8.3333333333333329E-2,2.7777777777777776E-2,8.3333333333333329E-2,2.7777777777777776E-2,0,0,0,0,0,null,2133,"Sam Hornish, Jr.","horsa",36,709,40,3,1,3,1]
[112,"Jimmie Johnson",null,"Buy",null,null,null,null,null,null,null,null,null,null,0,0,0,0,0,0,{"$error":"#DIV/0!"},{"$error":"#DIV/0!"},{"$error":"#DIV/0!"},{"$error":"#DIV/0!"}," ",112,"Jimmie Johnson","johji",25.083333333333332,5.5555555555555552E-2,8.3333333333333329E-2,0.1111111111111111,0.30555555555555558,8.3333333333333329E-2,0,0,0,0,0,null,112,"Jimmie Johnson","johji",36,903,2,3,4,11,3]
[4175,"Erik Jones",null,"Buy",null,null,null,null,null,null,null,null,null,null,0,0,0,0,0,0,{"$error":"#DIV/0!"},{"$error":"#DIV/0!"},{"$error":"#DIV/0!"},{"$error":"#DIV/0!"}," ",4175,"Erik Jones","joner",24.222222222222221,-2.3611111111111112,8.3333333333333329E-2,0.1388888888888889,0.3888888888888889,2.7777777777777776E-2,0,0,0,0,0,null,4175,"Erik Jones","joner",36,872,-85,3,5,14,1]
[1046,"Kasey Kahne",null,"Buy",null,null,null,null,null,null,null,null,null,null,0,0,0,0,0,0,{"$error":"#DIV/0!"},{"$error":"#DIV/0!"},{"$error":"#DIV/0!"},{"$error":"#DIV/0!"}," ",1046,"Kasey Kahne","kahka",18.805555555555557,-1.5277777777777777,8.3333333333333329E-2,8.3333333333333329E-2,0.16666666666666666,2.7777777777777776E-2,0,0,0,0,0,null,1046,"Kasey Kahne","kahka",36,677,-55,3,3,6,1]
[155,"Matt Kenseth",null,"Buy",null,null,null,null,null,null,null,null,null,null,0,0,0,0,0,0,{"$error":"#DIV/0!"},{"$error":"#DIV/0!"},{"$error":"#DIV/0!"},{"$error":"#DIV/0!"}," ",155,"Matt Kenseth","kenma",29.027777777777779,-3.8611111111111112,0.41666666666666669,0.27777777777777779,0.5,2.7777777777777776E-2,0,0,0,0,0,null,155,"Matt Kenseth","kenma",36,1045,-139,15,10,18,1]
[2880,"Brad Keselowski",null,"Buy",null,null,null,null,null,null,null,null,null,null,0,0,0,0,0,0,{"$error":"#DIV/0!"},{"$error":"#DIV/0!"},{"$error":"#DIV/0!"},{"$error":"#DIV/0!"}," ",2880,"Brad Keselowski","kesbr",30.555555555555557,-3.6666666666666665,0.30555555555555558,0.41666666666666669,0.55555555555555558,8.3333333333333329E-2,0,0,0,0,0,null,2880,"Brad Keselowski","kesbr",36,1100,-132,11,15,20,3]
[1437,"Travis Kvapil",null,"Buy",null,null,null,null,null,null,null,null,null,null,0,0,0,0,0,0,{"$error":"#DIV/0!"},{"$error":"#DIV/0!"},{"$error":"#DIV/0!"},{"$error":"#DIV/0!"}," ",1437,"Travis Kvapil","kvatr",11.111111111111111,2.5833333333333335,8.3333333333333329E-2,2.7777777777777776E-2,5.5555555555555552E-2,2.7777777777777776E-2,0,0,0,0,0,null,1437,"Travis Kvapil","kvatr",36,400,93,3,1,2,1]
[164,"Bobby Labonte",null,"Buy",null,null,null,null,null,null,null,null,null,null,0,0,0,0,0,0,{"$error":"#DIV/0!"},{"$error":"#DIV/0!"},{"$error":"#DIV/0!"},{"$error":"#DIV/0!"}," ",164,"Bobby Labonte","labbo",14.722222222222221,-0.27777777777777779,8.3333333333333329E-2,2.7777777777777776E-2,2.7777777777777776E-2,2.7777777777777776E-2,0,0,0,0,0,null,164,"Bobby Labonte","labbo",36,530,-10,3,1,1,1]
[3529,"Kyle Larson",null,"Buy",null,null,null,null,null,null,null,null,null,null,0,0,0,0,0,0,{"$error":"#DIV/0!"},{"$error":"#DIV/0!"},{"$error":"#DIV/0!"},{"$error":"#DIV/0!"}," ",3529,"Kyle Larson","larky",30.555555555555557,-1.9444444444444444,0.3888888888888889,0.41666666666666669,0.55555555555555558,0.1111111111111111,0,0,0,0,0,null,3529,"Kyle Larson","larky",36,1100,-70,14,15,20,4]
[2463,"Joey Logano",null,"Buy",null,null,null,null,null,null,null,null,null,null,0,0,0,0,0,0,{"$error":"#DIV/0!"},{"$error":"#DIV/0!"},{"$error":"#DIV/0!"},{"$error":"#DIV/0!"}," ",2463,"Joey Logano","logjo",25.805555555555557,-2.7222222222222223,0.25,0.27777777777777779,0.47222222222222221,2.7777777777777776E-2,0,0,0,0,0,null,2463,"Joey Logano","logjo",36,929,-98,9,10,17,1]
[3769,"Michael McDowell",null,"Buy",null,null,null,null,null,null,null,null,null,null,0,0,0,0,0,0,{"$error":"#DIV/0!"},{"$error":"#DIV/0!"},{"$error":"#DIV/0!"},{"$error":"#DIV/0!"}," ",3769,"Michael McDowell","mcdmi",14.916666666666666,1.6666666666666667,8.3333333333333329E-2,2.7777777777777776E-2,2.7777777777777776E-2,2.7777777777777776E-2,0,0,0,0,0,null,3769,"Michael McDowell","mcdmi",36,537,60,3,1,1,1]
[1051,"Casey Mears",null,"Buy",null,null,null,null,null,null,null,null,null,null,0,0,0,0,0,0,{"$error":"#DIV/0!"},{"$error":"#DIV/0!"},{"$error":"#DIV/0!"},{"$error":"#DIV/0!"}," ",1051,"Casey Mears","meaca",15.444444444444445,-1.3333333333333333,8.3333333333333329E-2,2.7777777777777776E-2,2.7777777777777776E-2,2.7777777777777776E-2,0,0,0,0,0,null,1051,"Casey Mears","meaca",36,556,-48,3,1,1,1]
[1726,"Paul Menard",null,"Buy",null,null,null,null,null,null,null,null,null,null,0,0,0,0,0,0,{"$error":"#DIV/0!"},{"$error":"#DIV/0!"},{"$error":"#DIV/0!"},{"$error":"#DIV/0!"}," ",1726,"Paul Menard","menpa",17.527777777777779,2.0555555555555554,8.3333333333333329E-2,5.5555555555555552E-2,8.3333333333333329E-2,2.7777777777777776E-2,0,0,0,0,0,null,1726,"Paul Menard","menpa",36,631,74,3,2,3,1]
[3767,"Brett Moffitt",null,"Buy",null,null,null,null,null,null,null,null,null,null,0,0,0,0,0,0,{"$error":"#DIV/0!"},{"$error":"#DIV/0!"},{"$error":"#DIV/0!"},{"$error":"#DIV/0!"}," ",3767,"Brett Moffitt","mofbr",13.611111111111111,3.2777777777777777,8.3333333333333329E-2,2.7777777777777776E-2,2.7777777777777776E-2,2.7777777777777776E-2,0,0,0,0,0,null,3767,"Brett Moffitt","mofbr",36,490,118,3,1,1,1]
[1941,"Juan Montoya",null,"Buy",null,null,null,null,null,null,null,null,null,null,0,0,0,0,0,0,{"$error":"#DIV/0!"},{"$error":"#DIV/0!"},{"$error":"#DIV/0!"},{"$error":"#DIV/0!"}," ",1941,"Juan Montoya","monju",25.388888888888889,-3.9444444444444446,8.3333333333333329E-2,0.1111111111111111,0.22222222222222221,2.7777777777777776E-2,0,0,0,0,0,null,1941,"Juan Montoya","monju",36,914,-142,3,4,8,1]
[681,"Jamie McMurray",null,"Buy",null,null,null,null,null,null,null,null,null,null,0,0,0,0,0,0,{"$error":"#DIV/0!"},{"$error":"#DIV/0!"},{"$error":"#DIV/0!"},{"$error":"#DIV/0!"}," ",681,"Jamie McMurray","murja",26.027777777777779,-4.166666666666667,0.22222222222222221,8.3333333333333329E-2,0.47222222222222221,2.7777777777777776E-2,0,0,0,0,0,null,681,"Jamie McMurray","murja",36,937,-150,8,3,17,1]
[154,"Ryan Newman",null,"Buy",null,null,null,null,null,null,null,null,null,null,0,0,0,0,0,0,{"$error":"#DIV/0!"},{"$error":"#DIV/0!"},{"$error":"#DIV/0!"},{"$error":"#DIV/0!"}," ",154,"Ryan Newman","newry",23,1.9166666666666667,8.3333333333333329E-2,0.19444444444444445,0.3611111111111111,2.7777777777777776E-2,0,0,0,0,0,null,154,"Ryan Newman","newry",36,828,69,3,7,13,1]
[3223,"Danica Patrick",null,"Buy",null,null,null,null,null,null,null,null,null,null,0,0,0,0,0,0,{"$error":"#DIV/0!"},{"$error":"#DIV/0!"},{"$error":"#DIV/0!"},{"$error":"#DIV/0!"}," ",3223,"Danica Patrick","patda",14.055555555555555,-1.75,8.3333333333333329E-2,2.7777777777777776E-2,2.7777777777777776E-2,2.7777777777777776E-2,0,0,0,0,0,null,3223,"Danica Patrick","patda",36,506,-63,3,1,1,1]
[1939,"David Ragan",null,"Buy",null,null,null,null,null,null,null,null,null,null,0,0,0,0,0,0,{"$error":"#DIV/0!"},{"$error":"#DIV/0!"},{"$error":"#DIV/0!"},{"$error":"#DIV/0!"}," ",1939,"David Ragan","ragda",12.194444444444445,4.0555555555555554,8.3333333333333329E-2,2.7777777777777776E-2,8.3333333333333329E-2,2.7777777777777776E-2,0,0,0,0,0,null,1939,"David Ragan","ragda",36,439,146,3,1,3,1]
[1940,"David Reutimann",null,"Buy",null,null,null,null,null,null,null,null,null,null,0,0,0,0,0,0,{"$error":"#DIV/0!"},{"$error":"#DIV/0!"},{"$error":"#DIV/0!"},{"$error":"#DIV/0!"}," ",1940,"David Reutimann","reuda",12.916666666666666,2.4166666666666665,8.3333333333333329E-2,2.7777777777777776E-2,2.7777777777777776E-2,2.7777777777777776E-2,0,0,0,0,0,null,1940,"David Reutimann","reuda",36,465,87,3,1,1,1]
[172,"Elliott Sadler",null,"Buy",null,null,null,null,null,null,null,null,null,null,0,0,0,0,0,0,{"$error":"#DIV/0!"},{"$error":"#DIV/0!"},{"$error":"#DIV/0!"},{"$error":"#DIV/0!"}," ",172,"Elliott Sadler","sadel",12.916666666666666,2.8333333333333335,8.3333333333333329E-2,2.7777777777777776E-2,5.5555555555555552E-2,2.7777777777777776E-2,0,0,0,0,0,null,172,"Elliott Sadler","sadel",36,465,102,3,1,2,1]
[3768,"Brian Scott",null,"Buy",null,null,null,null,null,null,null,null,null,null,0,0,0,0,0,0,{"$error":"#DIV/0!"},{"$error":"#DIV/0!"},{"$error":"#DIV/0!"},{"$error":"#DIV/0!"}," ",3768,"Brian Scott","scobr",13.361111111111111,0.61111111111111116,8.3333333333333329E-2,2.7777777777777776E-2,2.7777777777777776E-2,2.7777777777777776E-2,0,0,0,0,0,null,3768,"Brian Scott","scobr",36,481,22,3,1,1,1]
[1943,"Regan Smith",null,"Buy",null,null,null,null,null,null,null,null,null,null,0,0,0,0,0,0,{"$error":"#DIV/0!"},{"$error":"#DIV/0!"},{"$error":"#DIV/0!"},{"$error":"#DIV/0!"}," ",1943,"Regan Smith","smire",11.111111111111111,2.9722222222222223,8.3333333333333329E-2,2.7777777777777776E-2,2.7777777777777776E-2,2.7777777777777776E-2,0,0,0,0,0,null,1943,"Regan Smith","smire",36,400,107,3,1,1,1]
[1722,"Reed Sorenson",null,"Buy",null,null,null,null,null,null,null,null,null,null,0,0,0,0,0,0,{"$error":"#DIV/0!"},{"$error":"#DIV/0!"},{"$error":"#DIV/0!"},{"$error":"#DIV/0!"}," ",1722,"Reed Sorenson","sorre",11.111111111111111,3,8.3333333333333329E-2,2.7777777777777776E-2,2.7777777777777776E-2,2.7777777777777776E-2,0,0,0,0,0,null,1722,"Reed Sorenson","sorre",36,400,108,3,1,1,1]
[3224,"Ricky Stenhouse, Jr",null,"Buy",null,null,null,null,null,null,null,null,null,null,0,0,0,0,0,0,{"$error":"#DIV/0!"},{"$error":"#DIV/0!"},{"$error":"#DIV/0!"},{"$error":"#DIV/0!"}," ",3224,"Ricky Stenhouse, Jr","steri",21.277777777777779,-1.1111111111111112,0.1388888888888889,0.1111111111111111,0.25,5.5555555555555552E-2,0,0,0,0,0,null,3224,"Ricky Stenhouse, Jr","steri",36,766,-40,5,4,9,2]
[113,"Tony Stewart",null,"Buy",null,null,null,null,null,null,null,null,null,null,0,0,0,0,0,0,{"$error":"#DIV/0!"},{"$error":"#DIV/0!"},{"$error":"#DIV/0!"},{"$error":"#DIV/0!"}," ",113,"Tony Stewart","steto",22.916666666666668,-3.5833333333333335,0.1388888888888889,0.16666666666666666,0.27777777777777779,2.7777777777777776E-2,0,0,0,0,0,null,113,"Tony Stewart","steto",36,825,-129,5,6,10,1]
[4176,"Daniel Suarez",null,"Buy",null,null,null,null,null,null,null,null,null,null,0,0,0,0,0,0,{"$error":"#DIV/0!"},{"$error":"#DIV/0!"},{"$error":"#DIV/0!"},{"$error":"#DIV/0!"}," ",4176,"Daniel Suarez","suada",21.583333333333332,-2.3888888888888888,8.3333333333333329E-2,2.7777777777777776E-2,0.33333333333333331,2.7777777777777776E-2,0,0,0,0,0,null,4176,"Daniel Suarez","suada",36,777,-86,3,1,12,1]
[1724,"Martin Truex Jr.",null,"Buy",null,null,null,null,null,null,null,null,null,null,0,0,0,0,0,0,{"$error":"#DIV/0!"},{"$error":"#DIV/0!"},{"$error":"#DIV/0!"},{"$error":"#DIV/0!"}," ",1724,"Martin Truex Jr.","truem",30.555555555555557,-2.6388888888888888,0.41666666666666669,0.41666666666666669,0.55555555555555558,0.16666666666666666,0,0,0,0,0,null,1724,"Martin Truex Jr.","truem",36,1100,-95,15,15,20,6]
[1044,"Brian Vickers",null,"Buy",null,null,null,null,null,null,null,null,null,null,0,0,0,0,0,0,{"$error":"#DIV/0!"},{"$error":"#DIV/0!"},{"$error":"#DIV/0!"},{"$error":"#DIV/0!"}," ",1044,"Brian Vickers","vicbr",25.583333333333332,-4.166666666666667,0.1111111111111111,8.3333333333333329E-2,0.25,2.7777777777777776E-2,0,0,0,0,0,null,1044,"Brian Vickers","vicbr",36,921,-150,4,3,9,1]
[161,"Michael Waltrip",null,"Buy",null,null,null,null,null,null,null,null,null,null,0,0,0,0,0,0,{"$error":"#DIV/0!"},{"$error":"#DIV/0!"},{"$error":"#DIV/0!"},{"$error":"#DIV/0!"}," ",161,"Michael Waltrip","walmi",19.472222222222221,0.83333333333333337,8.3333333333333329E-2,2.7777777777777776E-2,2.7777777777777776E-2,2.7777777777777776E-2,0,0,0,0,0,null,161,"Michael Waltrip","walmi",36,701,30,3,1,1,1]
[3764,"Cole Whitt",null,"Buy",null,null,null,null,null,null,null,null,null,null,0,0,0,0,0,0,{"$error":"#DIV/0!"},{"$error":"#DIV/0!"},{"$error":"#DIV/0!"},{"$error":"#DIV/0!"}," ",3764,"Cole Whitt","whico",11.111111111111111,3.8611111111111112,8.3333333333333329E-2,2.7777777777777776E-2,2.7777777777777776E-2,2.7777777777777776E-2,0,0,0,0,0,null,3764,"Cole Whitt","whico",36,400,139,3,1,1,1]
[3762,"Josh Wise",null,"Buy",null,null,null,null,null,null,null,null,null,null,0,0,0,0,0,0,{"$error":"#DIV/0!"},{"$error":"#DIV/0!"},{"$error":"#DIV/0!"},{"$error":"#DIV/0!"}," ",3762,"Josh Wise","wisjo",11.111111111111111,3.2222222222222223,8.3333333333333329E-2,2.7777777777777776E-2,2.7777777777777776E-2,2.7777777777777776E-2,0,0,0,0,0,null,3762,"Josh Wise","wisjo",36,400,116,3,1,1,1]
[1725,"J.J. Yeley",null,"Buy",null,null,null,null,null,null,null,null,null,null,0,0,0,0,0,0,{"$error":"#DIV/0!"},{"$error":"#DIV/0!"},{"$error":"#DIV/0!"},{"$error":"#DIV/0!"}," ",1725,"J.J. Yeley","yeljj",13,3.2777777777777777,8.3333333333333329E-2,2.7777777777777776E-2,5.5555555555555552E-2,2.7777777777777776E-2,0,0,0,0,0,null,1725,"J.J. Yeley","yeljj",36,468,118,3,1,2,1]
["","",null,"Buy",null,null,null,null,null,null,null,null,null,null,{"$error":"#VALUE!"},{"$error":"#VALUE!"},{"$error":"#VALUE!"},{"$error":"#VALUE!"},{"$error":"#VALUE!"},{"$error":"#VALUE!"},{"$error":"#VALUE!"},{"$error":"#VALUE!"},{"$error":"#VALUE!"},{"$error":"#VALUE!"}," ","","","","","","","","","","","","","",""]
["","",null,"Buy",null,null,null,null,null,null,null,null,null,null,{"$error":"#VALUE!"},{"$error":"#VALUE!"},{"$error":"#VALUE!"},{"$error":"#VALUE!"},{"$error":"#VALUE!"},{"$error":"#VALUE!"},{"$error":"#VALUE!"},{"$error":"#VALUE!"},{"$error":"#VALUE!"},{"$error":"#VALUE!"}," ","","","","","","","","","","","","","",""]
["","",null,"Buy",null,null,null,null,null,null,null,null,null,null,{"$error":"#VALUE!"},{"$error":"#VALUE!"},{"$error":"#VALUE!"},{"$error":"#VALUE!"},{"$error":"#VALUE!"},{"$error":"#VALUE!"},{"$error":"#VALUE!"},{"$error":"#VALUE!"},{"$error":"#VALUE!"},{"$error":"#VALUE!"}," ","","","","","","","","","","","","","",""]
["","",null,"Buy",null,null,null,null,null,null,null,null,null,null,{"$error":"#VALUE!"},{"$error":"#VALUE!"},{"$error":"#VALUE!"},{"$error":"#VALUE!"},{"$error":"#VALUE!"},{"$error":"#VALUE!"},{"$error":"#VALUE!"},{"$error":"#VALUE!"},{"$error":"#VALUE!"},{"$error":"#VALUE!"}," ","","","","","","","","","","","","","",""]
["","",null,"Buy",null,null,null,null,null,null,null,null,null,null,{"$error":"#VALUE!"},{"$error":"#VALUE!"},{"$error":"#VALUE!"},{"$error":"#VALUE!"},{"$error":"#VALUE!"},{"$error":"#VALUE!"},{"$error":"#VALUE!"},{"$error":"#VALUE!"},{"$error":"#VALUE!"},{"$error":"#VALUE!"}," ","","","","","","","","","","","","","",""]
["","",null,"Buy",null,null,null,null,null,null,null,null,null,null,{"$f":"VLOOKUP($A66,$A:$N,5,FALSE)/VLOOKUP($A66,$Z:$AM,4,FALSE)","v":{"$error":"#VALUE!"}},{"$f":"VLOOKUP($A66,$A:$N,6,FALSE)/VLOOKUP($A66,$Z:$AM,5,FALSE)","v":{"$error":"#VALUE!"}},{"$error":"#VALUE!"},{"$f":"VLOOKUP($A66,$A:$N,8,FALSE)/VLOOKUP($A66,$Z:$AM,7,FALSE)","v":{"$error":"#VALUE!"}},{"$f":"VLOOKUP($A66,$A:$N,9,FALSE)/VLOOKUP($A66,$Z:$AM,8,FALSE)","v":{"$error":"#VALUE!"}},{"$f":"VLOOKUP($A66,$A:$N,10,FALSE)/VLOOKUP($A66,$Z:$AM,9,FALSE)","v":{"$error":"#VALUE!"}},{"$f":"VLOOKUP($A66,$A:$N,11,FALSE)/VLOOKUP($A66,$Z:$AM,10,FALSE)","v":{"$error":"#VALUE!"}},{"$f":"VLOOKUP($A66,$A:$N,12,FALSE)/VLOOKUP($A66,$Z:$AM,11,FALSE)","v":{"$error":"#VALUE!"}},{"$f":"VLOOKUP($A66,$A:$N,13,FALSE)/VLOOKUP($A66,$Z:$AM,12,FALSE)","v":{"$error":"#VALUE!"}},{"$f":"VLOOKUP($A66,$A:$N,14,FALSE)/VLOOKUP($A66,$Z:$AM,13,FALSE)","v":{"$error":"#VALUE!"}}," ","","","","","","","","","","","","","",""]
[{"$f":"IF(Z67<>0,Z67,\"\")","v":""},{"$f":"IF(A67<>0,VLOOKUP(A67,Z:AA,2,FALSE),\"\")","v":""},null,{"$f":"HYPERLINK(\"http://www.jockstocks.com/buysell.php?action=buymax&plid=\"&A67,\"Buy\")","v":"Buy"},null,null,null,null,null,null,null,null,null,null,{"$error":"#VALUE!"},{"$error":"#VALUE!"},{"$f":"VLOOKUP($A67,$A:$N,7,FALSE)/VLOOKUP($A67,$Z:$AM,6,FALSE)","v":{"$error":"#VALUE!"}},{"$error":"#VALUE!"},{"$error":"#VALUE!"},{"$error":"#VALUE!"},{"$error":"#VALUE!"},{"$error":"#VALUE!"},{"$error":"#VALUE!"},{"$error":"#VALUE!"}," ",{"$f":"IF(AO67<>0,AO67,\"\")","v":""},{"$f":"IF(AP67<>0,VLOOKUP(Z67,AO:AP,2,FALSE),\"\")","v":""},{"$f":"IF(AQ67<>0,AQ67,\"\")","v":""},{"$f":"IF($AO67<>0,AS67/$AR67,\"\")","v":""},{"$f":"IF($AO67<>0,AT67/$AR67,\"\")","v":""},{"$f":"IF($AO67<>0,AU67/$AR67,\"\")","v":""},{"$f":"IF($AO67<>0,AV67/$AR67,\"\")","v":""},{"$f":"IF($AO67<>0,AW67/$AR67,\"\")","v":""},{"$f":"IF($AO67<>0,AX67/$AR67,\"\")","v":""},{"$f":"IF($AO67<>0,AY67/$AR67,\"\")","v":""},{"$f":"IF($AO67<>0,AZ67/$AR67,\"\")","v":""},{"$f":"IF($AO67<>0,BA67/$AR67,\"\")","v":""},{"$f":"IF($AO67<>0,BB67/$AR67,\"\")","v":""},{"$f":"IF($AO67<>0,BC67/$AR67,\"\")","v":""}]
["","",null,"Buy",null,null,null,null,null,null,null,null,null,null,{"$error":"#VALUE!"},{"$error":"#VALUE!"},{"$error":"#VALUE!"},{"$error":"#VALUE!"},{"$error":"#VALUE!"},{"$error":"#VALUE!"},{"$error":"#VALUE!"},{"$error":"#VALUE!"},{"$error":"#VALUE!"},{"$error":"#VALUE!"}," ","","","","","","","","","","","","","",""]
["","",null,"Buy",null,null,null,null,null,null,null,null,null,null,{"$error":"#VALUE!"},{"$error":"#VALUE!"},{"$error":"#VALUE!"},{"$error":"#VALUE!"},{"$error":"#VALUE!"},{"$error":"#VALUE!"},{"$error":"#VALUE!"},{"$error":"#VALUE!"},{"$error":"#VALUE!"},{"$error":"#VALUE!"}," ","","","","","","","","","","","","","",""]
["","",null,"Buy",null,null,null,null,null,null,null,null,null,null,{"$error":"#VALUE!"},{"$error":"#VALUE!"},{"$error":"#VALUE!"},{"$error":"#VALUE!"},{"$error":"#VALUE!"},{"$error":"#VALUE!"},{"$error":"#VALUE!"},{"$error":"#VALUE!"},{"$error":"#VALUE!"},{"$error":"#VALUE!"}," ","","","","","","","","","","","","","",""]
["","",null,"Buy",null,null,null,null,null,null,null,null,null,null,{"$error":"#VALUE!"},{"$error":"#VALUE!"},{"$error":"#VALUE!"},{"$error":"#VALUE!"},{"$error":"#VALUE!"},{"$error":"#VALUE!"},{"$error":"#VALUE!"},{"$error":"#VALUE!"},{"$error":"#VALUE!"},{"$error":"#VALUE!"}," ","","","","","","","","","","","","","",""]
["","",null,"Buy",null,null,null,null,null,null,null,null,null,null,{"$error":"#VALUE!"},{"$error":"#VALUE!"},{"$error":"#VALUE!"},{"$error":"#VALUE!"},{"$error":"#VALUE!"},{"$error":"#VALUE!"},{"$error":"#VALUE!"},{"$error":"#VALUE!"},{"$error":"#VALUE!"},{"$error":"#VALUE!"}," ","","","","","","","","","","","","","",""]
["","",null,"Buy",null,null,null,null,null,null,null,null,null,null,{"$error":"#VALUE!"},{"$error":"#VALUE!"},{"$error":"#VALUE!"},{"$error":"#VALUE!"},{"$error":"#VALUE!"},{"$error":"#VALUE!"},{"$error":"#VALUE!"},{"$error":"#VALUE!"},{"$error":"#VALUE!"},{"$error":"#VALUE!"}," ","","","","","","","","","","","","","",""]
["","",null,"Buy",null,null,null,null,null,null,null,null,null,null,{"$error":"#VALUE!"},{"$error":"#VALUE!"},{"$error":"#VALUE!"},{"$error":"#VALUE!"},{"$error":"#VALUE!"},{"$error":"#VALUE!"},{"$error":"#VALUE!"},{"$error":"#VALUE!"},{"$error":"#VALUE!"},{"$error":"#VALUE!"}," ","","","","","","","","","","","","","",""]
["","",null,"Buy",null,null,null,null,null,null,null,null,null,null,{"$error":"#VALUE!"},{"$error":"#VALUE!"},{"$error":"#VALUE!"},{"$error":"#VALUE!"},{"$error":"#VALUE!"},{"$error":"#VALUE!"},{"$error":"#VALUE!"},{"$error":"#VALUE!"},{"$error":"#VALUE!"},{"$error":"#VALUE!"}," ","","","","","","","","","","","","","",""]